{"text_format":"1","workbook":"xlsx","n_sheets":28,"sheets":["Front","Concept","Move","SingRm","Indoor","SelfPro","Guided","Cane","Sidewalk","StCross","Orient","PubTran","Atyp","Rural","VisSpec","Commun","R1","R2","R3","R4","R5","R6","R7","R8","R9","R10","R11","R12"],"not_rendered":{"charts":0,"images":0,"macros":0,"external_links":0,"defined_names":0,"comments":0,"pivot_tables":0},"unopened":[],"bounds":{"document_bytes":16777216,"sheet_cells":100000,"rows_first":2000,"rows_last":500,"rows_between":2000,"halvings":0,"cell_chars":16384,"cell_head_chars":4096},"cells_cut":0,"cells_raw":0,"read":"whole","date_system":"1900"}

{"sheet":"Front","index":0,"n_rows":20,"n_cols":13,"rows_kept":20,"cut":false,"hidden":false,"merged":[]}
["Student Name","Date","Date","Date","Date","Date","Date","Date","Date","Date","Date","Date","Date"]
[null,"Percent","Percent","Percent","Percent","Percent","Percent","Percent","Percent","Percent","Percent","Percent","Percent"]
["Concepts",{"$f":"Concept!D32","v":0},{"$f":"Concept!F32","v":0},{"$f":"Concept!H32","v":0},{"$f":"Concept!J32","v":0},{"$f":"Concept!L32","v":0},{"$f":"Concept!N32","v":0},{"$f":"Concept!D71","v":0},{"$f":"Concept!F71","v":0},{"$f":"Concept!H71","v":0},{"$f":"Concept!J71","v":0},{"$f":"Concept!L71","v":0},{"$f":"Concept!N71","v":0}]
["Movement",{"$f":"Move!D31","v":0},{"$f":"Move!F31","v":0},{"$f":"Move!H31","v":0},{"$f":"Move!J31","v":0},{"$f":"Move!L31","v":0},{"$f":"Move!N31","v":0},{"$f":"Move!D69","v":0},{"$f":"Move!F69","v":0},{"$f":"Move!H69","v":0},{"$f":"Move!J69","v":0},{"$f":"Move!L69","v":0},{"$f":"Move!N69","v":0}]
["Single Room O&M",{"$f":"SingRm!D35","v":0},{"$f":"SingRm!F35","v":0},{"$f":"SingRm!H35","v":0},{"$f":"SingRm!J35","v":0},{"$f":"SingRm!L35","v":0},{"$f":"SingRm!N35","v":0},{"$f":"SingRm!D77","v":0},{"$f":"SingRm!F77","v":0},{"$f":"SingRm!H77","v":0},{"$f":"SingRm!J77","v":0},{"$f":"SingRm!L77","v":0},{"$f":"SingRm!N77","v":0}]
["Indoor O&M",{"$f":"Indoor!D62","v":0},{"$f":"Indoor!F62","v":0},{"$f":"Indoor!H62","v":0},{"$f":"Indoor!J62","v":0},{"$f":"Indoor!L62","v":0},{"$f":"Indoor!N62","v":0},{"$f":"Indoor!D131","v":0},{"$f":"Indoor!F131","v":0},{"$f":"Indoor!H131","v":0},{"$f":"Indoor!J131","v":0},{"$f":"Indoor!L131","v":0},{"$f":"Indoor!N131","v":0}]
["Self Protection",{"$f":"SelfPro!D19","v":0},{"$f":"SelfPro!F19","v":0},{"$f":"SelfPro!H19","v":0},{"$f":"SelfPro!J19","v":0},{"$f":"SelfPro!L19","v":0},{"$f":"SelfPro!N19","v":0},{"$f":"SelfPro!D45","v":0},{"$f":"SelfPro!F45","v":0},{"$f":"SelfPro!H45","v":0},{"$f":"SelfPro!J45","v":0},{"$f":"SelfPro!L45","v":0},{"$f":"SelfPro!N45","v":0}]
["Guided Travel",{"$f":"Guided!D29","v":0},{"$f":"Guided!F29","v":0},{"$f":"Guided!H29","v":0},{"$f":"Guided!J29","v":0},{"$f":"Guided!L29","v":0},{"$f":"Guided!N29","v":0},{"$f":"Guided!D65","v":0},{"$f":"Guided!F65","v":0},{"$f":"Guided!H65","v":0},{"$f":"Guided!J65","v":0},{"$f":"Guided!L65","v":0},{"$f":"Guided!N65","v":0}]
["Cane Skills",{"$f":"Cane!D51","v":0},{"$f":"Cane!F51","v":0},{"$f":"Cane!H51","v":0},{"$f":"Cane!J51","v":0},{"$f":"Cane!L51","v":0},{"$f":"Cane!N51","v":0},{"$f":"Cane!D109","v":0},{"$f":"Cane!F109","v":0},{"$f":"Cane!H109","v":0},{"$f":"Cane!J109","v":0},{"$f":"Cane!L109","v":0},{"$f":"Cane!N109","v":0}]
["Sidewalk Travel ",{"$f":"Sidewalk!D30","v":0},{"$f":"Sidewalk!F30","v":0},{"$f":"Sidewalk!H30","v":0},{"$f":"Sidewalk!J30","v":0},{"$f":"Sidewalk!L30","v":0},{"$f":"Sidewalk!N30","v":0},{"$f":"Sidewalk!D67","v":0},{"$f":"Sidewalk!F67","v":0},{"$f":"Sidewalk!H67","v":0},{"$f":"Sidewalk!J67","v":0},{"$f":"Sidewalk!L67","v":0},{"$f":"Sidewalk!N67","v":0}]
["Street Crossings",{"$f":"StCross!D178","v":0},{"$f":"StCross!F178","v":0},{"$f":"StCross!H178","v":0},{"$f":"StCross!J178","v":0},{"$f":"StCross!L178","v":0},{"$f":"StCross!N178","v":0},{"$f":"StCross!D363","v":0},{"$f":"StCross!F363","v":0},{"$f":"StCross!H363","v":0},{"$f":"StCross!J363","v":0},{"$f":"StCross!L363","v":0},{"$f":"StCross!N363","v":0}]
["Orientation Skills & GPS",{"$f":"Orient!D83","v":0},{"$f":"Orient!F83","v":0},{"$f":"Orient!H83","v":0},{"$f":"Orient!J83","v":0},{"$f":"Orient!L83","v":0},{"$f":"Orient!N83","v":0},{"$f":"Orient!D173","v":0},{"$f":"Orient!F173","v":0},{"$f":"Orient!H173","v":0},{"$f":"Orient!J173","v":0},{"$f":"Orient!L173","v":0},{"$f":"Orient!N173","v":0}]
["Public Transportation",{"$f":"PubTran!D82","v":0},{"$f":"PubTran!F82","v":0},{"$f":"PubTran!H82","v":0},{"$f":"PubTran!J82","v":0},{"$f":"PubTran!L82","v":0},{"$f":"PubTran!N82","v":0},{"$f":"PubTran!D171","v":0},{"$f":"PubTran!F171","v":0},{"$f":"PubTran!H171","v":0},{"$f":"PubTran!J171","v":0},{"$f":"PubTran!L171","v":0},{"$f":"PubTran!N171","v":0}]
["Atypical O&M",{"$f":"Atyp!D30","v":0},{"$f":"Atyp!F30","v":0},{"$f":"Atyp!H30","v":0},{"$f":"Atyp!J30","v":0},{"$f":"Atyp!L30","v":0},{"$f":"Atyp!N30","v":0},{"$f":"Atyp!D67","v":0},{"$f":"Atyp!F67","v":0},{"$f":"Atyp!H67","v":0},{"$f":"Atyp!J67","v":0},{"$f":"Atyp!L67","v":0},{"$f":"Atyp!N67","v":0}]
["Rural Travel",{"$f":"Rural!D36","v":0},{"$f":"Rural!F36","v":0},{"$f":"Rural!H36","v":0},{"$f":"Rural!J36","v":0},{"$f":"Rural!L36","v":0},{"$f":"Rural!N36","v":0},{"$f":"Rural!D79","v":0},{"$f":"Rural!F79","v":0},{"$f":"Rural!H79","v":0},{"$f":"Rural!J79","v":0},{"$f":"Rural!L79","v":0},{"$f":"Rural!N79","v":0}]
["Vision Specific O&M Skills",{"$f":"VisSpec!D38","v":0},{"$f":"VisSpec!F38","v":0},{"$f":"VisSpec!H38","v":0},{"$f":"VisSpec!J38","v":0},{"$f":"VisSpec!L38","v":0},{"$f":"VisSpec!N38","v":0},{"$f":"VisSpec!D83","v":0},{"$f":"VisSpec!F83","v":0},{"$f":"VisSpec!H83","v":0},{"$f":"VisSpec!J83","v":0},{"$f":"VisSpec!L83","v":0},{"$f":"VisSpec!N83","v":0}]
["Community ",{"$f":"Commun!D49","v":0},{"$f":"Commun!F49","v":0},{"$f":"Commun!H49","v":0},{"$f":"Commun!J49","v":0},{"$f":"Commun!L49","v":0},{"$f":"Commun!N49","v":0},{"$f":"Commun!D105","v":0},{"$f":"Commun!F105","v":0},{"$f":"Commun!H105","v":0},{"$f":"Commun!J105","v":0},{"$f":"Commun!L105","v":0},{"$f":"Commun!N105","v":0}]
["Totals",{"$f":"SUM(B2:B17)/(COUNTIF(B3:B17,\">0\")+0.00000001)","v":0},0,0,0,0,0,0,0,0,0,0,0]
["Goal",1,1,1,1,1,1,1,1,1,1,1,1]
["Progress To Goal",{"$f":"(B18/B19)*100","v":0},{"$f":"(C18/C19)*100","v":0},0,0,0,0,0,0,0,0,0,0]

{"sheet":"Concept","index":1,"n_rows":109,"n_cols":17,"rows_kept":109,"cut":false,"hidden":false,"merged":[[39,12,39,13],[0,2,0,3],[0,4,0,5],[0,6,0,7],[0,8,0,9],[0,10,0,11],[0,12,0,13],[39,2,39,3],[39,4,39,5],[39,6,39,7],[39,8,39,9],[39,10,39,11]]}
["CONCEPTS (1st Data Set--First 6 Columns On Front Page)",null,{"$f":"Front!B1","v":"Date"},null,{"$f":"Front!C1","v":"Date"},null,{"$f":"Front!D1","v":"Date"},null,{"$f":"Front!E1","v":"Date"},null,{"$f":"Front!F1","v":"Date"},null,{"$f":"Front!G1","v":"Date"},null,"notes"]
[null,null,"Input\nData","Auto\nScore","Input\nData","Auto\nScore","Input\nData","Auto\nScore","Input\nData","Auto\nScore","Input\nData","Auto\nScore","Input\nData","Auto\nScore"]
["1. Vocabulary",null,null,{"$f":"SUM(C4:C8)/(COUNTIF(C4:C8,\">0\")+0.00000001)","v":0},null,{"$f":"SUM(E4:E8)/(COUNTIF(E4:E8,\">0\")+0.00000001)","v":0},null,{"$f":"SUM(G4:G8)/(COUNTIF(G4:G8,\">0\")+0.00000001)","v":0},null,{"$f":"SUM(I4:I8)/(COUNTIF(I4:I8,\">0\")+0.00000001)","v":0},null,{"$f":"SUM(K4:K8)/(COUNTIF(K4:K8,\">0\")+0.00000001)","v":0},null,{"$f":"SUM(M4:M8)/(COUNTIF(M4:M8,\">0\")+0.00000001)","v":0}]
[null,"identify body parts relevant to O&M"]
[null,"point or hold object up, down, to the side, in front, behind"]
[null,"move forward, back, to the side"]
[null,"move slow, fast"]
[null,"respond to 'stop' quickly and in multiple contexts"]
["2. Laterality",null,null,{"$f":"SUM(C10:C17)/(COUNTIF(C10:C17,\">0\")+0.00000001)","v":0},null,{"$f":"SUM(E10:E17)/(COUNTIF(E10:E17,\">0\")+0.00000001)","v":0},null,{"$f":"SUM(G10:G17)/(COUNTIF(G10:G17,\">0\")+0.00000001)","v":0},null,{"$f":"SUM(I10:I17)/(COUNTIF(I10:I17,\">0\")+0.00000001)","v":0},null,{"$f":"SUM(K10:K17)/(COUNTIF(K10:K17,\">0\")+0.00000001)","v":0},null,{"$f":"SUM(M10:M17)/(COUNTIF(M10:M17,\">0\")+0.00000001)","v":0}]
[null,"identify people as having left and right sides"]
[null,"consistently identify left/right hand"]
[null,"point or hold object to the left/right"]
[null,"follow route based on single left/right direction"]
[null,"follow route based on several left/right directions"]
[null,"put wall or object on left/right (e.g walk with wall on left)"]
[null,"identify that left/right changes by making 180 degree turn"]
[null,"identify that people facing one another have opposite left/right"]
["3. Parallel/Perpendicular",null,null,{"$f":"SUM(C19:C22)/(COUNTIF(C19:C22,\">0\")+0.00000001)","v":0},null,{"$f":"SUM(E19:E22)/(COUNTIF(E19:E22,\">0\")+0.00000001)","v":0},null,{"$f":"SUM(G19:G22)/(COUNTIF(G19:G22,\">0\")+0.00000001)","v":0},null,{"$f":"SUM(I19:I22)/(COUNTIF(I19:I22,\">0\")+0.00000001)","v":0},null,{"$f":"SUM(K19:K22)/(COUNTIF(K19:K22,\">0\")+0.00000001)","v":0},null,{"$f":"SUM(M19:M22)/(COUNTIF(M19:M22,\">0\")+0.00000001)","v":0}]
[null,"identify parallel/perpendicular lines on paper"]
[null,"identify parallel/perpendicular lines in environment (e.g. hallway)"]
[null,"consistently identify intersecting sidewalks/hallways as perpendicular"]
[null,"identify that parallel/perpendicular changes by making a 90 degree turn"]
["4. Time and Distance",null,null,{"$f":"SUM(C24:C29)/(COUNTIF(C24:C29,\">0\")+0.00000001)","v":0},null,{"$f":"SUM(E24:E29)/(COUNTIF(E24:E29,\">0\")+0.00000001)","v":0},null,{"$f":"SUM(G24:G29)/(COUNTIF(G24:G29,\">0\")+0.00000001)","v":0},null,{"$f":"SUM(I24:I29)/(COUNTIF(I24:I29,\">0\")+0.00000001)","v":0},null,{"$f":"SUM(K24:K29)/(COUNTIF(K24:K29,\">0\")+0.00000001)","v":0},null,{"$f":"SUM(M24:M29)/(COUNTIF(M24:M29,\">0\")+0.00000001)","v":0}]
[null,"identify common units of length (e.g. inch/centimeter, foot, yard/meter, mile/kilometer)"]
[null,"identify most appropriate unit of measurement for common objects (e.g. inch/centimeter for pencil, mile/kilometer for street)"]
[null,"identify tie between time and distance as it relates to walking or driving (e.g. 5 minute drive can equate to 30 minute walk)"]
[null,"develop an awareness of the amount of time needed to cross quiet residential street"]
[null,"develop an awareness of the amount of time needed to cross a wide commercial area street"]
[null,"develop awareness of the amount of time it takes to walk a block"]
[null,"raw score for domain",null,{"$f":"D3+D9+D18+D23","v":0},null,{"$f":"F3+F9+F18+F23","v":0},null,{"$f":"H3+H9+H18+H23","v":0},null,{"$f":"J3+J9+J18+J23","v":0},null,{"$f":"L3+L9+L18+L23","v":0},null,{"$f":"N3+N9+N18+N23","v":0}]
[null,"average score for domain",null,{"$f":"D30/(COUNTIF(D3:D23,\">0\")+0.00000001)","v":0},null,{"$f":"F30/(COUNTIF(F3:F23,\">0\")+0.00000001)","v":0},null,{"$f":"H30/(COUNTIF(H3:H23,\">0\")+0.00000001)","v":0},null,{"$f":"J30/(COUNTIF(J3:J23,\">0\")+0.00000001)","v":0},null,{"$f":"L30/(COUNTIF(L3:L23,\">0\")+0.00000001)","v":0},null,{"$f":"N30/(COUNTIF(N3:N23,\">0\")+0.00000001)","v":0}]
[null,"percentage score for domain",null,{"$f":"D31/5*100","v":0},null,{"$f":"F31/5*100","v":0},null,{"$f":"H31/5*100","v":0},null,{"$f":"J31/5*100","v":0},null,{"$f":"L31/5*100","v":0},null,{"$f":"N31/5*100","v":0}]
["RATING SCALE"]
["0 = Student not capable of demonstrating skill or does not need skill"]
["1 = Student does not demonstrate skill but may/will learn skill"]
["2 = Student only demonstrates skill with verbal and/or physical prompting"]
["3 = Student sometimes demonstrates skill without verbal and/or physical prompting"]
["4 = Student demonstrates skill and verbal and/or physical prompting are rarely needed"]
["5 = Student has totally mastered skill and does not require verbal and/or physical prompting"]
["CONCEPTS (2nd Data Set--Last 6 Columns On Front Page)",null,{"$f":"Front!H1","v":"Date"},null,{"$f":"Front!I1","v":"Date"},null,{"$f":"Front!J1","v":"Date"},null,{"$f":"Front!K1","v":"Date"},null,{"$f":"Front!L1","v":"Date"},null,{"$f":"Front!M1","v":"Date"},null,"notes"]
[null,null,"Input\nData","Auto\nScore","Input\nData","Auto\nScore","Input\nData","Auto\nScore","Input\nData","Auto\nScore","Input\nData","Auto\nScore","Input\nData","Auto\nScore"]
["1. Vocabulary",null,null,{"$f":"SUM(C43:C47)/(COUNTIF(C43:C47,\">0\")+0.00000001)","v":0},null,{"$f":"SUM(E43:E47)/(COUNTIF(E43:E47,\">0\")+0.00000001)","v":0},null,{"$f":"SUM(G43:G47)/(COUNTIF(G43:G47,\">0\")+0.00000001)","v":0},null,{"$f":"SUM(I43:I47)/(COUNTIF(I43:I47,\">0\")+0.00000001)","v":0},null,{"$f":"SUM(K43:K47)/(COUNTIF(K43:K47,\">0\")+0.00000001)","v":0},null,{"$f":"SUM(M43:M47)/(COUNTIF(M43:M47,\">0\")+0.00000001)","v":0}]
[null,"identify body parts relevant to O&M"]
[null,"point or hold object up, down, to the side, in front, behind"]
[null,"move forward, back, to the side"]
[null,"move slow, fast"]
[null,"respond to 'stop' quickly and in multiple contexts"]
["2. Laterality",null,null,{"$f":"SUM(C49:C56)/(COUNTIF(C49:C56,\">0\")+0.00000001)","v":0},null,{"$f":"SUM(E49:E56)/(COUNTIF(E49:E56,\">0\")+0.00000001)","v":0},null,{"$f":"SUM(G49:G56)/(COUNTIF(G49:G56,\">0\")+0.00000001)","v":0},null,{"$f":"SUM(I49:I56)/(COUNTIF(I49:I56,\">0\")+0.00000001)","v":0},null,{"$f":"SUM(K49:K56)/(COUNTIF(K49:K56,\">0\")+0.00000001)","v":0},null,{"$f":"SUM(M49:M56)/(COUNTIF(M49:M56,\">0\")+0.00000001)","v":0}]
[null,"identify people as having left and right sides"]
[null,"consistently identify left/right hand"]
[null,"point or hold object to the left/right"]
[null,"follow route based on single left/right direction"]
[null,"follow route based on several left/right directions"]
[null,"put wall or object on left/right (e.g walk with wall on left)"]
[null,"identify that left/right changes by making 180 degree turn",null,null,null,null,null,null,null,null,null,null,null,null,null,null,"Date"]
[null,"identify that people facing one another have opposite left/right"]
["3. Parallel/Perpendicular",null,null,{"$f":"SUM(C58:C61)/(COUNTIF(C58:C61,\">0\")+0.00000001)","v":0},null,{"$f":"SUM(E58:E61)/(COUNTIF(E58:E61,\">0\")+0.00000001)","v":0},null,{"$f":"SUM(G58:G61)/(COUNTIF(G58:G61,\">0\")+0.00000001)","v":0},null,{"$f":"SUM(I58:I61)/(COUNTIF(I58:I61,\">0\")+0.00000001)","v":0},null,{"$f":"SUM(K58:K61)/(COUNTIF(K58:K61,\">0\")+0.00000001)","v":0},null,{"$f":"SUM(M58:M61)/(COUNTIF(M58:M61,\">0\")+0.00000001)","v":0}]
[null,"identify parallel/perpendicular lines on paper"]
[null,"identify parallel/perpendicular lines in environment (e.g. hallway)"]
[null,"consistently identify intersecting sidewalks/hallways as perpendicular"]
[null,"identify that parallel/perpendicular changes by making a 90 degree turn"]
["4. Time and Distance",null,null,{"$f":"SUM(C63:C68)/(COUNTIF(C63:C68,\">0\")+0.00000001)","v":0},null,{"$f":"SUM(E63:E68)/(COUNTIF(E63:E68,\">0\")+0.00000001)","v":0},null,{"$f":"SUM(G63:G68)/(COUNTIF(G63:G68,\">0\")+0.00000001)","v":0},null,{"$f":"SUM(I63:I68)/(COUNTIF(I63:I68,\">0\")+0.00000001)","v":0},null,{"$f":"SUM(K63:K68)/(COUNTIF(K63:K68,\">0\")+0.00000001)","v":0},null,{"$f":"SUM(M63:M68)/(COUNTIF(M63:M68,\">0\")+0.00000001)","v":0}]
[null,"identify common units of length (e.g. inch/centimeter, foot, yard/meter, mile/kilometer)"]
[null,"identify most appropriate unit of measurement for common objects (e.g. inch/centimeter for pencil, mile/kilometer for street)"]
[null,"identify tie between time and distance as it relates to walking or driving (e.g. 5 minute drive can translate into 30 minute walk)"]
[null,"develop an awareness of the amount of time needed to cross quiet residential street"]
[null,"develop an awareness of the amount of time needed to cross busy commercial area street"]
[null,"develop awareness of the amount of time it takes to walk a block"]
[null,"raw score for domain",null,{"$f":"D42+D48+D57+D62","v":0},null,{"$f":"F42+F48+F57+F62","v":0},null,{"$f":"H42+H48+H57+H62","v":0},null,{"$f":"J42+J48+J57+J62","v":0},null,{"$f":"L42+L48+L57+L62","v":0},null,{"$f":"N42+N48+N57+N62","v":0}]
[null,"average score for domain",null,{"$f":"D69/(COUNTIF(D42:D62,\">0\")+0.00000001)","v":0},null,{"$f":"F69/(COUNTIF(F42:F62,\">0\")+0.00000001)","v":0},null,{"$f":"H69/(COUNTIF(H42:H62,\">0\")+0.00000001)","v":0},null,{"$f":"J69/(COUNTIF(J42:J62,\">0\")+0.00000001)","v":0},null,{"$f":"L69/(COUNTIF(L42:L62,\">0\")+0.00000001)","v":0},null,{"$f":"N69/(COUNTIF(N42:N62,\">0\")+0.00000001)","v":0}]
[null,"percentage score for domain",null,{"$f":"D70/5*100","v":0},null,{"$f":"F70/5*100","v":0},null,{"$f":"H70/5*100","v":0},null,{"$f":"J70/5*100","v":0},null,{"$f":"L70/5*100","v":0},null,{"$f":"N70/5*100","v":0}]
["RATING SCALE"]
["0 = Student not capable of demonstrating skill or does not need skill"]
["1 = Student does not demonstrate skill but may/will learn skill"]
["2 = Student only demonstrates skill with verbal and/or physical prompting"]
["3 = Student sometimes demonstrates skill without verbal and/or physical prompting"]
["4 = Student demonstrates skill and verbal and/or physical prompting are rarely needed"]
["5 = Student has totally mastered skill and does not require verbal and/or physical prompting"]
[]
[]
[]
[]
[]
[]
[]
[]
[]
[]
[]
[]
[]
[]
[]
[]
[]
[]
[]
[]
[]
[]
[]
[]
[]
[]
[]
[]
[]
[]
[null,null,null,null,null,null,null,null,null,null,null,null,null,null,null,null,"Date"]

{"sheet":"Move","index":2,"n_rows":76,"n_cols":15,"rows_kept":76,"cut":false,"hidden":false,"merged":[[38,10,38,11],[38,12,38,13],[0,2,0,3],[38,2,38,3],[38,4,38,5],[38,6,38,7],[38,8,38,9],[0,12,0,13],[0,10,0,11],[0,8,0,9],[0,6,0,7],[0,4,0,5]]}
["MOVEMENT (1st Data Set--First 6 Columns On Front Page)",null,{"$f":"Front!B1","v":"Date"},null,{"$f":"Front!C1","v":"Date"},null,{"$f":"Front!D1","v":"Date"},null,{"$f":"Front!E1","v":"Date"},null,{"$f":"Front!F1","v":"Date"},null,{"$f":"Front!G1","v":"Date"},null,"notes"]
[null,null,"Input\nData","Auto\nScore","Input\nData","Auto\nScore","Input\nData","Auto\nScore","Input\nData","Auto\nScore","Input\nData","Auto\nScore","Input\nData","Auto\nScore"]
["1.Walking",null,null,{"$f":"SUM(C4:C8)/(COUNTIF(C4:C8,\">0\")+0.00000001)","v":0},null,{"$f":"SUM(E4:E8)/(COUNTIF(E4:E8,\">0\")+0.00000001)","v":0},null,{"$f":"SUM(G4:G8)/(COUNTIF(G4:G8,\">0\")+0.00000001)","v":0},null,{"$f":"SUM(I4:I8)/(COUNTIF(I4:I8,\">0\")+0.00000001)","v":0},null,{"$f":"SUM(K4:K8)/(COUNTIF(K4:K8,\">0\")+0.00000001)","v":0},null,{"$f":"SUM(M4:M8)/(COUNTIF(M4:M8,\">0\")+0.00000001)","v":0}]
[null,"maintain balance while walking with a pushed device that is stable enough to help with balance (such as a shopping cart - a toy that is weighted or a real one at a store)"]
[null,"maintain balance while walking with a pushed device that is NOT stable enough to help with balance (such as an adaptive mobility device)",null,null,null,null,null,null,null," "]
[null,"walk with a hand held device (such as a cane)"]
[null,"walk with two different hand held devices (such as a long cane and a support cane or a long cane and a GPS device/compass/sensor)"]
[null,"walk with a hand held device (such as a cane) while holding an item in the other hand (such as book/bottle/bag)"]
["2. Maintain Body Alignment While Walking",null,null,{"$f":"SUM(C10:C14)/(COUNTIF(C10:C14,\">0\")+0.00000001)","v":0},null,{"$f":"SUM(E10:E14)/(COUNTIF(E10:E14,\">0\")+0.00000001)","v":0},null,{"$f":"SUM(G10:G14)/(COUNTIF(G10:G14,\">0\")+0.00000001)","v":0},null,{"$f":"SUM(I10:I14)/(COUNTIF(I10:I14,\">0\")+0.00000001)","v":0},null,{"$f":"SUM(K10:K14)/(COUNTIF(K10:K14,\">0\")+0.00000001)","v":0},null,{"$f":"SUM(M10:M14)/(COUNTIF(M10:M14,\">0\")+0.00000001)","v":0}]
[null,"walk with slight forward lean"]
[null,"walk with heel striking ground before toes"]
[null,"walk with head upright and facing straight ahead"]
[null,"walk with shoulders and hips aligned with rest of body"]
[null,"self correct misaligned body parts with Line Of Travel (L.O.T.)"]
["3. Balance",null,null,{"$f":"SUM(C16:C22)/(COUNTIF(C16:C22,\">0\")+0.00000001)","v":0},null,{"$f":"SUM(E16:E22)/(COUNTIF(E16:E22,\">0\")+0.00000001)","v":0},null,{"$f":"SUM(G16:G22)/(COUNTIF(G16:G22,\">0\")+0.00000001)","v":0},null,{"$f":"SUM(I16:I22)/(COUNTIF(I16:I22,\">0\")+0.00000001)","v":0},null,{"$f":"SUM(K16:K22)/(COUNTIF(K16:K22,\">0\")+0.00000001)","v":0},null,{"$f":"SUM(M16:M22)/(COUNTIF(M16:M22,\">0\")+0.00000001)","v":0}]
[null,"maintain balance on level, regularly surfaced terrain"]
[null,"maintain balance on level terrain with irregular surface (e.g. not compacted, rocky, etc)"]
[null,"maintain balance on down sloped, regularly surfaced terrain"]
[null,"maintain balance on down sloped terrain with irregular surface (e.g. not compacted, rocky, etc)"]
[null,"maintain balance on up sloped, regularly surfaced terrain"]
[null,"maintain balance on up sloped terrain with irregular surface (e.g. not compacted, rocky, etc)"]
[null,"maintain balance on ground with slope to side of traveler"]
["4. Turns",null,null,{"$f":"SUM(C24:C28)/(COUNTIF(C24:C28,\">0\")+0.00000001)","v":0},null,{"$f":"SUM(E24:E28)/(COUNTIF(E24:E28,\">0\")+0.00000001)","v":0},null,{"$f":"SUM(G24:G28)/(COUNTIF(G24:G28,\">0\")+0.00000001)","v":0},null,{"$f":"SUM(I24:I28)/(COUNTIF(I24:I28,\">0\")+0.00000001)","v":0},null,{"$f":"SUM(K24:K28)/(COUNTIF(K24:K28,\">0\")+0.00000001)","v":0},null,{"$f":"SUM(M24:M28)/(COUNTIF(M24:M28,\">0\")+0.00000001)","v":0}]
[null,"identify that a turn is needed (e.g. hallway ends)"]
[null,"identify that a turn has occurred when need is obvious"]
[null,"identify that turn has occurred when it was not obvious (e.g. sidewalk gradually turned from heading east to north)"]
[null,"identify 90, 180, 270 and 360 degree turns"]
[null,"demonstrate relatively sharp 90 degree turns"]
[null,"raw score for domain",null,{"$f":"D3+D9+D15+D23","v":0},null,{"$f":"F3+F9+F15+F23","v":0},null,{"$f":"H3+H9+H15+H23","v":0},null,{"$f":"J3+J9+J15+J23","v":0},null,{"$f":"L3+L9+L15+L23","v":0},null,{"$f":"N3+N9+N15+N23","v":0}]
[null,"average score for domain",null,{"$f":"D29/(COUNTIF(D3:D28,\">0\")+0.00000001)","v":0},null,{"$f":"F29/(COUNTIF(F3:F28,\">0\")+0.00000001)","v":0},null,{"$f":"H29/(COUNTIF(H3:H28,\">0\")+0.00000001)","v":0},null,{"$f":"J29/(COUNTIF(J3:J28,\">0\")+0.00000001)","v":0},null,{"$f":"L29/(COUNTIF(L3:L28,\">0\")+0.00000001)","v":0},null,{"$f":"N29/(COUNTIF(N3:N28,\">0\")+0.00000001)","v":0}]
[null,"percentage score for domain",null,{"$f":"D30/5*100","v":0},null,{"$f":"F30/5*100","v":0},null,{"$f":"H30/5*100","v":0},null,{"$f":"J30/5*100","v":0},null,{"$f":"L30/5*100","v":0},null,{"$f":"N30/5*100","v":0}]
["RATING SCALE"]
["0 = Student not capable of demonstrating skill or does not need skill"]
["1 = Student does not demonstrate skill but may/will learn skill"]
["2 = Student only demonstrates skill with verbal and/or physical prompting"]
["3 = Student sometimes demonstrates skill without verbal and/or physical prompting"]
["4 = Student demonstrates skill and verbal and/or physical prompting are rarely needed"]
["5 = Student has totally mastered skill and does not require verbal and/or physical prompting"]
["MOVEMENT (2nd Data Set--Last 6 Columns On Front Page)",null,{"$f":"Front!H1","v":"Date"},null,{"$f":"Front!I1","v":"Date"},null,{"$f":"Front!J1","v":"Date"},null,{"$f":"Front!K1","v":"Date"},null,{"$f":"Front!L1","v":"Date"},null,{"$f":"Front!M1","v":"Date"},null,"notes"]
[null,null,"Input\nData","Auto\nScore","Input\nData","Auto\nScore","Input\nData","Auto\nScore","Input\nData","Auto\nScore","Input\nData","Auto\nScore","Input\nData","Auto\nScore"]
["1.Walking",null,null,{"$f":"SUM(C42:C46)/(COUNTIF(C42:C46,\">0\")+0.00000001)","v":0},null,{"$f":"SUM(E42:E46)/(COUNTIF(E42:E46,\">0\")+0.00000001)","v":0},null,{"$f":"SUM(G42:G46)/(COUNTIF(G42:G46,\">0\")+0.00000001)","v":0},null,{"$f":"SUM(I42:I46)/(COUNTIF(I42:I46,\">0\")+0.00000001)","v":0},null,{"$f":"SUM(K42:K46)/(COUNTIF(K42:K46,\">0\")+0.00000001)","v":0},null,{"$f":"SUM(M42:M46)/(COUNTIF(M42:M46,\">0\")+0.00000001)","v":0}]
[null,"maintain balance while walking with a pushed device that is stable enough to help with balance (such as a shopping cart - a toy that is weighted or a real one at a store)"]
[null,"maintain balance while walking with a pushed device that is NOT stable enough to help with balance (such as an adaptive mobility device)"]
[null,"walk with a hand held device (such as a cane)"]
[null,"walk with two different hand held devices (such as a long cane and a support cane or a long cane and a GPS device/compass/sensor)"]
[null,"walk with a hand held device (such as a cane) while holding an item in the other hand (such as book/bottle/bag)"]
["2. Maintain Body Alignment While Walking",null,null,{"$f":"SUM(C48:C52)/(COUNTIF(C48:C52,\">0\")+0.00000001)","v":0},null,{"$f":"SUM(E48:E52)/(COUNTIF(E48:E52,\">0\")+0.00000001)","v":0},null,{"$f":"SUM(G48:G52)/(COUNTIF(G48:G52,\">0\")+0.00000001)","v":0},null,{"$f":"SUM(I48:I52)/(COUNTIF(I48:I52,\">0\")+0.00000001)","v":0},null,{"$f":"SUM(K48:K52)/(COUNTIF(K48:K52,\">0\")+0.00000001)","v":0},null,{"$f":"SUM(M48:M52)/(COUNTIF(M48:M52,\">0\")+0.00000001)","v":0}]
[null,"walk with slight forward lean"]
[null,"walk with heel striking ground before toes"]
[null,"walk with head upright and facing straight ahead"]
[null,"walk with shoulders and hips aligned with rest of body"]
[null,"self correct misaligned body parts with Line Of Travel (L.O.T.)"]
["3. Balance",null,null,{"$f":"SUM(C54:C60)/(COUNTIF(C54:C60,\">0\")+0.00000001)","v":0},null,{"$f":"SUM(E54:E60)/(COUNTIF(E54:E60,\">0\")+0.00000001)","v":0},null,{"$f":"SUM(G54:G60)/(COUNTIF(G54:G60,\">0\")+0.00000001)","v":0},null,{"$f":"SUM(I54:I60)/(COUNTIF(I54:I60,\">0\")+0.00000001)","v":0},null,{"$f":"SUM(K54:K60)/(COUNTIF(K54:K60,\">0\")+0.00000001)","v":0},null,{"$f":"SUM(M54:M60)/(COUNTIF(M54:M60,\">0\")+0.00000001)","v":0}]
[null,"maintain balance on level, regularly surfaced terrain"]
[null,"maintain balance on level terrain with irregular surface (e.g. not compacted, rocky, etc)"]
[null,"maintain balance on down sloped, regularly surfaced terrain"]
[null,"maintain balance on down sloped terrain with irregular surface (e.g. not compacted, rocky, etc)"]
[null,"maintain balance on up sloped, regularly surfaced terrain"]
[null,"maintain balance on up sloped terrain with irregular surface (e.g. not compacted, rocky, etc)"]
[null,"maintain balance on ground with slope to side of traveler"]
["4. Turns",null,null,{"$f":"SUM(C62:C66)/(COUNTIF(C62:C66,\">0\")+0.00000001)","v":0},null,{"$f":"SUM(E62:E66)/(COUNTIF(E62:E66,\">0\")+0.00000001)","v":0},null,{"$f":"SUM(G62:G66)/(COUNTIF(G62:G66,\">0\")+0.00000001)","v":0},null,{"$f":"SUM(I62:I66)/(COUNTIF(I62:I66,\">0\")+0.00000001)","v":0},null,{"$f":"SUM(K62:K66)/(COUNTIF(K62:K66,\">0\")+0.00000001)","v":0},null,{"$f":"SUM(M62:M66)/(COUNTIF(M62:M66,\">0\")+0.00000001)","v":0}]
[null,"identify that a turn is needed (e.g. hallway ends)"]
[null,"identify that a turn has occurred when need is obvious"]
[null,"identify that turn has occurred when it was not obvious (e.g. sidewalk gradually turned from heading east to north)"]
[null,"identify 90, 180, 270 and 360 degree turns"]
[null,"demonstrate relatively sharp 90 degree turns"]
[null,"raw score for domain",null,{"$f":"D41+D47+D53+D61","v":0},null,{"$f":"F41+F47+F53+F61","v":0},null,{"$f":"H41+H47+H53+H61","v":0},null,{"$f":"J41+J47+J53+J61","v":0},null,{"$f":"L41+L47+L53+L61","v":0},null,{"$f":"N41+N47+N53+N61","v":0}]
[null,"average score for domain",null,{"$f":"D67/(COUNTIF(D41:D66,\">0\")+0.00000001)","v":0},null,{"$f":"F67/(COUNTIF(F41:F66,\">0\")+0.00000001)","v":0},null,{"$f":"H67/(COUNTIF(H41:H66,\">0\")+0.00000001)","v":0},null,{"$f":"J67/(COUNTIF(J41:J66,\">0\")+0.00000001)","v":0},null,{"$f":"L67/(COUNTIF(L41:L66,\">0\")+0.00000001)","v":0},null,{"$f":"N67/(COUNTIF(N41:N66,\">0\")+0.00000001)","v":0}]
[null,"percentage score for domain",null,{"$f":"D68/5*100","v":0},null,{"$f":"F68/5*100","v":0},null,{"$f":"H68/5*100","v":0},null,{"$f":"J68/5*100","v":0},null,{"$f":"L68/5*100","v":0},null,{"$f":"N68/5*100","v":0}]
["RATING SCALE"]
["0 = Student not capable of demonstrating skill or does not need skill"]
["1 = Student does not demonstrate skill but may/will learn skill"]
["2 = Student only demonstrates skill with verbal and/or physical prompting"]
["3 = Student sometimes demonstrates skill without verbal and/or physical prompting"]
["4 = Student demonstrates skill and verbal and/or physical prompting are rarely needed"]
["5 = Student has totally mastered skill and does not require verbal and/or physical prompting"]

{"sheet":"SingRm","index":3,"n_rows":84,"n_cols":15,"rows_kept":84,"cut":false,"hidden":false,"merged":[[0,12,0,13],[42,2,42,3],[42,4,42,5],[42,6,42,7],[42,8,42,9],[42,10,42,11],[42,12,42,13],[0,2,0,3],[0,4,0,5],[0,6,0,7],[0,8,0,9],[0,10,0,11]]}
["SINGLE ROOM O&M (1st Data Set--First 6 Columns On Front Page)",null,{"$f":"Front!B1","v":"Date"},null,{"$f":"Front!C1","v":"Date"},null,{"$f":"Front!D1","v":"Date"},null,{"$f":"Front!E1","v":"Date"},null,{"$f":"Front!F1","v":"Date"},null,{"$f":"Front!G1","v":"Date"},null,"notes"]
[null,null,"Input\nData","Auto\nScore","Input\nData","Auto\nScore","Input\nData","Auto\nScore","Input\nData","Auto\nScore","Input\nData","Auto\nScore","Input\nData","Auto\nScore"]
["1. Familiar Rooms",null,null,{"$f":"SUM(C4:C8)/(COUNTIF(C4:C8,\">0\")+0.00000001)","v":0},null,{"$f":"SUM(E4:E8)/(COUNTIF(E4:E8,\">0\")+0.00000001)","v":0},null,{"$f":"SUM(G4:G8)/(COUNTIF(G4:G8,\">0\")+0.00000001)","v":0},null,{"$f":"SUM(I4:I8)/(COUNTIF(I4:I8,\">0\")+0.00000001)","v":0},null,{"$f":"SUM(K4:K8)/(COUNTIF(K4:K8,\">0\")+0.00000001)","v":0},null,{"$f":"SUM(M4:M8)/(COUNTIF(M4:M8,\">0\")+0.00000001)","v":0}]
[null,"demonstrate cardinality"]
[null,"identify and use Point Of Reference (P.O.R.)"]
[null,"locate parts of room and items in room"]
[null,"use location of familiar item in room to find unfamiliar item described as being next to, under, on top of, etc"]
[null,"use cane and/or protective techniques as appropriate"]
["2. Unfamiliar Rooms",null,null,{"$f":"SUM(C10:C15)/(COUNTIF(C10:C15,\">0\")+0.00000001)","v":0},null,{"$f":"SUM(E10:E15)/(COUNTIF(E10:E15,\">0\")+0.00000001)","v":0},null,{"$f":"SUM(G10:G15)/(COUNTIF(G10:G15,\">0\")+0.00000001)","v":0},null,{"$f":"SUM(I10:I15)/(COUNTIF(I10:I15,\">0\")+0.00000001)","v":0},null,{"$f":"SUM(K10:K15)/(COUNTIF(K10:K15,\">0\")+0.00000001)","v":0},null,{"$f":"SUM(M10:M15)/(COUNTIF(M10:M15,\">0\")+0.00000001)","v":0}]
[null,"establish and maintain cardinality"]
[null,"establish P.O.R., either a physical landmark (e.g. door, piece of furniture) or nearly constant clue (e.g. radio, noise in hallway)"]
[null,"demonstrate systematic pattern of exploration of room (e.g. grid pattern)"]
[null,"identify directional relationships of major features of the room (e.g. the tub is to the left of the sink, the board is on the north side of the room)"]
[null,"use location of found item in room to find undiscovered item described as being next to, under, on top of, etc"]
[null,"use cane and/or protective techniques as appropriate"]
["3. Seating (Rows Of Desks Or Theater/Stadium Seating)",null,null,{"$f":"SUM(C17:C22)/(COUNTIF(C17:C22,\">0\")+0.00000001)","v":0},null,{"$f":"SUM(E17:E22)/(COUNTIF(E17:E22,\">0\")+0.00000001)","v":0},null,{"$f":"SUM(G17:G22)/(COUNTIF(G17:G22,\">0\")+0.00000001)","v":0},null,{"$f":"SUM(I17:I22)/(COUNTIF(I17:I22,\">0\")+0.00000001)","v":0},null,{"$f":"SUM(K17:K22)/(COUNTIF(K17:K22,\">0\")+0.00000001)","v":0},null,{"$f":"SUM(M17:M22)/(COUNTIF(M17:M22,\">0\")+0.00000001)","v":0}]
[null,"identify side(s) of room seating faces"]
[null,"identify beginning of row of seats"]
[null,"ask if there is available seat if row seems to be occupied"]
[null,"enter row of seats, find unoccupied seat"]
[null,"confirm (with cane, verbally, etc) seat is indeed unoccupied"]
[null,"identify need to minimize space occupied as others may need to pass while getting seated"]
["4. Seating (Tables)",null,null,{"$f":"SUM(C24:C27)/(COUNTIF(C24:C27,\">0\")+0.00000001)","v":0},null,{"$f":"SUM(E24:E27)/(COUNTIF(E24:E27,\">0\")+0.00000001)","v":0},null,{"$f":"SUM(G24:G27)/(COUNTIF(G24:G27,\">0\")+0.00000001)","v":0},null,{"$f":"SUM(I24:I27)/(COUNTIF(I24:I27,\">0\")+0.00000001)","v":0},null,{"$f":"SUM(K24:K27)/(COUNTIF(K24:K27,\">0\")+0.00000001)","v":0},null,{"$f":"SUM(M24:M27)/(COUNTIF(M24:M27,\">0\")+0.00000001)","v":0}]
[null,"identify location of table"]
[null,"ask if there is available seat if table seems to be occupied"]
[null,"confirm (with cane, verbally, etc) seat is indeed unoccupied"]
[null,"identify need to pull chair as close to table as possible as others may need to pass behind"]
["5. Locate Dropped Object",null,null,{"$f":"SUM(C29:C32)/(COUNTIF(C29:C32,\">0\")+0.00000001)","v":0},null,{"$f":"SUM(E29:E32)/(COUNTIF(E29:E32,\">0\")+0.00000001)","v":0},null,{"$f":"SUM(G29:G32)/(COUNTIF(G29:G32,\">0\")+0.00000001)","v":0},null,{"$f":"SUM(I29:I32)/(COUNTIF(I29:I32,\">0\")+0.00000001)","v":0},null,{"$f":"SUM(K29:K32)/(COUNTIF(K29:K32,\">0\")+0.00000001)","v":0},null,{"$f":"SUM(M29:M32)/(COUNTIF(M29:M32,\">0\")+0.00000001)","v":0}]
[null,"identify that an object has been dropped"]
[null,"listen for clues as to where object may have come to rest"]
[null,"drop level without bending at waist"]
[null,"demonstrate circular or grid pattern search (tactile or visual) to locate object"]
[null,"raw score for domain",null,{"$f":"D3+D9+D16+D23+D28","v":0},null,{"$f":"F3+F9+F16+F23+F28","v":0},null,{"$f":"H3+H9+H16+H23+H28","v":0},null,{"$f":"J3+J9+J16+J23+J28","v":0},null,{"$f":"L3+L9+L16+L23+L28","v":0},null,{"$f":"N3+N9+N16+N23+N28","v":0}]
[null,"average score for domain",null,{"$f":"D33/(COUNTIF(D3:D32,\">0\")+0.00000001)","v":0},null,{"$f":"F33/(COUNTIF(F3:F32,\">0\")+0.00000001)","v":0},null,{"$f":"H33/(COUNTIF(H3:H32,\">0\")+0.00000001)","v":0},null,{"$f":"J33/(COUNTIF(J3:J32,\">0\")+0.00000001)","v":0},null,{"$f":"L33/(COUNTIF(L3:L32,\">0\")+0.00000001)","v":0},null,{"$f":"N33/(COUNTIF(N3:N32,\">0\")+0.00000001)","v":0}]
[null,"percentage score for domain",null,{"$f":"D34/5*100","v":0},null,{"$f":"F34/5*100","v":0},null,{"$f":"H34/5*100","v":0},null,{"$f":"J34/5*100","v":0},null,{"$f":"L34/5*100","v":0},null,{"$f":"N34/5*100","v":0}]
["RATING SCALE"]
["0 = Student not capable of demonstrating skill or does not need skill"]
["1 = Student does not demonstrate skill but may/will learn skill"]
["2 = Student only demonstrates skill with verbal and/or physical prompting"]
["3 = Student sometimes demonstrates skill without verbal and/or physical prompting"]
["4 = Student demonstrates skill and verbal and/or physical prompting are rarely needed"]
["5 = Student has totally mastered skill and does not require verbal and/or physical prompting"]
["SINGLE ROOM O&M (2nd Data Set--Last 6 Columns On Front Page)",null,{"$f":"Front!H1","v":"Date"},null,{"$f":"Front!I1","v":"Date"},null,{"$f":"Front!J1","v":"Date"},null,{"$f":"Front!K1","v":"Date"},null,{"$f":"Front!L1","v":"Date"},null,{"$f":"Front!M1","v":"Date"},null,"notes"]
[null,null,"Input\nData","Auto\nScore","Input\nData","Auto\nScore","Input\nData","Auto\nScore","Input\nData","Auto\nScore","Input\nData","Auto\nScore","Input\nData","Auto\nScore"]
["1. Familiar Rooms",null,null,{"$f":"SUM(C46:C50)/(COUNTIF(C46:C50,\">0\")+0.00000001)","v":0},null,{"$f":"SUM(E46:E50)/(COUNTIF(E46:E50,\">0\")+0.00000001)","v":0},null,{"$f":"SUM(G46:G50)/(COUNTIF(G46:G50,\">0\")+0.00000001)","v":0},null,{"$f":"SUM(I46:I50)/(COUNTIF(I46:I50,\">0\")+0.00000001)","v":0},null,{"$f":"SUM(K46:K50)/(COUNTIF(K46:K50,\">0\")+0.00000001)","v":0},null,{"$f":"SUM(M46:M50)/(COUNTIF(M46:M50,\">0\")+0.00000001)","v":0}]
[null,"demonstrate cardinality"]
[null,"identify and use Point Of Reference (P.O.R.)"]
[null,"locate parts of room and items in room"]
[null,"use location of familiar item in room to find unfamiliar item described as being next to, under, on top of, etc"]
[null,"use cane and/or protective techniques as appropriate"]
["2. Unfamiliar Rooms",null,null,{"$f":"SUM(C52:C57)/(COUNTIF(C52:C57,\">0\")+0.00000001)","v":0},null,{"$f":"SUM(E52:E57)/(COUNTIF(E52:E57,\">0\")+0.00000001)","v":0},null,{"$f":"SUM(G52:G57)/(COUNTIF(G52:G57,\">0\")+0.00000001)","v":0},null,{"$f":"SUM(I52:I57)/(COUNTIF(I52:I57,\">0\")+0.00000001)","v":0},null,{"$f":"SUM(K52:K57)/(COUNTIF(K52:K57,\">0\")+0.00000001)","v":0},null,{"$f":"SUM(M52:M57)/(COUNTIF(M52:M57,\">0\")+0.00000001)","v":0}]
[null,"establish and maintain cardinality"]
[null,"establish P.O.R., either a physical landmark (e.g. door, piece of furniture) or nearly constant clue (e.g. radio, noise in hallway)"]
[null,"demonstrate systematic pattern of exploration of room (e.g. grid pattern)"]
[null,"identify directional relationships of major features of the room (e.g. the tub is to the left of the sink, the board is on the north side of the room)"]
[null,"use location of found item in room to find undiscovered item described as being next to, under, on top of, etc"]
[null,"use cane and/or protective techniques as appropriate"]
["3. Seating (Rows Of Desks Or Theater/Stadium Seating)",null,null,{"$f":"SUM(C59:C64)/(COUNTIF(C59:C64,\">0\")+0.00000001)","v":0},null,{"$f":"SUM(E59:E64)/(COUNTIF(E59:E64,\">0\")+0.00000001)","v":0},null,{"$f":"SUM(G59:G64)/(COUNTIF(G59:G64,\">0\")+0.00000001)","v":0},null,{"$f":"SUM(I59:I64)/(COUNTIF(I59:I64,\">0\")+0.00000001)","v":0},null,{"$f":"SUM(K59:K64)/(COUNTIF(K59:K64,\">0\")+0.00000001)","v":0},null,{"$f":"SUM(M59:M64)/(COUNTIF(M59:M64,\">0\")+0.00000001)","v":0}]
[null,"identify side(s) of room seating faces"]
[null,"identify beginning of row of seats"]
[null,"ask if there is available seat if row seems to be occupied"]
[null,"enter row of seats, find unoccupied seat"]
[null,"confirm (with cane, verbally, etc) seat is indeed unoccupied"]
[null,"identify need to minimize space occupied as others may need to pass while getting seated"]
["4. Seating (Tables)",null,null,{"$f":"SUM(C66:C69)/(COUNTIF(C66:C69,\">0\")+0.00000001)","v":0},null,{"$f":"SUM(E66:E69)/(COUNTIF(E66:E69,\">0\")+0.00000001)","v":0},null,{"$f":"SUM(G66:G69)/(COUNTIF(G66:G69,\">0\")+0.00000001)","v":0},null,{"$f":"SUM(I66:I69)/(COUNTIF(I66:I69,\">0\")+0.00000001)","v":0},null,{"$f":"SUM(K66:K69)/(COUNTIF(K66:K69,\">0\")+0.00000001)","v":0},null,{"$f":"SUM(M66:M69)/(COUNTIF(M66:M69,\">0\")+0.00000001)","v":0}]
[null,"identify location of table"]
[null,"ask if there is available seat if table seems to be occupied"]
[null,"confirm (with cane, verbally, etc) seat is indeed unoccupied"]
[null,"identify need to pull chair as close to table as possible as others may need to pass behind"]
["5. Locate Dropped Object",null,null,{"$f":"SUM(C71:C74)/(COUNTIF(C71:C74,\">0\")+0.00000001)","v":0},null,{"$f":"SUM(E71:E74)/(COUNTIF(E71:E74,\">0\")+0.00000001)","v":0},null,{"$f":"SUM(G71:G74)/(COUNTIF(G71:G74,\">0\")+0.00000001)","v":0},null,{"$f":"SUM(I71:I74)/(COUNTIF(I71:I74,\">0\")+0.00000001)","v":0},null,{"$f":"SUM(K71:K74)/(COUNTIF(K71:K74,\">0\")+0.00000001)","v":0},null,{"$f":"SUM(M71:M74)/(COUNTIF(M71:M74,\">0\")+0.00000001)","v":0}]
[null,"identify that an object has been dropped"]
[null,"listen for clues as to where object may have come to rest"]
[null,"drop level without bending at waist"]
[null,"demonstrate circular or grid pattern search (tactile or visual) to locate object"]
[null,"raw score for domain",null,{"$f":"D45+D51+D58+D65+D70","v":0},null,{"$f":"F45+F51+F58+F65+F70","v":0},null,{"$f":"H45+H51+H58+H65+H70","v":0},null,{"$f":"J45+J51+J58+J65+J70","v":0},null,{"$f":"L45+L51+L58+L65+L70","v":0},null,{"$f":"N45+N51+N58+N65+N70","v":0}]
[null,"average score for domain",null,{"$f":"D75/(COUNTIF(D45:D74,\">0\")+0.00000001)","v":0},null,{"$f":"F75/(COUNTIF(F45:F74,\">0\")+0.00000001)","v":0},null,{"$f":"H75/(COUNTIF(H45:H74,\">0\")+0.00000001)","v":0},null,{"$f":"J75/(COUNTIF(J45:J74,\">0\")+0.00000001)","v":0},null,{"$f":"L75/(COUNTIF(L45:L74,\">0\")+0.00000001)","v":0},null,{"$f":"N75/(COUNTIF(N45:N74,\">0\")+0.00000001)","v":0}]
[null,"percentage score for domain",null,{"$f":"D76/5*100","v":0},null,{"$f":"F76/5*100","v":0},null,{"$f":"H76/5*100","v":0},null,{"$f":"J76/5*100","v":0},null,{"$f":"L76/5*100","v":0},null,{"$f":"N76/5*100","v":0}]
["RATING SCALE"]
["0 = Student not capable of demonstrating skill or does not need skill"]
["1 = Student does not demonstrate skill but may/will learn skill"]
["2 = Student only demonstrates skill with verbal and/or physical prompting"]
["3 = Student sometimes demonstrates skill without verbal and/or physical prompting"]
["4 = Student demonstrates skill and verbal and/or physical prompting are rarely needed"]
["5 = Student has totally mastered skill and does not require verbal and/or physical prompting"]

{"sheet":"Indoor","index":4,"n_rows":138,"n_cols":15,"rows_kept":138,"cut":false,"hidden":false,"merged":[[0,12,0,13],[69,2,69,3],[69,4,69,5],[69,6,69,7],[69,8,69,9],[69,10,69,11],[69,12,69,13],[0,2,0,3],[0,4,0,5],[0,6,0,7],[0,8,0,9],[0,10,0,11]]}
["INDOOR O&M (1st Data Set--First 6 Columns On Front Page)",null,{"$f":"Front!B1","v":"Date"},null,{"$f":"Front!C1","v":"Date"},null,{"$f":"Front!D1","v":"Date"},null,{"$f":"Front!E1","v":"Date"},null,{"$f":"Front!F1","v":"Date"},null,{"$f":"Front!G1","v":"Date"},null,"notes"]
[null,null,"Input\nData","Auto\nScore","Input\nData","Auto\nScore","Input\nData","Auto\nScore","Input\nData","Auto\nScore","Input\nData","Auto\nScore","Input\nData","Auto\nScore"]
["1. Hand Trailing",null,null,{"$f":"SUM(C4:C5)/(COUNTIF(C4:C5,\">0\")+0.00000001)","v":0},null,{"$f":"SUM(E4:E5)/(COUNTIF(E4:E5,\">0\")+0.00000001)","v":0},null,{"$f":"SUM(G4:G5)/(COUNTIF(G4:G5,\">0\")+0.00000001)","v":0},null,{"$f":"SUM(I4:I5)/(COUNTIF(I4:I5,\">0\")+0.00000001)","v":0},null,{"$f":"SUM(K4:K5)/(COUNTIF(K4:K5,\">0\")+0.00000001)","v":0},null,{"$f":"SUM(M4:M5)/(COUNTIF(M4:M5,\">0\")+0.00000001)","v":0}]
[null,"walk along wall, arm trailing wall bent 45 degrees, only the pinky contacting the wall, hand relaxed with fingers dangling"]
[null,"detect doorway, break contact with wall, pass door using clues and time/distance, re-establish contact with wall and continue"]
["2. Navigating Open Spaces",null,null,{"$f":"SUM(C7:C8)/(COUNTIF(C7:C8,\">0\")+0.00000001)","v":0},null,{"$f":"SUM(E7:E8)/(COUNTIF(E7:E8,\">0\")+0.00000001)","v":0},null,{"$f":"SUM(G7:G8)/(COUNTIF(G7:G8,\">0\")+0.00000001)","v":0},null,{"$f":"SUM(I7:I8)/(COUNTIF(I7:I8,\">0\")+0.00000001)","v":0},null,{"$f":"SUM(K7:K8)/(COUNTIF(K7:K8,\">0\")+0.00000001)","v":0},null,{"$f":"SUM(M7:M8)/(COUNTIF(M7:M8,\">0\")+0.00000001)","v":0}]
[null,"demonstrate direction taking by aligning 2 or more body parts with desired Line Of Travel (L.O.T.) and projecting straight line"]
[null,"demonstrate squaring off by putting back, shoulders and back of legs against wall and moving directly away from it"]
["3. Doors",null,null,{"$f":"SUM(C10:C14)/(COUNTIF(C10:C14,\">0\")+0.00000001)","v":0},null,{"$f":"SUM(E10:E14)/(COUNTIF(E10:E14,\">0\")+0.00000001)","v":0},null,{"$f":"SUM(G10:G14)/(COUNTIF(G10:G14,\">0\")+0.00000001)","v":0},null,{"$f":"SUM(I10:I14)/(COUNTIF(I10:I14,\">0\")+0.00000001)","v":0},null,{"$f":"SUM(K10:K14)/(COUNTIF(K10:K14,\">0\")+0.00000001)","v":0},null,{"$f":"SUM(M10:M14)/(COUNTIF(M10:M14,\">0\")+0.00000001)","v":0}]
[null,"identify presence of door"]
[null,"identify type of door (push, pull, slide, revolving, single, double) via physical contact, auditory clues, general knowledge of types of doors found in particular buildings (e.g. most doors swing into the room, grocery stores typically have powered sliding doors)"]
[null,"demonstrate ability to identify push/pull door, locate handle, open door and step through single or double doors"]
[null,"demonstrate ability to identify sliding door, whether door is manual or powered, open door if manual, step through"]
[null,"demonstrate ability to identify revolving door, locate entrance to revolving door housing via clues or surface change (e.g. carpet to tile or concrete), determine if door is in motion or still, use free hand to locate door and time entry into revolving door, use elbow or free hand to trail rounded outside edge of door housing, turn and quickly exit door"]
["4. Stairs (Ascending and Descending)",null,null,{"$f":"SUM(C16:C22)/(COUNTIF(C16:C22,\">0\")+0.00000001)","v":0},null,{"$f":"SUM(E16:E22)/(COUNTIF(E16:E22,\">0\")+0.00000001)","v":0},null,{"$f":"SUM(G16:G22)/(COUNTIF(G16:G22,\">0\")+0.00000001)","v":0},null,{"$f":"SUM(I16:I22)/(COUNTIF(I16:I22,\">0\")+0.00000001)","v":0},null,{"$f":"SUM(K16:K22)/(COUNTIF(K16:K22,\">0\")+0.00000001)","v":0},null,{"$f":"SUM(M16:M22)/(COUNTIF(M16:M22,\">0\")+0.00000001)","v":0}]
[null,"detect presence of stairs"]
[null,"locate and use rail if convenient"]
[null,"\"A\" anchor cane at base of stairs"]
[null,"\"B\" bring toes up to edge of stairs"]
[null,"\"C\" clear to ensure nothing on stair and confirm width of stair"]
[null,"\"D\" diagonal angle of cane across body with the cane tip on the second stair, elbow locked and pressure exerted to cane ascends one stair for each step taken (cane and feet never on same step) OR  \"D\" diagonal angle of cane across body when descending with the cane tip on the second stair, cane either slides down each step or is tapped if stair surface doesn’t allow cane to slide"]
[null,"\"E\" end of staircase reached by cane tip causes cane to swing freely instead of hitting next step alerting ascending traveler end of stair case is imminent OR \"E\" end of staircase reached by cane tip causes cane angle to flatten out alerting descending traveler end of stair case is imminent"]
["5. Escalators (Ascending and descending)",null,null,{"$f":"SUM(C24:C34)/(COUNTIF(C24:C34,\">0\")+0.00000001)","v":0},null,{"$f":"SUM(E24:E34)/(COUNTIF(E24:E34,\">0\")+0.00000001)","v":0},null,{"$f":"SUM(G24:G34)/(COUNTIF(G24:G34,\">0\")+0.00000001)","v":0},null,{"$f":"SUM(I24:I34)/(COUNTIF(I24:I34,\">0\")+0.00000001)","v":0},null,{"$f":"SUM(K24:K34)/(COUNTIF(K24:K34,\">0\")+0.00000001)","v":0},null,{"$f":"SUM(M24:M34)/(COUNTIF(M24:M34,\">0\")+0.00000001)","v":0}]
[null,"identify presence of escalator"]
[null,"determine if at entry or exit of escalator (handrail moves toward traveler if at exit and away from traveler if at entry)"]
[null,"determine whether escalator ascends or descends"]
[null,"\"A\" anchor cane at edge of stairs of escalator "]
[null,"\"B\" bring toes up to edge of stairs"]
[null,"\"C\" clear to confirm width of stair"]
[null,"extend cane, step when cane 'drops off' (ascending) or 'kicks up' (descending)"]
[null,"hold rail with free hand"]
[null,"\"D\" diagonal angle of cane across body with the cane tip on the next stair"]
[null,"\"E\" end is reached when angle flattens out, hits edge of ramp or is pushed back towards traveler, lift cane and step onto ramp"]
[null,"clear ramp quickly and re-establish orientation"]
["6. Elevators",null,null,{"$f":"SUM(C36:C43)/(COUNTIF(C36:C43,\">0\")+0.00000001)","v":0},null,{"$f":"SUM(E36:E43)/(COUNTIF(E36:E43,\">0\")+0.00000001)","v":0},null,{"$f":"SUM(G36:G43)/(COUNTIF(G36:G43,\">0\")+0.00000001)","v":0},null,{"$f":"SUM(I36:I43)/(COUNTIF(I36:I43,\">0\")+0.00000001)","v":0},null,{"$f":"SUM(K36:K43)/(COUNTIF(K36:K43,\">0\")+0.00000001)","v":0},null,{"$f":"SUM(M36:M43)/(COUNTIF(M36:M43,\">0\")+0.00000001)","v":0}]
[null,"identify presence of elevator"]
[null,"determine whether elevator door is open or closed"]
[null,"locate button to summon elevator"]
[null,"ask others if elevator is heading up or down if no signal"]
[null,"enter elevator, locate buttons to indicate desired floor"]
[null,"determine whether elevator is heading up or down"]
[null,"count beeps if floor is not announced"]
[null,"exit elevator and confirm floor number"]
["7. Moving Sidewalks",null,null,{"$f":"SUM(C45:C53)/(COUNTIF(C45:C53,\">0\")+0.00000001)","v":0},null,{"$f":"SUM(E45:E53)/(COUNTIF(E45:E53,\">0\")+0.00000001)","v":0},null,{"$f":"SUM(G45:G53)/(COUNTIF(G45:G53,\">0\")+0.00000001)","v":0},null,{"$f":"SUM(I45:I53)/(COUNTIF(I45:I53,\">0\")+0.00000001)","v":0},null,{"$f":"SUM(K45:K53)/(COUNTIF(K45:K53,\">0\")+0.00000001)","v":0},null,{"$f":"SUM(M45:M53)/(COUNTIF(M45:M53,\">0\")+0.00000001)","v":0}]
[null,"identify presence of moving sidewalk"]
[null,"determine if at entry or exit of moving sidewalk (handrail moves toward traveler if at exit and away from traveler if at entry) "]
[null,"\"A\" anchor cane at edge of moving sidewalk "]
[null,"\"B\" bring toes up to edge of moving sidewalk"]
[null,"\"C\" clear to confirm width of moving sidewalk"]
[null,"\"D\" diagonal angle of cane across body"]
[null,"hold rail with free hand"]
[null,"\"E\" end is reached when cane hits exit ramp and slides over ramp or is pushed back towards the traveler"]
[null,"clear ramp quickly and re-establish orientation"]
["8. Turnstiles",null,null,{"$f":"SUM(C55:C59)/(COUNTIF(C55:C59,\">0\")+0.00000001)","v":0},null,{"$f":"SUM(E55:E59)/(COUNTIF(E55:E59,\">0\")+0.00000001)","v":0},null,{"$f":"SUM(G55:G59)/(COUNTIF(G55:G59,\">0\")+0.00000001)","v":0},null,{"$f":"SUM(I55:I59)/(COUNTIF(I55:I59,\">0\")+0.00000001)","v":0},null,{"$f":"SUM(K55:K59)/(COUNTIF(K55:K59,\">0\")+0.00000001)","v":0},null,{"$f":"SUM(M55:M59)/(COUNTIF(M55:M59,\">0\")+0.00000001)","v":0}]
[null,"determine presence of turnstile "]
[null,"locate entry to turnstile"]
[null,"locate payment slot (if present)"]
[null,"press through turnstile"]
[null,"clear turnstile exit quickly and re-establish orientation"]
[null,"raw score for domain",null,{"$f":"D3+D6+D9+D15+D23+D35+D44+D54","v":0},null,{"$f":"F3+F6+F9+F15+F23+F35+F44+F54","v":0},null,{"$f":"H3+H6+H9+H15+H23+H35+H44+H54","v":0},null,{"$f":"J3+J6+J9+J15+J23+J35+J44+J54","v":0},null,{"$f":"L3+L6+L9+L15+L23+L35+L44+L54","v":0},null,{"$f":"N3+N6+N9+N15+N23+N35+N44+N54","v":0}]
[null,"average score for domain",null,{"$f":"D60/(COUNTIF(D3:D59,\">0\")+0.00000001)","v":0},null,{"$f":"F60/(COUNTIF(F3:F59,\">0\")+0.00000001)","v":0},null,{"$f":"H60/(COUNTIF(H3:H59,\">0\")+0.00000001)","v":0},null,{"$f":"J60/(COUNTIF(J3:J59,\">0\")+0.00000001)","v":0},null,{"$f":"L60/(COUNTIF(L3:L59,\">0\")+0.00000001)","v":0},null,{"$f":"N60/(COUNTIF(N3:N59,\">0\")+0.00000001)","v":0}]
[null,"percentage score for domain",null,{"$f":"D61/5*100","v":0},null,{"$f":"F61/5*100","v":0},null,{"$f":"H61/5*100","v":0},null,{"$f":"J61/5*100","v":0},null,{"$f":"L61/5*100","v":0},null,{"$f":"N61/5*100","v":0}]
["RATING SCALE"]
["0 = Student not capable of demonstrating skill or does not need skill"]
["1 = Student does not demonstrate skill but may/will learn skill"]
["2 = Student only demonstrates skill with verbal and/or physical prompting"]
["3 = Student sometimes demonstrates skill without verbal and/or physical prompting"]
["4 = Student demonstrates skill and verbal and/or physical prompting are rarely needed"]
["5 = Student has totally mastered skill and does not require verbal and/or physical prompting"]
["INDOOR O&M (2nd Data Set--Last 6 Columns On Front Page)",null,{"$f":"Front!H1","v":"Date"},null,{"$f":"Front!I1","v":"Date"},null,{"$f":"Front!J1","v":"Date"},null,{"$f":"Front!K1","v":"Date"},null,{"$f":"Front!L1","v":"Date"},null,{"$f":"Front!M1","v":"Date"},null,"notes"]
[null,null,"Input\nData","Auto\nScore","Input\nData","Auto\nScore","Input\nData","Auto\nScore","Input\nData","Auto\nScore","Input\nData","Auto\nScore","Input\nData","Auto\nScore"]
["1. Hand Trailing",null,null,{"$f":"SUM(C73:C74)/(COUNTIF(C73:C74,\">0\")+0.00000001)","v":0},null,{"$f":"SUM(E73:E74)/(COUNTIF(E73:E74,\">0\")+0.00000001)","v":0},null,{"$f":"SUM(G73:G74)/(COUNTIF(G73:G74,\">0\")+0.00000001)","v":0},null,{"$f":"SUM(I73:I74)/(COUNTIF(I73:I74,\">0\")+0.00000001)","v":0},null,{"$f":"SUM(K73:K74)/(COUNTIF(K73:K74,\">0\")+0.00000001)","v":0},null,{"$f":"SUM(M73:M74)/(COUNTIF(M73:M74,\">0\")+0.00000001)","v":0}]
[null,"walk along wall, arm trailing wall bent 45 degrees, only the pinky contacting the wall, hand relaxed with fingers dangling"]
[null,"detect doorway, break contact with wall, pass door using clues and time/distance, re-establish contact with wall and continue"]
["2. Navigating Open Spaces",null,null,{"$f":"SUM(C76:C77)/(COUNTIF(C76:C77,\">0\")+0.00000001)","v":0},null,{"$f":"SUM(E76:E77)/(COUNTIF(E76:E77,\">0\")+0.00000001)","v":0},null,{"$f":"SUM(G76:G77)/(COUNTIF(G76:G77,\">0\")+0.00000001)","v":0},null,{"$f":"SUM(I76:I77)/(COUNTIF(I76:I77,\">0\")+0.00000001)","v":0},null,{"$f":"SUM(K76:K77)/(COUNTIF(K76:K77,\">0\")+0.00000001)","v":0},null,{"$f":"SUM(M76:M77)/(COUNTIF(M76:M77,\">0\")+0.00000001)","v":0}]
[null,"demonstrate direction taking by aligning 2 or more body parts with desired Line Of Travel (L.O.T.) and projecting straight line"]
[null,"demonstrate squaring off by putting back, shoulders and back of legs against wall and moving directly away from it"]
["3. Doors",null,null,{"$f":"SUM(C79:C83)/(COUNTIF(C79:C83,\">0\")+0.00000001)","v":0},null,{"$f":"SUM(E79:E83)/(COUNTIF(E79:E83,\">0\")+0.00000001)","v":0},null,{"$f":"SUM(G79:G83)/(COUNTIF(G79:G83,\">0\")+0.00000001)","v":0},null,{"$f":"SUM(I79:I83)/(COUNTIF(I79:I83,\">0\")+0.00000001)","v":0},null,{"$f":"SUM(K79:K83)/(COUNTIF(K79:K83,\">0\")+0.00000001)","v":0},null,{"$f":"SUM(M79:M83)/(COUNTIF(M79:M83,\">0\")+0.00000001)","v":0}]
[null,"identify presence of door"]
[null,"identify type of door (push, pull, slide, revolving, single, double) via physical contact, auditory clues, general knowledge of types of doors found in particular buildings (e.g. most doors swing into the room, grocery stores typically have powered sliding doors)"]
[null,"demonstrate ability to identify push/pull door, locate handle, open door and step through single or double doors"]
[null,"demonstrate ability to identify sliding door, whether door is manual or powered, open door if manual, step through"]
[null,"demonstrate ability to identify revolving door, locate entrance to revolving door housing via clues or surface change (e.g. carpet to tile or concrete), determine if door is in motion or still, use free hand to locate door and time entry into revolving door, use elbow or free hand to trail rounded outside edge of door housing, turn and quickly exit door"]
["4. Stairs (Ascending and Descending)",null,null,{"$f":"SUM(C85:C91)/(COUNTIF(C85:C91,\">0\")+0.00000001)","v":0},null,{"$f":"SUM(E85:E91)/(COUNTIF(E85:E91,\">0\")+0.00000001)","v":0},null,{"$f":"SUM(G85:G91)/(COUNTIF(G85:G91,\">0\")+0.00000001)","v":0},null,{"$f":"SUM(I85:I91)/(COUNTIF(I85:I91,\">0\")+0.00000001)","v":0},null,{"$f":"SUM(K85:K91)/(COUNTIF(K85:K91,\">0\")+0.00000001)","v":0},null,{"$f":"SUM(M85:M91)/(COUNTIF(M85:M91,\">0\")+0.00000001)","v":0}]
[null,"detect presence of stairs"]
[null,"locate and use rail if convenient"]
[null,"\"A\" anchor cane at base of stairs"]
[null,"\"B\" bring toes up to edge of stairs"]
[null,"\"C\" clear to ensure nothing on stair and confirm width of stair"]
[null,"\"D\" diagonal angle of cane across body with the cane tip on the second stair, elbow locked and pressure exerted to cane ascends one stair for each step taken (cane and feet never on same step) OR  \"D\" diagonal angle of cane across body when descending with the cane tip on the second stair, cane either slides down each step or is tapped if stair surface doesn’t allow cane to slide"]
[null,"\"E\" end of staircase reached by cane tip causes cane to swing freely instead of hitting next step alerting ascending traveler end of stair case is imminent OR \"E\" end of staircase reached by cane tip causes cane angle to flatten out alerting descending traveler end of stair case is imminent"]
["5. Escalators (Ascending and descending)",null,null,{"$f":"SUM(C93:C103)/(COUNTIF(C93:C103,\">0\")+0.00000001)","v":0},null,{"$f":"SUM(E93:E103)/(COUNTIF(E93:E103,\">0\")+0.00000001)","v":0},null,{"$f":"SUM(G93:G103)/(COUNTIF(G93:G103,\">0\")+0.00000001)","v":0},null,{"$f":"SUM(I93:I103)/(COUNTIF(I93:I103,\">0\")+0.00000001)","v":0},null,{"$f":"SUM(K93:K103)/(COUNTIF(K93:K103,\">0\")+0.00000001)","v":0},null,{"$f":"SUM(M93:M103)/(COUNTIF(M93:M103,\">0\")+0.00000001)","v":0}]
[null,"identify presence of escalator"]
[null,"determine if at entry or exit of escalator (handrail moves toward traveler if at exit and away from traveler if at entry)"]
[null,"determine whether escalator ascends or descends"]
[null,"\"A\" anchor cane at edge of stairs of escalator "]
[null,"\"B\" bring toes up to edge of stairs"]
[null,"\"C\" clear to confirm width of stair"]
[null,"extend cane, step when cane 'drops off' (ascending) or 'kicks up' (descending)"]
[null,"hold rail with free hand"]
[null,"\"D\" diagonal angle of cane across body with the cane tip on the next stair"]
[null,"\"E\" end is reached when angle flattens out, hits edge of ramp or is pushed back towards traveler, lift cane and step onto ramp"]
[null,"clear ramp quickly and re-establish orientation"]
["6. Elevators",null,null,{"$f":"SUM(C105:C112)/(COUNTIF(C105:C112,\">0\")+0.00000001)","v":0},null,{"$f":"SUM(E105:E112)/(COUNTIF(E105:E112,\">0\")+0.00000001)","v":0},null,{"$f":"SUM(G105:G112)/(COUNTIF(G105:G112,\">0\")+0.00000001)","v":0},null,{"$f":"SUM(I105:I112)/(COUNTIF(I105:I112,\">0\")+0.00000001)","v":0},null,{"$f":"SUM(K105:K112)/(COUNTIF(K105:K112,\">0\")+0.00000001)","v":0},null,{"$f":"SUM(M105:M112)/(COUNTIF(M105:M112,\">0\")+0.00000001)","v":0}]
[null,"identify presence of elevator"]
[null,"determine whether elevator door is open or closed"]
[null,"locate button to summon elevator"]
[null,"ask others if elevator is heading up or down if no signal"]
[null,"enter elevator, locate buttons to indicate desired floor"]
[null,"determine whether elevator is heading up or down"]
[null,"count beeps if floor is not announced"]
[null,"exit elevator and confirm floor number"]
["7. Moving Sidewalks",null,null,{"$f":"SUM(C114:C122)/(COUNTIF(C114:C122,\">0\")+0.00000001)","v":0},null,{"$f":"SUM(E114:E122)/(COUNTIF(E114:E122,\">0\")+0.00000001)","v":0},null,{"$f":"SUM(G114:G122)/(COUNTIF(G114:G122,\">0\")+0.00000001)","v":0},null,{"$f":"SUM(I114:I122)/(COUNTIF(I114:I122,\">0\")+0.00000001)","v":0},null,{"$f":"SUM(K114:K122)/(COUNTIF(K114:K122,\">0\")+0.00000001)","v":0},null,{"$f":"SUM(M114:M122)/(COUNTIF(M114:M122,\">0\")+0.00000001)","v":0}]
[null,"identify presence of moving sidewalk"]
[null,"determine if at entry or exit of moving sidewalk (handrail moves toward traveler if at exit and away from traveler if at entry) "]
[null,"\"A\" anchor cane at edge of moving sidewalk "]
[null,"\"B\" bring toes up to edge of moving sidewalk"]
[null,"\"C\" clear to confirm width of moving sidewalk"]
[null,"\"D\" diagonal angle of cane across body"]
[null,"hold rail with free hand"]
[null,"\"E\" end is reached when cane hits exit ramp and slides over ramp or is pushed back towards the traveler"]
[null,"clear ramp quickly and re-establish orientation"]
["8. Turnstiles",null,null,{"$f":"SUM(C124:C128)/(COUNTIF(C124:C128,\">0\")+0.00000001)","v":0},null,{"$f":"SUM(E124:E128)/(COUNTIF(E124:E128,\">0\")+0.00000001)","v":0},null,{"$f":"SUM(G124:G128)/(COUNTIF(G124:G128,\">0\")+0.00000001)","v":0},null,{"$f":"SUM(I124:I128)/(COUNTIF(I124:I128,\">0\")+0.00000001)","v":0},null,{"$f":"SUM(K124:K128)/(COUNTIF(K124:K128,\">0\")+0.00000001)","v":0},null,{"$f":"SUM(M124:M128)/(COUNTIF(M124:M128,\">0\")+0.00000001)","v":0}]
[null,"determine presence of turnstile "]
[null,"locate entry to turnstile"]
[null,"locate payment slot (if present)"]
[null,"press through turnstile"]
[null,"clear turnstile exit quickly and re-establish orientation"]
[null,"raw score for domain",null,{"$f":"D72+D75+D78+D84+D92+D104+D113+D123","v":0},null,{"$f":"F72+F75+F78+F84+F92+F104+F113+F123","v":0},null,{"$f":"H72+H75+H78+H84+H92+H104+H113+H123","v":0},null,{"$f":"J72+J75+J78+J84+J92+J104+J113+J123","v":0},null,{"$f":"L72+L75+L78+L84+L92+L104+L113+L123","v":0},null,{"$f":"N72+N75+N78+N84+N92+N104+N113+N123","v":0}]
[null,"average score for domain",null,{"$f":"D129/(COUNTIF(D72:D128,\">0\")+0.00000001)","v":0},null,{"$f":"F129/(COUNTIF(F72:F128,\">0\")+0.00000001)","v":0},null,{"$f":"H129/(COUNTIF(H72:H128,\">0\")+0.00000001)","v":0},null,{"$f":"J129/(COUNTIF(J72:J128,\">0\")+0.00000001)","v":0},null,{"$f":"L129/(COUNTIF(L72:L128,\">0\")+0.00000001)","v":0},null,{"$f":"N129/(COUNTIF(N72:N128,\">0\")+0.00000001)","v":0}]
[null,"percentage score for domain",null,{"$f":"D130/5*100","v":0},null,{"$f":"F130/5*100","v":0},null,{"$f":"H130/5*100","v":0},null,{"$f":"J130/5*100","v":0},null,{"$f":"L130/5*100","v":0},null,{"$f":"N130/5*100","v":0}]
["RATING SCALE"]
["0 = Student not capable of demonstrating skill or does not need skill"]
["1 = Student does not demonstrate skill but may/will learn skill"]
["2 = Student only demonstrates skill with verbal and/or physical prompting"]
["3 = Student sometimes demonstrates skill without verbal and/or physical prompting"]
["4 = Student demonstrates skill and verbal and/or physical prompting are rarely needed"]
["5 = Student has totally mastered skill and does not require verbal and/or physical prompting"]

{"sheet":"SelfPro","index":5,"n_rows":53,"n_cols":15,"rows_kept":53,"cut":false,"hidden":false,"merged":[[26,12,26,13],[0,2,0,3],[0,4,0,5],[0,6,0,7],[0,8,0,9],[0,10,0,11],[0,12,0,13],[26,2,26,3],[26,4,26,5],[26,6,26,7],[26,8,26,9],[26,10,26,11]]}
["SELF PROTECTION (1st Data Set--First 6 Columns On Front Page)",null,{"$f":"Front!B1","v":"Date"},null,{"$f":"Front!C1","v":"Date"},null,{"$f":"Front!D1","v":"Date"},null,{"$f":"Front!E1","v":"Date"},null,{"$f":"Front!F1","v":"Date"},null,{"$f":"Front!G1","v":"Date"},null,"notes"]
[null,null,"Input\nData","Auto\nScore","Input\nData","Auto\nScore","Input\nData","Auto\nScore","Input\nData","Auto\nScore","Input\nData","Auto\nScore","Input\nData","Auto\nScore"]
["1. Upper Hand Protective Technique",null,null,{"$f":"SUM(C4:C7)/(COUNTIF(C4:C7,\">0\")+0.00000001)","v":0},null,{"$f":"SUM(E4:E7)/(COUNTIF(E4:E7,\">0\")+0.00000001)","v":0},null,{"$f":"SUM(G4:G7)/(COUNTIF(G4:G7,\">0\")+0.00000001)","v":0},null,{"$f":"SUM(I4:I7)/(COUNTIF(I4:I7,\">0\")+0.00000001)","v":0},null,{"$f":"SUM(K4:K7)/(COUNTIF(K4:K7,\">0\")+0.00000001)","v":0},null,{"$f":"SUM(M4:M7)/(COUNTIF(M4:M7,\">0\")+0.00000001)","v":0}]
[null,"arm held just above shoulder level, parallel to ground"]
[null,"elbow bent about 120 degrees away from body"]
[null,"hand turned out and fingers relaxed"]
[null,"identify times when upper hand might be needed"]
["2. Lower Forearm Protective Technique",null,null,{"$f":"SUM(C9:C11)/(COUNTIF(C9:C11,\">0\")+0.00000001)","v":0},null,{"$f":"SUM(E9:E11)/(COUNTIF(E9:E11,\">0\")+0.00000001)","v":0},null,{"$f":"SUM(G9:G11)/(COUNTIF(G9:G11,\">0\")+0.00000001)","v":0},null,{"$f":"SUM(I9:I11)/(COUNTIF(I9:I11,\">0\")+0.00000001)","v":0},null,{"$f":"SUM(K9:K11)/(COUNTIF(K9:K11,\">0\")+0.00000001)","v":0},null,{"$f":"SUM(M9:M11)/(COUNTIF(M9:M11,\">0\")+0.00000001)","v":0}]
[null,"arm held at midline, elbow straight but not locked"]
[null,"arm held about a foot in front of body, hand relaxed"]
[null,"identify times when lower forearm protective technique might be needed"]
["3. Protective Clothing",null,null,{"$f":"SUM(C13:C16)/(COUNTIF(C13:C16,\">0\")+0.00000001)","v":0},null,{"$f":"SUM(E13:E16)/(COUNTIF(E13:E16,\">0\")+0.00000001)","v":0},null,{"$f":"SUM(G13:G16)/(COUNTIF(G13:G16,\">0\")+0.00000001)","v":0},null,{"$f":"SUM(I13:I16)/(COUNTIF(I13:I16,\">0\")+0.00000001)","v":0},null,{"$f":"SUM(K13:K16)/(COUNTIF(K13:K16,\">0\")+0.00000001)","v":0},null,{"$f":"SUM(M13:M16)/(COUNTIF(M13:M16,\">0\")+0.00000001)","v":0}]
[null,"dress for the weather"]
[null,"wear hat with 3\" brim to protect against branches"]
[null,"wear sunglasses to protect against branches "]
[null,"identify need for light/reflective clothing at night"]
[null,"raw score for domain",null,{"$f":"D3+D8+D12","v":0},null,{"$f":"F3+F8+F12","v":0},null,{"$f":"H3+H8+H12","v":0},null,{"$f":"J3+J8+J12","v":0},null,{"$f":"L3+L8+L12","v":0},null,{"$f":"N3+N8+N12","v":0}]
[null,"average score for domain",null,{"$f":"D17/(COUNTIF(D3:D16,\">0\")+0.00000001)","v":0},null,{"$f":"F17/(COUNTIF(F3:F16,\">0\")+0.00000001)","v":0},null,{"$f":"H17/(COUNTIF(H3:H16,\">0\")+0.00000001)","v":0},null,{"$f":"J17/(COUNTIF(J3:J16,\">0\")+0.00000001)","v":0},null,{"$f":"L17/(COUNTIF(L3:L16,\">0\")+0.00000001)","v":0},null,{"$f":"N17/(COUNTIF(N3:N16,\">0\")+0.00000001)","v":0}]
[null,"percentage score for domain",null,{"$f":"D18/5*100","v":0},null,{"$f":"F18/5*100","v":0},null,{"$f":"H18/5*100","v":0},null,{"$f":"J18/5*100","v":0},null,{"$f":"L18/5*100","v":0},null,{"$f":"N18/5*100","v":0}]
["RATING SCALE"]
["0 = Student not capable of demonstrating skill or does not need skill"]
["1 = Student does not demonstrate skill but may/will learn skill"]
["2 = Student only demonstrates skill with verbal and/or physical prompting"]
["3 = Student sometimes demonstrates skill without verbal and/or physical prompting"]
["4 = Student demonstrates skill and verbal and/or physical prompting are rarely needed"]
["5 = Student has totally mastered skill and does not require verbal and/or physical prompting"]
["SELF PROTECTION (2nd Data Set--Last 6 Columns On Front Page)",null,{"$f":"Front!H1","v":"Date"},null,{"$f":"Front!I1","v":"Date"},null,{"$f":"Front!J1","v":"Date"},null,{"$f":"Front!K1","v":"Date"},null,{"$f":"Front!L1","v":"Date"},null,{"$f":"Front!M1","v":"Date"},null,"notes"]
[null,null,"Input\nData","Auto\nScore","Input\nData","Auto\nScore","Input\nData","Auto\nScore","Input\nData","Auto\nScore","Input\nData","Auto\nScore","Input\nData","Auto\nScore"]
["1. Upper Hand Protective Technique",null,null,{"$f":"SUM(C30:C33)/(COUNTIF(C30:C33,\">0\")+0.00000001)","v":0},null,{"$f":"SUM(E30:E33)/(COUNTIF(E30:E33,\">0\")+0.00000001)","v":0},null,{"$f":"SUM(G30:G33)/(COUNTIF(G30:G33,\">0\")+0.00000001)","v":0},null,{"$f":"SUM(I30:I33)/(COUNTIF(I30:I33,\">0\")+0.00000001)","v":0},null,{"$f":"SUM(K30:K33)/(COUNTIF(K30:K33,\">0\")+0.00000001)","v":0},null,{"$f":"SUM(M30:M33)/(COUNTIF(M30:M33,\">0\")+0.00000001)","v":0}]
[null,"arm held just above shoulder level, parallel to ground"]
[null,"elbow bent about 120 degrees away from body"]
[null,"hand turned out and fingers relaxed"]
[null,"identify times when upper hand might be needed"]
["2. Lower Forearm Protective Technique",null,null,{"$f":"SUM(C35:C37)/(COUNTIF(C35:C37,\">0\")+0.00000001)","v":0},null,{"$f":"SUM(E35:E37)/(COUNTIF(E35:E37,\">0\")+0.00000001)","v":0},null,{"$f":"SUM(G35:G37)/(COUNTIF(G35:G37,\">0\")+0.00000001)","v":0},null,{"$f":"SUM(I35:I37)/(COUNTIF(I35:I37,\">0\")+0.00000001)","v":0},null,{"$f":"SUM(K35:K37)/(COUNTIF(K35:K37,\">0\")+0.00000001)","v":0},null,{"$f":"SUM(M35:M37)/(COUNTIF(M35:M37,\">0\")+0.00000001)","v":0}]
[null,"arm held at midline, elbow straight but not locked"]
[null,"arm held about a foot in front of body, hand relaxed"]
[null,"identify times when lower forearm protective technique might be needed"]
["3. Protective Clothing",null,null,{"$f":"SUM(C39:C42)/(COUNTIF(C39:C42,\">0\")+0.00000001)","v":0},null,{"$f":"SUM(E39:E42)/(COUNTIF(E39:E42,\">0\")+0.00000001)","v":0},null,{"$f":"SUM(G39:G42)/(COUNTIF(G39:G42,\">0\")+0.00000001)","v":0},null,{"$f":"SUM(I39:I42)/(COUNTIF(I39:I42,\">0\")+0.00000001)","v":0},null,{"$f":"SUM(K39:K42)/(COUNTIF(K39:K42,\">0\")+0.00000001)","v":0},null,{"$f":"SUM(M39:M42)/(COUNTIF(M39:M42,\">0\")+0.00000001)","v":0}]
[null,"dress for the weather"]
[null,"wear hat with 3\" brim to protect against branches"]
[null,"wear sunglasses to protect against branches "]
[null,"identify need for light/reflective clothing at night"]
[null,"raw score for domain",null,{"$f":"D29+D34+D38","v":0},null,{"$f":"F29+F34+F38","v":0},null,{"$f":"H29+H34+H38","v":0},null,{"$f":"J29+J34+J38","v":0},null,{"$f":"L29+L34+L38","v":0},null,{"$f":"N29+N34+N38","v":0}]
[null,"average score for domain",null,{"$f":"D43/(COUNTIF(D29:D42,\">0\")+0.00000001)","v":0},null,{"$f":"F43/(COUNTIF(F29:F42,\">0\")+0.00000001)","v":0},null,{"$f":"H43/(COUNTIF(H29:H42,\">0\")+0.00000001)","v":0},null,{"$f":"J43/(COUNTIF(J29:J42,\">0\")+0.00000001)","v":0},null,{"$f":"L43/(COUNTIF(L29:L42,\">0\")+0.00000001)","v":0},null,{"$f":"N43/(COUNTIF(N29:N42,\">0\")+0.00000001)","v":0}]
[null,"percentage score for domain",null,{"$f":"D44/5*100","v":0},null,{"$f":"F44/5*100","v":0},null,{"$f":"H44/5*100","v":0},null,{"$f":"J44/5*100","v":0},null,{"$f":"L44/5*100","v":0},null,{"$f":"N44/5*100","v":0}]
["RATING SCALE"]
["0 = Student not capable of demonstrating skill or does not need skill"]
["1 = Student does not demonstrate skill but may/will learn skill"]
["2 = Student only demonstrates skill with verbal and/or physical prompting"]
["3 = Student sometimes demonstrates skill without verbal and/or physical prompting"]
["4 = Student demonstrates skill and verbal and/or physical prompting are rarely needed"]
["5 = Student has totally mastered skill and does not require verbal and/or physical prompting"]
["5 = Student has totally mastered skill and does not require verbal and/or physical prompting"]

{"sheet":"Guided","index":6,"n_rows":72,"n_cols":15,"rows_kept":72,"cut":false,"hidden":false,"merged":[[36,10,36,11],[36,12,36,13],[0,2,0,3],[36,2,36,3],[36,4,36,5],[36,6,36,7],[36,8,36,9],[0,12,0,13],[0,10,0,11],[0,8,0,9],[0,6,0,7],[0,4,0,5]]}
["GUIDED SKILLS (1st Data Set--First 6 Columns On Front Page)",null,{"$f":"Front!B1","v":"Date"},null,{"$f":"Front!C1","v":"Date"},null,{"$f":"Front!D1","v":"Date"},null,{"$f":"Front!E1","v":"Date"},null,{"$f":"Front!F1","v":"Date"},null,{"$f":"Front!G1","v":"Date"},null,"notes"]
[null,null,"Input\nData","Auto\nScore","Input\nData","Auto\nScore","Input\nData","Auto\nScore","Input\nData","Auto\nScore","Input\nData","Auto\nScore","Input\nData","Auto\nScore"]
["1. Human Guide",null,null,{"$f":"SUM(C4:C10)/(COUNTIF(C4:C10,\">0\")+0.00000001)","v":0},null,{"$f":"SUM(E4:E10)/(COUNTIF(E4:E10,\">0\")+0.00000001)","v":0},null,{"$f":"SUM(G4:G10)/(COUNTIF(G4:G10,\">0\")+0.00000001)","v":0},null,{"$f":"SUM(I4:I10)/(COUNTIF(I4:I10,\">0\")+0.00000001)","v":0},null,{"$f":"SUM(K4:K10)/(COUNTIF(K4:K10,\">0\")+0.00000001)","v":0},null,{"$f":"SUM(M4:M10)/(COUNTIF(M4:M10,\">0\")+0.00000001)","v":0}]
[null,"appropriately solicit or decline human guide"]
[null,"find area just above elbow without groping guide"]
[null,"attain 'C' grip and maintain sufficient pressure to hold arm"]
[null,"walk with shoulder behind guide's shoulder"]
[null,"walk half step behind guide "]
[null,"move behind guide when guide moves arm to his/her back"]
[null,"react to changes in the height of the guide's elbow (e.g. guide elbow lowering indicates step, drop off or slope)"]
["2. Walking With Another (No Direct Contact)",null,null,{"$f":"SUM(C12:C15)/(COUNTIF(C12:C15,\">0\")+0.00000001)","v":0},null,{"$f":"SUM(E12:E15)/(COUNTIF(E12:E15,\">0\")+0.00000001)","v":0},null,{"$f":"SUM(G12:G15)/(COUNTIF(G12:G15,\">0\")+0.00000001)","v":0},null,{"$f":"SUM(I12:I15)/(COUNTIF(I12:I15,\">0\")+0.00000001)","v":0},null,{"$f":"SUM(K12:K15)/(COUNTIF(K12:K15,\">0\")+0.00000001)","v":0},null,{"$f":"SUM(M12:M15)/(COUNTIF(M12:M15,\">0\")+0.00000001)","v":0}]
[null,"maintain same pace as other person/people"]
[null,"stay with other person/people instead of trailing behind"]
[null,"maintain running conversation to keep track of pace and any turns other person/people make"]
[null,"in crowded areas or areas with lots of turns (e.g. stores) ask open ended questions to draw more verbosity from other(s) to keep track of other(s)"]
["3. Menus",null,null,{"$f":"SUM(C17:C19)/(COUNTIF(C17:C19,\">0\")+0.00000001)","v":0},null,{"$f":"SUM(E17:E19)/(COUNTIF(E17:E19,\">0\")+0.00000001)","v":0},null,{"$f":"SUM(G17:G19)/(COUNTIF(G17:G19,\">0\")+0.00000001)","v":0},null,{"$f":"SUM(I17:I19)/(COUNTIF(I17:I19,\">0\")+0.00000001)","v":0},null,{"$f":"SUM(K17:K19)/(COUNTIF(K17:K19,\">0\")+0.00000001)","v":0},null,{"$f":"SUM(M17:M19)/(COUNTIF(M17:M19,\">0\")+0.00000001)","v":0}]
[null,"check menu online before going out to eat"]
[null,"understand dining companions don't want to read entire menu aloud"]
[null,"ask about general menu categories and narrow selection"]
["4. Getting Rides",null,null,{"$f":"SUM(C21:C26)/(COUNTIF(C21:C26,\">0\")+0.00000001)","v":0},null,{"$f":"SUM(E21:E26)/(COUNTIF(E21:E26,\">0\")+0.00000001)","v":0},null,{"$f":"SUM(G21:G26)/(COUNTIF(G21:G26,\">0\")+0.00000001)","v":0},null,{"$f":"SUM(I21:I26)/(COUNTIF(I21:I26,\">0\")+0.00000001)","v":0},null,{"$f":"SUM(K21:K26)/(COUNTIF(K21:K26,\">0\")+0.00000001)","v":0},null,{"$f":"SUM(M21:M26)/(COUNTIF(M21:M26,\">0\")+0.00000001)","v":0}]
[null,"identify friends/family who are available to give rides"]
[null,"identify costs (e.g. gas, time, tolls) involved in giving rides"]
[null,"identify need to offer to help with driving expenses"]
[null,"understand some drivers will refuse cash"]
[null,"identify barter options (e.g. sit for their kids for rides)"]
[null,"identify need to synchronize schedule with drivers particularly when rides are needed with regularity"]
[null,"raw score for domain",null,{"$f":"D3+D11+D16+D20","v":0},null,{"$f":"F3+F11+F16+F20","v":0},null,{"$f":"H3+H11+H16+H20","v":0},null,{"$f":"J3+J11+J16+J20","v":0},null,{"$f":"L3+L11+L16+L20","v":0},null,{"$f":"N3+N11+N16+N20","v":0}]
[null,"average score for domain",null,{"$f":"D27/(COUNTIF(D3:D26,\">0\")+0.00000001)","v":0},null,{"$f":"F27/(COUNTIF(F3:F26,\">0\")+0.00000001)","v":0},null,{"$f":"H27/(COUNTIF(H3:H26,\">0\")+0.00000001)","v":0},null,{"$f":"J27/(COUNTIF(J3:J26,\">0\")+0.00000001)","v":0},null,{"$f":"L27/(COUNTIF(L3:L26,\">0\")+0.00000001)","v":0},null,{"$f":"N27/(COUNTIF(N3:N26,\">0\")+0.00000001)","v":0}]
[null,"percentage score for domain",null,{"$f":"D28/5*100","v":0},null,{"$f":"F28/5*100","v":0},null,{"$f":"H28/5*100","v":0},null,{"$f":"J28/5*100","v":0},null,{"$f":"L28/5*100","v":0},null,{"$f":"N28/5*100","v":0}]
["RATING SCALE"]
["0 = Student not capable of demonstrating skill or does not need skill"]
["1 = Student does not demonstrate skill but may/will learn skill"]
["2 = Student only demonstrates skill with verbal and/or physical prompting"]
["3 = Student sometimes demonstrates skill without verbal and/or physical prompting"]
["4 = Student demonstrates skill and verbal and/or physical prompting are rarely needed"]
["5 = Student has totally mastered skill and does not require verbal and/or physical prompting"]
["GUIDED SKILLS (2nd Data Set--Last 6 Columns On Front Page)",null,{"$f":"Front!H1","v":"Date"},null,{"$f":"Front!I1","v":"Date"},null,{"$f":"Front!J1","v":"Date"},null,{"$f":"Front!K1","v":"Date"},null,{"$f":"Front!L1","v":"Date"},null,{"$f":"Front!M1","v":"Date"},null,"notes"]
[null,null,"Input\nData","Auto\nScore","Input\nData","Auto\nScore","Input\nData","Auto\nScore","Input\nData","Auto\nScore","Input\nData","Auto\nScore","Input\nData","Auto\nScore"]
["1. Human Guide",null,null,{"$f":"SUM(C40:C46)/(COUNTIF(C40:C46,\">0\")+0.00000001)","v":0},null,{"$f":"SUM(E40:E46)/(COUNTIF(E40:E46,\">0\")+0.00000001)","v":0},null,{"$f":"SUM(G40:G46)/(COUNTIF(G40:G46,\">0\")+0.00000001)","v":0},null,{"$f":"SUM(I40:I46)/(COUNTIF(I40:I46,\">0\")+0.00000001)","v":0},null,{"$f":"SUM(K40:K46)/(COUNTIF(K40:K46,\">0\")+0.00000001)","v":0},null,{"$f":"SUM(M40:M46)/(COUNTIF(M40:M46,\">0\")+0.00000001)","v":0}]
[null,"appropriately solicit or decline human guide"]
[null,"find area just above elbow without groping guide"]
[null,"attain 'C' grip and maintain sufficient pressure to hold arm"]
[null,"walk with shoulder behind guide's shoulder"]
[null,"walk half step behind guide "]
[null,"move behind guide when guide moves arm to his/her back"]
[null,"react to changes in the height of the guide's elbow (e.g. guide elbow lowering indicates step, drop off or slope)"]
["2. Walking With Another (No Direct Contact)",null,null,{"$f":"SUM(C48:C51)/(COUNTIF(C48:C51,\">0\")+0.00000001)","v":0},null,{"$f":"SUM(E48:E51)/(COUNTIF(E48:E51,\">0\")+0.00000001)","v":0},null,{"$f":"SUM(G48:G51)/(COUNTIF(G48:G51,\">0\")+0.00000001)","v":0},null,{"$f":"SUM(I48:I51)/(COUNTIF(I48:I51,\">0\")+0.00000001)","v":0},null,{"$f":"SUM(K48:K51)/(COUNTIF(K48:K51,\">0\")+0.00000001)","v":0},null,{"$f":"SUM(M48:M51)/(COUNTIF(M48:M51,\">0\")+0.00000001)","v":0}]
[null,"maintain same pace as other person/people"]
[null,"stay with other person/people instead of trailing behind"]
[null,"maintain running conversation to keep track of pace and any turns other person/people make"]
[null,"in crowded areas or areas with lots of turns (e.g. stores) ask open ended questions to draw more verbosity from other(s) to keep track of other(s)"]
["3. Menus",null,null,{"$f":"SUM(C53:C55)/(COUNTIF(C53:C55,\">0\")+0.00000001)","v":0},null,{"$f":"SUM(E53:E55)/(COUNTIF(E53:E55,\">0\")+0.00000001)","v":0},null,{"$f":"SUM(G53:G55)/(COUNTIF(G53:G55,\">0\")+0.00000001)","v":0},null,{"$f":"SUM(I53:I55)/(COUNTIF(I53:I55,\">0\")+0.00000001)","v":0},null,{"$f":"SUM(K53:K55)/(COUNTIF(K53:K55,\">0\")+0.00000001)","v":0},null,{"$f":"SUM(M53:M55)/(COUNTIF(M53:M55,\">0\")+0.00000001)","v":0}]
[null,"check menu online before going out to eat"]
[null,"understand dining companions don't want to read entire menu aloud"]
[null,"ask about general menu categories and narrow selection"]
["4. Getting Rides",null,null,{"$f":"SUM(C57:C62)/(COUNTIF(C57:C62,\">0\")+0.00000001)","v":0},null,{"$f":"SUM(E57:E62)/(COUNTIF(E57:E62,\">0\")+0.00000001)","v":0},null,{"$f":"SUM(G57:G62)/(COUNTIF(G57:G62,\">0\")+0.00000001)","v":0},null,{"$f":"SUM(I57:I62)/(COUNTIF(I57:I62,\">0\")+0.00000001)","v":0},null,{"$f":"SUM(K57:K62)/(COUNTIF(K57:K62,\">0\")+0.00000001)","v":0},null,{"$f":"SUM(M57:M62)/(COUNTIF(M57:M62,\">0\")+0.00000001)","v":0}]
[null,"identify friends/family who are available to give rides"]
[null,"identify costs (e.g. gas, time, tolls) involved in giving rides"]
[null,"identify need to offer to help with driving expenses"]
[null,"understand some drivers will refuse cash"]
[null,"identify barter options (e.g. sit for their kids for rides)"]
[null,"identify need to synchronize schedule with drivers particularly when rides are needed with regularity"]
[null,"raw score for domain",null,{"$f":"D39+D47+D52+D56","v":0},null,{"$f":"F39+F47+F52+F56","v":0},null,{"$f":"H39+H47+H52+H56","v":0},null,{"$f":"J39+J47+J52+J56","v":0},null,{"$f":"L39+L47+L52+L56","v":0},null,{"$f":"N39+N47+N52+N56","v":0}]
[null,"average score for domain",null,{"$f":"D63/(COUNTIF(D39:D62,\">0\")+0.00000001)","v":0},null,{"$f":"F63/(COUNTIF(F39:F62,\">0\")+0.00000001)","v":0},null,{"$f":"H63/(COUNTIF(H39:H62,\">0\")+0.00000001)","v":0},null,{"$f":"J63/(COUNTIF(J39:J62,\">0\")+0.00000001)","v":0},null,{"$f":"L63/(COUNTIF(L39:L62,\">0\")+0.00000001)","v":0},null,{"$f":"N63/(COUNTIF(N39:N62,\">0\")+0.00000001)","v":0}]
[null,"percentage score for domain",null,{"$f":"D64/5*100","v":0},null,{"$f":"F64/5*100","v":0},null,{"$f":"H64/5*100","v":0},null,{"$f":"J64/5*100","v":0},null,{"$f":"L64/5*100","v":0},null,{"$f":"N64/5*100","v":0}]
["RATING SCALE"]
["0 = Student not capable of demonstrating skill or does not need skill"]
["1 = Student does not demonstrate skill but may/will learn skill"]
["2 = Student only demonstrates skill with verbal and/or physical prompting"]
["3 = Student sometimes demonstrates skill without verbal and/or physical prompting"]
["4 = Student demonstrates skill and verbal and/or physical prompting are rarely needed"]
["5 = Student has totally mastered skill and does not require verbal and/or physical prompting"]

{"sheet":"Cane","index":7,"n_rows":116,"n_cols":15,"rows_kept":116,"cut":false,"hidden":false,"merged":[[58,10,58,11],[58,12,58,13],[0,2,0,3],[58,2,58,3],[58,4,58,5],[58,6,58,7],[58,8,58,9],[0,12,0,13],[0,10,0,11],[0,8,0,9],[0,6,0,7],[0,4,0,5]]}
["CANE SKILLS (1st Data Set--First 6 Columns On Front Page)",null,{"$f":"Front!B1","v":"Date"},null,{"$f":"Front!C1","v":"Date"},null,{"$f":"Front!D1","v":"Date"},null,{"$f":"Front!E1","v":"Date"},null,{"$f":"Front!F1","v":"Date"},null,{"$f":"Front!G1","v":"Date"},null,"notes"]
[null,null,"Input\nData","Auto\nScore","Input\nData","Auto\nScore","Input\nData","Auto\nScore","Input\nData","Auto\nScore","Input\nData","Auto\nScore","Input\nData","Auto\nScore"]
["1. Basic Skills",null,null,{"$f":"SUM(C4:C9)/(COUNTIF(C4:C9,\">0\")+0.00000001)","v":0},null,{"$f":"SUM(E4:E9)/(COUNTIF(E4:E9,\">0\")+0.00000001)","v":0},null,{"$f":"SUM(G4:G9)/(COUNTIF(G4:G9,\">0\")+0.00000001)","v":0},null,{"$f":"SUM(I4:I9)/(COUNTIF(I4:I9,\">0\")+0.00000001)","v":0},null,{"$f":"SUM(K4:K9)/(COUNTIF(K4:K9,\">0\")+0.00000001)","v":0},null,{"$f":"SUM(M4:M9)/(COUNTIF(M4:M9,\">0\")+0.00000001)","v":0}]
[null,"grasp cane handle firmly enough to keep from dropping"]
[null,"maintain grip on cane while walking"]
[null,"maintain grip when cane encounters object"]
[null,"identify when cane has contacted object"]
[null,"identify when cane has encountered drop off or curb"]
[null,"identify when cane has encountered change in terrain"]
["2. Types Of Grips",null,null,{"$f":"SUM(C11:C15)/(COUNTIF(C11:C15,\">0\")+0.00000001)","v":0},null,{"$f":"SUM(E11:E15)/(COUNTIF(E11:E15,\">0\")+0.00000001)","v":0},null,{"$f":"SUM(G11:G15)/(COUNTIF(G11:G15,\">0\")+0.00000001)","v":0},null,{"$f":"SUM(I11:I15)/(COUNTIF(I11:I15,\">0\")+0.00000001)","v":0},null,{"$f":"SUM(K11:K15)/(COUNTIF(K11:K15,\">0\")+0.00000001)","v":0},null,{"$f":"SUM(M11:M15)/(COUNTIF(M11:M15,\">0\")+0.00000001)","v":0}]
[null,"demonstrate centered/above waist handshake grip"]
[null,"demonstrate centered pencil grip"]
[null,"demonstrate handshake grip held to the side near hip"]
[null,"identify benefits/limitations of each grip type"]
[null,"identify situations where various cane grips are beneficial"]
["3. Constant Contact",null,null,{"$f":"SUM(C17:C21)/(COUNTIF(C17:C21,\">0\")+0.00000001)","v":0},null,{"$f":"SUM(E17:E21)/(COUNTIF(E17:E21,\">0\")+0.00000001)","v":0},null,{"$f":"SUM(G17:G21)/(COUNTIF(G17:G21,\">0\")+0.00000001)","v":0},null,{"$f":"SUM(I17:I21)/(COUNTIF(I17:I21,\">0\")+0.00000001)","v":0},null,{"$f":"SUM(K17:K21)/(COUNTIF(K17:K21,\">0\")+0.00000001)","v":0},null,{"$f":"SUM(M17:M21)/(COUNTIF(M17:M21,\">0\")+0.00000001)","v":0}]
[null,"identify situations where constant contact is appropriate"]
[null,"keep cane in front of body at all times"]
[null,"keep cane on the ground at all times"]
[null,"move cane in a constant arc slightly wider than shoulders"]
[null,"remain 'in step' to maximize protection"]
["4. Diagonal/Diagonal Trail",null,null,{"$f":"SUM(C23:C27)/(COUNTIF(C23:C27,\">0\")+0.00000001)","v":0},null,{"$f":"SUM(E23:E27)/(COUNTIF(E23:E27,\">0\")+0.00000001)","v":0},null,{"$f":"SUM(G23:G27)/(COUNTIF(G23:G27,\">0\")+0.00000001)","v":0},null,{"$f":"SUM(I23:I27)/(COUNTIF(I23:I27,\">0\")+0.00000001)","v":0},null,{"$f":"SUM(K23:K27)/(COUNTIF(K23:K27,\">0\")+0.00000001)","v":0},null,{"$f":"SUM(M23:M27)/(COUNTIF(M23:M27,\">0\")+0.00000001)","v":0}]
[null,"identify situations where diagonal is appropriate"]
[null,"keep cane in front of body at all times"]
[null,"keep cane on the ground at all times"]
[null,"keep cane at diagonal across body, covering both shoulders"]
[null,"count doors/intersecting hallways when trailing"]
["5. Two Point Touch/Touch Trail",null,null,{"$f":"SUM(C29:C34)/(COUNTIF(C29:C34,\">0\")+0.00000001)","v":0},null,{"$f":"SUM(E29:E34)/(COUNTIF(E29:E34,\">0\")+0.00000001)","v":0},null,{"$f":"SUM(G29:G34)/(COUNTIF(G29:G34,\">0\")+0.00000001)","v":0},null,{"$f":"SUM(I29:I34)/(COUNTIF(I29:I34,\">0\")+0.00000001)","v":0},null,{"$f":"SUM(K29:K34)/(COUNTIF(K29:K34,\">0\")+0.00000001)","v":0},null,{"$f":"SUM(M29:M34)/(COUNTIF(M29:M34,\">0\")+0.00000001)","v":0}]
[null,"identify situations where two point touch is appropriate"]
[null,"keep cane in front of body at all times"]
[null,"lift cane slightly off ground, maintaining low arc"]
[null,"tap cane slightly outside of each shoulder (arc width)"]
[null,"when trailing, tap a bit farther to the side to locate intersecting sidewalk"]
[null,"remain 'in step' to maximize protection"]
["6. Touch And Drag",null,null,{"$f":"SUM(C36:C41)/(COUNTIF(C36:C41,\">0\")+0.00000001)","v":0},null,{"$f":"SUM(E36:E41)/(COUNTIF(E36:E41,\">0\")+0.00000001)","v":0},null,{"$f":"SUM(G36:G41)/(COUNTIF(G36:G41,\">0\")+0.00000001)","v":0},null,{"$f":"SUM(I36:I41)/(COUNTIF(I36:I41,\">0\")+0.00000001)","v":0},null,{"$f":"SUM(K36:K41)/(COUNTIF(K36:K41,\">0\")+0.00000001)","v":0},null,{"$f":"SUM(M36:M41)/(COUNTIF(M36:M41,\">0\")+0.00000001)","v":0}]
[null,"identify situations were touch and drag is appropriate"]
[null,"keep cane in front of body at all times"]
[null,"lift cane slightly off ground, maintaining low arc"]
[null,"tap outside of shoulder opposite of line being trailed"]
[null,"drag cane in constant contact arc across body, contact surface being trailed"]
[null,"remain as 'in step' as possible to maximize protection"]
["7. Three Point Touch",null,null,{"$f":"SUM(C43:C48)/(COUNTIF(C43:C48,\">0\")+0.00000001)","v":0},null,{"$f":"SUM(E43:E48)/(COUNTIF(E43:E48,\">0\")+0.00000001)","v":0},null,{"$f":"SUM(G43:G48)/(COUNTIF(G43:G48,\">0\")+0.00000001)","v":0},null,{"$f":"SUM(I43:I48)/(COUNTIF(I43:I48,\">0\")+0.00000001)","v":0},null,{"$f":"SUM(K43:K48)/(COUNTIF(K43:K48,\">0\")+0.00000001)","v":0},null,{"$f":"SUM(M43:M48)/(COUNTIF(M43:M48,\">0\")+0.00000001)","v":0}]
[null,"identify situations where three point touch is appropriate"]
[null,"keep cane in front of body at all times"]
[null,"lift cane slightly off ground, maintaining low arc"]
[null,"tap cane slightly outside of each shoulder (arc width)"]
[null,"tap cane on surface being trailed well outside of shoulder to locate intersecting sidewalk"]
[null,"remain as 'in step' as possible to maximize protection"]
[null,"raw score for domain",null,{"$f":"D3+D10+D16+D22+D28+D35+D42","v":0},null,{"$f":"F3+F10+F16+F22+F28+F35+F42","v":0},null,{"$f":"H3+H10+H16+H22+H28+H35+H42","v":0},null,{"$f":"J3+J10+J16+J22+J28+J35+J42","v":0},null,{"$f":"L3+L10+L16+L22+L28+L35+L42","v":0},null,{"$f":"N3+N10+N16+N22+N28+N35+N42","v":0}]
[null,"average score for domain",null,{"$f":"D49/(COUNTIF(D3:D48,\">0\")+0.00000001)","v":0},null,{"$f":"F49/(COUNTIF(F3:F48,\">0\")+0.00000001)","v":0},null,{"$f":"H49/(COUNTIF(H3:H48,\">0\")+0.00000001)","v":0},null,{"$f":"J49/(COUNTIF(J3:J48,\">0\")+0.00000001)","v":0},null,{"$f":"L49/(COUNTIF(L3:L48,\">0\")+0.00000001)","v":0},null,{"$f":"N49/(COUNTIF(N3:N48,\">0\")+0.00000001)","v":0}]
[null,"percentage score for domain",null,{"$f":"D50/5*100","v":0},null,{"$f":"F50/5*100","v":0},null,{"$f":"H50/5*100","v":0},null,{"$f":"J50/5*100","v":0},null,{"$f":"L50/5*100","v":0},null,{"$f":"N50/5*100","v":0}]
["RATING SCALE"]
["0 = Student not capable of demonstrating skill or does not need skill"]
["1 = Student does not demonstrate skill but may/will learn skill"]
["2 = Student only demonstrates skill with verbal and/or physical prompting"]
["3 = Student sometimes demonstrates skill without verbal and/or physical prompting"]
["4 = Student demonstrates skill and verbal and/or physical prompting are rarely needed"]
["5 = Student has totally mastered skill and does not require verbal and/or physical prompting"]
["CANE SKILLS (2nd Data Set--Last 6 Columns On Front Page)",null,{"$f":"Front!H1","v":"Date"},null,{"$f":"Front!I1","v":"Date"},null,{"$f":"Front!J1","v":"Date"},null,{"$f":"Front!K1","v":"Date"},null,{"$f":"Front!L1","v":"Date"},null,{"$f":"Front!M1","v":"Date"},null,"notes"]
[null,null,"Input\nData","Auto\nScore","Input\nData","Auto\nScore","Input\nData","Auto\nScore","Input\nData","Auto\nScore","Input\nData","Auto\nScore","Input\nData","Auto\nScore"]
["1. Basic Skills",null,null,{"$f":"SUM(C62:C67)/(COUNTIF(C62:C67,\">0\")+0.00000001)","v":0},null,{"$f":"SUM(E62:E67)/(COUNTIF(E62:E67,\">0\")+0.00000001)","v":0},null,{"$f":"SUM(G62:G67)/(COUNTIF(G62:G67,\">0\")+0.00000001)","v":0},null,{"$f":"SUM(I62:I67)/(COUNTIF(I62:I67,\">0\")+0.00000001)","v":0},null,{"$f":"SUM(K62:K67)/(COUNTIF(K62:K67,\">0\")+0.00000001)","v":0},null,{"$f":"SUM(M62:M67)/(COUNTIF(M62:M67,\">0\")+0.00000001)","v":0}]
[null,"grasp cane handle firmly enough to keep from dropping"]
[null,"maintain grip on cane while walking"]
[null,"maintain grip when cane encounters object"]
[null,"identify when cane has contacted object"]
[null,"identify when cane has encountered drop off or curb"]
[null,"identify when cane has encountered change in terrain"]
["2. Types Of Grips",null,null,{"$f":"SUM(C69:C73)/(COUNTIF(C69:C73,\">0\")+0.00000001)","v":0},null,{"$f":"SUM(E69:E73)/(COUNTIF(E69:E73,\">0\")+0.00000001)","v":0},null,{"$f":"SUM(G69:G73)/(COUNTIF(G69:G73,\">0\")+0.00000001)","v":0},null,{"$f":"SUM(I69:I73)/(COUNTIF(I69:I73,\">0\")+0.00000001)","v":0},null,{"$f":"SUM(K69:K73)/(COUNTIF(K69:K73,\">0\")+0.00000001)","v":0},null,{"$f":"SUM(M69:M73)/(COUNTIF(M69:M73,\">0\")+0.00000001)","v":0}]
[null,"demonstrate centered/above waist handshake grip"]
[null,"demonstrate centered pencil grip"]
[null,"demonstrate handshake grip held to the side near hip"]
[null,"identify benefits/limitations of each grip type"]
[null,"identify situations where various cane grips are beneficial"]
["3. Constant Contact",null,null,{"$f":"SUM(C75:C79)/(COUNTIF(C75:C79,\">0\")+0.00000001)","v":0},null,{"$f":"SUM(E75:E79)/(COUNTIF(E75:E79,\">0\")+0.00000001)","v":0},null,{"$f":"SUM(G75:G79)/(COUNTIF(G75:G79,\">0\")+0.00000001)","v":0},null,{"$f":"SUM(I75:I79)/(COUNTIF(I75:I79,\">0\")+0.00000001)","v":0},null,{"$f":"SUM(K75:K79)/(COUNTIF(K75:K79,\">0\")+0.00000001)","v":0},null,{"$f":"SUM(M75:M79)/(COUNTIF(M75:M79,\">0\")+0.00000001)","v":0}]
[null,"identify situations where constant contact is appropriate"]
[null,"keep cane in front of body at all times"]
[null,"keep cane on the ground at all times"]
[null,"move cane in a constant arc slightly wider than shoulders"]
[null,"remain 'in step' to maximize protection"]
["4. Diagonal/Diagonal Trail",null,null,{"$f":"SUM(C81:C85)/(COUNTIF(C81:C85,\">0\")+0.00000001)","v":0},null,{"$f":"SUM(E81:E85)/(COUNTIF(E81:E85,\">0\")+0.00000001)","v":0},null,{"$f":"SUM(G81:G85)/(COUNTIF(G81:G85,\">0\")+0.00000001)","v":0},null,{"$f":"SUM(I81:I85)/(COUNTIF(I81:I85,\">0\")+0.00000001)","v":0},null,{"$f":"SUM(K81:K85)/(COUNTIF(K81:K85,\">0\")+0.00000001)","v":0},null,{"$f":"SUM(M81:M85)/(COUNTIF(M81:M85,\">0\")+0.00000001)","v":0}]
[null,"identify situations where diagonal is appropriate"]
[null,"keep cane in front of body at all times"]
[null,"keep cane on the ground at all times"]
[null,"keep cane at diagonal across body, covering both shoulders"]
[null,"count doors/intersecting hallways when trailing"]
["5. Two Point Touch/Touch Trail",null,null,{"$f":"SUM(C87:C92)/(COUNTIF(C87:C92,\">0\")+0.00000001)","v":0},null,{"$f":"SUM(E87:E92)/(COUNTIF(E87:E92,\">0\")+0.00000001)","v":0},null,{"$f":"SUM(G87:G92)/(COUNTIF(G87:G92,\">0\")+0.00000001)","v":0},null,{"$f":"SUM(I87:I92)/(COUNTIF(I87:I92,\">0\")+0.00000001)","v":0},null,{"$f":"SUM(K87:K92)/(COUNTIF(K87:K92,\">0\")+0.00000001)","v":0},null,{"$f":"SUM(M87:M92)/(COUNTIF(M87:M92,\">0\")+0.00000001)","v":0}]
[null,"identify situations where two point touch is appropriate"]
[null,"keep cane in front of body at all times"]
[null,"lift cane slightly off ground, maintaining low arc"]
[null,"tap cane slightly outside of each shoulder (arc width)"]
[null,"when trailing, tap a bit farther to the side to locate intersecting sidewalk"]
[null,"remain 'in step' to maximize protection"]
["6. Touch And Drag",null,null,{"$f":"SUM(C94:C99)/(COUNTIF(C94:C99,\">0\")+0.00000001)","v":0},null,{"$f":"SUM(E94:E99)/(COUNTIF(E94:E99,\">0\")+0.00000001)","v":0},null,{"$f":"SUM(G94:G99)/(COUNTIF(G94:G99,\">0\")+0.00000001)","v":0},null,{"$f":"SUM(I94:I99)/(COUNTIF(I94:I99,\">0\")+0.00000001)","v":0},null,{"$f":"SUM(K94:K99)/(COUNTIF(K94:K99,\">0\")+0.00000001)","v":0},null,{"$f":"SUM(M94:M99)/(COUNTIF(M94:M99,\">0\")+0.00000001)","v":0}]
[null,"identify situations were touch and drag is appropriate"]
[null,"keep cane in front of body at all times"]
[null,"lift cane slightly off ground, maintaining low arc"]
[null,"tap outside of shoulder opposite of line being trailed"]
[null,"drag cane in constant contact arc across body, contact surface being trailed"]
[null,"remain as 'in step' as possible to maximize protection"]
["7. Three Point Touch",null,null,{"$f":"SUM(C101:C106)/(COUNTIF(C101:C106,\">0\")+0.00000001)","v":0},null,{"$f":"SUM(E101:E106)/(COUNTIF(E101:E106,\">0\")+0.00000001)","v":0},null,{"$f":"SUM(G101:G106)/(COUNTIF(G101:G106,\">0\")+0.00000001)","v":0},null,{"$f":"SUM(I101:I106)/(COUNTIF(I101:I106,\">0\")+0.00000001)","v":0},null,{"$f":"SUM(K101:K106)/(COUNTIF(K101:K106,\">0\")+0.00000001)","v":0},null,{"$f":"SUM(M101:M106)/(COUNTIF(M101:M106,\">0\")+0.00000001)","v":0}]
[null,"identify situations where three point touch is appropriate"]
[null,"keep cane in front of body at all times"]
[null,"lift cane slightly off ground, maintaining low arc"]
[null,"tap cane slightly outside of each shoulder (arc width)"]
[null,"tap cane on surface being trailed well outside of shoulder to locate intersecting sidewalk"]
[null,"remain as 'in step' as possible to maximize protection"]
[null,"raw score for domain",null,{"$f":"D61+D68+D74+D80+D86+D93+D100","v":0},null,{"$f":"F61+F68+F74+F80+F86+F93+F100","v":0},null,{"$f":"H61+H68+H74+H80+H86+H93+H100","v":0},null,{"$f":"J61+J68+J74+J80+J86+J93+J100","v":0},null,{"$f":"L61+L68+L74+L80+L86+L93+L100","v":0},null,{"$f":"N61+N68+N74+N80+N86+N93+N100","v":0}]
[null,"average score for domain",null,{"$f":"D107/(COUNTIF(D61:D106,\">0\")+0.00000001)","v":0},null,{"$f":"F107/(COUNTIF(F61:F106,\">0\")+0.00000001)","v":0},null,{"$f":"H107/(COUNTIF(H61:H106,\">0\")+0.00000001)","v":0},null,{"$f":"J107/(COUNTIF(J61:J106,\">0\")+0.00000001)","v":0},null,{"$f":"L107/(COUNTIF(L61:L106,\">0\")+0.00000001)","v":0},null,{"$f":"N107/(COUNTIF(N61:N106,\">0\")+0.00000001)","v":0}]
[null,"percentage score for domain",null,{"$f":"D108/5*100","v":0},null,{"$f":"F108/5*100","v":0},null,{"$f":"H108/5*100","v":0},null,{"$f":"J108/5*100","v":0},null,{"$f":"L108/5*100","v":0},null,{"$f":"N108/5*100","v":0}]
["RATING SCALE"]
["0 = Student not capable of demonstrating skill or does not need skill"]
["1 = Student does not demonstrate skill but may/will learn skill"]
["2 = Student only demonstrates skill with verbal and/or physical prompting"]
["3 = Student sometimes demonstrates skill without verbal and/or physical prompting"]
["4 = Student demonstrates skill and verbal and/or physical prompting are rarely needed"]
["5 = Student has totally mastered skill and does not require verbal and/or physical prompting"]

{"sheet":"Sidewalk","index":8,"n_rows":74,"n_cols":15,"rows_kept":74,"cut":false,"hidden":false,"merged":[[37,10,37,11],[37,12,37,13],[0,2,0,3],[37,2,37,3],[37,4,37,5],[37,6,37,7],[37,8,37,9],[0,12,0,13],[0,10,0,11],[0,8,0,9],[0,6,0,7],[0,4,0,5]]}
["SIDEWALK TRAVEL (1st Data Set--First 6 Columns On Front Page)",null,{"$f":"Front!B1","v":"Date"},null,{"$f":"Front!C1","v":"Date"},null,{"$f":"Front!D1","v":"Date"},null,{"$f":"Front!E1","v":"Date"},null,{"$f":"Front!F1","v":"Date"},null,{"$f":"Front!G1","v":"Date"},null,"notes"]
[null,null,"Input\nData","Auto\nScore","Input\nData","Auto\nScore","Input\nData","Auto\nScore","Input\nData","Auto\nScore","Input\nData","Auto\nScore","Input\nData","Auto\nScore"]
["1. Walk On Sidewalks",null,null,{"$f":"SUM(C4:C14)/(COUNTIF(C4:C14,\">0\")+0.00000001)","v":0},null,{"$f":"SUM(E4:E14)/(COUNTIF(E4:E14,\">0\")+0.00000001)","v":0},null,{"$f":"SUM(G4:G14)/(COUNTIF(G4:G14,\">0\")+0.00000001)","v":0},null,{"$f":"SUM(I4:I14)/(COUNTIF(I4:I14,\">0\")+0.00000001)","v":0},null,{"$f":"SUM(K4:K14)/(COUNTIF(K4:K14,\">0\")+0.00000001)","v":0},null,{"$f":"SUM(M4:M14)/(COUNTIF(M4:M14,\">0\")+0.00000001)","v":0}]
[null,"walk without continual veering"]
[null,"detect intersecting sidewalks"]
[null,"detect curb/ramp/street at end of block"]
[null,"maintain balance on driveway cuts"]
[null,"go around vehicles parked over sidewalk (towards street)"]
[null,"detect and go around or close open gates"]
[null,"detect and identify sidewalk blockages due to construction (e.g. caution tape, barrels)"]
[null,"use protective technique to deal with low hanging branches "]
[null,"detect and go around street hardware (e.g. mailbox, pole)"]
[null,"identify useful street hardware (e.g. post office mailbox)"]
[null,"detect and go around other pedestrians on sidewalk"]
["2. Walk On Irregular Sidewalks",null,null,{"$f":"SUM(C16:C20)/(COUNTIF(C16:C20,\">0\")+0.00000001)","v":0},null,{"$f":"SUM(E16:E20)/(COUNTIF(E16:E20,\">0\")+0.00000001)","v":0},null,{"$f":"SUM(G16:G20)/(COUNTIF(G16:G20,\">0\")+0.00000001)","v":0},null,{"$f":"SUM(I16:I20)/(COUNTIF(I16:I20,\">0\")+0.00000001)","v":0},null,{"$f":"SUM(K16:K20)/(COUNTIF(K16:K20,\">0\")+0.00000001)","v":0},null,{"$f":"SUM(M16:M20)/(COUNTIF(M16:M20,\">0\")+0.00000001)","v":0}]
[null,"maintain balance on broken sidewalk"]
[null,"maintain Line Of Travel (L.O.T.) on broken sidewalk"]
[null,"maintain L.O.T. briefly when sidewalk is covered by dirt, rocks, grass or gravel"]
[null,"detect curb at end of block with irregular sidewalk"]
[null,"transition to street if sidewalk becomes impassable"]
["3. Correct For Veer On Sidewalks",null,null,{"$f":"SUM(C22:C27)/(COUNTIF(C22:C27,\">0\")+0.00000001)","v":0},null,{"$f":"SUM(E22:E27)/(COUNTIF(E22:E27,\">0\")+0.00000001)","v":0},null,{"$f":"SUM(G22:G27)/(COUNTIF(G22:G27,\">0\")+0.00000001)","v":0},null,{"$f":"SUM(I22:I27)/(COUNTIF(I22:I27,\">0\")+0.00000001)","v":0},null,{"$f":"SUM(K22:K27)/(COUNTIF(K22:K27,\">0\")+0.00000001)","v":0},null,{"$f":"SUM(M22:M27)/(COUNTIF(M22:M27,\">0\")+0.00000001)","v":0}]
[null,"stop walking when feet encounter surface other than sidewalk"]
[null,"without turning, sweep cane in 180 arc to find sidewalk"]
[null,"take sidewalk that allows continuation of L.O.T."]
[null,"if no sidewalk found, move first towards the parallel street while checking for sidewalk, resume L.O.T. if found"]
[null,"if no sidewalk found, move next away from parallel street while checking for sidewalk, resume L.O.T. if found"]
[null,"if sidewalk ended, transition to street"]
[null,"raw score for domain",null,{"$f":"D3+D15+D21","v":0},null,{"$f":"F3+F15+F21","v":0},null,{"$f":"H3+H15+H21","v":0},null,{"$f":"J3+J15+J21","v":0},null,{"$f":"L3+L15+L21","v":0},null,{"$f":"N3+N15+N21","v":0}]
[null,"average score for domain",null,{"$f":"D28/(COUNTIF(D3:D21,\">0\")+0.00000001)","v":0},null,{"$f":"F28/(COUNTIF(F3:F21,\">0\")+0.00000001)","v":0},null,{"$f":"H28/(COUNTIF(H3:H21,\">0\")+0.00000001)","v":0},null,{"$f":"J28/(COUNTIF(J3:J21,\">0\")+0.00000001)","v":0},null,{"$f":"L28/(COUNTIF(L3:L21,\">0\")+0.00000001)","v":0},null,{"$f":"N28/(COUNTIF(N3:N21,\">0\")+0.00000001)","v":0}]
[null,"percentage score for domain",null,{"$f":"D29/5*100","v":0},null,{"$f":"F29/5*100","v":0},null,{"$f":"H29/5*100","v":0},null,{"$f":"J29/5*100","v":0},null,{"$f":"L29/5*100","v":0},null,{"$f":"N29/5*100","v":0}]
["RATING SCALE"]
["0 = Student not capable of demonstrating skill or does not need skill"]
["1 = Student does not demonstrate skill but may/will learn skill"]
["2 = Student only demonstrates skill with verbal and/or physical prompting"]
["3 = Student sometimes demonstrates skill without verbal and/or physical prompting"]
["4 = Student demonstrates skill and verbal and/or physical prompting are rarely needed"]
["5 = Student has totally mastered skill and does not require verbal and/or physical prompting"]
["SIDEWALK TRAVEL (2nd Data Set--Last 6 Columns On Front Page)",null,{"$f":"Front!H1","v":"Date"},null,{"$f":"Front!I1","v":"Date"},null,{"$f":"Front!J1","v":"Date"},null,{"$f":"Front!K1","v":"Date"},null,{"$f":"Front!L1","v":"Date"},null,{"$f":"Front!M1","v":"Date"},null,"notes"]
[null,null,"Input\nData","Auto\nScore","Input\nData","Auto\nScore","Input\nData","Auto\nScore","Input\nData","Auto\nScore","Input\nData","Auto\nScore","Input\nData","Auto\nScore"]
["1. Walk On Sidewalks",null,null,{"$f":"SUM(C41:C51)/(COUNTIF(C41:C51,\">0\")+0.00000001)","v":0},null,{"$f":"SUM(E41:E51)/(COUNTIF(E41:E51,\">0\")+0.00000001)","v":0},null,{"$f":"SUM(G41:G51)/(COUNTIF(G41:G51,\">0\")+0.00000001)","v":0},null,{"$f":"SUM(I41:I51)/(COUNTIF(I41:I51,\">0\")+0.00000001)","v":0},null,{"$f":"SUM(K41:K51)/(COUNTIF(K41:K51,\">0\")+0.00000001)","v":0},null,{"$f":"SUM(M41:M51)/(COUNTIF(M41:M51,\">0\")+0.00000001)","v":0}]
[null,"walk without continual veering"]
[null,"detect intersecting sidewalks"]
[null,"detect curb/ramp/street at end of block"]
[null,"maintain balance on driveway cuts"]
[null,"go around vehicles parked over sidewalk (towards street)"]
[null,"detect and go around or close open gates"]
[null,"detect and identify sidewalk blockages due to construction (e.g. caution tape, barrels)"]
[null,"use protective technique to deal with low hanging branches "]
[null,"detect and go around street hardware (e.g. mailbox, pole)"]
[null,"identify useful street hardware (e.g. post office mailbox)"]
[null,"detect and go around other pedestrians on sidewalk"]
["2. Walk On Irregular Sidewalks",null,null,{"$f":"SUM(C53:C57)/(COUNTIF(C53:C57,\">0\")+0.00000001)","v":0},null,{"$f":"SUM(E53:E57)/(COUNTIF(E53:E57,\">0\")+0.00000001)","v":0},null,{"$f":"SUM(G53:G57)/(COUNTIF(G53:G57,\">0\")+0.00000001)","v":0},null,{"$f":"SUM(I53:I57)/(COUNTIF(I53:I57,\">0\")+0.00000001)","v":0},null,{"$f":"SUM(K53:K57)/(COUNTIF(K53:K57,\">0\")+0.00000001)","v":0},null,{"$f":"SUM(M53:M57)/(COUNTIF(M53:M57,\">0\")+0.00000001)","v":0}]
[null,"maintain balance on broken sidewalk"]
[null,"maintain Line Of Travel (L.O.T.) on broken sidewalk"]
[null,"maintain L.O.T. briefly when sidewalk is covered by dirt, rocks, grass or gravel"]
[null,"detect curb at end of block with irregular sidewalk"]
[null,"transition to street if sidewalk becomes impassable"]
["3. Correct For Veer On Sidewalks",null,null,{"$f":"SUM(C59:C64)/(COUNTIF(C59:C64,\">0\")+0.00000001)","v":0},null,{"$f":"SUM(E59:E64)/(COUNTIF(E59:E64,\">0\")+0.00000001)","v":0},null,{"$f":"SUM(G59:G64)/(COUNTIF(G59:G64,\">0\")+0.00000001)","v":0},null,{"$f":"SUM(I59:I64)/(COUNTIF(I59:I64,\">0\")+0.00000001)","v":0},null,{"$f":"SUM(K59:K64)/(COUNTIF(K59:K64,\">0\")+0.00000001)","v":0},null,{"$f":"SUM(M59:M64)/(COUNTIF(M59:M64,\">0\")+0.00000001)","v":0}]
[null,"stop walking when feet encounter surface other than sidewalk"]
[null,"without turning, sweep cane in 180 arc to find sidewalk"]
[null,"take sidewalk that allows continuation of L.O.T."]
[null,"if no sidewalk found, move first towards the parallel street while checking for sidewalk, resume L.O.T. if found"]
[null,"if no sidewalk found, move next away from parallel street while checking for sidewalk, resume L.O.T. if found"]
[null,"if sidewalk ended, transition to street"]
[null,"raw score for domain",null,{"$f":"D40+D52+D58","v":0},null,{"$f":"F40+F52+F58","v":0},null,{"$f":"H40+H52+H58","v":0},null,{"$f":"J40+J52+J58","v":0},null,{"$f":"L40+L52+L58","v":0},null,{"$f":"N40+N52+N58","v":0}]
[null,"average score for domain",null,{"$f":"D65/(COUNTIF(D40:D58,\">0\")+0.00000001)","v":0},null,{"$f":"F65/(COUNTIF(F40:F58,\">0\")+0.00000001)","v":0},null,{"$f":"H65/(COUNTIF(H40:H58,\">0\")+0.00000001)","v":0},null,{"$f":"J65/(COUNTIF(J40:J58,\">0\")+0.00000001)","v":0},null,{"$f":"L65/(COUNTIF(L40:L58,\">0\")+0.00000001)","v":0},null,{"$f":"N65/(COUNTIF(N40:N58,\">0\")+0.00000001)","v":0}]
[null,"percentage score for domain",null,{"$f":"D66/5*100","v":0},null,{"$f":"F66/5*100","v":0},null,{"$f":"H66/5*100","v":0},null,{"$f":"J66/5*100","v":0},null,{"$f":"L66/5*100","v":0},null,{"$f":"N66/5*100","v":0}]
["RATING SCALE"]
["0 = Student not capable of demonstrating skill or does not need skill"]
["1 = Student does not demonstrate skill but may/will learn skill"]
["2 = Student only demonstrates skill with verbal and/or physical prompting"]
["3 = Student sometimes demonstrates skill without verbal and/or physical prompting"]
["4 = Student demonstrates skill and verbal and/or physical prompting are rarely needed"]
["5 = Student has totally mastered skill and does not require verbal and/or physical prompting"]

{"sheet":"StCross","index":9,"n_rows":370,"n_cols":15,"rows_kept":370,"cut":false,"hidden":false,"merged":[[0,12,0,13],[0,2,0,3],[0,4,0,5],[0,6,0,7],[0,8,0,9],[0,10,0,11],[185,12,185,13],[185,2,185,3],[185,4,185,5],[185,6,185,7],[185,8,185,9],[185,10,185,11]]}
["STREET CROSSINGS (1st Data Set--First 6 Columns On Front Page)",null,{"$f":"Front!B1","v":"Date"},null,{"$f":"Front!C1","v":"Date"},null,{"$f":"Front!D1","v":"Date"},null,{"$f":"Front!E1","v":"Date"},null,{"$f":"Front!F1","v":"Date"},null,{"$f":"Front!G1","v":"Date"},null,"Notes"]
[null,null,"Input\nData","Auto\nScore","Input\nData","Auto\nScore","Input\nData","Auto\nScore","Input\nData","Auto\nScore","Input\nData","Auto\nScore","Input\nData","Auto\nScore"]
["1. Anticipate/Detect Upcoming Street Crossing",null,null,{"$f":"SUM(C4:C8)/(COUNTIF(C4:C8,\">0\")+0.00000001)","v":0},null,{"$f":"SUM(E4:E8)/(COUNTIF(E4:E8,\">0\")+0.00000001)","v":0},null,{"$f":"SUM(G4:G8)/(COUNTIF(G4:G8,\">0\")+0.00000001)","v":0},null,{"$f":"SUM(I4:I8)/(COUNTIF(I4:I8,\">0\")+0.00000001)","v":0},null,{"$f":"SUM(K4:K8)/(COUNTIF(K4:K8,\">0\")+0.00000001)","v":0},null,{"$f":"SUM(M4:M8)/(COUNTIF(M4:M8,\">0\")+0.00000001)","v":0}]
[null,"via time and distance"]
[null,"via environmental cues"]
[null,"locate curb (visually or with cane)"]
[null,"changes in wind or 'open' feeling"]
[null,"traffic sounds"]
["2. Maintain Line Of Travel (L.O.T.)",null,null,{"$f":"C9","v":0},null,{"$f":"E9","v":0},null,{"$f":"G9","v":0},null,{"$f":"I9","v":0},null,{"$f":"K9","v":0},null,{"$f":"M9","v":0}]
["3. Maintain total body alignment",null,null,{"$f":"SUM(C11:C13)/(COUNTIF(C11:C13,\">0\")+0.00000001)","v":0},null,{"$f":"SUM(E11:E13)/(COUNTIF(E11:E13,\">0\")+0.00000001)","v":0},null,{"$f":"SUM(G11:G13)/(COUNTIF(G11:G13,\">0\")+0.00000001)","v":0},null,{"$f":"SUM(I11:I13)/(COUNTIF(I11:I13,\">0\")+0.00000001)","v":0},null,{"$f":"SUM(K11:K13)/(COUNTIF(K11:K13,\">0\")+0.00000001)","v":0},null,{"$f":"SUM(M11:M13)/(COUNTIF(M11:M13,\">0\")+0.00000001)","v":0}]
[null,"keep head aligned with L.O.T."]
[null,"keep shoulders aligned with L.O.T."]
[null,"keep toes aligned with L.O.T. "]
["4. Re-establish total body alignment (due to turn or misalign)",null,null,{"$f":"SUM(C15:C17)/(COUNTIF(C15:C17,\">0\")+0.00000001)","v":0},null,{"$f":"SUM(E15:E17)/(COUNTIF(E15:E17,\">0\")+0.00000001)","v":0},null,{"$f":"SUM(G15:G17)/(COUNTIF(G15:G17,\">0\")+0.00000001)","v":0},null,{"$f":"SUM(I15:I17)/(COUNTIF(I15:I17,\">0\")+0.00000001)","v":0},null,{"$f":"SUM(K15:K17)/(COUNTIF(K15:K17,\">0\")+0.00000001)","v":0},null,{"$f":"SUM(M15:M17)/(COUNTIF(M15:M17,\">0\")+0.00000001)","v":0}]
[null,"position head parallel to parallel street"]
[null,"position shoulders parallel to perpendicular street"]
[null,"align toes with shoulders/head"]
["5. Analyze Intersection",null,null,{"$f":"SUM(C19:C33)/(COUNTIF(C19:C33,\">0\")+0.00000001)","v":0},null,{"$f":"SUM(E19:E33)/(COUNTIF(E19:E33,\">0\")+0.00000001)","v":0},null,{"$f":"SUM(G19:G33)/(COUNTIF(G19:G33,\">0\")+0.00000001)","v":0},null,{"$f":"SUM(I19:I33)/(COUNTIF(I19:I33,\">0\")+0.00000001)","v":0},null,{"$f":"SUM(K19:K33)/(COUNTIF(K19:K33,\">0\")+0.00000001)","v":0},null,{"$f":"SUM(M19:M33)/(COUNTIF(M19:M33,\">0\")+0.00000001)","v":0}]
[null,"identify location of parallel street"]
[null,"identify location of perpendicular street"]
[null,"identify crossing as clockwise or counterclockwise"]
[null,"identify parallel traffic in the near lane as being 'right across' the intersection when making clockwise crossings"]
[null,"identify parallel traffic in the near lane as being 'left behind' the intersection when making counterclockwise crossings"]
[null,"identify dangers posed by perpendicular traffic & turning vehicles"]
[null,"identify masking sounds (e.g. construction, loud car)"]
[null,"identify sound shadows (e.g. sounds blocked by parked van)"]
[null,"identify 'plus' intersection"]
[null,"identify 'T' intersection"]
[null,"identify 'Y' intersection"]
[null,"identify roundabout"]
[null,"identify significantly offset intersection"]
[null,"identify atypical intersection"]
[null,"identify newly developed (post year 2000) intersection"]
["6. 'Plus' Intersections",null,null,{"$f":"SUM(C35:C52)/(COUNTIF(C35:C52,\">0\")+0.00000001)","v":0},null,{"$f":"SUM(E35:E52)/(COUNTIF(E35:E52,\">0\")+0.00000001)","v":0},null,{"$f":"SUM(G35:G52)/(COUNTIF(G35:G52,\">0\")+0.00000001)","v":0},null,{"$f":"SUM(I35:I52)/(COUNTIF(I35:I52,\">0\")+0.00000001)","v":0},null,{"$f":"SUM(K35:K52)/(COUNTIF(K35:K52,\">0\")+0.00000001)","v":0},null,{"$f":"SUM(M35:M52)/(COUNTIF(M35:M52,\">0\")+0.00000001)","v":0}]
[null,"identify 'plus' intersection with all way stop"]
[null,"identify 'plus' intersection with parallel street stopped"]
[null,"identify 'plus' intersection with perpendicular street stopped"]
[null,"identify 'plus' intersection with traffic signal"]
["All Way Stop","cross 'plus' intersection with all way stop plan A: cross at a lull"]
[null,"cross 'plus' intersection with all way stop plan B: when no traffic in intersection"]
[null,"cross 'plus' intersection with all way stop plan C: cross with parallel traffic in near lane"]
[null,"cross 'plus' intersection with all way stop plan D: cross with parallel traffic in far lane"]
[null,"cross 'plus' intersection with all way stop plan E: implement alternatives if Situation Of Uncertainty (S.O.U.)"]
["Parallel Stopped","cross 'plus' intersection with parallel street stopped Plan A: determine if gaps are long enough to permit safe crossing at a lull"]
[null,"cross 'plus' intersection with parallel street stopped Plan B: implement alternatives if S.O.U."]
["Perpendicular Stopped","cross 'plus' intersection with perpendicular street stopped Plan A: cross at a lull"]
[null,"cross 'plus' intersection with perpendicular street stopped Plan B: cross with parallel traffic in near lane"]
[null,"cross 'plus' intersection with perpendicular street stopped Plan C: cross with parallel traffic in far lane"]
[null,"cross 'plus' intersection with perpendicular street stopped Plan D: implement alternatives if S.O.U."]
["Traffic Signal","cross 'plus' intersection with traffic signal Plan A: cross with surge of parallel traffic in near lane"]
[null,"cross 'plus' intersection with traffic signal Plan B: cross with surge of parallel traffic in far lane"]
[null,"cross 'plus' intersection with traffic signal Plan C: implement alternatives if S.O.U."]
["7. 'T' Intersections",null,null,{"$f":"SUM(C54:C74)/(COUNTIF(C54:C74,\">0\")+0.00000001)","v":0},null,{"$f":"SUM(E54:E74)/(COUNTIF(E54:E74,\">0\")+0.00000001)","v":0},null,{"$f":"SUM(G54:G74)/(COUNTIF(G54:G74,\">0\")+0.00000001)","v":0},null,{"$f":"SUM(I54:I74)/(COUNTIF(I54:I74,\">0\")+0.00000001)","v":0},null,{"$f":"SUM(K54:K74)/(COUNTIF(K54:K74,\">0\")+0.00000001)","v":0},null,{"$f":"SUM(M54:M74)/(COUNTIF(M54:M74,\">0\")+0.00000001)","v":0}]
[null,"identify 'T' intersection with all way stop"]
[null,"identify 'T' intersection with parallel street stopped"]
[null,"identify 'T' intersection with perpendicular street stopped"]
[null,"identify 'T' intersection with traffic signal"]
["All Way Stop","cross base or top of 'T' intersection with all way stop plan A: cross at a lull"]
[null,"cross base or top of 'T' intersection with all way stop plan B: when no traffic in intersection"]
[null,"cross base of 'T' intersection with all way stop plan C: cross with parallel traffic in near lane"]
[null,"cross base of 'T' intersection with all way stop plan D: cross with parallel traffic in far lane"]
[null,"cross base or top of 'T' intersection with all way stop plan E: implement alternatives if Situation Of Uncertainty (S.O.U.)"]
["One Street Stopped","cross 'T' intersection with parallel street stopped (crossing top of 'T') Plan A: determine if gaps are long enough to permit safe crossing"]
[null,"cross 'T' intersection with parallel street stopped (crossing top of 'T') Plan B: implement alternatives if S.O.U."]
[null,"cross 'T' intersection with perpendicular street stopped (crossing base of 'T') Plan A: cross at a lull"]
[null,"cross 'T' intersection with perpendicular street stopped (crossing base of 'T') Plan B: cross with parallel traffic in near lane"]
[null,"cross 'T' intersection with perpendicular street stopped (crossing base of 'T') Plan C: cross with parallel traffic in far lane"]
[null,"cross 'T' intersection with perpendicular street stopped (crossing base of 'T') Plan D: implement alternatives if S.O.U."]
["Traffic Signal","cross 'T' intersection with traffic signal (crossing top of 'T') Plan A: clockwise: cross with traffic surge in parallel street and identify left turners will cross L.O.T."]
[null,"cross 'T' intersection with traffic signal (crossing top of 'T') Plan B: counterclockwise: cross with traffic surge in parallel street and identify right turners will cross L.O.T."]
[null,"cross 'T' intersection with traffic signal (crossing top of 'T') Plan C: implement alternatives if S.O.U."]
[null,"cross 'T' intersection with traffic signal (crossing base of 'T') Plan A: clockwise or counter: cross with surge of parallel traffic in near lane"]
[null,"cross 'T' intersection with traffic signal (crossing base of 'T') Plan B: clockwise or counter: cross with surge of parallel traffic in far in far lane"]
[null,"cross 'T' intersection with traffic signal (crossing base of 'T') Plan C: clockwise or counter: implement alternatives if S.O.U."]
["8. 'Y' Intersections",null,null,{"$f":"SUM(C76:C99)/(COUNTIF(C76:C99,\">0\")+0.00000001)","v":0},null,{"$f":"SUM(E76:E99)/(COUNTIF(E76:E99,\">0\")+0.00000001)","v":0},null,{"$f":"SUM(G76:G99)/(COUNTIF(G76:G99,\">0\")+0.00000001)","v":0},null,{"$f":"SUM(I76:I99)/(COUNTIF(I76:I99,\">0\")+0.00000001)","v":0},null,{"$f":"SUM(K76:K99)/(COUNTIF(K76:K99,\">0\")+0.00000001)","v":0},null,{"$f":"SUM(M76:M99)/(COUNTIF(M76:M99,\">0\")+0.00000001)","v":0}]
[null,"identify 'Y' intersection with all way stop"]
[null,"identify 'Y' intersection with arm or base of Y stopped"]
[null,"identify 'Y' intersection with trafic signal"]
[null,"identify whether 'arm' or base of 'Y' is being crossed"]
["All Way Stop","Y' intersection with all way stop (cross an 'arm') Plan A: cross at a lull"]
[null,"Y' intersection with all way stop (cross an 'arm') Plan B: cross when no traffic in intersection"]
[null,"Y' intersection with all way stop (cross an 'arm') Plan C: cross with parallel traffic in near lane"]
[null,"Y' intersection with all way stop (cross an 'arm') Plan D: cross with parallel traffic in far lane"]
[null,"Y' intersection with all way stop (cross an 'arm') Plan E:  implement alternatives if S.O.U."]
[null,"Y' intersection with all way stop (cross base of 'Y') Plan A: cross at a lull"]
[null,"Y' intersection with all way stop (cross base of 'Y') Plan B: cross when no traffic in intersection"]
[null,"Y' intersection with all way stop (cross base of 'Y') Plan C:  seek alternate intersection if S.O.U."]
["One Street Stopped","Y' intersection with one 'arm' stopped (cross stopped 'arm') Plan A: cross at a lull"]
[null,"Y' intersection with one 'arm' stopped (cross stopped 'arm') Plan B: cross with parallel traffic in near lane"]
[null,"Y' intersection with one 'arm' stopped (cross stopped 'arm') Plan C: cross with parallel traffic in far lane and identify danger of fast moving vehicles potentially crossing L.O.T."]
[null,"Y' intersection with one 'arm' stopped (cross stopped 'arm') Plan D:  implement alternatives if S.O.U."]
[null,"Y' intersection with one 'arm' stopped (cross 'arm' or base with right of way) Plan A: determine if gaps are long enough to permit safe crossing"]
[null,"Y' intersection with one 'arm' stopped (cross 'arm' with right of way) Plan B: implement alternatives if S.O.U."]
["Traffic Signal","Y' intersection with traffic signal (cross an 'arm') Plan A: clockwise: cross with traffic surge in parallel street & identify potential danger posed by left turning vehicles"]
[null,"Y' intersection with traffic signal (cross an 'arm') Plan B: counterclockwise: cross with parallel traffic surge & identify potential danger posed by right turning vehicles"]
[null,"Y' intersection with traffic signal (cross an 'arm') Plan C: implement alternatives if S.O.U."]
[null,"Y' intersection with traffic signal (cross base of 'Y') Plan A: identify lack of useful parallel traffic"]
[null,"Y' intersection with traffic signal (cross base of 'Y') Plan B: cross 'arm' of 'Y' instead, making multiple crossings if necessary"]
[null,"Y' intersection with traffic signal (cross base of 'Y') Plan C: implement alternatives if S.O.U."]
["9. Roundabouts",null,null,{"$f":"SUM(C101:C114)/(COUNTIF(C101:C114,\">0\")+0.00000001)","v":0},null,{"$f":"SUM(E101:E114)/(COUNTIF(E101:E114,\">0\")+0.00000001)","v":0},null,{"$f":"SUM(G101:G114)/(COUNTIF(G101:G114,\">0\")+0.00000001)","v":0},null,{"$f":"SUM(I101:I114)/(COUNTIF(I101:I114,\">0\")+0.00000001)","v":0},null,{"$f":"SUM(K101:K114)/(COUNTIF(K101:K114,\">0\")+0.00000001)","v":0},null,{"$f":"SUM(M101:M114)/(COUNTIF(M101:M114,\">0\")+0.00000001)","v":0}]
[null,"identify that roundabout crosswalks are typically farther from the intersection (instead of right at the intersection as is typical with other types of intersections) specifically to enhance pedestrian safety"]
[null,"consistently locate roundabout crosswalks"]
["clockwise","identify traffic will come from the left as it enters the roundabout and that traffic 'right across' can be parallel traffic or exit via perpendicular street without slowing down"]
[null,"identify that a car that stops for a pedestrian while the car is exiting the roundabout may be struck from behind and pushed into the pedestrian as other drivers are not anticipating that vehicles will stop in the roundabout"]
[null,"identify that roundabout vehicle speeds (20+ mph) require 100'+  reaction/braking distance"]
[null,"identify drivers entering the roundabout will focus their attention  to the drivers' left and may not see pedestrian attempting to cross"]
[null,"determine if gaps are long enough to permit safe crossing"]
[null,"implement alternatives if S.O.U."]
["counterclockwise","identify traffic will come from the right as it enters the roundabout and that traffic 'left behind' can be parallel traffic or exit via perpendicular street without slowing down"]
[null,"identify that a car that stops for a pedestrian while the car is exiting the roundabout may be struck from behind and pushed into the pedestrian as other drivers are not anticipating that vehicles will stop in the roundabout"]
[null,"identify that roundabout vehicle speeds (20+ mph) require 100'+  reaction/braking distance"]
[null,"determine if gaps are long enough to permit safe crossing"]
[null,"implement alternatives if S.O.U."]
[null,"maintain orientation and resume route after crossing"]
["10. Significantly offset intersection",null,null,{"$f":"SUM(C116:C119)/(COUNTIF(C116:C119,\">0\")+0.00000001)","v":0},null,{"$f":"SUM(E116:E119)/(COUNTIF(E116:E119,\">0\")+0.00000001)","v":0},null,{"$f":"SUM(G116:G119)/(COUNTIF(G116:G119,\">0\")+0.00000001)","v":0},null,{"$f":"SUM(I116:I119)/(COUNTIF(I116:I119,\">0\")+0.00000001)","v":0},null,{"$f":"SUM(K116:K119)/(COUNTIF(K116:K119,\">0\")+0.00000001)","v":0},null,{"$f":"SUM(M116:M119)/(COUNTIF(M116:M119,\">0\")+0.00000001)","v":0}]
[null,"identify presence of offset intersection via traffic pattern"]
[null,"treat as 'T' intersections"]
[null,"identify that traffic control can be different at each part of the significantly offset intersection"]
[null,"implement alternatives if S.O.U. (e.g. cross elsewhere)"]
["11. Atypical intersection (ex: convergence 5 or 6 streets)",null,null,{"$f":"SUM(C121:C129)/(COUNTIF(C121:C129,\">0\")+0.00000001)","v":0},null,{"$f":"SUM(E121:E129)/(COUNTIF(E121:E129,\">0\")+0.00000001)","v":0},null,{"$f":"SUM(G121:G129)/(COUNTIF(G121:G129,\">0\")+0.00000001)","v":0},null,{"$f":"SUM(I121:I129)/(COUNTIF(I121:I129,\">0\")+0.00000001)","v":0},null,{"$f":"SUM(K121:K129)/(COUNTIF(K121:K129,\">0\")+0.00000001)","v":0},null,{"$f":"SUM(M121:M129)/(COUNTIF(M121:M129,\">0\")+0.00000001)","v":0}]
[null,"recognize presence of atypical intersection via traffic pattern"]
[null,"determine if there is a safe time to cross intended street (may not be depending on traffic pattern)"]
[null,"identify barriers placed by traffic engineers to prevent pedestrians from crossing such as hedges, fences, or concrete obstructions and identify need to cross elsewhere"]
[null,"align to cross intended street at intersection if permitted by traffic engineer design and also safe"]
["All Way Stop","atypical intersection with all way stop Plan A: cross with a lull"]
[null,"atypical intersection with all way stop Plan B: cross with parallel traffic in near lane"]
[null,"atypical intersection with all way stop Plan C: implement alternatives if S.O.U."]
["Traffic Signal","atypical intersection with traffic light Plan A: cross with parallel traffic in near lane"]
[null,"atypical intersection with traffic light Plan B: implement alternatives if S.O.U."]
["12. Newly Developed Intersections",null,null,{"$f":"SUM(C131:C137)/(COUNTIF(C131:C137,\">0\")+0.00000001)","v":0},null,{"$f":"SUM(E131:E137)/(COUNTIF(E131:E137,\">0\")+0.00000001)","v":0},null,{"$f":"SUM(G131:G137)/(COUNTIF(G131:G137,\">0\")+0.00000001)","v":0},null,{"$f":"SUM(I131:I137)/(COUNTIF(I131:I137,\">0\")+0.00000001)","v":0},null,{"$f":"SUM(K131:K137)/(COUNTIF(K131:K137,\">0\")+0.00000001)","v":0},null,{"$f":"SUM(M131:M137)/(COUNTIF(M131:M137,\">0\")+0.00000001)","v":0}]
[null,"identify that traffic engineers have developed a variety of new types of intersections that will become increasingly common (diverging diamond, displaced left turn, median U-turn, jughandle, synchronized street, etc) and that all newly developed intersections that have been installed after ADA became law means all SHOULD have accessible pedestrian access signals, ramps, truncated domes, etc"]
[null,"identify that traffic engineers often install features (e.g. paths cut through traffic islands for wheelchairs and pedestrians, fencing, vegetation, etc) to direct pedestrian travel across the intersection, including pedestrian refuge islands where approrpriate"]
[null,"identify the need to possibly modify alignment to align with the features installed by traffic engineers"]
[null,"identify that the designated pedestrian path for crossing a newer intersection may be in the middle of the road with traffic on both sides of the pedestrian (some diverging diamonds) or diagonally through the intersection (some synchronized streets)"]
[null,"identify that traffic patterns will be very different from older intersection types and that each of the newer intersection types have traffic patterns that are different from one another"]
[null,"identify the parallel traffic needed to cross various portions of the new types of intersections"]
[null,"identify that some of the newer intersections will require the pedestrian to make multiple crossings to traverse the intersection, some of which may require the pedestrian to utilize a pedestrian refuge island"]
["13. Channelized right turn lanes (all intersection types)",null,null,{"$f":"SUM(C139:C147)/(COUNTIF(C139:C147,\">0\")+0.00000001)","v":0},null,{"$f":"SUM(E139:E147)/(COUNTIF(E139:E147,\">0\")+0.00000001)","v":0},null,{"$f":"SUM(G139:G147)/(COUNTIF(G139:G147,\">0\")+0.00000001)","v":0},null,{"$f":"SUM(I139:I147)/(COUNTIF(I139:I147,\">0\")+0.00000001)","v":0},null,{"$f":"SUM(K139:K147)/(COUNTIF(K139:K147,\">0\")+0.00000001)","v":0},null,{"$f":"SUM(M139:M147)/(COUNTIF(M139:M147,\">0\")+0.00000001)","v":0}]
[null,"recognize presence of channelized turn lane via distance from perpendicular street and traffic pattern"]
[null,"identify that channelized turn lane vehicle speeds (20+ mph) require 100'+  reaction/braking distance"]
[null,"cross channelized right turn lane Plan A: cross with lull "]
[null,"cross channelized right turn lane Plan B: cross with absence of traffic in street that feeds into channelized lane"]
[null,"cross channelized right turn lane Plan C: cross when traffic build up at light prevents lane use by vehicles"]
[null,"identify that multi lane channelized turn lanes are uniquely dangerous as traffic in one lane may stop for pedestrian and traffic in the other lane may continue as traffic in the first lane may block driver in the other lane from seeing the pedestrian"]
[null,"locate traffic island, utilizing features (like a ramp) provided by traffic engineers"]
[null,"locate perpendicular street"]
[null,"re-establish alignment and cross perpendicular street from traffic island"]
["14. Veering",null,null,{"$f":"SUM(C149:C161)/(COUNTIF(C149:C161,\">0\")+0.00000001)","v":0},null,{"$f":"SUM(E149:E161)/(COUNTIF(E149:E161,\">0\")+0.00000001)","v":0},null,{"$f":"SUM(G149:G161)/(COUNTIF(G149:G161,\">0\")+0.00000001)","v":0},null,{"$f":"SUM(I149:I161)/(COUNTIF(I149:I161,\">0\")+0.00000001)","v":0},null,{"$f":"SUM(K149:K161)/(COUNTIF(K149:K161,\">0\")+0.00000001)","v":0},null,{"$f":"SUM(M149:M161)/(COUNTIF(M149:M161,\">0\")+0.00000001)","v":0}]
[null,"Set up to recover quickly from veering while crossing Step 1: place cane in hand opposite parallel street to be ready to make 90 degree turn towards hand holding cane if veer is detected without need to remember what side parallel street was on"]
[null,"Set up to recover quickly from veering while crossing Step 2: identify current directional corner of intersection and desired directional corner of intersection"]
[null,"Set up to recover quickly from veering while crossing Step 3: Identify any sound clues that may help student determine if s/he is veering (ex: barking dog on one corner of the intersection)"]
[null,"Detect veer while crossing Step 1: time and distance--crossing taking too  long for estimated street width"]
[null,"Detect veer while crossing Step 2:  traffic no longer sounds parallel and perpendicular"]
[null,"Detect veer while crossing Step 3: crown of street not sensed rising then falling"]
[null,"Detect veer while crossing Step 4: other environmental cues out of kilter (e.g. dog barking on desired corner no longer sounds straight ahead)"]
[null,"Correct for veer while crossing Step 1: make 90 degree turn away from parallel street"]
[null,"Correct for veer while crossing Step 2: increase pace"]
[null,"Correct for veer while crossing Step 3: locate curb, clear, step out of street"]
[null,"Recover from veer once out of street Step 1: determine current directional corner of intersection"]
[null,"Recover from veer once out of street Step 2: if needed return to intersection and cross again to reach desired directional corner"]
[null,"Recover from veer once out of street Step 3: re-establish L.O.T. and resume route"]
["15. Understanding Drivers' Perspectives",null,null,{"$f":"SUM(C163:C170)/(COUNTIF(C163:C170,\">0\")+0.00000001)","v":0},null,{"$f":"SUM(E163:E170)/(COUNTIF(E163:E170,\">0\")+0.00000001)","v":0},null,{"$f":"SUM(G163:G170)/(COUNTIF(G163:G170,\">0\")+0.00000001)","v":0},null,{"$f":"SUM(I163:I170)/(COUNTIF(I163:I170,\">0\")+0.00000001)","v":0},null,{"$f":"SUM(K163:K170)/(COUNTIF(K163:K170,\">0\")+0.00000001)","v":0},null,{"$f":"SUM(M163:M170)/(COUNTIF(M163:M170,\">0\")+0.00000001)","v":0}]
[null,"Identify that drivers can be inattentive/distracted"]
[null,"Identify that drivers are most concerned about collisions with other vehicles and not as concerned with pedestrians"]
[null,"Identify that driver making a right turn may direct his attention to his left and not to a pedestrian in the crosswalk"]
[null,"Identify that driver making a left turn may direct her attention to parallel traffic in the opposite lane and not to pedestrian in the crosswalk"]
[null,"Identify that a driver may attempt to shoot between gaps in traffic (turning or going straight) and that the driver may face a choice between hitting an unexpected pedestrian and being hit by another vehicle"]
[null,"Identify that some drivers will turn in front of or behind pedestrian in the crosswalk"]
[null,"Identify that drivers may not be able to see pedestrians who are obscured by large vehicle serving as parallel traffic in the near lane"]
[null,"Identify that the driver of a tall vehicle (e.g. semi) may have difficulty seeing pedestrain, and will have a progressively harder time seeing pedestrian as vehicle nears pedestrian"]
["16. Use of Pedestrian Signals",null,null,{"$f":"SUM(C172:C175)/(COUNTIF(C172:C175,\">0\")+0.00000001)","v":0},null,{"$f":"SUM(E172:E175)/(COUNTIF(E172:E175,\">0\")+0.00000001)","v":0},null,{"$f":"SUM(G172:G175)/(COUNTIF(G172:G175,\">0\")+0.00000001)","v":0},null,{"$f":"SUM(I172:I175)/(COUNTIF(I172:I175,\">0\")+0.00000001)","v":0},null,{"$f":"SUM(K172:K175)/(COUNTIF(K172:K175,\">0\")+0.00000001)","v":0},null,{"$f":"SUM(M172:M175)/(COUNTIF(M172:M175,\">0\")+0.00000001)","v":0}]
[null,"identify purpose of pedestrian signals (gain more time to cross, ensure parallel traffic in near lane has a green light instead of just a green arrow for left turning vehicles)"]
[null,"identify that some intersections cannot be safely crossed without use of the pedestrian signal."]
[null,"locate pedestrian signal while maintaining orientation and quickly re-establishing L.O.T."]
[null,"wait by pedestrian signal, face perpendicular street, activate signal when perpendicular traffic surges to allow enough time to re-establish orientation and alignment after activating pedestrian signal to use the parallel traffic surge"]
[null,"raw score for section",null,{"$f":"D3+D9+D10+D14+D18+D34+D53+D75+D100+D115+D120+D130+D138+D148+D162+D171","v":0},null,{"$f":"F3+F9+F10+F14+F18+F34+F53+F75+F100+F115+F120+F130+F138+F148+F162+F171","v":0},null,{"$f":"H3+H9+H10+H14+H18+H34+H53+H75+H100+H115+H120+H130+H138+H148+H162+H171","v":0},null,{"$f":"J3+J9+J10+J14+J18+J34+J53+J75+J100+J115+J120+J130+J138+J148+J162+J171","v":0},null,{"$f":"L3+L9+L10+L14+L18+L34+L53+L75+L100+L115+L120+L130+L138+L148+L162+L171","v":0},null,{"$f":"N3+N9+N10+N14+N18+N34+N53+N75+N100+N115+N120+N130+N138+N148+N162+N171","v":0}]
[null,"average score for section",null,{"$f":"D176/(COUNTIF(D3:D175,\">0\")+0.00000001)","v":0},null,{"$f":"F176/(COUNTIF(F3:F175,\">0\")+0.00000001)","v":0},null,{"$f":"H176/(COUNTIF(H3:H175,\">0\")+0.00000001)","v":0},null,{"$f":"J176/(COUNTIF(J3:J175,\">0\")+0.00000001)","v":0},null,{"$f":"L176/(COUNTIF(L3:L175,\">0\")+0.00000001)","v":0},null,{"$f":"N176/(COUNTIF(N3:N175,\">0\")+0.00000001)","v":0}]
[null,"percentage score for section",null,{"$f":"D177/5*100","v":0},null,{"$f":"F177/5*100","v":0},null,{"$f":"H177/5*100","v":0},null,{"$f":"J177/5*100","v":0},null,{"$f":"L177/5*100","v":0},null,{"$f":"N177/5*100","v":0}]
["RATING SCALE"]
["0 = Student not capable of demonstrating skill or does not need skill"]
["1 = Student does not demonstrate skill but may/will learn skill"]
["2 = Student only demonstrates skill with verbal and/or physical prompting"]
["3 = Student sometimes demonstrates skill without verbal and/or physical prompting"]
["4 = Student demonstrates skill and verbal and/or physical prompting are rarely needed"]
["5 = Student has totally mastered skill and does not require verbal and/or physical prompting"]
["STREET CROSSINGS (2st Data Set--Last 6 Columns On Front Page)",null,{"$f":"Front!H1","v":"Date"},null,{"$f":"Front!I1","v":"Date"},null,{"$f":"Front!J1","v":"Date"},null,{"$f":"Front!K1","v":"Date"},null,{"$f":"Front!L1","v":"Date"},null,{"$f":"Front!M1","v":"Date"},null,"Notes"]
[null,null,"Input\nData","Auto\nScore","Input\nData","Auto\nScore","Input\nData","Auto\nScore","Input\nData","Auto\nScore","Input\nData","Auto\nScore","Input\nData","Auto\nScore"]
["1. Anticipate/Detect Upcoming Street Crossing",null,null,{"$f":"SUM(C189:C193)/(COUNTIF(C189:C193,\">0\")+0.00000001)","v":0},null,{"$f":"SUM(E189:E193)/(COUNTIF(E189:E193,\">0\")+0.00000001)","v":0},null,{"$f":"SUM(G189:G193)/(COUNTIF(G189:G193,\">0\")+0.00000001)","v":0},null,{"$f":"SUM(I189:I193)/(COUNTIF(I189:I193,\">0\")+0.00000001)","v":0},null,{"$f":"SUM(K189:K193)/(COUNTIF(K189:K193,\">0\")+0.00000001)","v":0},null,{"$f":"SUM(M189:M193)/(COUNTIF(M189:M193,\">0\")+0.00000001)","v":0}]
[null,"via time and distance"]
[null,"via environmental cues"]
[null,"locate curb (visually or with cane)"]
[null,"changes in wind or 'open' feeling"]
[null,"traffic sounds"]
["2. Maintain Line Of Travel (L.O.T.)",null,null,{"$f":"C194","v":0},null,{"$f":"E194","v":0},null,{"$f":"G194","v":0},null,{"$f":"I194","v":0},null,{"$f":"K194","v":0},null,{"$f":"M194","v":0}]
["3. Maintain total body alignment",null,null,{"$f":"SUM(C196:C198)/(COUNTIF(C196:C198,\">0\")+0.00000001)","v":0},null,{"$f":"SUM(E196:E198)/(COUNTIF(E196:E198,\">0\")+0.00000001)","v":0},null,{"$f":"SUM(G196:G198)/(COUNTIF(G196:G198,\">0\")+0.00000001)","v":0},null,{"$f":"SUM(I196:I198)/(COUNTIF(I196:I198,\">0\")+0.00000001)","v":0},null,{"$f":"SUM(K196:K198)/(COUNTIF(K196:K198,\">0\")+0.00000001)","v":0},null,{"$f":"SUM(M196:M198)/(COUNTIF(M196:M198,\">0\")+0.00000001)","v":0}]
[null,"keep head aligned with L.O.T."]
[null,"keep shoulders aligned with L.O.T."]
[null,"keep toes aligned with L.O.T. "]
["4. Re-establish total body alignment (due to turn or misalign)",null,null,{"$f":"SUM(C200:C202)/(COUNTIF(C200:C202,\">0\")+0.00000001)","v":0},null,{"$f":"SUM(E200:E202)/(COUNTIF(E200:E202,\">0\")+0.00000001)","v":0},null,{"$f":"SUM(G200:G202)/(COUNTIF(G200:G202,\">0\")+0.00000001)","v":0},null,{"$f":"SUM(I200:I202)/(COUNTIF(I200:I202,\">0\")+0.00000001)","v":0},null,{"$f":"SUM(K200:K202)/(COUNTIF(K200:K202,\">0\")+0.00000001)","v":0},null,{"$f":"SUM(M200:M202)/(COUNTIF(M200:M202,\">0\")+0.00000001)","v":0}]
[null,"position head parallel to parallel street"]
[null,"position shoulders parallel to perpendicular street"]
[null,"align toes with shoulders/head"]
["5. Analyze Intersection",null,null,{"$f":"SUM(C204:C218)/(COUNTIF(C204:C218,\">0\")+0.00000001)","v":0},null,{"$f":"SUM(E204:E218)/(COUNTIF(E204:E218,\">0\")+0.00000001)","v":0},null,{"$f":"SUM(G204:G218)/(COUNTIF(G204:G218,\">0\")+0.00000001)","v":0},null,{"$f":"SUM(I204:I218)/(COUNTIF(I204:I218,\">0\")+0.00000001)","v":0},null,{"$f":"SUM(K204:K218)/(COUNTIF(K204:K218,\">0\")+0.00000001)","v":0},null,{"$f":"SUM(M204:M218)/(COUNTIF(M204:M218,\">0\")+0.00000001)","v":0}]
[null,"identify location of parallel street"]
[null,"identify location of perpendicular street"]
[null,"identify crossing as clockwise or counterclockwise"]
[null,"identify parallel traffic in the near lane as being 'right across' the intersection when making clockwise crossings"]
[null,"identify parallel traffic in the near lane as being 'left behind' the intersection when making counterclockwise crossings"]
[null,"identify dangers posed by perpendicular traffic & turning vehicles"]
[null,"identify masking sounds (e.g. construction, loud car)"]
[null,"identify sound shadows (e.g. sounds blocked by parked van)"]
[null,"identify 'plus' intersection"]
[null,"identify 'T' intersection"]
[null,"identify 'Y' intersection"]
[null,"identify roundabout"]
[null,"identify significantly offset intersection"]
[null,"identify atypical intersection"]
[null,"identify newly developed (post year 2000) intersection"]
["6. 'Plus' Intersections",null,null,{"$f":"SUM(C220:C237)/(COUNTIF(C220:C237,\">0\")+0.00000001)","v":0},null,{"$f":"SUM(E220:E237)/(COUNTIF(E220:E237,\">0\")+0.00000001)","v":0},null,{"$f":"SUM(G220:G237)/(COUNTIF(G220:G237,\">0\")+0.00000001)","v":0},null,{"$f":"SUM(I220:I237)/(COUNTIF(I220:I237,\">0\")+0.00000001)","v":0},null,{"$f":"SUM(K220:K237)/(COUNTIF(K220:K237,\">0\")+0.00000001)","v":0},null,{"$f":"SUM(M220:M237)/(COUNTIF(M220:M237,\">0\")+0.00000001)","v":0}]
[null,"identify 'plus' intersection with all way stop"]
[null,"identify 'plus' intersection with parallel street stopped"]
[null,"identify 'plus' intersection with perpendicular street stopped"]
[null,"identify 'plus' intersection with traffic signal"]
["All Way Stop","cross 'plus' intersection with all way stop plan A: cross at a lull"]
[null,"cross 'plus' intersection with all way stop plan B: when no traffic in intersection"]
[null,"cross 'plus' intersection with all way stop plan C: cross with parallel traffic in near lane"]
[null,"cross 'plus' intersection with all way stop plan D: cross with parallel traffic in far lane"]
[null,"cross 'plus' intersection with all way stop plan E: implement alternatives if Situation Of Uncertainty (S.O.U.)"]
["Parallel Stopped","cross 'plus' intersection with parallel street stopped Plan A: determine if gaps are long enough to permit safe crossing at a lull"]
[null,"cross 'plus' intersection with parallel street stopped Plan B: implement alternatives if S.O.U."]
["Perpendicular Stopped","cross 'plus' intersection with perpendicular street stopped Plan A: cross at a lull"]
[null,"cross 'plus' intersection with perpendicular street stopped Plan B: cross with parallel traffic in near lane"]
[null,"cross 'plus' intersection with perpendicular street stopped Plan C: cross with parallel traffic in far lane"]
[null,"cross 'plus' intersection with perpendicular street stopped Plan D: implement alternatives if S.O.U."]
["Traffic Signal","cross 'plus' intersection with traffic signal Plan A: cross with surge of parallel traffic in near lane"]
[null,"cross 'plus' intersection with traffic signal Plan B: cross with surge of parallel traffic in far lane"]
[null,"cross 'plus' intersection with traffic signal Plan C: implement alternatives if S.O.U."]
["7. 'T' Intersections",null,null,{"$f":"SUM(C239:C259)/(COUNTIF(C239:C259,\">0\")+0.00000001)","v":0},null,{"$f":"SUM(E239:E259)/(COUNTIF(E239:E259,\">0\")+0.00000001)","v":0},null,{"$f":"SUM(G239:G259)/(COUNTIF(G239:G259,\">0\")+0.00000001)","v":0},null,{"$f":"SUM(I239:I259)/(COUNTIF(I239:I259,\">0\")+0.00000001)","v":0},null,{"$f":"SUM(K239:K259)/(COUNTIF(K239:K259,\">0\")+0.00000001)","v":0},null,{"$f":"SUM(M239:M259)/(COUNTIF(M239:M259,\">0\")+0.00000001)","v":0}]
[null,"identify 'T' intersection with all way stop"]
[null,"identify 'T' intersection with parallel street stopped"]
[null,"identify 'T' intersection with perpendicular street stopped"]
[null,"identify 'T' intersection with traffic signal"]
["All Way Stop","cross base or top of 'T' intersection with all way stop plan A: cross at a lull"]
[null,"cross base or top of 'T' intersection with all way stop plan B: when no traffic in intersection"]
[null,"cross base of 'T' intersection with all way stop plan C: cross with parallel traffic in near lane"]
[null,"cross base of 'T' intersection with all way stop plan D: cross with parallel traffic in far lane"]
[null,"cross base or top of 'T' intersection with all way stop plan E: implement alternatives if Situation Of Uncertainty (S.O.U.)"]
["One Street Stopped","cross 'T' intersection with parallel street stopped (crossing top of 'T') Plan A: determine if gaps are long enough to permit safe crossing"]
[null,"cross 'T' intersection with parallel street stopped (crossing top of 'T') Plan B: implement alternatives if S.O.U."]
[null,"cross 'T' intersection with perpendicular street stopped (crossing base of 'T') Plan A: cross at a lull"]
[null,"cross 'T' intersection with perpendicular street stopped (crossing base of 'T') Plan B: cross with parallel traffic in near lane"]
[null,"cross 'T' intersection with perpendicular street stopped (crossing base of 'T') Plan C: cross with parallel traffic in far lane"]
[null,"cross 'T' intersection with perpendicular street stopped (crossing base of 'T') Plan D: implement alternatives if S.O.U."]
["Traffic Signal","cross 'T' intersection with traffic signal (crossing top of 'T') Plan A: clockwise: cross with traffic surge in parallel street and identify left turners will cross L.O.T."]
[null,"cross 'T' intersection with traffic signal (crossing top of 'T') Plan B: counterclockwise: cross with traffic surge in parallel street and identify right turners will cross L.O.T."]
[null,"cross 'T' intersection with traffic signal (crossing top of 'T') Plan C: implement alternatives if S.O.U."]
[null,"cross 'T' intersection with traffic signal (crossing base of 'T') Plan A: clockwise or counter: cross with surge of parallel traffic in near lane"]
[null,"cross 'T' intersection with traffic signal (crossing base of 'T') Plan B: clockwise or counter: cross with surge of parallel traffic in far in far lane"]
[null,"cross 'T' intersection with traffic signal (crossing base of 'T') Plan C: clockwise or counter: implement alternatives if S.O.U."]
["8. 'Y' Intersections",null,null,{"$f":"SUM(C261:C284)/(COUNTIF(C261:C284,\">0\")+0.00000001)","v":0},null,{"$f":"SUM(E261:E284)/(COUNTIF(E261:E284,\">0\")+0.00000001)","v":0},null,{"$f":"SUM(G261:G284)/(COUNTIF(G261:G284,\">0\")+0.00000001)","v":0},null,{"$f":"SUM(I261:I284)/(COUNTIF(I261:I284,\">0\")+0.00000001)","v":0},null,{"$f":"SUM(K261:K284)/(COUNTIF(K261:K284,\">0\")+0.00000001)","v":0},null,{"$f":"SUM(M261:M284)/(COUNTIF(M261:M284,\">0\")+0.00000001)","v":0}]
[null,"identify 'Y' intersection with all way stop"]
[null,"identify 'Y' intersection with arm or base of Y stopped"]
[null,"identify 'Y' intersection with trafic signal"]
[null,"identify whether 'arm' or base of 'Y' is being crossed"]
["All Way Stop","Y' intersection with all way stop (cross an 'arm') Plan A: cross at a lull"]
[null,"Y' intersection with all way stop (cross an 'arm') Plan B: cross when no traffic in intersection"]
[null,"Y' intersection with all way stop (cross an 'arm') Plan C: cross with parallel traffic in near lane"]
[null,"Y' intersection with all way stop (cross an 'arm') Plan D: cross with parallel traffic in far lane"]
[null,"Y' intersection with all way stop (cross an 'arm') Plan E:  implement alternatives if S.O.U."]
[null,"Y' intersection with all way stop (cross base of 'Y') Plan A: cross at a lull"]
[null,"Y' intersection with all way stop (cross base of 'Y') Plan B: cross when no traffic in intersection"]
[null,"Y' intersection with all way stop (cross base of 'Y') Plan C:  seek alternate intersection if S.O.U."]
["One Street Stopped","Y' intersection with one 'arm' stopped (cross stopped 'arm') Plan A: cross at a lull"]
[null,"Y' intersection with one 'arm' stopped (cross stopped 'arm') Plan B: cross with parallel traffic in near lane"]
[null,"Y' intersection with one 'arm' stopped (cross stopped 'arm') Plan C: cross with parallel traffic in far lane and identify danger of fast moving vehicles potentially crossing L.O.T."]
[null,"Y' intersection with one 'arm' stopped (cross stopped 'arm') Plan D:  implement alternatives if S.O.U."]
[null,"Y' intersection with one 'arm' stopped (cross 'arm' or base with right of way) Plan A: determine if gaps are long enough to permit safe crossing"]
[null,"Y' intersection with one 'arm' stopped (cross 'arm' with right of way) Plan B: implement alternatives if S.O.U."]
["Traffic Signal","Y' intersection with traffic signal (cross an 'arm') Plan A: clockwise: cross with traffic surge in parallel street & identify potential danger posed by left turning vehicles"]
[null,"Y' intersection with traffic signal (cross an 'arm') Plan B: counterclockwise: cross with parallel traffic surge & identify potential danger posed by right turning vehicles"]
[null,"Y' intersection with traffic signal (cross an 'arm') Plan C: implement alternatives if S.O.U."]
[null,"Y' intersection with traffic signal (cross base of 'Y') Plan A: identify lack of useful parallel traffic"]
[null,"Y' intersection with traffic signal (cross base of 'Y') Plan B: cross 'arm' of 'Y' instead, making multiple crossings if necessary"]
[null,"Y' intersection with traffic signal (cross base of 'Y') Plan C: implement alternatives if S.O.U."]
["9. Roundabouts",null,null,{"$f":"SUM(C286:C299)/(COUNTIF(C286:C299,\">0\")+0.00000001)","v":0},null,{"$f":"SUM(E286:E299)/(COUNTIF(E286:E299,\">0\")+0.00000001)","v":0},null,{"$f":"SUM(G286:G299)/(COUNTIF(G286:G299,\">0\")+0.00000001)","v":0},null,{"$f":"SUM(I286:I299)/(COUNTIF(I286:I299,\">0\")+0.00000001)","v":0},null,{"$f":"SUM(K286:K299)/(COUNTIF(K286:K299,\">0\")+0.00000001)","v":0},null,{"$f":"SUM(M286:M299)/(COUNTIF(M286:M299,\">0\")+0.00000001)","v":0}]
[null,"identify that roundabout crosswalks are typically farther from the intersection (instead of right at the intersection as is typical with other types of intersections) specifically to enhance pedestrian safety"]
[null,"consistently locate roundabout crosswalks"]
["clockwise","identify traffic will come from the left as it enters the roundabout and that traffic 'right across' can be parallel traffic or exit via perpendicular street without slowing down"]
[null,"identify that a car that stops for a pedestrian while the car is exiting the roundabout may be struck from behind and pushed into the pedestrian as other drivers are not anticipating that vehicles will stop in the roundabout"]
[null,"identify that roundabout vehicle speeds (20+ mph) require 100'+  reaction/braking distance"]
[null,"identify drivers entering the roundabout will focus their attention  to the drivers' left and may not see pedestrian attempting to cross"]
[null,"determine if gaps are long enough to permit safe crossing"]
[null,"implement alternatives if S.O.U."]
["counterclockwise","identify traffic will come from the right as it enters the roundabout and that traffic 'left behind' can be parallel traffic or exit via perpendicular street without slowing down"]
[null,"identify that a car that stops for a pedestrian while the car is exiting the roundabout may be struck from behind and pushed into the pedestrian as other drivers are not anticipating that vehicles will stop in the roundabout"]
[null,"identify that roundabout vehicle speeds (20+ mph) require 100'+  reaction/braking distance"]
[null,"determine if gaps are long enough to permit safe crossing"]
[null,"implement alternatives if S.O.U."]
[null,"maintain orientation and resume route after crossing"]
["10. Significantly offset intersection",null,null,{"$f":"SUM(C301:C304)/(COUNTIF(C301:C304,\">0\")+0.00000001)","v":0},null,{"$f":"SUM(E301:E304)/(COUNTIF(E301:E304,\">0\")+0.00000001)","v":0},null,{"$f":"SUM(G301:G304)/(COUNTIF(G301:G304,\">0\")+0.00000001)","v":0},null,{"$f":"SUM(I301:I304)/(COUNTIF(I301:I304,\">0\")+0.00000001)","v":0},null,{"$f":"SUM(K301:K304)/(COUNTIF(K301:K304,\">0\")+0.00000001)","v":0},null,{"$f":"SUM(M301:M304)/(COUNTIF(M301:M304,\">0\")+0.00000001)","v":0}]
[null,"identify presence of offset intersection via traffic pattern"]
[null,"treat as 'T' intersections"]
[null,"identify that traffic control can be different at each part of the significantly offset intersection"]
[null,"implement alternatives if S.O.U. (e.g. cross elsewhere)"]
["11. Atypical intersection (ex: convergence 5 or 6 streets)",null,null,{"$f":"SUM(C306:C314)/(COUNTIF(C306:C314,\">0\")+0.00000001)","v":0},null,{"$f":"SUM(E306:E314)/(COUNTIF(E306:E314,\">0\")+0.00000001)","v":0},null,{"$f":"SUM(G306:G314)/(COUNTIF(G306:G314,\">0\")+0.00000001)","v":0},null,{"$f":"SUM(I306:I314)/(COUNTIF(I306:I314,\">0\")+0.00000001)","v":0},null,{"$f":"SUM(K306:K314)/(COUNTIF(K306:K314,\">0\")+0.00000001)","v":0},null,{"$f":"SUM(M306:M314)/(COUNTIF(M306:M314,\">0\")+0.00000001)","v":0}]
[null,"recognize presence of atypical intersection via traffic pattern"]
[null,"determine if there is a safe time to cross intended street (may not be depending on traffic pattern)"]
[null,"identify barriers placed by traffic engineers to prevent pedestrians from crossing such as hedges, fences, or concrete obstructions and identify need to cross elsewhere"]
[null,"align to cross intended street at intersection if permitted by traffic engineer design and also safe"]
["All Way Stop","atypical intersection with all way stop Plan A: cross with a lull"]
[null,"atypical intersection with all way stop Plan B: cross with parallel traffic in near lane"]
[null,"atypical intersection with all way stop Plan C: implement alternatives if S.O.U."]
["Traffic Signal","atypical intersection with traffic light Plan A: cross with parallel traffic in near lane"]
[null,"atypical intersection with traffic light Plan B: implement alternatives if S.O.U."]
["12. Newly Developed Intersections",null,null,{"$f":"SUM(C316:C322)/(COUNTIF(C316:C322,\">0\")+0.00000001)","v":0},null,{"$f":"SUM(E316:E322)/(COUNTIF(E316:E322,\">0\")+0.00000001)","v":0},null,{"$f":"SUM(G316:G322)/(COUNTIF(G316:G322,\">0\")+0.00000001)","v":0},null,{"$f":"SUM(I316:I322)/(COUNTIF(I316:I322,\">0\")+0.00000001)","v":0},null,{"$f":"SUM(K316:K322)/(COUNTIF(K316:K322,\">0\")+0.00000001)","v":0},null,{"$f":"SUM(M316:M322)/(COUNTIF(M316:M322,\">0\")+0.00000001)","v":0}]
[null,"identify that traffic engineers have developed a variety of new types of intersections that will become increasingly common (diverging diamond, displaced left turn, median U-turn, jughandle, synchronized street, etc) and that all newly developed intersections that have been installed after ADA became law means all SHOULD have accessible pedestrian access signals, ramps, truncated domes, etc"]
[null,"identify that traffic engineers often install features (e.g. paths cut through traffic islands for wheelchairs and pedestrians, fencing, vegetation, etc) to direct pedestrian travel across the intersection, including pedestrian refuge islands where approrpriate"]
[null,"identify the need to possibly modify alignment to align with the features installed by traffic engineers"]
[null,"identify that the designated pedestrian path for crossing a newer intersection may be in the middle of the road with traffic on both sides of the pedestrian (some diverging diamonds) or diagonally through the intersection (some synchronized streets)"]
[null,"identify that traffic patterns will be very different from older intersection types and that each of the newer intersection types have traffic patterns that are different from one another"]
[null,"identify the parallel traffic needed to cross various portions of the new types of intersections"]
[null,"identify that some of the newer intersections will require the pedestrian to make multiple crossings to traverse the intersection, some of which may require the pedestrian to utilize a pedestrian refuge island"]
["13. Channelized right turn lanes (all intersection types)",null,null,{"$f":"SUM(C324:C332)/(COUNTIF(C324:C332,\">0\")+0.00000001)","v":0},null,{"$f":"SUM(E324:E332)/(COUNTIF(E324:E332,\">0\")+0.00000001)","v":0},null,{"$f":"SUM(G324:G332)/(COUNTIF(G324:G332,\">0\")+0.00000001)","v":0},null,{"$f":"SUM(I324:I332)/(COUNTIF(I324:I332,\">0\")+0.00000001)","v":0},null,{"$f":"SUM(K324:K332)/(COUNTIF(K324:K332,\">0\")+0.00000001)","v":0},null,{"$f":"SUM(M324:M332)/(COUNTIF(M324:M332,\">0\")+0.00000001)","v":0}]
[null,"recognize presence of channelized turn lane via distance from perpendicular street and traffic pattern"]
[null,"identify that channelized turn lane vehicle speeds (20+ mph) require 100'+  reaction/braking distance"]
[null,"cross channelized right turn lane Plan A: cross with lull "]
[null,"cross channelized right turn lane Plan B: cross with absence of traffic in street that feeds into channelized lane"]
[null,"cross channelized right turn lane Plan C: cross when traffic build up at light prevents lane use by vehicles"]
[null,"identify that multi lane channelized turn lanes are uniquely dangerous as traffic in one lane may stop for pedestrian and traffic in the other lane may continue as traffic in the first lane may block driver in the other lane from seeing the pedestrian"]
[null,"locate traffic island, utilizing features (like a ramp) provided by traffic engineers"]
[null,"locate perpendicular street"]
[null,"re-establish alignment and cross perpendicular street from traffic island"]
["14. Veering",null,null,{"$f":"SUM(C334:C346)/(COUNTIF(C334:C346,\">0\")+0.00000001)","v":0},null,{"$f":"SUM(E334:E346)/(COUNTIF(E334:E346,\">0\")+0.00000001)","v":0},null,{"$f":"SUM(G334:G346)/(COUNTIF(G334:G346,\">0\")+0.00000001)","v":0},null,{"$f":"SUM(I334:I346)/(COUNTIF(I334:I346,\">0\")+0.00000001)","v":0},null,{"$f":"SUM(K334:K346)/(COUNTIF(K334:K346,\">0\")+0.00000001)","v":0},null,{"$f":"SUM(M334:M346)/(COUNTIF(M334:M346,\">0\")+0.00000001)","v":0}]
[null,"Set up to recover quickly from veering while crossing Step 1: place cane in hand opposite parallel street to be ready to make 90 degree turn towards hand holding cane if veer is detected without need to remember what side parallel street was on"]
[null,"Set up to recover quickly from veering while crossing Step 2: identify current directional corner of intersection and desired directional corner of intersection"]
[null,"Set up to recover quickly from veering while crossing Step 3: Identify any sound clues that may help student determine if s/he is veering (ex: barking dog on one corner of the intersection)"]
[null,"Detect veer while crossing Step 1: time and distance--crossing taking too  long for estimated street width"]
[null,"Detect veer while crossing Step 2:  traffic no longer sounds parallel and perpendicular"]
[null,"Detect veer while crossing Step 3: crown of street not sensed rising then falling"]
[null,"Detect veer while crossing Step 4: other environmental cues out of kilter (e.g. dog barking on desired corner no longer sounds straight ahead)"]
[null,"Correct for veer while crossing Step 1: make 90 degree turn away from parallel street"]
[null,"Correct for veer while crossing Step 2: increase pace"]
[null,"Correct for veer while crossing Step 3: locate curb, clear, step out of street"]
[null,"Recover from veer once out of street Step 1: determine current directional corner of intersection"]
[null,"Recover from veer once out of street Step 2: if needed return to intersection and cross again to reach desired directional corner"]
[null,"Recover from veer once out of street Step 3: re-establish L.O.T. and resume route"]
["15. Understanding Drivers' Perspectives",null,null,{"$f":"SUM(C348:C355)/(COUNTIF(C348:C355,\">0\")+0.00000001)","v":0},null,{"$f":"SUM(E348:E355)/(COUNTIF(E348:E355,\">0\")+0.00000001)","v":0},null,{"$f":"SUM(G348:G355)/(COUNTIF(G348:G355,\">0\")+0.00000001)","v":0},null,{"$f":"SUM(I348:I355)/(COUNTIF(I348:I355,\">0\")+0.00000001)","v":0},null,{"$f":"SUM(K348:K355)/(COUNTIF(K348:K355,\">0\")+0.00000001)","v":0},null,{"$f":"SUM(M348:M355)/(COUNTIF(M348:M355,\">0\")+0.00000001)","v":0}]
[null,"Identify that drivers can be inattentive/distracted"]
[null,"Identify that drivers are most concerned about collisions with other vehicles and not as concerned with pedestrians"]
[null,"Identify that driver making a right turn may direct his attention to his left and not to a pedestrian in the crosswalk"]
[null,"Identify that driver making a left turn may direct her attention to parallel traffic in the opposite lane and not to pedestrian in the crosswalk"]
[null,"Identify that a driver may attempt to shoot between gaps in traffic (turning or going straight) and that the driver may face a choice between hitting an unexpected pedestrian and being hit by another vehicle"]
[null,"Identify that some drivers will turn in front of or behind pedestrian in the crosswalk"]
[null,"Identify that drivers may not be able to see pedestrians who are obscured by large vehicle serving as parallel traffic in the near lane"]
[null,"Identify that the driver of a tall vehicle (e.g. semi) may have difficulty seeing pedestrain, and will have a progressively harder time seeing pedestrian as vehicle nears pedestrian"]
["16. Use of Pedestrian Signals",null,null,{"$f":"SUM(C357:C360)/(COUNTIF(C357:C360,\">0\")+0.00000001)","v":0},null,{"$f":"SUM(E357:E360)/(COUNTIF(E357:E360,\">0\")+0.00000001)","v":0},null,{"$f":"SUM(G357:G360)/(COUNTIF(G357:G360,\">0\")+0.00000001)","v":0},null,{"$f":"SUM(I357:I360)/(COUNTIF(I357:I360,\">0\")+0.00000001)","v":0},null,{"$f":"SUM(K357:K360)/(COUNTIF(K357:K360,\">0\")+0.00000001)","v":0},null,{"$f":"SUM(M357:M360)/(COUNTIF(M357:M360,\">0\")+0.00000001)","v":0}]
[null,"identify purpose of pedestrian signals (gain more time to cross, ensure parallel traffic in near lane has a green light instead of just a green arrow for left turning vehicles)"]
[null,"identify that some intersections cannot be safely crossed without use of the pedestrian signal."]
[null,"locate pedestrian signal while maintaining orientation and quickly re-establishing L.O.T."]
[null,"wait by pedestrian signal, face perpendicular street, activate signal when perpendicular traffic surges to allow enough time to re-establish orientation and alignment after activating pedestrian signal to use the parallel traffic surge"]
[null,"raw score for section",null,{"$f":"D188+D194+D195+D199+D203+D219+D238+D260+D285+D300+D305+D315+D323+D333+D347+D356","v":0},null,{"$f":"F188+F194+F195+F199+F203+F219+F238+F260+F285+F300+F305+F315+F323+F333+F347+F356","v":0},null,{"$f":"H188+H194+H195+H199+H203+H219+H238+H260+H285+H300+H305+H315+H323+H333+H347+H356","v":0},null,{"$f":"J188+J194+J195+J199+J203+J219+J238+J260+J285+J300+J305+J315+J323+J333+J347+J356","v":0},null,{"$f":"L188+L194+L195+L199+L203+L219+L238+L260+L285+L300+L305+L315+L323+L333+L347+L356","v":0},null,{"$f":"N188+N194+N195+N199+N203+N219+N238+N260+N285+N300+N305+N315+N323+N333+N347+N356","v":0}]
[null,"average score for section",null,{"$f":"D361/(COUNTIF(D188:D360,\">0\")+0.00000001)","v":0},null,{"$f":"F361/(COUNTIF(F188:F360,\">0\")+0.00000001)","v":0},null,{"$f":"H361/(COUNTIF(H188:H360,\">0\")+0.00000001)","v":0},null,{"$f":"J361/(COUNTIF(J188:J360,\">0\")+0.00000001)","v":0},null,{"$f":"L361/(COUNTIF(L188:L360,\">0\")+0.00000001)","v":0},null,{"$f":"N361/(COUNTIF(N188:N360,\">0\")+0.00000001)","v":0}]
[null,"percentage score for section",null,{"$f":"D362/5*100","v":0},null,{"$f":"F362/5*100","v":0},null,{"$f":"H362/5*100","v":0},null,{"$f":"J362/5*100","v":0},null,{"$f":"L362/5*100","v":0},null,{"$f":"N362/5*100","v":0}]
["RATING SCALE"]
["0 = Student not capable of demonstrating skill or does not need skill"]
["1 = Student does not demonstrate skill but may/will learn skill"]
["2 = Student only demonstrates skill with verbal and/or physical prompting"]
["3 = Student sometimes demonstrates skill without verbal and/or physical prompting"]
["4 = Student demonstrates skill and verbal and/or physical prompting are rarely needed"]
["5 = Student has totally mastered skill and does not require verbal and/or physical prompting"]

{"sheet":"Orient","index":10,"n_rows":180,"n_cols":15,"rows_kept":180,"cut":false,"hidden":false,"merged":[[0,12,0,13],[90,2,90,3],[90,4,90,5],[90,6,90,7],[90,8,90,9],[90,10,90,11],[90,12,90,13],[0,2,0,3],[0,4,0,5],[0,6,0,7],[0,8,0,9],[0,10,0,11]]}
["ORIENTATION SKILLS (First 6 Columns On Front Page)",null,{"$f":"Front!B1","v":"Date"},null,{"$f":"Front!C1","v":"Date"},null,{"$f":"Front!D1","v":"Date"},null,{"$f":"Front!E1","v":"Date"},null,{"$f":"Front!F1","v":"Date"},null,{"$f":"Front!G1","v":"Date"},null,"notes"]
[null,null,"Input\nData","Auto\nScore","Input\nData","Auto\nScore","Input\nData","Auto\nScore","Input\nData","Auto\nScore","Input\nData","Auto\nScore","Input\nData","Auto\nScore"]
["1. Cardinality",null,null,{"$f":"SUM(C4:C17)/(COUNTIF(C4:C17,\">0\")+0.00000001)","v":0},null,{"$f":"SUM(E4:E17)/(COUNTIF(E4:E17,\">0\")+0.00000001)","v":0},null,{"$f":"SUM(G4:G17)/(COUNTIF(G4:G17,\">0\")+0.00000001)","v":0},null,{"$f":"SUM(I4:I17)/(COUNTIF(I4:I17,\">0\")+0.00000001)","v":0},null,{"$f":"SUM(K4:K17)/(COUNTIF(K4:K17,\">0\")+0.00000001)","v":0},null,{"$f":"SUM(M4:M17)/(COUNTIF(M4:M17,\">0\")+0.00000001)","v":0}]
[null,"identify names of cardinal directions"]
[null,"identify east opposite west, north opposite south"]
[null,"use clue (e.g. position of sun, noise from passing train) or landmark (e.g. mountains) to determine one direction"]
[null,"use one known direction to extrapolate other three"]
[null,"identify SE, SW, NE, NW"]
[null,"identify direction while walking indoors including turns"]
[null,"identify direction while walking outdoors including turns"]
[null,"identify direction to object or building"]
[null,"identify directional relationship to object or building (e.g. the building is to east so I am west of building)"]
[null,"identify directional relationship to parallel street"]
[null,"identify directional corner of intersection"]
[null,"complete single turn route using cardinal directions"]
[null,"complete two turn route using cardinal directions"]
[null,"complete multi-turn route using cardinal directions"]
["2. Landmarks",null,null,{"$f":"SUM(C19:C23)/(COUNTIF(C19:C23,\">0\")+0.00000001)","v":0},null,{"$f":"SUM(E19:E23)/(COUNTIF(E19:E23,\">0\")+0.00000001)","v":0},null,{"$f":"SUM(G19:G23)/(COUNTIF(G19:G23,\">0\")+0.00000001)","v":0},null,{"$f":"SUM(I19:I23)/(COUNTIF(I19:I23,\">0\")+0.00000001)","v":0},null,{"$f":"SUM(K19:K23)/(COUNTIF(K19:K23,\">0\")+0.00000001)","v":0},null,{"$f":"SUM(M19:M23)/(COUNTIF(M19:M23,\">0\")+0.00000001)","v":0}]
[null,"identify landmarks as permanent fixtures in environment"]
[null,"identify landmarks unique to commonly used routes"]
[null,"complete single turn using landmark "]
[null,"complete two turn route using landmarks"]
[null,"complete multi-turn route using landmarks"]
["3. Clues",null,null,{"$f":"SUM(C25:C29)/(COUNTIF(C25:C29,\">0\")+0.00000001)","v":0},null,{"$f":"SUM(E25:E29)/(COUNTIF(E25:E29,\">0\")+0.00000001)","v":0},null,{"$f":"SUM(G25:G29)/(COUNTIF(G25:G29,\">0\")+0.00000001)","v":0},null,{"$f":"SUM(I25:I29)/(COUNTIF(I25:I29,\">0\")+0.00000001)","v":0},null,{"$f":"SUM(K25:K29)/(COUNTIF(K25:K29,\">0\")+0.00000001)","v":0},null,{"$f":"SUM(M25:M29)/(COUNTIF(M25:M29,\">0\")+0.00000001)","v":0}]
[null,"identify clues as transitory "]
[null,"identify clues unique to commonly used routes"]
[null,"complete single turn route using clue "]
[null,"complete two turn route using clues"]
[null,"complete multi-turn route using clues"]
["4. Indoor Numbering Systems",null,null,{"$f":"SUM(C31:C35)/(COUNTIF(C31:C35,\">0\")+0.00000001)","v":0},null,{"$f":"SUM(E31:E35)/(COUNTIF(E31:E35,\">0\")+0.00000001)","v":0},null,{"$f":"SUM(G31:G35)/(COUNTIF(G31:G35,\">0\")+0.00000001)","v":0},null,{"$f":"SUM(I31:I35)/(COUNTIF(I31:I35,\">0\")+0.00000001)","v":0},null,{"$f":"SUM(K31:K35)/(COUNTIF(K31:K35,\">0\")+0.00000001)","v":0},null,{"$f":"SUM(M31:M35)/(COUNTIF(M31:M35,\">0\")+0.00000001)","v":0}]
[null,"identify that rooms in buildings often have numbers"]
[null,"identify where braille/large print sign is found on/by door"]
[null,"identify that indoor numbering systems vary widely"]
[null,"identify numbers generally get bigger/smaller heading in one direction, evens sometimes found on one side of hall"]
[null,"identify that initial digit can identify floor number of room"]
["5. Outdoor Numbering (Address) Systems",null,null,{"$f":"SUM(C37:C41)/(COUNTIF(C37:C41,\">0\")+0.00000001)","v":0},null,{"$f":"SUM(E37:E41)/(COUNTIF(E37:E41,\">0\")+0.00000001)","v":0},null,{"$f":"SUM(G37:G41)/(COUNTIF(G37:G41,\">0\")+0.00000001)","v":0},null,{"$f":"SUM(I37:I41)/(COUNTIF(I37:I41,\">0\")+0.00000001)","v":0},null,{"$f":"SUM(K37:K41)/(COUNTIF(K37:K41,\">0\")+0.00000001)","v":0},null,{"$f":"SUM(M37:M41)/(COUNTIF(M37:M41,\">0\")+0.00000001)","v":0}]
[null,"identify that houses/businesses have street addresses"]
[null,"identify where (print) address can be found on house (e.g. by door, on curb, mailbox)"]
[null,"identify where (print) address can be found on business (e.g. on/above door, on window)"]
[null,"identify that outdoor numbering systems are similar from one city to another"]
[null,"identify that even number addresses are on either east or west side of streets and either north or south side of streets, depending on the city"]
["6. Grid System",null,null,{"$f":"SUM(C43:C52)/(COUNTIF(C43:C52,\">0\")+0.00000001)","v":0},null,{"$f":"SUM(E43:E52)/(COUNTIF(E43:E52,\">0\")+0.00000001)","v":0},null,{"$f":"SUM(G43:G52)/(COUNTIF(G43:G52,\">0\")+0.00000001)","v":0},null,{"$f":"SUM(I43:I52)/(COUNTIF(I43:I52,\">0\")+0.00000001)","v":0},null,{"$f":"SUM(K43:K52)/(COUNTIF(K43:K52,\">0\")+0.00000001)","v":0},null,{"$f":"SUM(M43:M52)/(COUNTIF(M43:M52,\">0\")+0.00000001)","v":0}]
[null,"identify 'checkerboard' pattern of grid system"]
[null,"identify names/numbers of east-west, north-south streets"]
[null,"complete single block straight line route"]
[null,"complete single block 'L' route"]
[null,"complete single block 'U' route"]
[null,"complete multi block straight line route"]
[null,"complete multi block 'L' route"]
[null,"complete multi block 'U' route"]
[null,"complete multi block zig-zag route"]
[null,"complete route and then return to starting point by a new route created by student"]
["7. Divisors And Block Numbering",null,null,{"$f":"SUM(C54:C59)/(COUNTIF(C54:C59,\">0\")+0.00000001)","v":0},null,{"$f":"SUM(E54:E59)/(COUNTIF(E54:E59,\">0\")+0.00000001)","v":0},null,{"$f":"SUM(G54:G59)/(COUNTIF(G54:G59,\">0\")+0.00000001)","v":0},null,{"$f":"SUM(I54:I59)/(COUNTIF(I54:I59,\">0\")+0.00000001)","v":0},null,{"$f":"SUM(K54:K59)/(COUNTIF(K54:K59,\">0\")+0.00000001)","v":0},null,{"$f":"SUM(M54:M59)/(COUNTIF(M54:M59,\">0\")+0.00000001)","v":0}]
[null,"identify divisors for town/city"]
[null,"identify that block numbers generally run in the 100s"]
[null,"identify that block numbers increase with distance from divisors and decrease as divisors are neared"]
[null,"use address to determine approximate number of blocks to divisor and estimate time to reach divisor "]
[null,"use second address to determine number of blocks to other divisor, center of town and time to reach both"]
[null,"use two addresses to determine location in city and determine direction and approximate distance and time to reach another address elsewhere in the town/city"]
["8. Transferability ",null,null,{"$f":"SUM(C61:C63)/(COUNTIF(C61:C63,\">0\")+0.00000001)","v":0},null,{"$f":"SUM(E61:E63)/(COUNTIF(E61:E63,\">0\")+0.00000001)","v":0},null,{"$f":"SUM(G61:G63)/(COUNTIF(G61:G63,\">0\")+0.00000001)","v":0},null,{"$f":"SUM(I61:I63)/(COUNTIF(I61:I63,\">0\")+0.00000001)","v":0},null,{"$f":"SUM(K61:K63)/(COUNTIF(K61:K63,\">0\")+0.00000001)","v":0},null,{"$f":"SUM(M61:M63)/(COUNTIF(M61:M63,\">0\")+0.00000001)","v":0}]
[null,"identify that divisors/block numbering system concepts are identical in virtually all cities"]
[null,"identify methods for determining divisors in other cities/towns"]
[null,"identify methods for determining even numbers are on east or west/north or south sides of streets in another city/town"]
["9. Global Positioning Systems (GPS)",null,null,{"$f":"SUM(C65:C71)/(COUNTIF(C65:C71,\">0\")+0.00000001)","v":0},null,{"$f":"SUM(E65:E71)/(COUNTIF(E65:E71,\">0\")+0.00000001)","v":0},null,{"$f":"SUM(G65:G71)/(COUNTIF(G65:G71,\">0\")+0.00000001)","v":0},null,{"$f":"SUM(I65:I71)/(COUNTIF(I65:I71,\">0\")+0.00000001)","v":0},null,{"$f":"SUM(K65:K71)/(COUNTIF(K65:K71,\">0\")+0.00000001)","v":0},null,{"$f":"SUM(M65:M71)/(COUNTIF(M65:M71,\">0\")+0.00000001)","v":0}]
[null,"identify purpose of GPS "]
[null,"identify GPS options accessible by this particular student"]
[null,"use GPS device to determine current location"]
[null,"use GPS device to determine cardinal direction"]
[null,"use GPS to plot route by using Point Of Interest or business name"]
[null,"use GPS to plot route by address"]
[null,"identify limitations of GPS devices"]
["10. Maps",null,null,{"$f":"SUM(C73:C80)/(COUNTIF(C73:C80,\">0\")+0.00000001)","v":0},null,{"$f":"SUM(E73:E80)/(COUNTIF(E73:E80,\">0\")+0.00000001)","v":0},null,{"$f":"SUM(G73:G80)/(COUNTIF(G73:G80,\">0\")+0.00000001)","v":0},null,{"$f":"SUM(I73:I80)/(COUNTIF(I73:I80,\">0\")+0.00000001)","v":0},null,{"$f":"SUM(K73:K80)/(COUNTIF(K73:K80,\">0\")+0.00000001)","v":0},null,{"$f":"SUM(M73:M80)/(COUNTIF(M73:M80,\">0\")+0.00000001)","v":0}]
[null,"identify purpose of map key"]
[null,"scan map systematically to get overview"]
[null,"search map for more detailed information"]
[null,"locate items from key on map"]
[null,"describe relationships between items on the map in cardinal terms"]
[null,"describe relationships between items on map and what those items represent in the real world"]
[null,"create simple map of familiar route"]
[null,"use simple map to complete route"]
[null,"raw score for section",null,{"$f":"D3+D18+D24+D30+D36+D42+D53+D60+D64+D72","v":0},null,{"$f":"F3+F18+F24+F30+F36+F42+F53+F60+F64+F72","v":0},null,{"$f":"H3+H18+H24+H30+H36+H42+H53+H60+H64+H72","v":0},null,{"$f":"J3+J18+J24+J30+J36+J42+J53+J60+J64+J72","v":0},null,{"$f":"L3+L18+L24+L30+L36+L42+L53+L60+L64+L72","v":0},null,{"$f":"N3+N18+N24+N30+N36+N42+N53+N60+N64+N72","v":0}]
[null,"average score for section",null,{"$f":"D81/(COUNTIF(D3:D72,\">0\")+0.00000001)","v":0},null,{"$f":"F81/(COUNTIF(F3:F72,\">0\")+0.00000001)","v":0},null,{"$f":"H81/(COUNTIF(H3:H72,\">0\")+0.00000001)","v":0},null,{"$f":"J81/(COUNTIF(J3:J72,\">0\")+0.00000001)","v":0},null,{"$f":"L81/(COUNTIF(L3:L72,\">0\")+0.00000001)","v":0},null,{"$f":"N81/(COUNTIF(N3:N72,\">0\")+0.00000001)","v":0}]
[null,"percentage score for section",null,{"$f":"D82/5*100","v":0},null,{"$f":"F82/5*100","v":0},null,{"$f":"H82/5*100","v":0},null,{"$f":"J82/5*100","v":0},null,{"$f":"L82/5*100","v":0},null,{"$f":"N82/5*100","v":0}]
["RATING SCALE"]
["0 = Student not capable of demonstrating skill or does not need skill"]
["1 = Student does not demonstrate skill but may/will learn skill"]
["2 = Student only demonstrates skill with verbal and/or physical prompting"]
["3 = Student sometimes demonstrates skill without verbal and/or physical prompting"]
["4 = Student demonstrates skill and verbal and/or physical prompting are rarely needed"]
["5 = Student has totally mastered skill and does not require verbal and/or physical prompting"]
["ORIENTATION SKILLS (Last 6 Columns On Front Page)",null,{"$f":"Front!H1","v":"Date"},null,{"$f":"Front!I1","v":"Date"},null,{"$f":"Front!J1","v":"Date"},null,{"$f":"Front!K1","v":"Date"},null,{"$f":"Front!L1","v":"Date"},null,{"$f":"Front!M1","v":"Date"},null,"notes"]
[null,null,"Input\nData","Auto\nScore","Input\nData","Auto\nScore","Input\nData","Auto\nScore","Input\nData","Auto\nScore","Input\nData","Auto\nScore","Input\nData","Auto\nScore"]
["1. Cardinality",null,null,{"$f":"SUM(C94:C107)/(COUNTIF(C94:C107,\">0\")+0.00000001)","v":0},null,{"$f":"SUM(E94:E107)/(COUNTIF(E94:E107,\">0\")+0.00000001)","v":0},null,{"$f":"SUM(G94:G107)/(COUNTIF(G94:G107,\">0\")+0.00000001)","v":0},null,{"$f":"SUM(I94:I107)/(COUNTIF(I94:I107,\">0\")+0.00000001)","v":0},null,{"$f":"SUM(K94:K107)/(COUNTIF(K94:K107,\">0\")+0.00000001)","v":0},null,{"$f":"SUM(M94:M107)/(COUNTIF(M94:M107,\">0\")+0.00000001)","v":0}]
[null,"identify names of cardinal directions"]
[null,"identify east opposite west, north opposite south"]
[null,"use clue (e.g. position of sun, noise from passing train) or landmark (e.g. mountains) to determine one direction"]
[null,"use one known direction to extrapolate other three"]
[null,"identify SE, SW, NE, NW"]
[null,"identify direction while walking indoors including turns"]
[null,"identify direction while walking outdoors including turns"]
[null,"identify direction to object or building"]
[null,"identify directional relationship to object or building (e.g. the building is to east so I am west of building)"]
[null,"identify directional relationship to parallel street"]
[null,"identify directional corner of intersection"]
[null,"complete single turn route using cardinal directions"]
[null,"complete two turn route using cardinal directions"]
[null,"complete multi-turn route using cardinal directions"]
["2. Landmarks",null,null,{"$f":"SUM(C109:C113)/(COUNTIF(C109:C113,\">0\")+0.00000001)","v":0},null,{"$f":"SUM(E109:E113)/(COUNTIF(E109:E113,\">0\")+0.00000001)","v":0},null,{"$f":"SUM(G109:G113)/(COUNTIF(G109:G113,\">0\")+0.00000001)","v":0},null,{"$f":"SUM(I109:I113)/(COUNTIF(I109:I113,\">0\")+0.00000001)","v":0},null,{"$f":"SUM(K109:K113)/(COUNTIF(K109:K113,\">0\")+0.00000001)","v":0},null,{"$f":"SUM(M109:M113)/(COUNTIF(M109:M113,\">0\")+0.00000001)","v":0}]
[null,"identify landmarks as permanent fixtures in environment"]
[null,"identify landmarks unique to commonly used routes"]
[null,"complete single turn using landmark "]
[null,"complete two turn route using landmarks"]
[null,"complete multi-turn route using landmarks"]
["3. Clues",null,null,{"$f":"SUM(C115:C119)/(COUNTIF(C115:C119,\">0\")+0.00000001)","v":0},null,{"$f":"SUM(E115:E119)/(COUNTIF(E115:E119,\">0\")+0.00000001)","v":0},null,{"$f":"SUM(G115:G119)/(COUNTIF(G115:G119,\">0\")+0.00000001)","v":0},null,{"$f":"SUM(I115:I119)/(COUNTIF(I115:I119,\">0\")+0.00000001)","v":0},null,{"$f":"SUM(K115:K119)/(COUNTIF(K115:K119,\">0\")+0.00000001)","v":0},null,{"$f":"SUM(M115:M119)/(COUNTIF(M115:M119,\">0\")+0.00000001)","v":0}]
[null,"identify clues as transitory "]
[null,"identify clues unique to commonly used routes"]
[null,"complete single turn route using clue "]
[null,"complete two turn route using clues"]
[null,"complete multi-turn route using clues"]
["4. Indoor Numbering Systems",null,null,{"$f":"SUM(C121:C125)/(COUNTIF(C121:C125,\">0\")+0.00000001)","v":0},null,{"$f":"SUM(E121:E125)/(COUNTIF(E121:E125,\">0\")+0.00000001)","v":0},null,{"$f":"SUM(G121:G125)/(COUNTIF(G121:G125,\">0\")+0.00000001)","v":0},null,{"$f":"SUM(I121:I125)/(COUNTIF(I121:I125,\">0\")+0.00000001)","v":0},null,{"$f":"SUM(K121:K125)/(COUNTIF(K121:K125,\">0\")+0.00000001)","v":0},null,{"$f":"SUM(M121:M125)/(COUNTIF(M121:M125,\">0\")+0.00000001)","v":0}]
[null,"identify that rooms in buildings often have numbers"]
[null,"identify where braille/large print sign is found on/by door"]
[null,"identify that indoor numbering systems vary widely"]
[null,"identify numbers generally get bigger/smaller heading in one direction, evens sometimes found on one side of hall"]
[null,"identify that initial digit can identify floor number of room"]
["5. Outdoor Numbering (Address) Systems",null,null,{"$f":"SUM(C127:C131)/(COUNTIF(C127:C131,\">0\")+0.00000001)","v":0},null,{"$f":"SUM(E127:E131)/(COUNTIF(E127:E131,\">0\")+0.00000001)","v":0},null,{"$f":"SUM(G127:G131)/(COUNTIF(G127:G131,\">0\")+0.00000001)","v":0},null,{"$f":"SUM(I127:I131)/(COUNTIF(I127:I131,\">0\")+0.00000001)","v":0},null,{"$f":"SUM(K127:K131)/(COUNTIF(K127:K131,\">0\")+0.00000001)","v":0},null,{"$f":"SUM(M127:M131)/(COUNTIF(M127:M131,\">0\")+0.00000001)","v":0}]
[null,"identify that houses/businesses have street addresses"]
[null,"identify where (print) address can be found on house (e.g. by door, on curb, mailbox)"]
[null,"identify where (print) address can be found on business (e.g. on/above door, on window)"]
[null,"identify that outdoor numbering systems are similar from one city to another"]
[null,"identify that even number addresses are on either east or west side of streets and either north or south side of streets, depending on the city"]
["6. Grid System",null,null,{"$f":"SUM(C133:C142)/(COUNTIF(C133:C142,\">0\")+0.00000001)","v":0},null,{"$f":"SUM(E133:E142)/(COUNTIF(E133:E142,\">0\")+0.00000001)","v":0},null,{"$f":"SUM(G133:G142)/(COUNTIF(G133:G142,\">0\")+0.00000001)","v":0},null,{"$f":"SUM(I133:I142)/(COUNTIF(I133:I142,\">0\")+0.00000001)","v":0},null,{"$f":"SUM(K133:K142)/(COUNTIF(K133:K142,\">0\")+0.00000001)","v":0},null,{"$f":"SUM(M133:M142)/(COUNTIF(M133:M142,\">0\")+0.00000001)","v":0}]
[null,"identify 'checkerboard' pattern of grid system"]
[null,"identify names/numbers of east-west, north-south streets"]
[null,"complete single block straight line route"]
[null,"complete single block 'L' route"]
[null,"complete single block 'U' route"]
[null,"complete multi block straight line route"]
[null,"complete multi block 'L' route"]
[null,"complete multi block 'U' route"]
[null,"complete multi block zig-zag route"]
[null,"complete route and then return to starting point by a new route created by student"]
["7. Divisors And Block Numbering",null,null,{"$f":"SUM(C144:C149)/(COUNTIF(C144:C149,\">0\")+0.00000001)","v":0},null,{"$f":"SUM(E144:E149)/(COUNTIF(E144:E149,\">0\")+0.00000001)","v":0},null,{"$f":"SUM(G144:G149)/(COUNTIF(G144:G149,\">0\")+0.00000001)","v":0},null,{"$f":"SUM(I144:I149)/(COUNTIF(I144:I149,\">0\")+0.00000001)","v":0},null,{"$f":"SUM(K144:K149)/(COUNTIF(K144:K149,\">0\")+0.00000001)","v":0},null,{"$f":"SUM(M144:M149)/(COUNTIF(M144:M149,\">0\")+0.00000001)","v":0}]
[null,"identify divisors for town/city"]
[null,"identify that block numbers generally run in the 100s"]
[null,"identify that block numbers increase with distance from divisors and decrease as divisors are neared"]
[null,"use address to determine approximate number of blocks to divisor and estimate time to reach divisor "]
[null,"use second address to determine number of blocks to other divisor, center of town and time to reach both"]
[null,"use two addresses to determine location in city and determine direction and approximate distance and time to reach another address elsewhere in the town/city"]
["8. Transferability ",null,null,{"$f":"SUM(C151:C153)/(COUNTIF(C151:C153,\">0\")+0.00000001)","v":0},null,{"$f":"SUM(E151:E153)/(COUNTIF(E151:E153,\">0\")+0.00000001)","v":0},null,{"$f":"SUM(G151:G153)/(COUNTIF(G151:G153,\">0\")+0.00000001)","v":0},null,{"$f":"SUM(I151:I153)/(COUNTIF(I151:I153,\">0\")+0.00000001)","v":0},null,{"$f":"SUM(K151:K153)/(COUNTIF(K151:K153,\">0\")+0.00000001)","v":0},null,{"$f":"SUM(M151:M153)/(COUNTIF(M151:M153,\">0\")+0.00000001)","v":0}]
[null,"identify that divisors/block numbering system concepts are identical in virtually all cities"]
[null,"identify methods for determining divisors in other cities/towns"]
[null,"identify methods for determining even numbers are on east or west/north or south sides of streets in another city/town"]
["9. Global Positioning Systems (GPS)",null,null,{"$f":"SUM(C155:C161)/(COUNTIF(C155:C161,\">0\")+0.00000001)","v":0},null,{"$f":"SUM(E155:E161)/(COUNTIF(E155:E161,\">0\")+0.00000001)","v":0},null,{"$f":"SUM(G155:G161)/(COUNTIF(G155:G161,\">0\")+0.00000001)","v":0},null,{"$f":"SUM(I155:I161)/(COUNTIF(I155:I161,\">0\")+0.00000001)","v":0},null,{"$f":"SUM(K155:K161)/(COUNTIF(K155:K161,\">0\")+0.00000001)","v":0},null,{"$f":"SUM(M155:M161)/(COUNTIF(M155:M161,\">0\")+0.00000001)","v":0}]
[null,"identify purpose of GPS "]
[null,"identify GPS options accessible by this particular student"]
[null,"use GPS device to determine current location"]
[null,"use GPS device to determine cardinal direction"]
[null,"use GPS to plot route by using Point Of Interest or business name"]
[null,"use GPS to plot route by address"]
[null,"identify limitations of GPS devices"]
["10. Maps",null,null,{"$f":"SUM(C163:C170)/(COUNTIF(C163:C170,\">0\")+0.00000001)","v":0},null,{"$f":"SUM(E163:E170)/(COUNTIF(E163:E170,\">0\")+0.00000001)","v":0},null,{"$f":"SUM(G163:G170)/(COUNTIF(G163:G170,\">0\")+0.00000001)","v":0},null,{"$f":"SUM(I163:I170)/(COUNTIF(I163:I170,\">0\")+0.00000001)","v":0},null,{"$f":"SUM(K163:K170)/(COUNTIF(K163:K170,\">0\")+0.00000001)","v":0},null,{"$f":"SUM(M163:M170)/(COUNTIF(M163:M170,\">0\")+0.00000001)","v":0}]
[null,"identify purpose of map key"]
[null,"scan map systematically to get overview"]
[null,"search map for more detailed information"]
[null,"locate items from key on map"]
[null,"describe relationships between items on the map in cardinal terms"]
[null,"describe relationships between items on map and what those items represent in the real world"]
[null,"create simple map of familiar route"]
[null,"use simple map to complete route"]
[null,"raw score for section",null,{"$f":"D93+D108+D114+D120+D126+D132+D143+D150+D154+D162","v":0},null,{"$f":"F93+F108+F114+F120+F126+F132+F143+F150+F154+F162","v":0},null,{"$f":"H93+H108+H114+H120+H126+H132+H143+H150+H154+H162","v":0},null,{"$f":"J93+J108+J114+J120+J126+J132+J143+J150+J154+J162","v":0},null,{"$f":"L93+L108+L114+L120+L126+L132+L143+L150+L154+L162","v":0},null,{"$f":"N93+N108+N114+N120+N126+N132+N143+N150+N154+N162","v":0}]
[null,"average score for section",null,{"$f":"D171/(COUNTIF(D93:D162,\">0\")+0.00000001)","v":0},null,{"$f":"F171/(COUNTIF(F93:F162,\">0\")+0.00000001)","v":0},null,{"$f":"H171/(COUNTIF(H93:H162,\">0\")+0.00000001)","v":0},null,{"$f":"J171/(COUNTIF(J93:J162,\">0\")+0.00000001)","v":0},null,{"$f":"L171/(COUNTIF(L93:L162,\">0\")+0.00000001)","v":0},null,{"$f":"N171/(COUNTIF(N93:N162,\">0\")+0.00000001)","v":0}]
[null,"percentage score for section",null,{"$f":"D172/5*100","v":0},null,{"$f":"F172/5*100","v":0},null,{"$f":"H172/5*100","v":0},null,{"$f":"J172/5*100","v":0},null,{"$f":"L172/5*100","v":0},null,{"$f":"N172/5*100","v":0}]
["RATING SCALE"]
["0 = Student not capable of demonstrating skill or does not need skill"]
["1 = Student does not demonstrate skill but may/will learn skill"]
["2 = Student only demonstrates skill with verbal and/or physical prompting"]
["3 = Student sometimes demonstrates skill without verbal and/or physical prompting"]
["4 = Student demonstrates skill and verbal and/or physical prompting are rarely needed"]
["5 = Student has totally mastered skill and does not require verbal and/or physical prompting"]

{"sheet":"PubTran","index":11,"n_rows":178,"n_cols":15,"rows_kept":178,"cut":false,"hidden":false,"merged":[[0,12,0,13],[89,2,89,3],[89,4,89,5],[89,6,89,7],[89,8,89,9],[89,10,89,11],[89,12,89,13],[0,2,0,3],[0,4,0,5],[0,6,0,7],[0,8,0,9],[0,10,0,11]]}
["PUBLIC TRANSPORTATION (First 6 Columns On Front Page)",null,{"$f":"Front!B1","v":"Date"},null,{"$f":"Front!C1","v":"Date"},null,{"$f":"Front!D1","v":"Date"},null,{"$f":"Front!E1","v":"Date"},null,{"$f":"Front!F1","v":"Date"},null,{"$f":"Front!G1","v":"Date"},null,"notes"]
[null,null,"Input\nData","Auto\nScore","Input\nData","Auto\nScore","Input\nData","Auto\nScore","Input\nData","Auto\nScore","Input\nData","Auto\nScore","Input\nData","Auto\nScore"]
["1. Identify Common Public Transportation Options",null,null,{"$f":"C3","v":0},null,{"$f":"E3","v":0},null,{"$f":"G3","v":0},null,{"$f":"I3","v":0},null,{"$f":"K3","v":0},null,{"$f":"M3","v":0}]
["2. Intra-City Bus Travel",null,null,{"$f":"SUM(C5:C21)/(COUNTIF(C5:C21,\">0\")+0.00000001)","v":0},null,{"$f":"SUM(E5:E21)/(COUNTIF(E5:E21,\">0\")+0.00000001)","v":0},null,{"$f":"SUM(G5:G21)/(COUNTIF(G5:G21,\">0\")+0.00000001)","v":0},null,{"$f":"SUM(I5:I21)/(COUNTIF(I5:I21,\">0\")+0.00000001)","v":0},null,{"$f":"SUM(K5:K21)/(COUNTIF(K5:K21,\">0\")+0.00000001)","v":0},null,{"$f":"SUM(M5:M21)/(COUNTIF(M5:M21,\">0\")+0.00000001)","v":0}]
[null,"identify positives/negatives of bus travel"]
[null,"obtain information about bus routes"]
[null,"obtain information about bus schedule"]
[null,"obtain information about fare/bus pass"]
[null,"Identify potential bus transfer points"]
[null,"estimate time bus route will take"]
[null,"locate bus stop"]
[null,"board bus, locate payment box/show pass"]
[null,"ensure it is correct bus"]
[null,"ask to be informed of stop if bus doesn't have auto announcement system"]
[null,"locate empty seat"]
[null,"ask for orientation info when exiting bus (e.g. Is Main St in front of or behind the bus?)"]
[null,"exit bus at correct stop"]
[null,"re-establish orientation"]
[null,"wait at stop for next bus to arrive if that is transfer point"]
[null,"travel to transfer point stop if needed (possibly different corner of intersection or different intersection altogether)"]
[null,"quickly locate needed bus when several are present"]
["3. Inter-City Bus Travel",null,null,{"$f":"SUM(C23:C37)/(COUNTIF(C23:C37,\">0\")+0.00000001)","v":0},null,{"$f":"SUM(E23:E37)/(COUNTIF(E23:E37,\">0\")+0.00000001)","v":0},null,{"$f":"SUM(G23:G37)/(COUNTIF(G23:G37,\">0\")+0.00000001)","v":0},null,{"$f":"SUM(I23:I37)/(COUNTIF(I23:I37,\">0\")+0.00000001)","v":0},null,{"$f":"SUM(K23:K37)/(COUNTIF(K23:K37,\">0\")+0.00000001)","v":0},null,{"$f":"SUM(M23:M37)/(COUNTIF(M23:M37,\">0\")+0.00000001)","v":0}]
[null,"identify positives/negatives of bus travel"]
[null,"obtain information about bus routes"]
[null,"obtain information about bus schedule"]
[null,"obtain information about fare/discounts"]
[null,"Identify potential bus transfer points"]
[null,"estimate time bus route will take"]
[null,"locate bus stop"]
[null,"board bus"]
[null,"ensure it is correct bus"]
[null,"ask to be informed of stop if bus doesn't have auto announcement system"]
[null,"locate empty seat"]
[null,"ask for orientation info when exiting bus (e.g. Is Main St in front of or behind the bus?)"]
[null,"exit bus at correct stop"]
[null,"re-establish orientation"]
[null,"locate bus terminal/building if transferring"]
["4. Taxi Travel/Private Service (e.g. Uber)",null,null,{"$f":"SUM(C39:C44)/(COUNTIF(C39:C44,\">0\")+0.00000001)","v":0},null,{"$f":"SUM(E39:E44)/(COUNTIF(E39:E44,\">0\")+0.00000001)","v":0},null,{"$f":"SUM(G39:G44)/(COUNTIF(G39:G44,\">0\")+0.00000001)","v":0},null,{"$f":"SUM(I39:I44)/(COUNTIF(I39:I44,\">0\")+0.00000001)","v":0},null,{"$f":"SUM(K39:K44)/(COUNTIF(K39:K44,\">0\")+0.00000001)","v":0},null,{"$f":"SUM(M39:M44)/(COUNTIF(M39:M44,\">0\")+0.00000001)","v":0}]
[null,"identify positives/negatives of taxi/private service travel"]
[null,"obtain phone numbers for available taxi companies/apps for private service"]
[null,"arrange pick up (call or app): state location of pick up with high degree of specificity (e.g. address, landmarks) and get estimated time of pick up "]
[null,"communicate destination to driver"]
[null,"pay fare, tip if appropriate"]
[null,"ask directions from vehicle to door of destination"]
["5. Para Transit",null,null,{"$f":"SUM(C46:C48)/(COUNTIF(C46:C48,\">0\")+0.00000001)","v":0},null,{"$f":"SUM(E46:E48)/(COUNTIF(E46:E48,\">0\")+0.00000001)","v":0},null,{"$f":"SUM(G46:G48)/(COUNTIF(G46:G48,\">0\")+0.00000001)","v":0},null,{"$f":"SUM(I46:I48)/(COUNTIF(I46:I48,\">0\")+0.00000001)","v":0},null,{"$f":"SUM(K46:K48)/(COUNTIF(K46:K48,\">0\")+0.00000001)","v":0},null,{"$f":"SUM(M46:M48)/(COUNTIF(M46:M48,\">0\")+0.00000001)","v":0}]
[null,"identify positives/negatives of Para Tranist type services"]
[null,"obtain eligibility information for Para Transit"]
[null,"obtain information about Para Transit schedule and fees"]
["6. Air Travel",null,null,{"$f":"SUM(C50:C64)/(COUNTIF(C50:C64,\">0\")+0.00000001)","v":0},null,{"$f":"SUM(E50:E64)/(COUNTIF(E50:E64,\">0\")+0.00000001)","v":0},null,{"$f":"SUM(G50:G64)/(COUNTIF(G50:G64,\">0\")+0.00000001)","v":0},null,{"$f":"SUM(I50:I64)/(COUNTIF(I50:I64,\">0\")+0.00000001)","v":0},null,{"$f":"SUM(K50:K64)/(COUNTIF(K50:K64,\">0\")+0.00000001)","v":0},null,{"$f":"SUM(M50:M64)/(COUNTIF(M50:M64,\">0\")+0.00000001)","v":0}]
[null,"identify positives/negatives of air travel"]
[null,"obtain information about flight routes"]
[null,"obtain information about flight schedules"]
[null,"obtain information about fares"]
[null,"identify methods for getting to airport with luggage"]
[null,"locate appropriate check in area at airport"]
[null,"check in and check any luggage"]
[null,"locate airport security with assistance if needed"]
[null,"follow procedures to clear security checkpoint"]
[null,"locate correct gate with assistance if needed"]
[null,"identify as passenger with disability to gate staff"]
[null,"board plane and locate seat (assigned or empty)"]
[null,"deplane and locate baggage claim"]
[null,"pick up luggage on carousel  with assistance if needed"]
[null,"locate transportation from airport with assistance if needed"]
["7. Subway/Light Rail",null,null,{"$f":"SUM(C66:C79)/(COUNTIF(C66:C79,\">0\")+0.00000001)","v":0},null,{"$f":"SUM(E66:E79)/(COUNTIF(E66:E79,\">0\")+0.00000001)","v":0},null,{"$f":"SUM(G66:G79)/(COUNTIF(G66:G79,\">0\")+0.00000001)","v":0},null,{"$f":"SUM(I66:I79)/(COUNTIF(I66:I79,\">0\")+0.00000001)","v":0},null,{"$f":"SUM(K66:K79)/(COUNTIF(K66:K79,\">0\")+0.00000001)","v":0},null,{"$f":"SUM(M66:M79)/(COUNTIF(M66:M79,\">0\")+0.00000001)","v":0}]
[null,"identify positives/negatives of subway/light rail travel"]
[null,"obtain information about subway/light rail routes"]
[null,"obtain information about subway/light rail schedule"]
[null,"obtain information about fare or subway/light rail pass"]
[null,"Identify potential subway/light rail transfer points"]
[null,"estimate time subway/light rail route will take"]
[null,"locate subway/light rail station"]
[null,"locate payment area/show pass/insert coins in turnstile"]
[null,"locate correct platform area for needed subway/light rail"]
[null,"board subway/light rail and find seat or hand hold"]
[null,"exit subway/light rail at appropriate stop"]
[null,"transfer to second subway/light rail to continue route if necessary"]
[null,"exit subway/light rail station"]
[null,"re-establish orientation"]
[null,"raw score for section",null,{"$f":"D3+D4+D22+D38+D45+D49+D65","v":0},null,{"$f":"F3+F4+F22+F38+F45+F49+F65","v":0},null,{"$f":"H3+H4+H22+H38+H45+H49+H65","v":0},null,{"$f":"J3+J4+J22+J38+J45+J49+J65","v":0},null,{"$f":"L3+L4+L22+L38+L45+L49+L65","v":0},null,{"$f":"N3+N4+N22+N38+N45+N49+N65","v":0}]
[null,"average score for section",null,{"$f":"D80/(COUNTIF(D3:D65,\">0\")+0.00000001)","v":0},null,{"$f":"F80/(COUNTIF(F3:F65,\">0\")+0.00000001)","v":0},null,{"$f":"H80/(COUNTIF(H3:H65,\">0\")+0.00000001)","v":0},null,{"$f":"J80/(COUNTIF(J3:J65,\">0\")+0.00000001)","v":0},null,{"$f":"L80/(COUNTIF(L3:L65,\">0\")+0.00000001)","v":0},null,{"$f":"N80/(COUNTIF(N3:N65,\">0\")+0.00000001)","v":0}]
[null,"percentage score for section",null,{"$f":"D81/5*100","v":0},null,{"$f":"F81/5*100","v":0},null,{"$f":"H81/5*100","v":0},null,{"$f":"J81/5*100","v":0},null,{"$f":"L81/5*100","v":0},null,{"$f":"N81/5*100","v":0}]
["RATING SCALE"]
["0 = Student not capable of demonstrating skill or does not need skill"]
["1 = Student does not demonstrate skill but may/will learn skill"]
["2 = Student only demonstrates skill with verbal and/or physical prompting"]
["3 = Student sometimes demonstrates skill without verbal and/or physical prompting"]
["4 = Student demonstrates skill and verbal and/or physical prompting are rarely needed"]
["5 = Student has totally mastered skill and does not require verbal and/or physical prompting"]
["PUBLIC TRANSPORTATION (Last 6 Columns On Front Page)",null,{"$f":"Front!H1","v":"Date"},null,{"$f":"Front!I1","v":"Date"},null,{"$f":"Front!J1","v":"Date"},null,{"$f":"Front!K1","v":"Date"},null,{"$f":"Front!L1","v":"Date"},null,{"$f":"Front!M1","v":"Date"},null,"notes"]
[null,null,"Input\nData","Auto\nScore","Input\nData","Auto\nScore","Input\nData","Auto\nScore","Input\nData","Auto\nScore","Input\nData","Auto\nScore","Input\nData","Auto\nScore"]
["1. Identify Common Public Transportation Options",null,null,{"$f":"C92","v":0},null,{"$f":"E92","v":0},null,{"$f":"G92","v":0},null,{"$f":"I92","v":0},null,{"$f":"K92","v":0},null,{"$f":"M92","v":0}]
["2. Intra-City Bus Travel",null,null,{"$f":"SUM(C94:C110)/(COUNTIF(C94:C110,\">0\")+0.00000001)","v":0},null,{"$f":"SUM(E94:E110)/(COUNTIF(E94:E110,\">0\")+0.00000001)","v":0},null,{"$f":"SUM(G94:G110)/(COUNTIF(G94:G110,\">0\")+0.00000001)","v":0},null,{"$f":"SUM(I94:I110)/(COUNTIF(I94:I110,\">0\")+0.00000001)","v":0},null,{"$f":"SUM(K94:K110)/(COUNTIF(K94:K110,\">0\")+0.00000001)","v":0},null,{"$f":"SUM(M94:M110)/(COUNTIF(M94:M110,\">0\")+0.00000001)","v":0}]
[null,"identify positives/negatives of bus travel"]
[null,"obtain information about bus routes"]
[null,"obtain information about bus schedule"]
[null,"obtain information about fare/bus pass"]
[null,"Identify potential bus transfer points"]
[null,"estimate time bus route will take"]
[null,"locate bus stop"]
[null,"board bus, locate payment box/show pass"]
[null,"ensure it is correct bus"]
[null,"ask to be informed of stop if bus doesn't have auto announcement system"]
[null,"locate empty seat"]
[null,"ask for orientation info when exiting bus (e.g. Is Main St in front of or behind the bus?)"]
[null,"exit bus at correct stop"]
[null,"re-establish orientation"]
[null,"wait at stop for next bus to arrive if that is transfer point"]
[null,"travel to transfer point stop if needed (possibly different corner of intersection or different intersection altogether)"]
[null,"quickly locate needed bus when several are present"]
["3. Inter-City Bus Travel",null,null,{"$f":"SUM(C112:C126)/(COUNTIF(C112:C126,\">0\")+0.00000001)","v":0},null,{"$f":"SUM(E112:E126)/(COUNTIF(E112:E126,\">0\")+0.00000001)","v":0},null,{"$f":"SUM(G112:G126)/(COUNTIF(G112:G126,\">0\")+0.00000001)","v":0},null,{"$f":"SUM(I112:I126)/(COUNTIF(I112:I126,\">0\")+0.00000001)","v":0},null,{"$f":"SUM(K112:K126)/(COUNTIF(K112:K126,\">0\")+0.00000001)","v":0},null,{"$f":"SUM(M112:M126)/(COUNTIF(M112:M126,\">0\")+0.00000001)","v":0}]
[null,"identify positives/negatives of bus travel"]
[null,"obtain information about bus routes"]
[null,"obtain information about bus schedule"]
[null,"obtain information about fare/discounts"]
[null,"Identify potential bus transfer points"]
[null,"estimate time bus route will take"]
[null,"locate bus stop"]
[null,"board bus"]
[null,"ensure it is correct bus"]
[null,"ask to be informed of stop if bus doesn't have auto announcement system"]
[null,"locate empty seat"]
[null,"ask for orientation info when exiting bus (e.g. Is Main St in front of or behind the bus?)"]
[null,"exit bus at correct stop"]
[null,"re-establish orientation"]
[null,"locate bus terminal/building if transferring"]
["4. Taxi Travel/Private Service (e.g. Uber)",null,null,{"$f":"SUM(C128:C133)/(COUNTIF(C128:C133,\">0\")+0.00000001)","v":0},null,{"$f":"SUM(E128:E133)/(COUNTIF(E128:E133,\">0\")+0.00000001)","v":0},null,{"$f":"SUM(G128:G133)/(COUNTIF(G128:G133,\">0\")+0.00000001)","v":0},null,{"$f":"SUM(I128:I133)/(COUNTIF(I128:I133,\">0\")+0.00000001)","v":0},null,{"$f":"SUM(K128:K133)/(COUNTIF(K128:K133,\">0\")+0.00000001)","v":0},null,{"$f":"SUM(M128:M133)/(COUNTIF(M128:M133,\">0\")+0.00000001)","v":0}]
[null,"identify positives/negatives of taxi/private service travel"]
[null,"obtain phone numbers for available taxi companies/apps for private service"]
[null,"arrange pick up (call or app): state location of pick up with high degree of specificity (e.g. address, landmarks) and get estimated time of pick up "]
[null,"communicate destination to driver"]
[null,"pay fare, tip if appropriate"]
[null,"ask directions from vehicle to door of destination"]
["5. Para Transit",null,null,{"$f":"SUM(C135:C137)/(COUNTIF(C135:C137,\">0\")+0.00000001)","v":0},null,{"$f":"SUM(E135:E137)/(COUNTIF(E135:E137,\">0\")+0.00000001)","v":0},null,{"$f":"SUM(G135:G137)/(COUNTIF(G135:G137,\">0\")+0.00000001)","v":0},null,{"$f":"SUM(I135:I137)/(COUNTIF(I135:I137,\">0\")+0.00000001)","v":0},null,{"$f":"SUM(K135:K137)/(COUNTIF(K135:K137,\">0\")+0.00000001)","v":0},null,{"$f":"SUM(M135:M137)/(COUNTIF(M135:M137,\">0\")+0.00000001)","v":0}]
[null,"identify positives/negatives of Para Tranist type services"]
[null,"obtain eligibility information for Para Transit"]
[null,"obtain information about Para Transit schedule and fees"]
["6. Air Travel",null,null,{"$f":"SUM(C139:C153)/(COUNTIF(C139:C153,\">0\")+0.00000001)","v":0},null,{"$f":"SUM(E139:E153)/(COUNTIF(E139:E153,\">0\")+0.00000001)","v":0},null,{"$f":"SUM(G139:G153)/(COUNTIF(G139:G153,\">0\")+0.00000001)","v":0},null,{"$f":"SUM(I139:I153)/(COUNTIF(I139:I153,\">0\")+0.00000001)","v":0},null,{"$f":"SUM(K139:K153)/(COUNTIF(K139:K153,\">0\")+0.00000001)","v":0},null,{"$f":"SUM(M139:M153)/(COUNTIF(M139:M153,\">0\")+0.00000001)","v":0}]
[null,"identify positives/negatives of air travel"]
[null,"obtain information about flight routes"]
[null,"obtain information about flight schedules"]
[null,"obtain information about fares"]
[null,"identify methods for getting to airport with luggage"]
[null,"locate appropriate check in area at airport"]
[null,"check in and check any luggage"]
[null,"locate airport security with assistance if needed"]
[null,"follow procedures to clear security checkpoint"]
[null,"locate correct gate with assistance if needed"]
[null,"identify as passenger with disability to gate staff"]
[null,"board plane and locate seat (assigned or empty)"]
[null,"deplane and locate baggage claim"]
[null,"pick up luggage on carousel  with assistance if needed"]
[null,"locate transportation from airport with assistance if needed"]
["7. Subway/Light Rail",null,null,{"$f":"SUM(C155:C168)/(COUNTIF(C155:C168,\">0\")+0.00000001)","v":0},null,{"$f":"SUM(E155:E168)/(COUNTIF(E155:E168,\">0\")+0.00000001)","v":0},null,{"$f":"SUM(G155:G168)/(COUNTIF(G155:G168,\">0\")+0.00000001)","v":0},null,{"$f":"SUM(I155:I168)/(COUNTIF(I155:I168,\">0\")+0.00000001)","v":0},null,{"$f":"SUM(K155:K168)/(COUNTIF(K155:K168,\">0\")+0.00000001)","v":0},null,{"$f":"SUM(M155:M168)/(COUNTIF(M155:M168,\">0\")+0.00000001)","v":0}]
[null,"identify positives/negatives of subway/light rail travel"]
[null,"obtain information about subway/light rail routes"]
[null,"obtain information about subway/light rail schedule"]
[null,"obtain information about fare or subway/light rail pass"]
[null,"Identify potential subway/light rail transfer points"]
[null,"estimate time subway/light rail route will take"]
[null,"locate subway/light rail station"]
[null,"locate payment area/show pass/insert coins in turnstile"]
[null,"locate correct platform area for needed subway/light rail"]
[null,"board subway/light rail and find seat or hand hold"]
[null,"exit subway/light rail at appropriate stop"]
[null,"transfer to second subway/light rail to continue route if necessary"]
[null,"exit subway/light rail station"]
[null,"re-establish orientation"]
[null,"raw score for section",null,{"$f":"D92+D93+D111+D127+D134+D138+D154","v":0},null,{"$f":"F92+F93+F111+F127+F134+F138+F154","v":0},null,{"$f":"H92+H93+H111+H127+H134+H138+H154","v":0},null,{"$f":"J92+J93+J111+J127+J134+J138+J154","v":0},null,{"$f":"L92+L93+L111+L127+L134+L138+L154","v":0},null,{"$f":"N92+N93+N111+N127+N134+N138+N154","v":0}]
[null,"average score for section",null,{"$f":"D169/(COUNTIF(D92:D154,\">0\")+0.00000001)","v":0},null,{"$f":"F169/(COUNTIF(F92:F154,\">0\")+0.00000001)","v":0},null,{"$f":"H169/(COUNTIF(H92:H154,\">0\")+0.00000001)","v":0},null,{"$f":"J169/(COUNTIF(J92:J154,\">0\")+0.00000001)","v":0},null,{"$f":"L169/(COUNTIF(L92:L154,\">0\")+0.00000001)","v":0},null,{"$f":"N169/(COUNTIF(N92:N154,\">0\")+0.00000001)","v":0}]
[null,"percentage score for section",null,{"$f":"D170/5*100","v":0},null,{"$f":"F170/5*100","v":0},null,{"$f":"H170/5*100","v":0},null,{"$f":"J170/5*100","v":0},null,{"$f":"L170/5*100","v":0},null,{"$f":"N170/5*100","v":0}]
["RATING SCALE"]
["0 = Student not capable of demonstrating skill or does not need skill"]
["1 = Student does not demonstrate skill but may/will learn skill"]
["2 = Student only demonstrates skill with verbal and/or physical prompting"]
["3 = Student sometimes demonstrates skill without verbal and/or physical prompting"]
["4 = Student demonstrates skill and verbal and/or physical prompting are rarely needed"]
["5 = Student has totally mastered skill and does not require verbal and/or physical prompting"]

{"sheet":"Atyp","index":12,"n_rows":74,"n_cols":16,"rows_kept":74,"cut":false,"hidden":false,"merged":[[37,12,37,13],[0,2,0,3],[0,4,0,5],[0,6,0,7],[0,8,0,9],[0,10,0,11],[0,12,0,13],[37,2,37,3],[37,4,37,5],[37,6,37,7],[37,8,37,9],[37,10,37,11]]}
["ATYPICAL O&M (1st Data Set--First 6 Columns On Front Page)",null,{"$f":"Front!B1","v":"Date"},null,{"$f":"Front!C1","v":"Date"},null,{"$f":"Front!D1","v":"Date"},null,{"$f":"Front!E1","v":"Date"},null,{"$f":"Front!F1","v":"Date"},null,{"$f":"Front!G1","v":"Date"},null,"notes","notes"]
[null,null,"Input\nData","Auto\nScore","Input\nData","Auto\nScore","Input\nData","Auto\nScore","Input\nData","Auto\nScore","Input\nData","Auto\nScore","Input\nData","Auto\nScore"]
["1. Fences",null,null,{"$f":"SUM(C4:C6)/(COUNTIF(C4:C6,\">0\")+0.00000001)","v":0},null,{"$f":"SUM(E4:E6)/(COUNTIF(E4:E6,\">0\")+0.00000001)","v":0},null,{"$f":"SUM(G4:G6)/(COUNTIF(G4:G6,\">0\")+0.00000001)","v":0},null,{"$f":"SUM(I4:I6)/(COUNTIF(I4:I6,\">0\")+0.00000001)","v":0},null,{"$f":"SUM(K4:K6)/(COUNTIF(K4:K6,\">0\")+0.00000001)","v":0},null,{"$f":"SUM(M4:M6)/(COUNTIF(M4:M6,\">0\")+0.00000001)","v":0}]
[null,"go around fence obstructing path"]
[null,"climb over short fence if too long to walk around"]
[null,"return to previous line of travel (L.O.T.)"]
["2. Fields (in urban settings)",null,null,{"$f":"SUM(C8:C12)/(COUNTIF(C8:C12,\">0\")+0.00000001)","v":0},null,{"$f":"SUM(E8:E12)/(COUNTIF(E8:E12,\">0\")+0.00000001)","v":0},null,{"$f":"SUM(G8:G12)/(COUNTIF(G8:G12,\">0\")+0.00000001)","v":0},null,{"$f":"SUM(I8:I12)/(COUNTIF(I8:I12,\">0\")+0.00000001)","v":0},null,{"$f":"SUM(K8:K12)/(COUNTIF(K8:K12,\">0\")+0.00000001)","v":0},null,{"$f":"SUM(M8:M12)/(COUNTIF(M8:M12,\">0\")+0.00000001)","v":0}]
[null,"detect lack of sidewalk along line of travel"]
[null,"identify (sound) clues that will assist in maintaining line of travel (e.g. distant traffic)"]
[null,"cross field while maintaining line of travel"]
[null,"use cane/protective techniques that allow safe passage through field"]
[null,"resume route after completing crossing of field"]
["3. Parks/Playgrounds",null,null,{"$f":"SUM(C14:C20)/(COUNTIF(C14:C20,\">0\")+0.00000001)","v":0},null,{"$f":"SUM(E14:E20)/(COUNTIF(E14:E20,\">0\")+0.00000001)","v":0},null,{"$f":"SUM(G14:G20)/(COUNTIF(G14:G20,\">0\")+0.00000001)","v":0},null,{"$f":"SUM(I14:I20)/(COUNTIF(I14:I20,\">0\")+0.00000001)","v":0},null,{"$f":"SUM(K14:K20)/(COUNTIF(K14:K20,\">0\")+0.00000001)","v":0},null,{"$f":"SUM(M14:M20)/(COUNTIF(M14:M20,\">0\")+0.00000001)","v":0}]
[null,"locate entrance to park/playground"]
[null,"define basic parameters of park/playground (walk perimeter, apply grid system, etc)"]
[null,"establish Point Of Reference (P.O.R.)"]
[null,"locate prominent features of park/playground (e.g. playground equipment, BBQ area)"]
[null,"use cane/protective techniques that allow safe passage through park/playground"]
[null,"maintain general overall orientation"]
[null,"locate exit to park/playground"]
["4. Inclement Weather",null,null,{"$f":"SUM(C22:C27)/(COUNTIF(C22:C27,\">0\")+0.00000001)","v":0},null,{"$f":"SUM(E22:E27)/(COUNTIF(E22:E27,\">0\")+0.00000001)","v":0},null,{"$f":"SUM(G22:G27)/(COUNTIF(G22:G27,\">0\")+0.00000001)","v":0},null,{"$f":"SUM(I22:I27)/(COUNTIF(I22:I27,\">0\")+0.00000001)","v":0},null,{"$f":"SUM(K22:K27)/(COUNTIF(K22:K27,\">0\")+0.00000001)","v":0},null,{"$f":"SUM(M22:M27)/(COUNTIF(M22:M27,\">0\")+0.00000001)","v":0}]
[null,"identify effect rain has on ability to hear traffic accurately and that umbrellas can further hinder ability to hear environmental cues"]
[null,"locate puddles at intersections, reposition to cross if possible, traverse through puddle if not possible to reposition at intersection"]
[null,"identify effect snow/ice has on drivers' ability to control vehicles and increase time allowances for street crossings"]
[null,"locate sidewalks, curbs and obstacles through snow/ice on sidewalks, trail curbs along streets in absence of sidewalk"]
[null,"identify effect high wind has on ability to hear traffic accurately"]
[null,"maintain body alignment at street crossings even if facing into high wind (which could contain abrasive sand or even small rocks)"]
[null,"raw score for section",null,{"$f":"D3+D7+D13+D21","v":0},null,{"$f":"F3+F7+F13+F21","v":0},null,{"$f":"H3+H7+H13+H21","v":0},null,{"$f":"J3+J7+J13+J21","v":0},null,{"$f":"L3+L7+L13+L21","v":0},null,{"$f":"N3+N7+N13+N21","v":0}]
[null,"average score for section",null,{"$f":"D28/(COUNTIF(D2:D27,\">0\")+0.00000001)","v":0},null,{"$f":"F28/(COUNTIF(F2:F27,\">0\")+0.00000001)","v":0},null,{"$f":"H28/(COUNTIF(H2:H27,\">0\")+0.00000001)","v":0},null,{"$f":"J28/(COUNTIF(J2:J27,\">0\")+0.00000001)","v":0},null,{"$f":"L28/(COUNTIF(L2:L27,\">0\")+0.00000001)","v":0},null,{"$f":"N28/(COUNTIF(N2:N27,\">0\")+0.00000001)","v":0}]
[null,"percentage score for section",null,{"$f":"D29/5*100","v":0},null,{"$f":"F29/5*100","v":0},null,{"$f":"H29/5*100","v":0},null,{"$f":"J29/5*100","v":0},null,{"$f":"L29/5*100","v":0},null,{"$f":"N29/5*100","v":0}]
["RATING SCALE"]
["0 = Student not capable of demonstrating skill or does not need skill"]
["1 = Student does not demonstrate skill but may/will learn skill"]
["2 = Student only demonstrates skill with verbal and/or physical prompting"]
["3 = Student sometimes demonstrates skill without verbal and/or physical prompting"]
["4 = Student demonstrates skill and verbal and/or physical prompting are rarely needed"]
["5 = Student has totally mastered skill and does not require verbal and/or physical prompting"]
["ATYPICAL O&M (2nd Data Set--Last 6 Columns On Front Page)",null,{"$f":"Front!B38","v":"00:00:00"},null,{"$f":"Front!C38","v":"00:00:00"},null,{"$f":"Front!D38","v":"00:00:00"},null,{"$f":"Front!E38","v":"00:00:00"},null,{"$f":"Front!F38","v":"00:00:00"},null,{"$f":"Front!G38","v":"00:00:00"}]
[null,null,"Input\nData","Auto\nScore","Input\nData","Auto\nScore","Input\nData","Auto\nScore","Input\nData","Auto\nScore","Input\nData","Auto\nScore","Input\nData","Auto\nScore"]
["1. Fences",null,null,{"$f":"SUM(C41:C43)/(COUNTIF(C41:C43,\">0\")+0.00000001)","v":0},null,{"$f":"SUM(E41:E43)/(COUNTIF(E41:E43,\">0\")+0.00000001)","v":0},null,{"$f":"SUM(G41:G43)/(COUNTIF(G41:G43,\">0\")+0.00000001)","v":0},null,{"$f":"SUM(I41:I43)/(COUNTIF(I41:I43,\">0\")+0.00000001)","v":0},null,{"$f":"SUM(K41:K43)/(COUNTIF(K41:K43,\">0\")+0.00000001)","v":0},null,{"$f":"SUM(M41:M43)/(COUNTIF(M41:M43,\">0\")+0.00000001)","v":0}]
[null,"go around fence obstructing path"]
[null,"climb over short fence if too long to walk around"]
[null,"return to previous line of travel (L.O.T.)"]
["2. Fields (in urban settings)",null,null,{"$f":"SUM(C45:C49)/(COUNTIF(C45:C49,\">0\")+0.00000001)","v":0},null,{"$f":"SUM(E45:E49)/(COUNTIF(E45:E49,\">0\")+0.00000001)","v":0},null,{"$f":"SUM(G45:G49)/(COUNTIF(G45:G49,\">0\")+0.00000001)","v":0},null,{"$f":"SUM(I45:I49)/(COUNTIF(I45:I49,\">0\")+0.00000001)","v":0},null,{"$f":"SUM(K45:K49)/(COUNTIF(K45:K49,\">0\")+0.00000001)","v":0},null,{"$f":"SUM(M45:M49)/(COUNTIF(M45:M49,\">0\")+0.00000001)","v":0}]
[null,"detect lack of sidewalk along line of travel"]
[null,"identify (sound) clues that will assist in maintaining line of travel (e.g. distant traffic)"]
[null,"cross field while maintaining line of travel"]
[null,"use cane/protective techniques that allow safe passage through field"]
[null,"resume route after completing crossing of field"]
["3. Parks/Playgrounds",null,null,{"$f":"SUM(C51:C57)/(COUNTIF(C51:C57,\">0\")+0.00000001)","v":0},null,{"$f":"SUM(E51:E57)/(COUNTIF(E51:E57,\">0\")+0.00000001)","v":0},null,{"$f":"SUM(G51:G57)/(COUNTIF(G51:G57,\">0\")+0.00000001)","v":0},null,{"$f":"SUM(I51:I57)/(COUNTIF(I51:I57,\">0\")+0.00000001)","v":0},null,{"$f":"SUM(K51:K57)/(COUNTIF(K51:K57,\">0\")+0.00000001)","v":0},null,{"$f":"SUM(M51:M57)/(COUNTIF(M51:M57,\">0\")+0.00000001)","v":0}]
[null,"locate entrance to park/playground"]
[null,"define basic parameters of park/playground (walk perimeter, apply grid system, etc)"]
[null,"establish Point Of Reference (P.O.R.)"]
[null,"locate prominent features of park/playground (e.g. playground equipment, BBQ area)"]
[null,"use cane/protective techniques that allow safe passage through park/playground"]
[null,"maintain general overall orientation"]
[null,"locate exit to park/playground"]
["4. Inclement Weather",null,null,{"$f":"SUM(C59:C64)/(COUNTIF(C59:C64,\">0\")+0.00000001)","v":0},null,{"$f":"SUM(E59:E64)/(COUNTIF(E59:E64,\">0\")+0.00000001)","v":0},null,{"$f":"SUM(G59:G64)/(COUNTIF(G59:G64,\">0\")+0.00000001)","v":0},null,{"$f":"SUM(I59:I64)/(COUNTIF(I59:I64,\">0\")+0.00000001)","v":0},null,{"$f":"SUM(K59:K64)/(COUNTIF(K59:K64,\">0\")+0.00000001)","v":0},null,{"$f":"SUM(M59:M64)/(COUNTIF(M59:M64,\">0\")+0.00000001)","v":0}]
[null,"identify effect rain has on ability to hear traffic accurately and that umbrellas can further hinder ability to hear environmental cues"]
[null,"locate puddles at intersections, reposition to cross if possible, traverse through puddle if not possible to reposition at intersection"]
[null,"identify effect snow/ice has on drivers' ability to control vehicles and increase time allowances for street crossings"]
[null,"locate sidewalks, curbs and obstacles through snow/ice on sidewalks, trail curbs along streets in absence of sidewalk"]
[null,"identify effect high wind has on ability to hear traffic accurately"]
[null,"maintain body alignment at street crossings even if facing into high wind (which could contain abrasive sand or even small rocks)"]
[null,"raw score for section",null,{"$f":"D40+D44+D50+D58","v":0},null,{"$f":"F40+F44+F50+F58","v":0},null,{"$f":"H40+H44+H50+H58","v":0},null,{"$f":"J40+J44+J50+J58","v":0},null,{"$f":"L40+L44+L50+L58","v":0},null,{"$f":"N40+N44+N50+N58","v":0}]
[null,"average score for section",null,{"$f":"D65/(COUNTIF(D39:D64,\">0\")+0.00000001)","v":0},null,{"$f":"F65/(COUNTIF(F39:F64,\">0\")+0.00000001)","v":0},null,{"$f":"H65/(COUNTIF(H39:H64,\">0\")+0.00000001)","v":0},null,{"$f":"J65/(COUNTIF(J39:J64,\">0\")+0.00000001)","v":0},null,{"$f":"L65/(COUNTIF(L39:L64,\">0\")+0.00000001)","v":0},null,{"$f":"N65/(COUNTIF(N39:N64,\">0\")+0.00000001)","v":0}]
[null,"percentage score for section",null,{"$f":"D66/5*100","v":0},null,{"$f":"F66/5*100","v":0},null,{"$f":"H66/5*100","v":0},null,{"$f":"J66/5*100","v":0},null,{"$f":"L66/5*100","v":0},null,{"$f":"N66/5*100","v":0}]
["RATING SCALE"]
["0 = Student not capable of demonstrating skill or does not need skill"]
["1 = Student does not demonstrate skill but may/will learn skill"]
["2 = Student only demonstrates skill with verbal and/or physical prompting"]
["3 = Student sometimes demonstrates skill without verbal and/or physical prompting"]
["4 = Student demonstrates skill and verbal and/or physical prompting are rarely needed"]
["5 = Student has totally mastered skill and does not require verbal and/or physical prompting"]

{"sheet":"Rural","index":13,"n_rows":86,"n_cols":14,"rows_kept":86,"cut":false,"hidden":false,"merged":[[0,12,0,13],[43,2,43,3],[43,4,43,5],[43,6,43,7],[43,8,43,9],[43,10,43,11],[43,12,43,13],[0,2,0,3],[0,4,0,5],[0,6,0,7],[0,8,0,9],[0,10,0,11]]}
["RURAL O&M (1st Data Set--First 6 Columns On Front Page)",null,{"$f":"Front!B1","v":"Date"},null,{"$f":"Front!C1","v":"Date"},null,{"$f":"Front!D1","v":"Date"},null,{"$f":"Front!E1","v":"Date"},null,{"$f":"Front!F1","v":"Date"},null,{"$f":"Front!G1","v":"Date"}]
[null,null,"Input\nData","Auto\nScore","Input\nData","Auto\nScore","Input\nData","Auto\nScore","Input\nData","Auto\nScore","Input\nData","Auto\nScore","Input\nData","Auto\nScore"]
["1. Understand Unique Dangers Related To Rural Travel",null,null,{"$f":"SUM(C4:C8)/(COUNTIF(C4:C8,\">0\")+0.00000001)","v":0},null,{"$f":"SUM(E4:E8)/(COUNTIF(E4:E8,\">0\")+0.00000001)","v":0},null,{"$f":"SUM(G4:G8)/(COUNTIF(G4:G8,\">0\")+0.00000001)","v":0},null,{"$f":"SUM(I4:I8)/(COUNTIF(I4:I8,\">0\")+0.00000001)","v":0},null,{"$f":"SUM(K4:K8)/(COUNTIF(K4:K8,\">0\")+0.00000001)","v":0},null,{"$f":"SUM(M4:M8)/(COUNTIF(M4:M8,\">0\")+0.00000001)","v":0}]
[null,"understand that drivers on rural roads often exceed speed limits and that drivers don't anticipate pedestrians in road"]
[null,"understand that rock/gravel can be sent airborne by vehicle prevalent in rural areas"]
[null,"understand that wildlife (e.g. snakes, wild dogs) is more common than urban areas"]
[null,"understand that fences often have rusted and sharp projections"]
[null,"understand that ditches, gullies, and arroyos could indicate water run off and not be traversable in all weather conditions"]
["2. Walk along rural road",null,null,{"$f":"SUM(C10:C14)/(COUNTIF(C10:C14,\">0\")+0.00000001)","v":0},null,{"$f":"SUM(E10:E14)/(COUNTIF(E10:E14,\">0\")+0.00000001)","v":0},null,{"$f":"SUM(G10:G14)/(COUNTIF(G10:G14,\">0\")+0.00000001)","v":0},null,{"$f":"SUM(I10:I14)/(COUNTIF(I10:I14,\">0\")+0.00000001)","v":0},null,{"$f":"SUM(K10:K14)/(COUNTIF(K10:K14,\">0\")+0.00000001)","v":0},null,{"$f":"SUM(M10:M14)/(COUNTIF(M10:M14,\">0\")+0.00000001)","v":0}]
[null,"identify surface of road (paved, gravel, dirt), condition of the side of road (flat/rutted) and presence/absence of grass (mowed, tall) then choose where to walk (road/side of road)"]
[null,"keep to the edge of the road (in road or on side of road)"]
[null,"move as far off the road as safely possible when vehicle approaches"]
[null,"identify driveways and intersections"]
[null,"maintain orientation while on rural roads"]
["3. Ditches/Gullies/Arroyos/Embankments (rural areas)",null,null,{"$f":"SUM(C16:C21)/(COUNTIF(C16:C21,\">0\")+0.00000001)","v":0},null,{"$f":"SUM(E16:E21)/(COUNTIF(E16:E21,\">0\")+0.00000001)","v":0},null,{"$f":"SUM(G16:G21)/(COUNTIF(G16:G21,\">0\")+0.00000001)","v":0},null,{"$f":"SUM(I16:I21)/(COUNTIF(I16:I21,\">0\")+0.00000001)","v":0},null,{"$f":"SUM(K16:K21)/(COUNTIF(K16:K21,\">0\")+0.00000001)","v":0},null,{"$f":"SUM(M16:M21)/(COUNTIF(M16:M21,\">0\")+0.00000001)","v":0}]
[null,"identify purpose of many ditches/gullies/arroyos in rural areas is for water run off; dangerous to cross due to flash flood possibility "]
[null,"maintain balance while descending embankment with slight backward lean; fall/sit back on butt if slip"]
[null,"maintain balance while ascending embankment with forward lean; fall forward on hands if slip"]
[null,"identify potential dangerous objects common to ditches/gullies (e.g. broken bottles, thorny plants)"]
[null,"use improved crossing point if anywhere near line of travel"]
[null,"understand no one can see a person in a deep ditch/gully/arroyo--can't flag someone down for assistance--and other pedestrians in many rural areas are extremely rare"]
["4. Identify, Traverse And/Or Go Around Items Found In Rural Areas",null,null,{"$f":"SUM(C23:C27)/(COUNTIF(C23:C27,\">0\")+0.00000001)","v":0},null,{"$f":"SUM(E23:E27)/(COUNTIF(E23:E27,\">0\")+0.00000001)","v":0},null,{"$f":"SUM(G23:G27)/(COUNTIF(G23:G27,\">0\")+0.00000001)","v":0},null,{"$f":"SUM(I23:I27)/(COUNTIF(I23:I27,\">0\")+0.00000001)","v":0},null,{"$f":"SUM(K23:K27)/(COUNTIF(K23:K27,\">0\")+0.00000001)","v":0},null,{"$f":"SUM(M23:M27)/(COUNTIF(M23:M27,\">0\")+0.00000001)","v":0}]
[null,"identify and traverse cattle guard"]
[null,"identify different types of fencing (wood, metal tube, wire)"]
[null,"Go around or over fencing as appropriate, using gate whenever possible"]
[null,"detect and go around rural road hardware like mailboxes"]
[null,"detect and go around vehicles/trailers parked on side of road, using protective technique if appropriate to shield face from tools overhanging edge of truck/trailer bed"]
["5. Rural Street Crossings",null,null,{"$f":"SUM(C29:C33)/(COUNTIF(C29:C33,\">0\")+0.00000001)","v":0},null,{"$f":"SUM(E29:E33)/(COUNTIF(E29:E33,\">0\")+0.00000001)","v":0},null,{"$f":"SUM(G29:G33)/(COUNTIF(G29:G33,\">0\")+0.00000001)","v":0},null,{"$f":"SUM(I29:I33)/(COUNTIF(I29:I33,\">0\")+0.00000001)","v":0},null,{"$f":"SUM(K29:K33)/(COUNTIF(K29:K33,\">0\")+0.00000001)","v":0},null,{"$f":"SUM(M29:M33)/(COUNTIF(M29:M33,\">0\")+0.00000001)","v":0}]
[null,"understand that most rural crossings will offer lulls"]
[null,"understand that rural traffic tends to move quickly"]
[null,"use clues unique to rural areas (e.g. openness, speed of vehicles, loud road surfaces) to assist in choosing crossing time"]
[null,"cross with a lull whenever possible"]
[null,"cross intersections as per 'Street Crossing' section based on intersection type when there is no lull  "]
[null,"raw score for section",null,{"$f":"D3+D9+D15+D22+D28","v":0},null,{"$f":"F3+F9+F15+F22+F28","v":0},null,{"$f":"H3+H9+H15+H22+H28","v":0},null,{"$f":"J3+J9+J15+J22+J28","v":0},null,{"$f":"L3+L9+L15+L22+L28","v":0},null,{"$f":"N3+N9+N15+N22+N28","v":0}]
[null,"average score for section",null,{"$f":"D34/(COUNTIF(D3:D28,\">0\")+0.00000001)","v":0},null,{"$f":"F34/(COUNTIF(F3:F28,\">0\")+0.00000001)","v":0},null,{"$f":"H34/(COUNTIF(H3:H28,\">0\")+0.00000001)","v":0},null,{"$f":"J34/(COUNTIF(J3:J28,\">0\")+0.00000001)","v":0},null,{"$f":"L34/(COUNTIF(L3:L28,\">0\")+0.00000001)","v":0},null,{"$f":"N34/(COUNTIF(N3:N28,\">0\")+0.00000001)","v":0}]
[null,"percentage score for section",null,{"$f":"D35/5*100","v":0},null,{"$f":"F35/5*100","v":0},null,{"$f":"H35/5*100","v":0},null,{"$f":"J35/5*100","v":0},null,{"$f":"L35/5*100","v":0},null,{"$f":"N35/5*100","v":0}]
["RATING SCALE"]
["0 = Student not capable of demonstrating skill or does not need skill"]
["1 = Student does not demonstrate skill but may/will learn skill"]
["2 = Student only demonstrates skill with verbal and/or physical prompting"]
["3 = Student sometimes demonstrates skill without verbal and/or physical prompting"]
["4 = Student demonstrates skill and verbal and/or physical prompting are rarely needed"]
["5 = Student has totally mastered skill and does not require verbal and/or physical prompting"]
["RURAL O&M (2nd Data Set--Last 6 Columns On Front Page)",null,{"$f":"Front!H1","v":"Date"},null,{"$f":"Front!I1","v":"Date"},null,{"$f":"Front!J1","v":"Date"},null,{"$f":"Front!K1","v":"Date"},null,{"$f":"Front!L1","v":"Date"},null,{"$f":"Front!M1","v":"Date"}]
[null,null,"Input\nData","Auto\nScore","Input\nData","Auto\nScore","Input\nData","Auto\nScore","Input\nData","Auto\nScore","Input\nData","Auto\nScore","Input\nData","Auto\nScore"]
["1. Understand Unique Dangers Related To Rural Travel",null,null,{"$f":"SUM(C47:C51)/(COUNTIF(C47:C51,\">0\")+0.00000001)","v":0},null,{"$f":"SUM(E47:E51)/(COUNTIF(E47:E51,\">0\")+0.00000001)","v":0},null,{"$f":"SUM(G47:G51)/(COUNTIF(G47:G51,\">0\")+0.00000001)","v":0},null,{"$f":"SUM(I47:I51)/(COUNTIF(I47:I51,\">0\")+0.00000001)","v":0},null,{"$f":"SUM(K47:K51)/(COUNTIF(K47:K51,\">0\")+0.00000001)","v":0},null,{"$f":"SUM(M47:M51)/(COUNTIF(M47:M51,\">0\")+0.00000001)","v":0}]
[null,"understand that drivers on rural roads often exceed speed limits and that drivers don't anticipate pedestrians in road"]
[null,"understand that rock/gravel can be sent airborne by vehicle prevalent in rural areas"]
[null,"understand that wildlife (e.g. snakes, wild dogs) is more common than urban areas"]
[null,"understand that fences often have rusted and sharp projections"]
[null,"understand that ditches, gullies, and arroyos could indicate water run off and not be traversable in all weather conditions"]
["2. Walk along rural road",null,null,{"$f":"SUM(C53:C57)/(COUNTIF(C53:C57,\">0\")+0.00000001)","v":0},null,{"$f":"SUM(E53:E57)/(COUNTIF(E53:E57,\">0\")+0.00000001)","v":0},null,{"$f":"SUM(G53:G57)/(COUNTIF(G53:G57,\">0\")+0.00000001)","v":0},null,{"$f":"SUM(I53:I57)/(COUNTIF(I53:I57,\">0\")+0.00000001)","v":0},null,{"$f":"SUM(K53:K57)/(COUNTIF(K53:K57,\">0\")+0.00000001)","v":0},null,{"$f":"SUM(M53:M57)/(COUNTIF(M53:M57,\">0\")+0.00000001)","v":0}]
[null,"identify surface of road (paved, gravel, dirt), condition of the side of road (flat/rutted) and presence/absence of grass (mowed, tall) then choose where to walk (road/side of road)"]
[null,"keep to the edge of the road (in road or on side of road)"]
[null,"move as far off the road as safely possible when vehicle approaches"]
[null,"identify driveways and intersections"]
[null,"maintain orientation while on rural roads"]
["3. Ditches/Gullies/Arroyos/Embankments (rural areas)",null,null,{"$f":"SUM(C59:C64)/(COUNTIF(C59:C64,\">0\")+0.00000001)","v":0},null,{"$f":"SUM(E59:E64)/(COUNTIF(E59:E64,\">0\")+0.00000001)","v":0},null,{"$f":"SUM(G59:G64)/(COUNTIF(G59:G64,\">0\")+0.00000001)","v":0},null,{"$f":"SUM(I59:I64)/(COUNTIF(I59:I64,\">0\")+0.00000001)","v":0},null,{"$f":"SUM(K59:K64)/(COUNTIF(K59:K64,\">0\")+0.00000001)","v":0},null,{"$f":"SUM(M59:M64)/(COUNTIF(M59:M64,\">0\")+0.00000001)","v":0}]
[null,"identify purpose of many ditches/gullies/arroyos in rural areas is for water run off; dangerous to cross due to flash flood possibility "]
[null,"maintain balance while descending embankment with slight backward lean; fall/sit back on butt if slip"]
[null,"maintain balance while ascending embankment with forward lean; fall forward on hands if slip"]
[null,"identify potential dangerous objects common to ditches/gullies (e.g. broken bottles, thorny plants)"]
[null,"use improved crossing point if anywhere near line of travel"]
[null,"understand no one can see a person in a deep ditch/gully/arroyo--can't flag someone down for assistance--and other pedestrians in many rural areas are extremely rare"]
["4. Identify, Traverse And/Or Go Around Items Found In Rural Areas",null,null,{"$f":"SUM(C66:C70)/(COUNTIF(C66:C70,\">0\")+0.00000001)","v":0},null,{"$f":"SUM(E66:E70)/(COUNTIF(E66:E70,\">0\")+0.00000001)","v":0},null,{"$f":"SUM(G66:G70)/(COUNTIF(G66:G70,\">0\")+0.00000001)","v":0},null,{"$f":"SUM(I66:I70)/(COUNTIF(I66:I70,\">0\")+0.00000001)","v":0},null,{"$f":"SUM(K66:K70)/(COUNTIF(K66:K70,\">0\")+0.00000001)","v":0},null,{"$f":"SUM(M66:M70)/(COUNTIF(M66:M70,\">0\")+0.00000001)","v":0}]
[null,"identify and traverse cattle guard"]
[null,"identify different types of fencing (wood, metal tube, wire)"]
[null,"Go around or over fencing as appropriate, using gate whenever possible"]
[null,"detect and go around rural road hardware like mailboxes"]
[null,"detect and go around vehicles/trailers parked on side of road, using protective technique if appropriate to shield face from tools overhanging edge of truck/trailer bed"]
["5. Rural Street Crossings",null,null,{"$f":"SUM(C72:C76)/(COUNTIF(C72:C76,\">0\")+0.00000001)","v":0},null,{"$f":"SUM(E72:E76)/(COUNTIF(E72:E76,\">0\")+0.00000001)","v":0},null,{"$f":"SUM(G72:G76)/(COUNTIF(G72:G76,\">0\")+0.00000001)","v":0},null,{"$f":"SUM(I72:I76)/(COUNTIF(I72:I76,\">0\")+0.00000001)","v":0},null,{"$f":"SUM(K72:K76)/(COUNTIF(K72:K76,\">0\")+0.00000001)","v":0},null,{"$f":"SUM(M72:M76)/(COUNTIF(M72:M76,\">0\")+0.00000001)","v":0}]
[null,"understand that most rural crossings will offer lulls"]
[null,"understand that rural traffic tends to move quickly"]
[null,"use clues unique to rural areas (e.g. openness, speed of vehicles, loud road surfaces) to assist in choosing crossing time"]
[null,"cross with a lull whenever possible"]
[null,"cross intersections as per 'Street Crossing' section based on intersection type when there is no lull  "]
[null,"raw score for section",null,{"$f":"D46+D52+D58+D65+D71","v":0},null,{"$f":"F46+F52+F58+F65+F71","v":0},null,{"$f":"H46+H52+H58+H65+H71","v":0},null,{"$f":"J46+J52+J58+J65+J71","v":0},null,{"$f":"L46+L52+L58+L65+L71","v":0},null,{"$f":"N46+N52+N58+N65+N71","v":0}]
[null,"average score for section",null,{"$f":"D77/(COUNTIF(D46:D71,\">0\")+0.00000001)","v":0},null,{"$f":"F77/(COUNTIF(F46:F71,\">0\")+0.00000001)","v":0},null,{"$f":"H77/(COUNTIF(H46:H71,\">0\")+0.00000001)","v":0},null,{"$f":"J77/(COUNTIF(J46:J71,\">0\")+0.00000001)","v":0},null,{"$f":"L77/(COUNTIF(L46:L71,\">0\")+0.00000001)","v":0},null,{"$f":"N77/(COUNTIF(N46:N71,\">0\")+0.00000001)","v":0}]
[null,"percentage score for section",null,{"$f":"D78/5*100","v":0},null,{"$f":"F78/5*100","v":0},null,{"$f":"H78/5*100","v":0},null,{"$f":"J78/5*100","v":0},null,{"$f":"L78/5*100","v":0},null,{"$f":"N78/5*100","v":0}]
["RATING SCALE"]
["0 = Student not capable of demonstrating skill or does not need skill"]
["1 = Student does not demonstrate skill but may/will learn skill"]
["2 = Student only demonstrates skill with verbal and/or physical prompting"]
["3 = Student sometimes demonstrates skill without verbal and/or physical prompting"]
["4 = Student demonstrates skill and verbal and/or physical prompting are rarely needed"]
["5 = Student has totally mastered skill and does not require verbal and/or physical prompting"]

{"sheet":"VisSpec","index":14,"n_rows":90,"n_cols":15,"rows_kept":90,"cut":false,"hidden":false,"merged":[[0,12,0,13],[45,2,45,3],[45,4,45,5],[45,6,45,7],[45,8,45,9],[45,10,45,11],[45,12,45,13],[0,2,0,3],[0,4,0,5],[0,6,0,7],[0,8,0,9],[0,10,0,11]]}
["VISION SPECIFIC SKILLS (First 6 Columns On Front Page)",null,{"$f":"Front!B1","v":"Date"},null,{"$f":"Front!C1","v":"Date"},null,{"$f":"Front!D1","v":"Date"},null,{"$f":"Front!E1","v":"Date"},null,{"$f":"Front!F1","v":"Date"},null,{"$f":"Front!G1","v":"Date"},null,"notes"]
[null,null,"Input\nData","Auto\nScore","Input\nData","Auto\nScore","Input\nData","Auto\nScore","Input\nData","Auto\nScore","Input\nData","Auto\nScore","Input\nData","Auto\nScore"]
["1. Scanning Materials",null,null,{"$f":"SUM(C4:C9)/(COUNTIF(C4:C9,\">0\")+0.00000001)","v":0},null,{"$f":"SUM(E4:E9)/(COUNTIF(E4:E9,\">0\")+0.00000001)","v":0},null,{"$f":"SUM(G4:G9)/(COUNTIF(G4:G9,\">0\")+0.00000001)","v":0},null,{"$f":"SUM(I4:I9)/(COUNTIF(I4:I9,\">0\")+0.00000001)","v":0},null,{"$f":"SUM(K4:K9)/(COUNTIF(K4:K9,\">0\")+0.00000001)","v":0},null,{"$f":"SUM(M4:M9)/(COUNTIF(M4:M9,\">0\")+0.00000001)","v":0}]
[null,"scan uncluttered picture for specific item(s)"]
[null,"scan cluttered picture for specific item(s)"]
[null,"scan uncluttered map (printed or on phone) for specific street/item"]
[null,"scan cluttered map (printed or on phone) for specific street/item"]
[null,"use printed map to locate streets/areas of interest"]
[null,"use internet map to locate streets/areas of interest"]
["2. Scanning Environment",null,null,{"$f":"SUM(C11:C16)/(COUNTIF(C11:C16,\">0\")+0.00000001)","v":0},null,{"$f":"SUM(E11:E16)/(COUNTIF(E11:E16,\">0\")+0.00000001)","v":0},null,{"$f":"SUM(G11:G16)/(COUNTIF(G11:G16,\">0\")+0.00000001)","v":0},null,{"$f":"SUM(I11:I16)/(COUNTIF(I11:I16,\">0\")+0.00000001)","v":0},null,{"$f":"SUM(K11:K16)/(COUNTIF(K11:K16,\">0\")+0.00000001)","v":0},null,{"$f":"SUM(M11:M16)/(COUNTIF(M11:M16,\">0\")+0.00000001)","v":0}]
[null,"scan area to be traveled for obstacles on ground"]
[null,"scan area to be traveled for low hanging obstacles"]
[null,"scan house/building/mailbox/curb for address"]
[null,"scan intersection for traffic control/street signs"]
[null,"scan streets at intersection for approaching vehicles"]
[null,"scan business names for places of interest"]
["3. Hand Held Magnifiers, Screen Enlargers, CCTVs",null,null,{"$f":"SUM(C18:C20)/(COUNTIF(C18:C20,\">0\")+0.00000001)","v":0},null,{"$f":"SUM(E18:E20)/(COUNTIF(E18:E20,\">0\")+0.00000001)","v":0},null,{"$f":"SUM(G18:G20)/(COUNTIF(G18:G20,\">0\")+0.00000001)","v":0},null,{"$f":"SUM(I18:I20)/(COUNTIF(I18:I20,\">0\")+0.00000001)","v":0},null,{"$f":"SUM(K18:K20)/(COUNTIF(K18:K20,\">0\")+0.00000001)","v":0},null,{"$f":"SUM(M18:M20)/(COUNTIF(M18:M20,\">0\")+0.00000001)","v":0}]
[null,"use hand held magnifier to locate specific street on printed map"]
[null,"use CCTV to locate specific street on printed map"]
[null,"use screen enlargement software to locate streets on internet map and print map as needed"]
["4. Monoculars",null,null,{"$f":"SUM(C22:C26)/(COUNTIF(C22:C26,\">0\")+0.00000001)","v":0},null,{"$f":"SUM(E22:E26)/(COUNTIF(E22:E26,\">0\")+0.00000001)","v":0},null,{"$f":"SUM(G22:G26)/(COUNTIF(G22:G26,\">0\")+0.00000001)","v":0},null,{"$f":"SUM(I22:I26)/(COUNTIF(I22:I26,\">0\")+0.00000001)","v":0},null,{"$f":"SUM(K22:K26)/(COUNTIF(K22:K26,\">0\")+0.00000001)","v":0},null,{"$f":"SUM(M22:M26)/(COUNTIF(M22:M26,\">0\")+0.00000001)","v":0}]
[null,"hold monocular steady, using cane as monopod if needed"]
[null,"focus monocular to bring item into focus"]
[null,"scan building for address/name with monocular"]
[null,"use monocular to read street signs/signs in stores"]
[null,"use monocular to spot pedestrian signal at intersection"]
["5. Visual Traveler",null,null,{"$f":"SUM(C28:C35)/(COUNTIF(C28:C35,\">0\")+0.00000001)","v":0},null,{"$f":"SUM(E28:E35)/(COUNTIF(E28:E35,\">0\")+0.00000001)","v":0},null,{"$f":"SUM(G28:G35)/(COUNTIF(G28:G35,\">0\")+0.00000001)","v":0},null,{"$f":"SUM(I28:I35)/(COUNTIF(I28:I35,\">0\")+0.00000001)","v":0},null,{"$f":"SUM(K28:K35)/(COUNTIF(K28:K35,\">0\")+0.00000001)","v":0},null,{"$f":"SUM(M28:M35)/(COUNTIF(M28:M35,\">0\")+0.00000001)","v":0}]
[null,"visually detect all changes in terrain in all lighting conditions"]
[null,"visually detect all curbs/drop offs in all lighting conditions"]
[null,"visually detect all obstacles in L.O.T. in all lighting conditions"]
[null,"visually detect all hanging obstacles in all lighting conditions"]
[null,"visually detect all ramps/blended curbs in all lighting conditions"]
[null,"visually detect and interpret all traffic control signals"]
[null,"visually detect all vehicles approaching intersection far enough away to allow for safe crossing in all lighting conditions"]
[null,"cross without veering in all lighting conditions"]
[null,"raw score for section",null,{"$f":"D3+D10+D17+D21+D27","v":0},null,{"$f":"F3+F10+F17+F21+F27","v":0},null,{"$f":"H3+H10+H17+H21+H27","v":0},null,{"$f":"J3+J10+J17+J21+J27","v":0},null,{"$f":"L3+L10+L17+L21+L27","v":0},null,{"$f":"N3+N10+N17+N21+N27","v":0}]
[null,"average score for section",null,{"$f":"D36/(COUNTIF(D3:D27,\">0\")+0.00000001)","v":0},null,{"$f":"F36/(COUNTIF(F3:F27,\">0\")+0.00000001)","v":0},null,{"$f":"H36/(COUNTIF(H3:H27,\">0\")+0.00000001)","v":0},null,{"$f":"J36/(COUNTIF(J3:J27,\">0\")+0.00000001)","v":0},null,{"$f":"L36/(COUNTIF(L3:L27,\">0\")+0.00000001)","v":0},null,{"$f":"N36/(COUNTIF(N3:N27,\">0\")+0.00000001)","v":0}]
[null,"percentage score for section",null,{"$f":"D37/5*100","v":0},null,{"$f":"F37/5*100","v":0},null,{"$f":"H37/5*100","v":0},null,{"$f":"J37/5*100","v":0},null,{"$f":"L37/5*100","v":0},null,{"$f":"N37/5*100","v":0}]
["RATING SCALE"]
["0 = Student not capable of demonstrating skill or does not need skill"]
["1 = Student does not demonstrate skill but may/will learn skill"]
["2 = Student only demonstrates skill with verbal and/or physical prompting"]
["3 = Student sometimes demonstrates skill without verbal and/or physical prompting"]
["4 = Student demonstrates skill and verbal and/or physical prompting are rarely needed"]
["5 = Student has totally mastered skill and does not require verbal and/or physical prompting"]
["VISION SPECIFIC SKILLS (Last 6 Columns On Front Page)",null,{"$f":"Front!H1","v":"Date"},null,{"$f":"Front!I1","v":"Date"},null,{"$f":"Front!J1","v":"Date"},null,{"$f":"Front!K1","v":"Date"},null,{"$f":"Front!L1","v":"Date"},null,{"$f":"Front!M1","v":"Date"},null,"notes"]
[null,null,"Input\nData","Auto\nScore","Input\nData","Auto\nScore","Input\nData","Auto\nScore","Input\nData","Auto\nScore","Input\nData","Auto\nScore","Input\nData","Auto\nScore"]
["1. Scanning Materials",null,null,{"$f":"SUM(C49:C54)/(COUNTIF(C49:C54,\">0\")+0.00000001)","v":0},null,{"$f":"SUM(E49:E54)/(COUNTIF(E49:E54,\">0\")+0.00000001)","v":0},null,{"$f":"SUM(G49:G54)/(COUNTIF(G49:G54,\">0\")+0.00000001)","v":0},null,{"$f":"SUM(I49:I54)/(COUNTIF(I49:I54,\">0\")+0.00000001)","v":0},null,{"$f":"SUM(K49:K54)/(COUNTIF(K49:K54,\">0\")+0.00000001)","v":0},null,{"$f":"SUM(M49:M54)/(COUNTIF(M49:M54,\">0\")+0.00000001)","v":0}]
[null,"scan uncluttered picture for specific item(s)"]
[null,"scan cluttered picture for specific item(s)"]
[null,"scan uncluttered map (printed or on phone) for specific street/item"]
[null,"scan cluttered map (printed or on phone) for specific street/item"]
[null,"use printed map to locate streets/areas of interest"]
[null,"use internet map to locate streets/areas of interest"]
["2. Scanning Environment",null,null,{"$f":"SUM(C56:C61)/(COUNTIF(C56:C61,\">0\")+0.00000001)","v":0},null,{"$f":"SUM(E56:E61)/(COUNTIF(E56:E61,\">0\")+0.00000001)","v":0},null,{"$f":"SUM(G56:G61)/(COUNTIF(G56:G61,\">0\")+0.00000001)","v":0},null,{"$f":"SUM(I56:I61)/(COUNTIF(I56:I61,\">0\")+0.00000001)","v":0},null,{"$f":"SUM(K56:K61)/(COUNTIF(K56:K61,\">0\")+0.00000001)","v":0},null,{"$f":"SUM(M56:M61)/(COUNTIF(M56:M61,\">0\")+0.00000001)","v":0}]
[null,"scan area to be traveled for obstacles on ground"]
[null,"scan area to be traveled for low hanging obstacles"]
[null,"scan house/building/mailbox/curb for address"]
[null,"scan intersection for traffic control/street signs"]
[null,"scan streets at intersection for approaching vehicles"]
[null,"scan business names for places of interest"]
["3. Hand Held Magnifiers, Screen Enlargers, CCTVs",null,null,{"$f":"SUM(C63:C65)/(COUNTIF(C63:C65,\">0\")+0.00000001)","v":0},null,{"$f":"SUM(E63:E65)/(COUNTIF(E63:E65,\">0\")+0.00000001)","v":0},null,{"$f":"SUM(G63:G65)/(COUNTIF(G63:G65,\">0\")+0.00000001)","v":0},null,{"$f":"SUM(I63:I65)/(COUNTIF(I63:I65,\">0\")+0.00000001)","v":0},null,{"$f":"SUM(K63:K65)/(COUNTIF(K63:K65,\">0\")+0.00000001)","v":0},null,{"$f":"SUM(M63:M65)/(COUNTIF(M63:M65,\">0\")+0.00000001)","v":0}]
[null,"use hand held magnifier to locate specific street on printed map"]
[null,"use CCTV to locate specific street on printed map"]
[null,"use screen enlargement software to locate streets on internet map and print map as needed"]
["4. Monoculars",null,null,{"$f":"SUM(C67:C71)/(COUNTIF(C67:C71,\">0\")+0.00000001)","v":0},null,{"$f":"SUM(E67:E71)/(COUNTIF(E67:E71,\">0\")+0.00000001)","v":0},null,{"$f":"SUM(G67:G71)/(COUNTIF(G67:G71,\">0\")+0.00000001)","v":0},null,{"$f":"SUM(I67:I71)/(COUNTIF(I67:I71,\">0\")+0.00000001)","v":0},null,{"$f":"SUM(K67:K71)/(COUNTIF(K67:K71,\">0\")+0.00000001)","v":0},null,{"$f":"SUM(M67:M71)/(COUNTIF(M67:M71,\">0\")+0.00000001)","v":0}]
[null,"hold monocular steady, using cane as monopod if needed"]
[null,"focus monocular to bring item into focus"]
[null,"scan building for address/name with monocular"]
[null,"use monocular to read street signs/signs in stores"]
[null,"use monocular to spot pedestrian signal at intersection"]
["5. Visual Traveler",null,null,{"$f":"SUM(C73:C80)/(COUNTIF(C73:C80,\">0\")+0.00000001)","v":0},null,{"$f":"SUM(E73:E80)/(COUNTIF(E73:E80,\">0\")+0.00000001)","v":0},null,{"$f":"SUM(G73:G80)/(COUNTIF(G73:G80,\">0\")+0.00000001)","v":0},null,{"$f":"SUM(I73:I80)/(COUNTIF(I73:I80,\">0\")+0.00000001)","v":0},null,{"$f":"SUM(K73:K80)/(COUNTIF(K73:K80,\">0\")+0.00000001)","v":0},null,{"$f":"SUM(M73:M80)/(COUNTIF(M73:M80,\">0\")+0.00000001)","v":0}]
[null,"visually detect all changes in terrain in all lighting conditions"]
[null,"visually detect all curbs/drop offs in all lighting conditions"]
[null,"visually detect all obstacles in L.O.T. in all lighting conditions"]
[null,"visually detect all hanging obstacles in all lighting conditions"]
[null,"visually detect all ramps/blended curbs in all lighting conditions"]
[null,"visually detect and interpret all traffic control signals"]
[null,"visually detect all vehicles approaching intersection far enough away to allow for safe crossing in all lighting conditions"]
[null,"cross without veering in all lighting conditions"]
[null,"raw score for section",null,{"$f":"D48+D55+D62+D66+D72","v":0},null,{"$f":"F48+F55+F62+F66+F72","v":0},null,{"$f":"H48+H55+H62+H66+H72","v":0},null,{"$f":"J48+J55+J62+J66+J72","v":0},null,{"$f":"L48+L55+L62+L66+L72","v":0},null,{"$f":"N48+N55+N62+N66+N72","v":0}]
[null,"average score for section",null,{"$f":"D81/(COUNTIF(D48:D72,\">0\")+0.00000001)","v":0},null,{"$f":"F81/(COUNTIF(F48:F72,\">0\")+0.00000001)","v":0},null,{"$f":"H81/(COUNTIF(H48:H72,\">0\")+0.00000001)","v":0},null,{"$f":"J81/(COUNTIF(J48:J72,\">0\")+0.00000001)","v":0},null,{"$f":"L81/(COUNTIF(L48:L72,\">0\")+0.00000001)","v":0},null,{"$f":"N81/(COUNTIF(N48:N72,\">0\")+0.00000001)","v":0}]
[null,"percentage score for section",null,{"$f":"D82/5*100","v":0},null,{"$f":"F82/5*100","v":0},null,{"$f":"H82/5*100","v":0},null,{"$f":"J82/5*100","v":0},null,{"$f":"L82/5*100","v":0},null,{"$f":"N82/5*100","v":0}]
["RATING SCALE"]
["0 = Student not capable of demonstrating skill or does not need skill"]
["1 = Student does not demonstrate skill but may/will learn skill"]
["2 = Student only demonstrates skill with verbal and/or physical prompting"]
["3 = Student sometimes demonstrates skill without verbal and/or physical prompting"]
["4 = Student demonstrates skill and verbal and/or physical prompting are rarely needed"]
["5 = Student has totally mastered skill and does not require verbal and/or physical prompting"]

{"sheet":"Commun","index":15,"n_rows":112,"n_cols":15,"rows_kept":112,"cut":false,"hidden":false,"merged":[[0,12,0,13],[56,2,56,3],[56,4,56,5],[56,6,56,7],[56,8,56,9],[56,10,56,11],[56,12,56,13],[0,2,0,3],[0,4,0,5],[0,6,0,7],[0,8,0,9],[0,10,0,11]]}
["COMMUNITY SKILLS (1st Data Set--First 6 Columns On Front Page)",null,{"$f":"Front!B1","v":"Date"},null,{"$f":"Front!C1","v":"Date"},null,{"$f":"Front!D1","v":"Date"},null,{"$f":"Front!E1","v":"Date"},null,{"$f":"Front!F1","v":"Date"},null,{"$f":"Front!G1","v":"Date"},null,"notes"]
[null,null,"Input\nData","Auto\nScore","Input\nData","Auto\nScore","Input\nData","Auto\nScore","Input\nData","Auto\nScore","Input\nData","Auto\nScore","Input\nData","Auto\nScore"]
["1. Comparison Shopping From Home",null,null,{"$f":"SUM(C4:C6)/(COUNTIF(C4:C6,\">0\")+0.00000001)","v":0},null,{"$f":"SUM(E4:E6)/(COUNTIF(E4:E6,\">0\")+0.00000001)","v":0},null,{"$f":"SUM(G4:G6)/(COUNTIF(G4:G6,\">0\")+0.00000001)","v":0},null,{"$f":"SUM(I4:I6)/(COUNTIF(I4:I6,\">0\")+0.00000001)","v":0},null,{"$f":"SUM(K4:K6)/(COUNTIF(K4:K6,\">0\")+0.00000001)","v":0},null,{"$f":"SUM(M4:M6)/(COUNTIF(M4:M6,\">0\")+0.00000001)","v":0}]
[null,"identify retailers with item of interest"]
[null,"call local retailers to get info/prices, availability"]
[null,"check online retailers to get info/prices/shipping costs"]
["2. Stores",null,null,{"$f":"SUM(C8:C18)/(COUNTIF(C8:C18,\">0\")+0.00000001)","v":0},null,{"$f":"SUM(E8:E18)/(COUNTIF(E8:E18,\">0\")+0.00000001)","v":0},null,{"$f":"SUM(G8:G18)/(COUNTIF(G8:G18,\">0\")+0.00000001)","v":0},null,{"$f":"SUM(I8:I18)/(COUNTIF(I8:I18,\">0\")+0.00000001)","v":0},null,{"$f":"SUM(K8:K18)/(COUNTIF(K8:K18,\">0\")+0.00000001)","v":0},null,{"$f":"SUM(M8:M18)/(COUNTIF(M8:M18,\">0\")+0.00000001)","v":0}]
[null,"identify way to get to store and way to get back with needs of merchandise in mind (e.g. can't bring couch home in taxi, ice cream will melt on the bus)"]
[null,"locate entrance to store"]
[null,"locate store employee if assistance is needed to find items"]
[null,"if needed, hold onto back of cart to keep from being run into display stands or other customers by store employee"]
[null,"ensure all items are those that are sought--check packages"]
[null,"get pricing information when selecting items"]
[null,"place items on counter/conveyor "]
[null,"pay for items (cash, credit, debit)"]
[null,"locate exit (with employee assistance if needed)"]
[null,"locate transportation (e.g. bus stop, taxi, friend's car)"]
[null,"navigate parking lot by staying close to line of parked cars"]
["3. Fast Food Restaurants",null,null,{"$f":"SUM(C20:C29)/(COUNTIF(C20:C29,\">0\")+0.00000001)","v":0},null,{"$f":"SUM(E20:E29)/(COUNTIF(E20:E29,\">0\")+0.00000001)","v":0},null,{"$f":"SUM(G20:G29)/(COUNTIF(G20:G29,\">0\")+0.00000001)","v":0},null,{"$f":"SUM(I20:I29)/(COUNTIF(I20:I29,\">0\")+0.00000001)","v":0},null,{"$f":"SUM(K20:K29)/(COUNTIF(K20:K29,\">0\")+0.00000001)","v":0},null,{"$f":"SUM(M20:M29)/(COUNTIF(M20:M29,\">0\")+0.00000001)","v":0}]
[null,"locate entrance"]
[null,"locate counter area, use as Point Of Reference (P.O.R.)"]
[null,"find the back of the line"]
[null,"move up in line when appropriate "]
[null,"access menu (with low vision device or solicit assistance)"]
[null,"order and pay for meal"]
[null,"move to side to await meal (usually by order number)"]
[null,"take tray and keep it level, locate unoccupied table"]
[null,"locate trash, empty tray (most restaurants)"]
[null,"locate exit"]
["4. Cafeteria/Buffet Restaurants",null,null,{"$f":"SUM(C31:C40)/(COUNTIF(C31:C40,\">0\")+0.00000001)","v":0},null,{"$f":"SUM(E31:E40)/(COUNTIF(E31:E40,\">0\")+0.00000001)","v":0},null,{"$f":"SUM(G31:G40)/(COUNTIF(G31:G40,\">0\")+0.00000001)","v":0},null,{"$f":"SUM(I31:I40)/(COUNTIF(I31:I40,\">0\")+0.00000001)","v":0},null,{"$f":"SUM(K31:K40)/(COUNTIF(K31:K40,\">0\")+0.00000001)","v":0},null,{"$f":"SUM(M31:M40)/(COUNTIF(M31:M40,\">0\")+0.00000001)","v":0}]
[null,"locate entrance"]
[null,"locate register (sometimes before getting food, sometimes after)"]
[null,"pay for meal (sometimes before getting food, sometimes after)"]
[null,"Find line or navigate maze to reach buffet or cafeteria line"]
[null,"locate table with assistance of wait staff (some buffets)"]
[null,"Use buffet/cafeteria line as P.O.R."]
[null,"locate items on buffet or in cafeteria line with assistance of restaurant staff or friend"]
[null,"keep tray/plate level and find or return to table"]
[null,"eat meal, leave dishes and tip"]
[null,"locate exit"]
["5. Sit Down Restaurants",null,null,{"$f":"SUM(C42:C46)/(COUNTIF(C42:C46,\">0\")+0.00000001)","v":0},null,{"$f":"SUM(E42:E46)/(COUNTIF(E42:E46,\">0\")+0.00000001)","v":0},null,{"$f":"SUM(G42:G46)/(COUNTIF(G42:G46,\">0\")+0.00000001)","v":0},null,{"$f":"SUM(I42:I46)/(COUNTIF(I42:I46,\">0\")+0.00000001)","v":0},null,{"$f":"SUM(K42:K46)/(COUNTIF(K42:K46,\">0\")+0.00000001)","v":0},null,{"$f":"SUM(M42:M46)/(COUNTIF(M42:M46,\">0\")+0.00000001)","v":0}]
[null,"locate entrance"]
[null,"follow wait staff to table, use as P.O.R."]
[null,"access menu (with low vision device or solicit assistance)"]
[null,"pay check at table or counter at exit"]
[null,"locate exit"]
[null,"raw score for section",null,{"$f":"D3+D7+D19+D30+D41","v":0},null,{"$f":"F3+F7+F19+F30+F41","v":0},null,{"$f":"H3+H7+H19+H30+H41","v":0},null,{"$f":"J3+J7+J19+J30+J41","v":0},null,{"$f":"L3+L7+L19+L30+L41","v":0},null,{"$f":"N3+N7+N19+N30+N41","v":0}]
[null,"average score for section",null,{"$f":"D47/(COUNTIF(D3:D42,\">0\")+0.00000001)","v":0},null,{"$f":"F47/(COUNTIF(F3:F42,\">0\")+0.00000001)","v":0},null,{"$f":"H47/(COUNTIF(H3:H42,\">0\")+0.00000001)","v":0},null,{"$f":"J47/(COUNTIF(J3:J42,\">0\")+0.00000001)","v":0},null,{"$f":"L47/(COUNTIF(L3:L42,\">0\")+0.00000001)","v":0},null,{"$f":"N47/(COUNTIF(N3:N42,\">0\")+0.00000001)","v":0}]
[null,"percentage score for section",null,{"$f":"D48/5*100","v":0},null,{"$f":"F48/5*100","v":0},null,{"$f":"H48/5*100","v":0},null,{"$f":"J48/5*100","v":0},null,{"$f":"L48/5*100","v":0},null,{"$f":"N48/5*100","v":0}]
["RATING SCALE"]
["0 = Student not capable of demonstrating skill or does not need skill"]
["1 = Student does not demonstrate skill but may/will learn skill"]
["2 = Student only demonstrates skill with verbal and/or physical prompting"]
["3 = Student sometimes demonstrates skill without verbal and/or physical prompting"]
["4 = Student demonstrates skill and verbal and/or physical prompting are rarely needed"]
["5 = Student has totally mastered skill and does not require verbal and/or physical prompting"]
["COMMUNITY SKILLS (2nd Data Set--Last 6 Columns On Front Page)",null,{"$f":"Front!H1","v":"Date"},null,{"$f":"Front!I1","v":"Date"},null,{"$f":"Front!J1","v":"Date"},null,{"$f":"Front!K1","v":"Date"},null,{"$f":"Front!L1","v":"Date"},null,{"$f":"Front!M1","v":"Date"},null,"notes"]
[null,null,"Input\nData","Auto\nScore","Input\nData","Auto\nScore","Input\nData","Auto\nScore","Input\nData","Auto\nScore","Input\nData","Auto\nScore","Input\nData","Auto\nScore"]
["1. Comparison Shopping From Home",null,null,{"$f":"SUM(C60:C62)/(COUNTIF(C60:C62,\">0\")+0.00000001)","v":0},null,{"$f":"SUM(E60:E62)/(COUNTIF(E60:E62,\">0\")+0.00000001)","v":0},null,{"$f":"SUM(G60:G62)/(COUNTIF(G60:G62,\">0\")+0.00000001)","v":0},null,{"$f":"SUM(I60:I62)/(COUNTIF(I60:I62,\">0\")+0.00000001)","v":0},null,{"$f":"SUM(K60:K62)/(COUNTIF(K60:K62,\">0\")+0.00000001)","v":0},null,{"$f":"SUM(M60:M62)/(COUNTIF(M60:M62,\">0\")+0.00000001)","v":0}]
[null,"identify retailers with item of interest"]
[null,"call local retailers to get info/prices, availability"]
[null,"check online retailers to get info/prices/shipping costs"]
["2. Stores",null,null,{"$f":"SUM(C64:C74)/(COUNTIF(C64:C74,\">0\")+0.00000001)","v":0},null,{"$f":"SUM(E64:E74)/(COUNTIF(E64:E74,\">0\")+0.00000001)","v":0},null,{"$f":"SUM(G64:G74)/(COUNTIF(G64:G74,\">0\")+0.00000001)","v":0},null,{"$f":"SUM(I64:I74)/(COUNTIF(I64:I74,\">0\")+0.00000001)","v":0},null,{"$f":"SUM(K64:K74)/(COUNTIF(K64:K74,\">0\")+0.00000001)","v":0},null,{"$f":"SUM(M64:M74)/(COUNTIF(M64:M74,\">0\")+0.00000001)","v":0}]
[null,"identify way to get to store and way to get back with needs of merchandise in mind (e.g. can't bring couch home in taxi, ice cream will melt on the bus)"]
[null,"locate entrance to store"]
[null,"locate store employee if assistance is needed to find items"]
[null,"if needed, hold onto back of cart to keep from being run into display stands or other customers by store employee"]
[null,"ensure all items are those that are sought--check packages"]
[null,"get pricing information when selecting items"]
[null,"place items on counter/conveyor "]
[null,"pay for items (cash, credit, debit)"]
[null,"locate exit (with employee assistance if needed)"]
[null,"locate transportation (e.g. bus stop, taxi, friend's car)"]
[null,"navigate parking lot by staying close to line of parked cars"]
["3. Fast Food Restaurants",null,null,{"$f":"SUM(C76:C85)/(COUNTIF(C76:C85,\">0\")+0.00000001)","v":0},null,{"$f":"SUM(E76:E85)/(COUNTIF(E76:E85,\">0\")+0.00000001)","v":0},null,{"$f":"SUM(G76:G85)/(COUNTIF(G76:G85,\">0\")+0.00000001)","v":0},null,{"$f":"SUM(I76:I85)/(COUNTIF(I76:I85,\">0\")+0.00000001)","v":0},null,{"$f":"SUM(K76:K85)/(COUNTIF(K76:K85,\">0\")+0.00000001)","v":0},null,{"$f":"SUM(M76:M85)/(COUNTIF(M76:M85,\">0\")+0.00000001)","v":0}]
[null,"locate entrance"]
[null,"locate counter area, use as Point Of Reference (P.O.R.)"]
[null,"find the back of the line"]
[null,"move up in line when appropriate "]
[null,"access menu (with low vision device or solicit assistance)"]
[null,"order and pay for meal"]
[null,"move to side to await meal (usually by order number)"]
[null,"take tray and keep it level, locate unoccupied table"]
[null,"locate trash, empty tray (most restaurants)"]
[null,"locate exit"]
["4. Cafeteria/Buffet Restaurants",null,null,{"$f":"SUM(C87:C96)/(COUNTIF(C87:C96,\">0\")+0.00000001)","v":0},null,{"$f":"SUM(E87:E96)/(COUNTIF(E87:E96,\">0\")+0.00000001)","v":0},null,{"$f":"SUM(G87:G96)/(COUNTIF(G87:G96,\">0\")+0.00000001)","v":0},null,{"$f":"SUM(I87:I96)/(COUNTIF(I87:I96,\">0\")+0.00000001)","v":0},null,{"$f":"SUM(K87:K96)/(COUNTIF(K87:K96,\">0\")+0.00000001)","v":0},null,{"$f":"SUM(M87:M96)/(COUNTIF(M87:M96,\">0\")+0.00000001)","v":0}]
[null,"locate entrance"]
[null,"locate register (sometimes before getting food, sometimes after)"]
[null,"pay for meal (sometimes before getting food, sometimes after)"]
[null,"Find line or navigate maze to reach buffet or cafeteria line"]
[null,"locate table with assistance of wait staff (some buffets)"]
[null,"Use buffet/cafeteria line as P.O.R."]
[null,"locate items on buffet or in cafeteria line with assistance of restaurant staff or friend"]
[null,"keep tray/plate level and find or return to table"]
[null,"eat meal, leave dishes and tip"]
[null,"locate exit"]
["5. Sit Down Restaurants",null,null,{"$f":"SUM(C98:C102)/(COUNTIF(C98:C102,\">0\")+0.00000001)","v":0},null,{"$f":"SUM(E98:E102)/(COUNTIF(E98:E102,\">0\")+0.00000001)","v":0},null,{"$f":"SUM(G98:G102)/(COUNTIF(G98:G102,\">0\")+0.00000001)","v":0},null,{"$f":"SUM(I98:I102)/(COUNTIF(I98:I102,\">0\")+0.00000001)","v":0},null,{"$f":"SUM(K98:K102)/(COUNTIF(K98:K102,\">0\")+0.00000001)","v":0},null,{"$f":"SUM(M98:M102)/(COUNTIF(M98:M102,\">0\")+0.00000001)","v":0}]
[null,"locate entrance"]
[null,"follow wait staff to table, use as P.O.R."]
[null,"access menu (with low vision device or solicit assistance)"]
[null,"pay check at table or counter at exit"]
[null,"locate exit"]
[null,"raw score for section",null,{"$f":"D59+D63+D75+D86+D97","v":0},null,{"$f":"F59+F63+F75+F86+F97","v":0},null,{"$f":"H59+H63+H75+H86+H97","v":0},null,{"$f":"J59+J63+J75+J86+J97","v":0},null,{"$f":"L59+L63+L75+L86+L97","v":0},null,{"$f":"N59+N63+N75+N86+N97","v":0}]
[null,"average score for section",null,{"$f":"D103/(COUNTIF(D59:D98,\">0\")+0.00000001)","v":0},null,{"$f":"F103/(COUNTIF(F59:F98,\">0\")+0.00000001)","v":0},null,{"$f":"H103/(COUNTIF(H59:H98,\">0\")+0.00000001)","v":0},null,{"$f":"J103/(COUNTIF(J59:J98,\">0\")+0.00000001)","v":0},null,{"$f":"L103/(COUNTIF(L59:L98,\">0\")+0.00000001)","v":0},null,{"$f":"N103/(COUNTIF(N59:N98,\">0\")+0.00000001)","v":0}]
[null,"percentage score for section",null,{"$f":"D104/5*100","v":0},null,{"$f":"F104/5*100","v":0},null,{"$f":"H104/5*100","v":0},null,{"$f":"J104/5*100","v":0},null,{"$f":"L104/5*100","v":0},null,{"$f":"N104/5*100","v":0}]
["RATING SCALE"]
["0 = Student not capable of demonstrating skill or does not need skill"]
["1 = Student does not demonstrate skill but may/will learn skill"]
["2 = Student only demonstrates skill with verbal and/or physical prompting"]
["3 = Student sometimes demonstrates skill without verbal and/or physical prompting"]
["4 = Student demonstrates skill and verbal and/or physical prompting are rarely needed"]
["5 = Student has totally mastered skill and does not require verbal and/or physical prompting"]

{"sheet":"R1","index":16,"n_rows":300,"n_cols":29,"rows_kept":300,"cut":false,"hidden":false,"merged":[]}
[null,"← TYPE STUDENT NAME IN GREEN BOX",null,null,null,null,null,null,null,null,null,null,null,null,"%prog","total","tot round","%pr rnd","goal"]
["↓ HIGHLIGHT & COPY WHITE CELLS; PASTE IN WORD DOCUMENT AS \"KEEP TEXT ONLY\" OR \"UNFORMATTED\"",null,null,null,null,null,null,null,null,null,null,null,null,null,{"$f":"Front!B20","v":0},{"$f":"Front!B18","v":0},{"$f":"ROUND(P2,2)","v":0},{"$f":"ROUND(O2,2)","v":0},{"$f":"Front!B19","v":1}]
[{"$f":"CONCATENATE(A150,\" \",K3,\"%\")","v":"NMSBVI O&M INVENTORY TOTAL SCORE:  0%"},null,null,null,null,null,null,null,null,{"$f":"Front!B18","v":0},{"$f":"ROUND(J3,2)","v":0},null,null,null,{"$f":"Front!C20","v":0},{"$f":"Front!C18","v":0},0,0,{"$f":"Front!C19","v":1}]
[null,null,null,null,null,null,null,null,null,null,null,null,null,null,{"$f":"Front!D20","v":0},{"$f":"Front!D18","v":0},0,0,{"$f":"Front!D19","v":1}]
[{"$f":"CONCATENATE(A151,\" \",H5,\"%\")","v":"Concepts Score: 0%"},null,null,null,null,null,{"$f":"Front!B3","v":0},{"$f":"ROUND(G5,1)","v":0},"← Don't worry about these 2 numbers",null,null,null,null,null,{"$f":"Front!E20","v":0},{"$f":"Front!E18","v":0},0,0,{"$f":"Front!E19","v":1}]
[{"$f":"CONCATENATE($A1,\" \",G152,\" \",N152,\", \",O152,\", \",P152,\", \",Q152)","v":" did well with the skills that made up the area(s) of , , , "},null,null,null,null,null,null,null,null,null,null,null,null,null,{"$f":"Front!F20","v":0},{"$f":"Front!F18","v":0},0,0,{"$f":"Front!F19","v":1}]
[{"$f":"CONCATENATE($A1,\" \",G153,\" \",N153,\", \",O153,\", \",P153,\", \",Q153)","v":" had room for improvement with the skills that made up the area(s) of , , , "},null,null,null,null,null,null,null,null,null,null,null,null,null,{"$f":"Front!G20","v":0},{"$f":"Front!G18","v":0},0,0,{"$f":"Front!G19","v":1}]
[{"$f":"CONCATENATE($A1,\" \",G154,\" \",N154,\", \",O154,\", \",P154,\", \",Q154)","v":" hadn't had the opportunity to work on the skills in the area(s) of , , , "},null,null,null,null,null,null,null,null,null,null,null,null,null,{"$f":"Front!H20","v":0},{"$f":"Front!H18","v":0},0,0,{"$f":"Front!H19","v":1}]
[{"$f":"CONCATENATE($A1,\" \",G155,\" \",N155,\", \",O155,\", \",P155,\", \",Q155)","v":" didn't need the skills in the area(s) of Vocabulary, Laterality, Parallel/Perpendicular, Time And Distance"},null,null,null,null,null,null,null,null,null,null,null,null,null,{"$f":"Front!I20","v":0},{"$f":"Front!I18","v":0},0,0,{"$f":"Front!I19","v":1}]
[null,null,null,null,null,null,null,null,null,null,null,null,null,null,{"$f":"Front!J20","v":0},{"$f":"Front!J18","v":0},0,0,{"$f":"Front!J19","v":1}]
[{"$f":"CONCATENATE(A156,\" \",H11,\"%\")","v":"Movement Score: 0%"},null,null,null,null,null,{"$f":"Front!B4","v":0},{"$f":"ROUND(G11,1)","v":0},null,null,null,null,null,null,{"$f":"Front!K20","v":0},{"$f":"Front!K18","v":0},0,0,{"$f":"Front!K19","v":1}]
[{"$f":"CONCATENATE($A1,\" \",G157,\" \",N157,\", \",O157,\", \",P157,\", \",Q157)","v":" did well with the skills that made up the area(s) of , , , "},null,null,null,null,null,null,null,null,null,null,null,null,null,{"$f":"Front!L20","v":0},{"$f":"Front!L18","v":0},0,0,{"$f":"Front!L19","v":1}]
[{"$f":"CONCATENATE($A1,\" \",G158,\" \",N158,\", \",O158,\", \",P158,\", \",Q158)","v":" had room for improvement with the skills that made up the area(s) of , , , "},null,null,null,null,null,null,null,null,null,null,null,null,null,{"$f":"Front!M20","v":0},{"$f":"Front!M18","v":0},0,0,{"$f":"Front!M19","v":1}]
[{"$f":"CONCATENATE($A1,\" \",G159,\" \",N159,\", \",O159,\", \",P159,\", \",Q159)","v":" hadn't had the opportunity to work on the skills in the area(s) of , , , "},null,null,null,null,null,null,null,null,null,null,null,null,null,"↑ Don't worry about this chart"]
[{"$f":"CONCATENATE($A1,\" \",G160,\" \",N160,\", \",O160,\", \",P160,\", \",Q160)","v":" didn't need the skills in the area(s) of Walking, Maintaining Body Alignment While Walking, Balance, Turns"}]
[null,null,null,null,null,null,"DO NOT HIGHLIGHT & COPY ANY OF THE GREY CELLS; ALL THE TEXT YOU NEED IS IN WHITE CELLS"]
[{"$f":"CONCATENATE(A161,\" \",H17,\"%\")","v":"Single Room O&M Score: 0%"},null,null,null,null,null,{"$f":"Front!B5","v":0},{"$f":"ROUND(G17,1)","v":0}]
[{"$f":"CONCATENATE($A1,\" \",G162,\" \",N162,\", \",O162,\", \",P162,\", \",Q162,\", \",R162)","v":" did well with the skills that made up the area(s) of , , , , "}]
[{"$f":"CONCATENATE($A1,\" \",G163,\" \",N163,\", \",O163,\", \",P163,\", \",Q163,\", \",R163)","v":" had room for improvement with the skills that made up the area(s) of , , , , "}]
[{"$f":"CONCATENATE($A1,\" \",G164,\" \",N164,\", \",O164,\", \",P164,\", \",Q164,\", \",R164)","v":" hadn't had the opportunity to work on the skills in the area(s) of , , , , "}]
[{"$f":"CONCATENATE($A1,\" \",G165,\" \",N165,\", \",O165,\", \",P165,\", \",Q165,\", \",R165)","v":" didn't need the skills in the area(s) of Familiar Rooms, Unfamiliar Rooms, Seating (Rows), Seating (Tables), Locating Dropped Objects"}]
[null,null,null,null,null,null,"COPYING THE GREY CELLS WILL JUST MAKE A MESS OF YOUR WORD DOCUMENT. I KNOW IT LOOKS"]
[{"$f":"CONCATENATE(A167,\" \",H23,\"%\")","v":"Indoor O&M Score: 0%"},null,null,null,null,null,{"$f":"Front!B6","v":0},{"$f":"ROUND(G23,1)","v":0}]
[{"$f":"CONCATENATE($A1,\" \",G168,\" \",N168,\", \",O168,\", \",P168,\", \",Q168,\", \",R168,\", \",S168,\", \",T168,\", \",U168)","v":" did well with the skills that made up the area(s) of , , , , , , , "}]
[{"$f":"CONCATENATE($A1,\" \",G169,\" \",N169,\", \",O169,\", \",P169,\", \",Q169,\", \",R169,\", \",S169,\", \",T169,\", \",U169)","v":" had room for improvement with the skills that made up the area(s) of , , , , , , , "}]
[{"$f":"CONCATENATE($A1,\" \",G170,\" \",N170,\", \",O170,\", \",P170,\", \",Q170,\", \",R170,\", \",S170,\", \",T170,\", \",U170)","v":" hadn't had the opportunity to work on the skills in the area(s) of , , , , , , , "}]
[{"$f":"CONCATENATE($A1,\" \",G171,\" \",N171,\", \",O171,\", \",P171,\", \",Q171,\", \",R171,\", \",S171,\", \",T171,\", \",U171)","v":" didn't need the skills in the area(s) of Hand Trailing, Navigating Open Spaces, Doors, Ascending/Descending Stairs, Escalators, Elevators, Moving Sidewalks, Turnstiles"}]
[null,null,null,null,null,null,"LIKE THERE IS TEXT IN THE GREY CELLS BUT THERE REALLY ISN'T. TRUST ME; I'M AN EXCEL NERD."]
[{"$f":"CONCATENATE(A176,\" \",H29,\"%\")","v":"Self Protection Score: 0%"},null,null,null,null,null,{"$f":"Front!B7","v":0},{"$f":"ROUND(G29,1)","v":0}]
[{"$f":"CONCATENATE($A1,\" \",G176,\" \",N176,\", \",O176,\", \",P176)","v":" did well with the skills that made up the area(s) of , , "}]
[{"$f":"CONCATENATE($A1,\" \",G177,\" \",N177,\", \",O177,\", \",P177)","v":" had room for improvement with the skills that made up the area(s) of , , "}]
[{"$f":"CONCATENATE($A1,\" \",G178,\" \",N178,\", \",O178,\", \",P178)","v":" hadn't had the opportunity to work on the skills in the area(s) of , , "}]
[{"$f":"CONCATENATE($A1,\" \",G179,\" \",N179,\", \",O179,\", \",P179)","v":" didn't need the skills in the area(s) of Upper Hand Protective Technique, Lower Forearm Protective Technique, Protective Clothing"}]
[]
[{"$f":"CONCATENATE(A180,\" \",H35,\"%\")","v":"Guided Travel Score: 0%"},null,null,null,null,null,{"$f":"Front!B8","v":0},{"$f":"ROUND(G35,1)","v":0}]
[{"$f":"CONCATENATE($A1,\" \",G181,\" \",N181,\", \",O181,\", \",P181,\", \",Q181)","v":" did well with the skills that made up the area(s) of , , , "}]
[{"$f":"CONCATENATE($A1,\" \",G182,\" \",N182,\", \",O182,\", \",P182,\", \",Q182)","v":" had room for improvement with the skills that made up the area(s) of , , , "}]
[{"$f":"CONCATENATE($A1,\" \",G183,\" \",N183,\", \",O183,\", \",P183,\", \",Q183)","v":" hadn't had the opportunity to work on the skills in the area(s) of , , , "}]
[{"$f":"CONCATENATE($A1,\" \",G184,\" \",N184,\", \",O184,\", \",P184,\", \",Q184)","v":" didn't need the skills in the area(s) of Human Guide, Walking With Another (No Direct Contact), Menus, Getting Rides"}]
[]
[{"$f":"CONCATENATE(A185,\" \",H41,\"%\")","v":"Cane Skills Score: 0%"},null,null,null,null,null,{"$f":"Front!B9","v":0},{"$f":"ROUND(G41,1)","v":0}]
[{"$f":"CONCATENATE($A1,\" \",G186,\" \",N186,\", \",O186,\", \",P186,\", \",Q186,\", \",R186,\", \",S186,\", \",T186)","v":" did well with the skills that made up the area(s) of , , , , , , "}]
[{"$f":"CONCATENATE($A1,\" \",G187,\" \",N187,\", \",O187,\", \",P187,\", \",Q187,\", \",R187,\", \",S187,\", \",T187)","v":" had room for improvement with the skills that made up the area(s) of , , , , , , "}]
[{"$f":"CONCATENATE($A1,\" \",G188,\" \",N188,\", \",O188,\", \",P188,\", \",Q188,\", \",R188,\", \",S188,\", \",T188)","v":" hadn't had the opportunity to work on the skills in the area(s) of , , , , , , "}]
[{"$f":"CONCATENATE($A1,\" \",G189,\" \",N189,\", \",O189,\", \",P189,\", \",Q189,\", \",R189,\", \",S189,\", \",T189)","v":" didn't need the skills in the area(s) of Basic Skills, Types Of Grips, Constant Contact, Diagonal/Diagonal Trail, Two Point Touch/Touch Trail, Touch And Drag, Three Point Touch"}]
[]
[{"$f":"CONCATENATE(A193,\" \",H47,\"%\")","v":"Sidewalk Travel Score: 0%"},null,null,null,null,null,{"$f":"Front!B10","v":0},{"$f":"ROUND(G47,1)","v":0}]
[{"$f":"CONCATENATE($A1,\" \",G193,\" \",N193,\", \",O193,\", \",P193)","v":" did well with the skills that made up the area(s) of , , "}]
[{"$f":"CONCATENATE($A1,\" \",G194,\" \",N194,\", \",O194,\", \",P194)","v":" had room for improvement with the skills that made up the area(s) of , , "}]
[{"$f":"CONCATENATE($A1,\" \",G195,\" \",N195,\", \",O195,\", \",P195)","v":" hadn't had the opportunity to work on the skills in the area(s) of , , "}]
[{"$f":"CONCATENATE($A1,\" \",G196,\" \",N196,\", \",O196,\", \",P196)","v":" didn't need the skills in the area(s) of Walking On Sidewalks, Walking On Irregular Sidewalks, Correcting for Veering On Sidewalks"}]
[]
[{"$f":"CONCATENATE(A197,\" \",H53,\"%\")","v":"Street Crossings Score: 0%"},null,null,null,null,null,{"$f":"Front!B11","v":0},{"$f":"ROUND(G53,1)","v":0}]
[{"$f":"CONCATENATE($A1,\" \",G198,\" \",N198,\", \",O198,\", \",P198,\", \",Q198,\", \",R198,\", \",S198,\", \",T198,\", \",U198,\", \",V198,\", \",W198,\", \",X198,\", \",Y198,\", \",Z198,\", \",AA198,\", \",AB198,\", \",AC198)","v":" did well with the skills that made up the area(s) of , , , , , , , , , , , , , , , "}]
[{"$f":"CONCATENATE($A1,\" \",G199,\" \",N199,\", \",O199,\", \",P199,\", \",Q199,\", \",R199,\", \",S199,\", \",T199,\", \",U199,\", \",V199,\", \",W199,\", \",X199,\", \",Y199,\", \",Z199,\", \",AA199,\", \",AB199,\", \",AC199)","v":" had room for improvement with the skills that made up the area(s) of , , , , , , , , , , , , , , , "}]
[{"$f":"CONCATENATE($A1,\" \",G200,\" \",N200,\", \",O200,\", \",P200,\", \",Q200,\", \",R200,\", \",S200,\", \",T200,\", \",U200,\", \",V200,\", \",W200,\", \",X200,\", \",Y200,\", \",Z200,\", \",AA200,\", \",AB200,\", \",AC200)","v":" hadn't had the opportunity to work on the skills in the area(s) of , , , , , , , , , , , , , , , "}]
[{"$f":"CONCATENATE($A1,\" \",G201,\" \",N201,\", \",O201,\", \",P201,\", \",Q201,\", \",R201,\", \",S201,\", \",T201,\", \",U201,\", \",V201,\", \",W201,\", \",X201,\", \",Y201,\", \",Z201,\", \",AA201,\", \",AB201,\", \",AC201)","v":" didn't need the skills in the area(s) of Anticipating Street Crossings, Maintaining Line Of Travel, Maintaining Body Alignment, Re-establishing Body Alignment, Analyzing Intersections, Plus Intersections, T Intersections, Y Intersections, Roundabouts, Significantly Offset Intersections, Atypical Intersections, Newly Developed Intersections, Channelized Right Turn Lanes, Veering, Understanding Drivers’ Perspectives, Pedestrian Signals"}]
[]
[{"$f":"CONCATENATE(A214,\" \",H59,\"%\")","v":"Orientation Skills and GPS Score: 0%"},null,null,null,null,null,{"$f":"Front!B12","v":0},{"$f":"ROUND(G59,1)","v":0}]
[{"$f":"CONCATENATE($A1,\" \",G215,\" \",N215,\", \",O215,\", \",P215,\", \",Q215,\", \",R215,\", \",S215,\", \",T215,\", \",U215,\", \",V215,\", \",W215)","v":" did well with the skills that made up the area(s) of , , , , , , , , , "}]
[{"$f":"CONCATENATE($A1,\" \",G216,\" \",N216,\", \",O216,\", \",P216,\", \",Q216,\", \",R216,\", \",S216,\", \",T216,\", \",U216,\", \",V216,\", \",W216)","v":" had room for improvement with the skills that made up the area(s) of , , , , , , , , , "}]
[{"$f":"CONCATENATE($A1,\" \",G217,\" \",N217,\", \",O217,\", \",P217,\", \",Q217,\", \",R217,\", \",S217,\", \",T217,\", \",U217,\", \",V217,\", \",W217)","v":" hadn't had the opportunity to work on the skills in the area(s) of , , , , , , , , , "}]
[{"$f":"CONCATENATE($A1,\" \",G218,\" \",N218,\", \",O218,\", \",P218,\", \",Q218,\", \",R218,\", \",S218,\", \",T218,\", \",U218,\", \",V218,\", \",W218)","v":" didn't need the skills in the area(s) of Cardinality, Clues, Landmarks, Indoor Numbering Systems, Outdoor Numbering Systems, Grid System, Divisors And Block Numbering, Transferability, GPS, Maps"}]
[]
[{"$f":"CONCATENATE(A225,\" \",H65,\"%\")","v":"Public Transportation Score: 0%"},null,null,null,null,null,{"$f":"Front!B13","v":0},{"$f":"ROUND(G65,1)","v":0}]
[{"$f":"CONCATENATE($A1,\" \",G226,\" \",N226,\", \",O226,\", \",P226,\", \",Q226,\", \",R226,\", \",S226,\", \",T226)","v":" did well with the skills that made up the area(s) of , , , , , , "}]
[{"$f":"CONCATENATE($A1,\" \",G227,\" \",N227,\", \",O227,\", \",P227,\", \",Q227,\", \",R227,\", \",S227,\", \",T227)","v":" had room for improvement with the skills that made up the area(s) of , , , , , , "}]
[{"$f":"CONCATENATE($A1,\" \",G228,\" \",N228,\", \",O228,\", \",P228,\", \",Q228,\", \",R228,\", \",S228,\", \",T228)","v":" hadn't had the opportunity to work on the skills in the area(s) of , , , , , , "}]
[{"$f":"CONCATENATE($A1,\" \",G229,\" \",N229,\", \",O229,\", \",P229,\", \",Q229,\", \",R229,\", \",S229,\", \",T229)","v":" didn't need the skills in the area(s) of Identifying Common Public Transportation Options, Intra-City Bus Travel, Inter-City Bus Travel, Taxi/Ride Service, Handi-Ride/Para Transit, Air Travel, Subway/Light Rail"}]
[]
[{"$f":"CONCATENATE(A233,\" \",H71,\"%\")","v":"Atypical O&M Score: 0%"},null,null,null,null,null,{"$f":"Front!B14","v":0},{"$f":"ROUND(G71,1)","v":0}]
[{"$f":"CONCATENATE($A1,\" \",G234,\" \",N234,\", \",O234,\", \",P234,\", \",Q234)","v":" did well with the skills that made up the area(s) of , , , "}]
[{"$f":"CONCATENATE($A1,\" \",G235,\" \",N235,\", \",O235,\", \",P235,\", \",Q235)","v":" had room for improvement with the skills that made up the area(s) of , , , "}]
[{"$f":"CONCATENATE($A1,\" \",G236,\" \",N236,\", \",O236,\", \",P236,\", \",Q236)","v":" hadn't had the opportunity to work on the skills in the area(s) of , , , "}]
[{"$f":"CONCATENATE($A1,\" \",G237,\" \",N237,\", \",O237,\", \",P237,\", \",Q237)","v":" didn't need the skills in the area(s) of Fences, Fields (Urban), Parks/Playgrounds, Inclement Weather"}]
[]
[{"$f":"CONCATENATE(A238,\" \",H77,\"%\")","v":"Rural Travel Score: 0%"},null,null,null,null,null,{"$f":"Front!B15","v":0},{"$f":"ROUND(G77,1)","v":0}]
[{"$f":"CONCATENATE($A1,\" \",G239,\" \",N239,\", \",O239,\", \",P239,\", \",Q239,\", \",R239)","v":" did well with the skills that made up the area(s) of , , , , "}]
[{"$f":"CONCATENATE($A1,\" \",G240,\" \",N240,\", \",O240,\", \",P240,\", \",Q240,\", \",R240)","v":" had room for improvement with the skills that made up the area(s) of , , , , "}]
[{"$f":"CONCATENATE($A1,\" \",G241,\" \",N241,\", \",O241,\", \",P241,\", \",Q241,\", \",R241)","v":" hadn't had the opportunity to work on the skills in the area(s) of , , , , "}]
[{"$f":"CONCATENATE($A1,\" \",G242,\" \",N242,\", \",O242,\", \",P242,\", \",Q242,\", \",R242)","v":" didn't need the skills in the area(s) of Understanding Unique Dangers Related To Rural Travel, Walking Along Rural Roads, Ditches/Arroyos, Identifying And Going Around Items In Rural Areas, Rural Street Crossings"}]
[]
[{"$f":"CONCATENATE(A244,\" \",H83,\"%\")","v":"Vision Specific O&M Skills Score: 0%"},null,null,null,null,null,{"$f":"Front!B16","v":0},{"$f":"ROUND(G83,1)","v":0}]
[{"$f":"CONCATENATE($A1,\" \",G245,\" \",N245,\", \",O245,\", \",P245,\", \",Q245,\", \",R245)","v":" did well with the skills that made up the area(s) of , , , , "}]
[{"$f":"CONCATENATE($A1,\" \",G246,\" \",N246,\", \",O246,\", \",P246,\", \",Q246,\", \",R246)","v":" had room for improvement with the skills that made up the area(s) of , , , , "}]
[{"$f":"CONCATENATE($A1,\" \",G247,\" \",N247,\", \",O247,\", \",P247,\", \",Q247,\", \",R247)","v":" hadn't had the opportunity to work on the skills in the area(s) of , , , , "}]
[{"$f":"CONCATENATE($A1,\" \",G248,\" \",N248,\", \",O248,\", \",P248,\", \",Q248,\", \",R248)","v":" didn't need the skills in the area(s) of Scanning Materials, Scanning Environments, Magnifiers And CCTVs, Monoculars, Visual Traveling"}]
[]
[{"$f":"CONCATENATE(A250,\" \",H89,\"%\")","v":"Community Score: 0%"},null,null,null,null,null,{"$f":"Front!B17","v":0},{"$f":"ROUND(G89,1)","v":0}]
[{"$f":"CONCATENATE($A1,\" \",G251,\" \",N251,\", \",O251,\", \",P251,\", \",Q251,\", \",R251)","v":" did well with the skills that made up the area(s) of , , , , "}]
[{"$f":"CONCATENATE($A1,\" \",G252,\" \",N252,\", \",O252,\", \",P252,\", \",Q252,\", \",R252)","v":" had room for improvement with the skills that made up the area(s) of , , , , "}]
[{"$f":"CONCATENATE($A1,\" \",G253,\" \",N253,\", \",O253,\", \",P253,\", \",Q253,\", \",R253)","v":" hadn't had the opportunity to work on the skills in the area(s) of , , , , "}]
[{"$f":"CONCATENATE($A1,\" \",G254,\" \",N254,\", \",O254,\", \",P254,\", \",Q254,\", \",R254)","v":" didn't need the skills in the area(s) of Comparison Shopping From Home, Stores, Fast Food Restaurants, Cafeteria Restaurants, Sit Down Restaurants"}]
[]
["Summary"]
[{"$f":"CONCATENATE(A1,\" \",G259,\" \",K3,\" \",H259)","v":" demonstrated 0 of the skills needed to travel independently as an adult."}]
[{"$f":"CONCATENATE($A1,\" \",G260,\" \",N260,\", \",O260,\", \",P260,\", \",Q260,\", \",R260,\", \",S260,\", \",T260,\", \",U260,\", \",V260,\", \",W260,\", \",X260,\", \",Y260,\", \",Z260,\", \",AA260,\", \",AB260)","v":" did well with the skills that made up the domain(s) of , , , , , , , , , , , , , , "}]
[{"$f":"CONCATENATE($A1,\" \",G261,\" \",N261,\", \",O261,\", \",P261,\", \",Q261,\", \",R261,\", \",S261,\", \",T261,\", \",U261,\", \",V261,\", \",W261,\", \",X261,\", \",Y261,\", \",Z261,\", \",AA261,\", \",AB261)","v":" had room for improvement with the skills that made up the domain(s) of , , , , , , , , , , , , , , "}]
[{"$f":"CONCATENATE($A1,\" \",G262,\" \",N262,\", \",O262,\", \",P262,\", \",Q262,\", \",R262,\", \",S262,\", \",T262,\", \",U262,\", \",V262,\", \",W262,\", \",X262,\", \",Y262,\", \",Z262,\", \",AA262,\", \",AB262)","v":" hadn't had the opportunity to work on the skills that made up the domain(s) of , , , , , , , , , , , , , , "}]
[{"$f":"CONCATENATE($A1,\" \",G263,\" \",N263,\", \",O263,\", \",P263,\", \",Q263,\", \",R263,\", \",S263,\", \",T263,\", \",U263,\", \",V263,\", \",W263,\", \",X263,\", \",Y263,\", \",Z263,\", \",AA263,\", \",AB263)","v":" had no need for the skills that made up the domain(s) of Concepts, Movement, Single Room O&M, Indoor O&M, Self Protection, Guided Travel, Cane Skills, Sidewalk Travel, Street Crossings, Orientation Skills & GPS, Public Transportation, Atypical O&M, Rural Travel, Vision Specific O&M Skills, Community "}]
[]
[]
[]
[]
[]
[]
[]
[]
[]
["Present Level of Educational Performance"]
[{"$f":"CONCATENATE($A97,\" \",A98,\" \",A99,\", \",A100)","v":" did well with the skills that made up the domain(s) of , , , , , , , , , , , , , ,   had room for improvement with the skills that made up the domain(s) of , , , , , , , , , , , , , ,   hadn't had the opportunity to work on the skills that made up the domain(s) of , , , , , , , , , , , , , , ,  had no need for the skills that made up the domain(s) of Concepts, Movement, Single Room O&M, Indoor O&M, Self Protection, Guided Travel, Cane Skills, Sidewalk Travel, Street Crossings, Orientation Skills & GPS, Public Transportation, Atypical O&M, Rural Travel, Vision Specific O&M Skills, Community "}]
[]
["Strengths"]
[{"$f":"A97","v":" did well with the skills that made up the domain(s) of , , , , , , , , , , , , , , "}]
[]
["Concerns"]
[{"$f":"A98","v":" had room for improvement with the skills that made up the domain(s) of , , , , , , , , , , , , , , "}]
[]
["Goal"]
[{"$f":"CONCATENATE($A1,\" \",A276,\" \",K3,\"% \",A277,\" \",(ROUNDUP(K3+5,0)),\"% \",A278)","v":" will demonstrate improved skills in Orientation & Mobility by increasing the score on the O&M Inventory from 0% to a minimum of 5% by the next annual IEP date."}]
[]
[]
[]
[]
["Progress Report"]
["Sorry. This is the first data set and can't show progress without having 2 O&M Inventory data sets. You're just going to have to (gasp!) type. "]
[]
[]
[]
[]
[]
[]
[]
[]
[]
[]
[]
[]
[]
[]
[]
[]
[]
[]
[]
[]
[]
[]
["↓Don't worry about any of this. It fills in automatically and is what creates the useful text "]
["NMSBVI O&M INVENTORY TOTAL SCORE: "]
["Concepts Score:"]
["Vocabulary",null,null,null,null,{"$f":"Concept!D3","v":0},"did well with the skills that made up the area(s) of",null,null,null,null,null,null,{"$f":"IF(F152>3.99,A152,\"\")","v":""},{"$f":"IF(F153>3.99,A153,\"\")","v":""},{"$f":"IF(F154>3.99,A154,\"\")","v":""},{"$f":"IF(F155>3.99,A155,\"\")","v":""},{"$f":"IF(F156>4,E156,\"\")","v":""}]
["Laterality",null,null,null,null,{"$f":"Concept!D9","v":0},"had room for improvement with the skills that made up the area(s) of",null,null,null,null,null,null,{"$f":"IF(AND($F152>1.01,$F152<3.99),$A152,\"\")","v":""},{"$f":"IF(AND($F153>1.01,$F153<3.99),$A153,\"\")","v":""},{"$f":"IF(AND($F154>1.01,$F154<3.99),$A154,\"\")","v":""},{"$f":"IF(AND($F155>1.01,$F155<3.99),$A155,\"\")","v":""}]
["Parallel/Perpendicular",null,null,null,null,{"$f":"Concept!D18","v":0},"hadn't had the opportunity to work on the skills in the area(s) of",null,null,null,null,null,null,{"$f":"IF(AND($F152>0.99,$F152<1.000001),$A152,\"\")","v":""},{"$f":"IF(AND($F153>0.99,$F153<1.000001),$A153,\"\")","v":""},{"$f":"IF(AND($F154>0.99,$F154<1.000001),$A154,\"\")","v":""},{"$f":"IF(AND($F155>0.99,$F155<1.000001),$A155,\"\")","v":""}]
["Time And Distance",null,null,null,null,{"$f":"Concept!D23","v":0},"didn't need the skills in the area(s) of",null,null,null,null,null,null,{"$f":"IF($F152=0,$A152,\"\")","v":"Vocabulary"},{"$f":"IF($F153=0,$A153,\"\")","v":"Laterality"},{"$f":"IF($F154=0,$A154,\"\")","v":"Parallel/Perpendicular"},{"$f":"IF($F155=0,$A155,\"\")","v":"Time And Distance"}]
["Movement Score:"]
["Walking",null,null,null,null,{"$f":"Move!D3","v":0},"did well with the skills that made up the area(s) of",null,null,null,null,null,null,{"$f":"IF(F157>3.99,A157,\"\")","v":""},{"$f":"IF(F158>3.99,A158,\"\")","v":""},{"$f":"IF(F159>3.99,A159,\"\")","v":""},{"$f":"IF(F160>3.99,A160,\"\")","v":""}]
["Maintaining Body Alignment While Walking",null,null,null,null,{"$f":"Move!D9","v":0},"had room for improvement with the skills that made up the area(s) of",null,null,null,null,null,null,{"$f":"IF(AND($F157>1.01,$F157<3.99),$A157,\"\")","v":""},{"$f":"IF(AND($F158>1.01,$F158<3.99),$A158,\"\")","v":""},{"$f":"IF(AND($F159>1.01,$F159<3.99),$A159,\"\")","v":""},{"$f":"IF(AND($F160>1.01,$F160<3.99),$A160,\"\")","v":""}]
["Balance",null,null,null,null,{"$f":"Move!D15","v":0},"hadn't had the opportunity to work on the skills in the area(s) of",null,null,null,null,null,null,{"$f":"IF(AND($F157>0.99,$F157<1.000001),$A157,\"\")","v":""},{"$f":"IF(AND($F158>0.99,$F158<1.000001),$A158,\"\")","v":""},{"$f":"IF(AND($F159>0.99,$F159<1.000001),$A159,\"\")","v":""},{"$f":"IF(AND($F160>0.99,$F160<1.000001),$A160,\"\")","v":""}]
["Turns",null,null,null,null,{"$f":"Move!D23","v":0},"didn't need the skills in the area(s) of",null,null,null,null,null,null,{"$f":"IF($F157=0,$A157,\"\")","v":"Walking"},{"$f":"IF($F158=0,$A158,\"\")","v":"Maintaining Body Alignment While Walking"},{"$f":"IF($F159=0,$A159,\"\")","v":"Balance"},{"$f":"IF($F160=0,$A160,\"\")","v":"Turns"}]
["Single Room O&M Score:"]
["Familiar Rooms",null,null,null,null,{"$f":"SingRm!D3","v":0},"did well with the skills that made up the area(s) of",null,null,null,null,null,null,{"$f":"IF(F162>3.99,A162,\"\")","v":""},{"$f":"IF(F163>3.99,A163,\"\")","v":""},{"$f":"IF(F164>3.99,A164,\"\")","v":""},{"$f":"IF(F165>3.99,A165,\"\")","v":""},{"$f":"IF(F166>3.99,A166,\"\")","v":""}]
["Unfamiliar Rooms",null,null,null,null,{"$f":"SingRm!D9","v":0},"had room for improvement with the skills that made up the area(s) of",null,null,null,null,null,null,{"$f":"IF(AND($F162>1.01,$F162<3.99),$A162,\"\")","v":""},{"$f":"IF(AND($F163>1.01,$F163<3.99),$A163,\"\")","v":""},{"$f":"IF(AND($F164>1.01,$F164<3.99),$A164,\"\")","v":""},{"$f":"IF(AND($F165>1.01,$F165<3.99),$A165,\"\")","v":""},{"$f":"IF(AND($F166>1.01,$F166<3.99),$A166,\"\")","v":""}]
["Seating (Rows)",null,null,null,null,{"$f":"SingRm!D16","v":0},"hadn't had the opportunity to work on the skills in the area(s) of",null,null,null,null,null,null,{"$f":"IF(AND($F162>0.99,$F162<1.000001),$A162,\"\")","v":""},{"$f":"IF(AND($F163>0.99,$F163<1.000001),$A163,\"\")","v":""},{"$f":"IF(AND($F164>0.99,$F164<1.000001),$A164,\"\")","v":""},{"$f":"IF(AND($F165>0.99,$F165<1.000001),$A165,\"\")","v":""},{"$f":"IF(AND($F166>0.99,$F166<1.000001),$A166,\"\")","v":""}]
["Seating (Tables)",null,null,null,null,{"$f":"SingRm!D23","v":0},"didn't need the skills in the area(s) of",null,null,null,null,null,null,{"$f":"IF($F162=0,$A162,\"\")","v":"Familiar Rooms"},{"$f":"IF($F163=0,$A163,\"\")","v":"Unfamiliar Rooms"},{"$f":"IF($F164=0,$A164,\"\")","v":"Seating (Rows)"},{"$f":"IF($F165=0,$A165,\"\")","v":"Seating (Tables)"},{"$f":"IF($F166=0,$A166,\"\")","v":"Locating Dropped Objects"}]
["Locating Dropped Objects",null,null,null,null,{"$f":"SingRm!D28","v":0}]
["Indoor O&M Score:"]
["Hand Trailing",null,null,null,null,{"$f":"Indoor!D3","v":0},"did well with the skills that made up the area(s) of",null,null,null,null,null,null,{"$f":"IF(F168>3.99,A168,\"\")","v":""},{"$f":"IF(F169>3.99,A169,\"\")","v":""},{"$f":"IF(F170>3.99,A170,\"\")","v":""},{"$f":"IF(F171>3.99,A171,\"\")","v":""},{"$f":"IF(F172>3.99,A172,\"\")","v":""},{"$f":"IF(F173>3.99,A173,\"\")","v":""},{"$f":"IF(F174>3.99,A174,\"\")","v":""},{"$f":"IF(F175>3.99,A175,\"\")","v":""}]
["Navigating Open Spaces",null,null,null,null,{"$f":"Indoor!D6","v":0},"had room for improvement with the skills that made up the area(s) of",null,null,null,null,null,null,{"$f":"IF(AND($F168>1.01,$F168<3.99),$A168,\"\")","v":""},{"$f":"IF(AND($F169>1.01,$F169<3.99),$A169,\"\")","v":""},{"$f":"IF(AND($F170>1.01,$F170<3.99),$A170,\"\")","v":""},{"$f":"IF(AND($F171>1.01,$F171<3.99),$A171,\"\")","v":""},{"$f":"IF(AND($F172>1.01,$F172<3.99),$A172,\"\")","v":""},{"$f":"IF(AND($F173>1.01,$F173<3.99),$A173,\"\")","v":""},{"$f":"IF(AND($F174>1.01,$F174<3.99),$A174,\"\")","v":""},{"$f":"IF(AND($F175>1.01,$F175<3.99),$A175,\"\")","v":""}]
["Doors",null,null,null,null,{"$f":"Indoor!D9","v":0},"hadn't had the opportunity to work on the skills in the area(s) of",null,null,null,null,null,null,{"$f":"IF(AND($F168>0.99,$F168<1.000001),$A168,\"\")","v":""},{"$f":"IF(AND($F169>0.99,$F169<1.000001),$A169,\"\")","v":""},{"$f":"IF(AND($F170>0.99,$F170<1.000001),$A170,\"\")","v":""},{"$f":"IF(AND($F171>0.99,$F171<1.000001),$A171,\"\")","v":""},{"$f":"IF(AND($F172>0.99,$F172<1.000001),$A172,\"\")","v":""},{"$f":"IF(AND($F173>0.99,$F173<1.000001),$A173,\"\")","v":""},{"$f":"IF(AND($F174>0.99,$F174<1.000001),$A174,\"\")","v":""},{"$f":"IF(AND($F175>0.99,$F175<1.000001),$A175,\"\")","v":""}]
["Ascending/Descending Stairs",null,null,null,null,{"$f":"Indoor!D15","v":0},"didn't need the skills in the area(s) of",null,null,null,null,null,null,{"$f":"IF($F168=0,$A168,\"\")","v":"Hand Trailing"},{"$f":"IF($F169=0,$A169,\"\")","v":"Navigating Open Spaces"},{"$f":"IF($F170=0,$A170,\"\")","v":"Doors"},{"$f":"IF($F171=0,$A171,\"\")","v":"Ascending/Descending Stairs"},{"$f":"IF($F172=0,$A172,\"\")","v":"Escalators"},{"$f":"IF($F173=0,$A173,\"\")","v":"Elevators"},{"$f":"IF($F174=0,$A174,\"\")","v":"Moving Sidewalks"},{"$f":"IF($F175=0,$A175,\"\")","v":"Turnstiles"}]
["Escalators",null,null,null,null,{"$f":"Indoor!D23","v":0}]
["Elevators",null,null,null,null,{"$f":"Indoor!D35","v":0}]
["Moving Sidewalks",null,null,null,null,{"$f":"Indoor!D44","v":0}]
["Turnstiles",null,null,null,null,{"$f":"Indoor!D54","v":0}]
["Self Protection Score:",null,null,null,null,null,"did well with the skills that made up the area(s) of",null,null,null,null,null,null,{"$f":"IF(F177>3.99,A177,\"\")","v":""},{"$f":"IF(F178>3.99,A178,\"\")","v":""},{"$f":"IF(F179>3.99,A179,\"\")","v":""}]
["Upper Hand Protective Technique",null,null,null,null,{"$f":"SelfPro!D3","v":0},"had room for improvement with the skills that made up the area(s) of",null,null,null,null,null,null,{"$f":"IF(AND($F177>1.01,$F177<3.99),$A177,\"\")","v":""},{"$f":"IF(AND($F178>1.01,$F178<3.99),$A178,\"\")","v":""},{"$f":"IF(AND($F179>1.01,$F179<3.99),$A179,\"\")","v":""}]
["Lower Forearm Protective Technique",null,null,null,null,{"$f":"SelfPro!D8","v":0},"hadn't had the opportunity to work on the skills in the area(s) of",null,null,null,null,null,null,{"$f":"IF(AND($F177>0.99,$F177<1.000001),$A177,\"\")","v":""},{"$f":"IF(AND($F178>0.99,$F178<1.000001),$A178,\"\")","v":""},{"$f":"IF(AND($F179>0.99,$F179<1.000001),$A179,\"\")","v":""}]
["Protective Clothing",null,null,null,null,{"$f":"SelfPro!D12","v":0},"didn't need the skills in the area(s) of",null,null,null,null,null,null,{"$f":"IF($F177=0,$A177,\"\")","v":"Upper Hand Protective Technique"},{"$f":"IF($F178=0,$A178,\"\")","v":"Lower Forearm Protective Technique"},{"$f":"IF($F179=0,$A179,\"\")","v":"Protective Clothing"}]
["Guided Travel Score:"]
["Human Guide",null,null,null,null,{"$f":"Guided!D3","v":0},"did well with the skills that made up the area(s) of",null,null,null,null,null,null,{"$f":"IF(F181>3.99,A181,\"\")","v":""},{"$f":"IF(F182>3.99,A182,\"\")","v":""},{"$f":"IF(F183>3.99,A183,\"\")","v":""},{"$f":"IF(F184>3.99,A184,\"\")","v":""}]
["Walking With Another (No Direct Contact)",null,null,null,null,{"$f":"Guided!D11","v":0},"had room for improvement with the skills that made up the area(s) of",null,null,null,null,null,null,{"$f":"IF(AND($F181>1.01,$F181<3.99),$A181,\"\")","v":""},{"$f":"IF(AND($F182>1.01,$F182<3.99),$A182,\"\")","v":""},{"$f":"IF(AND($F183>1.01,$F183<3.99),$A183,\"\")","v":""},{"$f":"IF(AND($F184>1.01,$F184<3.99),$A184,\"\")","v":""}]
["Menus",null,null,null,null,{"$f":"Guided!D16","v":0},"hadn't had the opportunity to work on the skills in the area(s) of",null,null,null,null,null,null,{"$f":"IF(AND($F181>0.99,$F181<1.000001),$A181,\"\")","v":""},{"$f":"IF(AND($F182>0.99,$F182<1.000001),$A182,\"\")","v":""},{"$f":"IF(AND($F183>0.99,$F183<1.000001),$A183,\"\")","v":""},{"$f":"IF(AND($F184>0.99,$F184<1.000001),$A184,\"\")","v":""}]
["Getting Rides",null,null,null,null,{"$f":"Guided!D20","v":0},"didn't need the skills in the area(s) of",null,null,null,null,null,null,{"$f":"IF($F181=0,$A181,\"\")","v":"Human Guide"},{"$f":"IF($F182=0,$A182,\"\")","v":"Walking With Another (No Direct Contact)"},{"$f":"IF($F183=0,$A183,\"\")","v":"Menus"},{"$f":"IF($F184=0,$A184,\"\")","v":"Getting Rides"}]
["Cane Skills Score:"]
["Basic Skills",null,null,null,null,{"$f":"Cane!D3","v":0},"did well with the skills that made up the area(s) of",null,null,null,null,null,null,{"$f":"IF(F186>3.99,A186,\"\")","v":""},{"$f":"IF(F187>3.99,A187,\"\")","v":""},{"$f":"IF(F188>3.99,A188,\"\")","v":""},{"$f":"IF(F189>3.99,A189,\"\")","v":""},{"$f":"IF(F190>3.99,A190,\"\")","v":""},{"$f":"IF(F191>3.99,A191,\"\")","v":""},{"$f":"IF(F192>3.99,A192,\"\")","v":""}]
["Types Of Grips",null,null,null,null,{"$f":"Cane!D10","v":0},"had room for improvement with the skills that made up the area(s) of",null,null,null,null,null,null,{"$f":"IF(AND($F186>1.01,$F186<3.99),$A186,\"\")","v":""},{"$f":"IF(AND($F187>1.01,$F187<3.99),$A187,\"\")","v":""},{"$f":"IF(AND($F188>1.01,$F188<3.99),$A188,\"\")","v":""},{"$f":"IF(AND($F189>1.01,$F189<3.99),$A189,\"\")","v":""},{"$f":"IF(AND($F190>1.01,$F190<3.99),$A190,\"\")","v":""},{"$f":"IF(AND($F191>1.01,$F191<3.99),$A191,\"\")","v":""},{"$f":"IF(AND($F192>1.01,$F192<3.99),$A192,\"\")","v":""}]
["Constant Contact",null,null,null,null,{"$f":"Cane!D16","v":0},"hadn't had the opportunity to work on the skills in the area(s) of",null,null,null,null,null,null,{"$f":"IF(AND($F186>0.99,$F186<1.000001),$A186,\"\")","v":""},{"$f":"IF(AND($F187>0.99,$F187<1.000001),$A187,\"\")","v":""},{"$f":"IF(AND($F188>0.99,$F188<1.000001),$A188,\"\")","v":""},{"$f":"IF(AND($F189>0.99,$F189<1.000001),$A189,\"\")","v":""},{"$f":"IF(AND($F190>0.99,$F190<1.000001),$A190,\"\")","v":""},{"$f":"IF(AND($F191>0.99,$F191<1.000001),$A191,\"\")","v":""},{"$f":"IF(AND($F192>0.99,$F192<1.000001),$A192,\"\")","v":""}]
["Diagonal/Diagonal Trail",null,null,null,null,{"$f":"Cane!D22","v":0},"didn't need the skills in the area(s) of",null,null,null,null,null,null,{"$f":"IF($F186=0,$A186,\"\")","v":"Basic Skills"},{"$f":"IF($F187=0,$A187,\"\")","v":"Types Of Grips"},{"$f":"IF($F188=0,$A188,\"\")","v":"Constant Contact"},{"$f":"IF($F189=0,$A189,\"\")","v":"Diagonal/Diagonal Trail"},{"$f":"IF($F190=0,$A190,\"\")","v":"Two Point Touch/Touch Trail"},{"$f":"IF($F191=0,$A191,\"\")","v":"Touch And Drag"},{"$f":"IF($F192=0,$A192,\"\")","v":"Three Point Touch"}]
["Two Point Touch/Touch Trail",null,null,null,null,{"$f":"Cane!D28","v":0}]
["Touch And Drag",null,null,null,null,{"$f":"Cane!D35","v":0}]
["Three Point Touch",null,null,null,null,{"$f":"Cane!D42","v":0}]
["Sidewalk Travel Score:",null,null,null,null,null,"did well with the skills that made up the area(s) of",null,null,null,null,null,null,{"$f":"IF(F194>3.99,A194,\"\")","v":""},{"$f":"IF(F195>3.99,A195,\"\")","v":""},{"$f":"IF(F196>3.99,A196,\"\")","v":""}]
["Walking On Sidewalks",null,null,null,null,{"$f":"Sidewalk!D3","v":0},"had room for improvement with the skills that made up the area(s) of",null,null,null,null,null,null,{"$f":"IF(AND($F194>1.01,$F194<3.99),$A194,\"\")","v":""},{"$f":"IF(AND($F195>1.01,$F195<3.99),$A195,\"\")","v":""},{"$f":"IF(AND($F196>1.01,$F196<3.99),$A196,\"\")","v":""}]
["Walking On Irregular Sidewalks",null,null,null,null,{"$f":"Sidewalk!D15","v":0},"hadn't had the opportunity to work on the skills in the area(s) of",null,null,null,null,null,null,{"$f":"IF(AND($F194>0.99,$F194<1.000001),$A194,\"\")","v":""},{"$f":"IF(AND($F195>0.99,$F195<1.000001),$A195,\"\")","v":""},{"$f":"IF(AND($F196>0.99,$F196<1.000001),$A196,\"\")","v":""}]
["Correcting for Veering On Sidewalks",null,null,null,null,{"$f":"Sidewalk!D21","v":0},"didn't need the skills in the area(s) of",null,null,null,null,null,null,{"$f":"IF($F194=0,$A194,\"\")","v":"Walking On Sidewalks"},{"$f":"IF($F195=0,$A195,\"\")","v":"Walking On Irregular Sidewalks"},{"$f":"IF($F196=0,$A196,\"\")","v":"Correcting for Veering On Sidewalks"}]
["Street Crossings Score:"]
["Anticipating Street Crossings",null,null,null,null,{"$f":"StCross!D3","v":0},"did well with the skills that made up the area(s) of",null,null,null,null,null,null,{"$f":"IF(F198>3.99,A198,\"\")","v":""},{"$f":"IF(F199>3.99,A199,\"\")","v":""},{"$f":"IF(F200>3.99,A200,\"\")","v":""},{"$f":"IF(F201>3.99,A201,\"\")","v":""},{"$f":"IF(F202>3.99,A202,\"\")","v":""},{"$f":"IF(F203>3.99,A203,\"\")","v":""},{"$f":"IF(F204>3.99,A204,\"\")","v":""},{"$f":"IF(F205>3.99,A205,\"\")","v":""},{"$f":"IF(F206>3.99,A206,\"\")","v":""},{"$f":"IF(F207>3.99,A207,\"\")","v":""},{"$f":"IF(F208>3.99,A208,\"\")","v":""},{"$f":"IF(F209>3.99,A209,\"\")","v":""},{"$f":"IF(F210>3.99,A210,\"\")","v":""},{"$f":"IF(F211>3.99,A211,\"\")","v":""},{"$f":"IF(F212>3.99,A212,\"\")","v":""},{"$f":"IF(F213>3.99,A213,\"\")","v":""}]
["Maintaining Line Of Travel",null,null,null,null,{"$f":"StCross!D9","v":0},"had room for improvement with the skills that made up the area(s) of",null,null,null,null,null,null,{"$f":"IF(AND($F198>1.01,$F198<3.99),$A198,\"\")","v":""},{"$f":"IF(AND($F199>1.01,$F199<3.99),$A199,\"\")","v":""},{"$f":"IF(AND($F200>1.01,$F200<3.99),$A200,\"\")","v":""},{"$f":"IF(AND($F201>1.01,$F201<3.99),$A201,\"\")","v":""},{"$f":"IF(AND($F202>1.01,$F202<3.99),$A202,\"\")","v":""},{"$f":"IF(AND($F203>1.01,$F203<3.99),$A203,\"\")","v":""},{"$f":"IF(AND($F204>1.01,$F204<3.99),$A204,\"\")","v":""},{"$f":"IF(AND($F205>1.01,$F205<3.99),$A205,\"\")","v":""},{"$f":"IF(AND($F206>1.01,$F206<3.99),$A206,\"\")","v":""},{"$f":"IF(AND($F207>1.01,$F207<3.99),$A207,\"\")","v":""},{"$f":"IF(AND($F208>1.01,$F208<3.99),$A208,\"\")","v":""},{"$f":"IF(AND($F209>1.01,$F209<3.99),$A209,\"\")","v":""},{"$f":"IF(AND($F210>1.01,$F210<3.99),$A210,\"\")","v":""},{"$f":"IF(AND($F211>1.01,$F211<3.99),$A211,\"\")","v":""},{"$f":"IF(AND($F212>1.01,$F212<3.99),$A212,\"\")","v":""},{"$f":"IF(AND($F213>1.01,$F213<3.99),$A213,\"\")","v":""}]
["Maintaining Body Alignment",null,null,null,null,{"$f":"StCross!D10","v":0},"hadn't had the opportunity to work on the skills in the area(s) of",null,null,null,null,null,null,{"$f":"IF(AND($F198>0.99,$F198<1.000001),$A198,\"\")","v":""},{"$f":"IF(AND($F199>0.99,$F199<1.000001),$A199,\"\")","v":""},{"$f":"IF(AND($F200>0.99,$F200<1.000001),$A200,\"\")","v":""},{"$f":"IF(AND($F201>0.99,$F201<1.000001),$A201,\"\")","v":""},{"$f":"IF(AND($F202>0.99,$F202<1.000001),$A202,\"\")","v":""},{"$f":"IF(AND($F203>0.99,$F203<1.000001),$A203,\"\")","v":""},{"$f":"IF(AND($F204>0.99,$F204<1.000001),$A204,\"\")","v":""},{"$f":"IF(AND($F205>0.99,$F205<1.000001),$A205,\"\")","v":""},{"$f":"IF(AND($F206>0.99,$F206<1.000001),$A206,\"\")","v":""},{"$f":"IF(AND($F207>0.99,$F207<1.000001),$A207,\"\")","v":""},{"$f":"IF(AND($F208>0.99,$F208<1.000001),$A208,\"\")","v":""},{"$f":"IF(AND($F209>0.99,$F209<1.000001),$A209,\"\")","v":""},{"$f":"IF(AND($F210>0.99,$F210<1.000001),$A210,\"\")","v":""},{"$f":"IF(AND($F211>0.99,$F211<1.000001),$A211,\"\")","v":""},{"$f":"IF(AND($F212>0.99,$F212<1.000001),$A212,\"\")","v":""},{"$f":"IF(AND($F213>0.99,$F213<1.000001),$A213,\"\")","v":""}]
["Re-establishing Body Alignment",null,null,null,null,{"$f":"StCross!D14","v":0},"didn't need the skills in the area(s) of",null,null,null,null,null,null,{"$f":"IF($F198=0,$A198,\"\")","v":"Anticipating Street Crossings"},{"$f":"IF($F199=0,$A199,\"\")","v":"Maintaining Line Of Travel"},{"$f":"IF($F200=0,$A200,\"\")","v":"Maintaining Body Alignment"},{"$f":"IF($F201=0,$A201,\"\")","v":"Re-establishing Body Alignment"},{"$f":"IF($F202=0,$A202,\"\")","v":"Analyzing Intersections"},{"$f":"IF($F203=0,$A203,\"\")","v":"Plus Intersections"},{"$f":"IF($F204=0,$A204,\"\")","v":"T Intersections"},{"$f":"IF($F205=0,$A205,\"\")","v":"Y Intersections"},{"$f":"IF($F206=0,$A206,\"\")","v":"Roundabouts"},{"$f":"IF($F207=0,$A207,\"\")","v":"Significantly Offset Intersections"},{"$f":"IF($F208=0,$A208,\"\")","v":"Atypical Intersections"},{"$f":"IF($F209=0,$A209,\"\")","v":"Newly Developed Intersections"},{"$f":"IF($F210=0,$A210,\"\")","v":"Channelized Right Turn Lanes"},{"$f":"IF($F211=0,$A211,\"\")","v":"Veering"},{"$f":"IF($F212=0,$A212,\"\")","v":"Understanding Drivers’ Perspectives"},{"$f":"IF($F213=0,$A213,\"\")","v":"Pedestrian Signals"}]
["Analyzing Intersections",null,null,null,null,{"$f":"StCross!D18","v":0}]
["Plus Intersections",null,null,null,null,{"$f":"StCross!D34","v":0}]
["T Intersections",null,null,null,null,{"$f":"StCross!D53","v":0}]
["Y Intersections",null,null,null,null,{"$f":"StCross!D75","v":0}]
["Roundabouts",null,null,null,null,{"$f":"StCross!D100","v":0}]
["Significantly Offset Intersections",null,null,null,null,{"$f":"StCross!D115","v":0}]
["Atypical Intersections",null,null,null,null,{"$f":"StCross!D120","v":0}]
["Newly Developed Intersections",null,null,null,null,{"$f":"StCross!D130","v":0}]
["Channelized Right Turn Lanes",null,null,null,null,{"$f":"StCross!D138","v":0}]
["Veering",null,null,null,null,{"$f":"StCross!D148","v":0}]
["Understanding Drivers’ Perspectives",null,null,null,null,{"$f":"StCross!D162","v":0}]
["Pedestrian Signals",null,null,null,null,{"$f":"StCross!D171","v":0}]
["Orientation Skills and GPS Score:"]
["Cardinality",null,null,null,null,{"$f":"Orient!D3","v":0},"did well with the skills that made up the area(s) of",null,null,null,null,null,null,{"$f":"IF(F215>3.99,A215,\"\")","v":""},{"$f":"IF(F216>3.99,A216,\"\")","v":""},{"$f":"IF(F217>3.99,A217,\"\")","v":""},{"$f":"IF(F218>3.99,A218,\"\")","v":""},{"$f":"IF(F219>3.99,A219,\"\")","v":""},{"$f":"IF(F220>3.99,A220,\"\")","v":""},{"$f":"IF(F221>3.99,A221,\"\")","v":""},{"$f":"IF(F222>3.99,A222,\"\")","v":""},{"$f":"IF(F223>3.99,A223,\"\")","v":""},{"$f":"IF(F224>3.99,A224,\"\")","v":""}]
["Clues",null,null,null,null,{"$f":"Orient!D18","v":0},"had room for improvement with the skills that made up the area(s) of",null,null,null,null,null,null,{"$f":"IF(AND($F215>1.01,$F215<3.99),$A215,\"\")","v":""},{"$f":"IF(AND($F216>1.01,$F216<3.99),$A216,\"\")","v":""},{"$f":"IF(AND($F217>1.01,$F217<3.99),$A217,\"\")","v":""},{"$f":"IF(AND($F218>1.01,$F218<3.99),$A218,\"\")","v":""},{"$f":"IF(AND($F219>1.01,$F219<3.99),$A219,\"\")","v":""},{"$f":"IF(AND($F220>1.01,$F220<3.99),$A220,\"\")","v":""},{"$f":"IF(AND($F221>1.01,$F221<3.99),$A221,\"\")","v":""},{"$f":"IF(AND($F222>1.01,$F222<3.99),$A222,\"\")","v":""},{"$f":"IF(AND($F223>1.01,$F223<3.99),$A223,\"\")","v":""},{"$f":"IF(AND($F224>1.01,$F224<3.99),$A224,\"\")","v":""}]
["Landmarks",null,null,null,null,{"$f":"Orient!D24","v":0},"hadn't had the opportunity to work on the skills in the area(s) of",null,null,null,null,null,null,{"$f":"IF(AND($F215>0.99,$F215<1.000001),$A215,\"\")","v":""},{"$f":"IF(AND($F216>0.99,$F216<1.000001),$A216,\"\")","v":""},{"$f":"IF(AND($F217>0.99,$F217<1.000001),$A217,\"\")","v":""},{"$f":"IF(AND($F218>0.99,$F218<1.000001),$A218,\"\")","v":""},{"$f":"IF(AND($F219>0.99,$F219<1.000001),$A219,\"\")","v":""},{"$f":"IF(AND($F220>0.99,$F220<1.000001),$A220,\"\")","v":""},{"$f":"IF(AND($F221>0.99,$F221<1.000001),$A221,\"\")","v":""},{"$f":"IF(AND($F222>0.99,$F222<1.000001),$A222,\"\")","v":""},{"$f":"IF(AND($F223>0.99,$F223<1.000001),$A223,\"\")","v":""},{"$f":"IF(AND($F224>0.99,$F224<1.000001),$A224,\"\")","v":""}]
["Indoor Numbering Systems",null,null,null,null,{"$f":"Orient!D30","v":0},"didn't need the skills in the area(s) of",null,null,null,null,null,null,{"$f":"IF($F215=0,$A215,\"\")","v":"Cardinality"},{"$f":"IF($F216=0,$A216,\"\")","v":"Clues"},{"$f":"IF($F217=0,$A217,\"\")","v":"Landmarks"},{"$f":"IF($F218=0,$A218,\"\")","v":"Indoor Numbering Systems"},{"$f":"IF($F219=0,$A219,\"\")","v":"Outdoor Numbering Systems"},{"$f":"IF($F220=0,$A220,\"\")","v":"Grid System"},{"$f":"IF($F221=0,$A221,\"\")","v":"Divisors And Block Numbering"},{"$f":"IF($F222=0,$A222,\"\")","v":"Transferability"},{"$f":"IF($F223=0,$A223,\"\")","v":"GPS"},{"$f":"IF($F224=0,$A224,\"\")","v":"Maps"}]
["Outdoor Numbering Systems",null,null,null,null,{"$f":"Orient!D36","v":0}]
["Grid System",null,null,null,null,{"$f":"Orient!D42","v":0}]
["Divisors And Block Numbering",null,null,null,null,{"$f":"Orient!D53","v":0}]
["Transferability",null,null,null,null,{"$f":"Orient!D60","v":0}]
["GPS",null,null,null,null,{"$f":"Orient!D64","v":0}]
["Maps",null,null,null,null,{"$f":"Orient!D72","v":0}]
["Public Transportation Score:"]
["Identifying Common Public Transportation Options",null,null,null,null,{"$f":"PubTran!D3","v":0},"did well with the skills that made up the area(s) of",null,null,null,null,null,null,{"$f":"IF(F226>3.99,A226,\"\")","v":""},{"$f":"IF(F227>3.99,A227,\"\")","v":""},{"$f":"IF(F228>3.99,A228,\"\")","v":""},{"$f":"IF(F229>3.99,A229,\"\")","v":""},{"$f":"IF(F230>3.99,A230,\"\")","v":""},{"$f":"IF(F231>3.99,A231,\"\")","v":""},{"$f":"IF(F232>3.99,A232,\"\")","v":""}]
["Intra-City Bus Travel",null,null,null,null,{"$f":"PubTran!D4","v":0},"had room for improvement with the skills that made up the area(s) of",null,null,null,null,null,null,{"$f":"IF(AND($F226>1.01,$F226<3.99),$A226,\"\")","v":""},{"$f":"IF(AND($F227>1.01,$F227<3.99),$A227,\"\")","v":""},{"$f":"IF(AND($F228>1.01,$F228<3.99),$A228,\"\")","v":""},{"$f":"IF(AND($F229>1.01,$F229<3.99),$A229,\"\")","v":""},{"$f":"IF(AND($F230>1.01,$F230<3.99),$A230,\"\")","v":""},{"$f":"IF(AND($F231>1.01,$F231<3.99),$A231,\"\")","v":""},{"$f":"IF(AND($F232>1.01,$F232<3.99),$A232,\"\")","v":""}]
["Inter-City Bus Travel",null,null,null,null,{"$f":"PubTran!D22","v":0},"hadn't had the opportunity to work on the skills in the area(s) of",null,null,null,null,null,null,{"$f":"IF(AND($F226>0.99,$F226<1.000001),$A226,\"\")","v":""},{"$f":"IF(AND($F227>0.99,$F227<1.000001),$A227,\"\")","v":""},{"$f":"IF(AND($F228>0.99,$F228<1.000001),$A228,\"\")","v":""},{"$f":"IF(AND($F229>0.99,$F229<1.000001),$A229,\"\")","v":""},{"$f":"IF(AND($F230>0.99,$F230<1.000001),$A230,\"\")","v":""},{"$f":"IF(AND($F231>0.99,$F231<1.000001),$A231,\"\")","v":""},{"$f":"IF(AND($F232>0.99,$F232<1.000001),$A232,\"\")","v":""}]
["Taxi/Ride Service",null,null,null,null,{"$f":"PubTran!D38","v":0},"didn't need the skills in the area(s) of",null,null,null,null,null,null,{"$f":"IF($F226=0,$A226,\"\")","v":"Identifying Common Public Transportation Options"},{"$f":"IF($F227=0,$A227,\"\")","v":"Intra-City Bus Travel"},{"$f":"IF($F228=0,$A228,\"\")","v":"Inter-City Bus Travel"},{"$f":"IF($F229=0,$A229,\"\")","v":"Taxi/Ride Service"},{"$f":"IF($F230=0,$A230,\"\")","v":"Handi-Ride/Para Transit"},{"$f":"IF($F231=0,$A231,\"\")","v":"Air Travel"},{"$f":"IF($F232=0,$A232,\"\")","v":"Subway/Light Rail"}]
["Handi-Ride/Para Transit",null,null,null,null,{"$f":"PubTran!D45","v":0}]
["Air Travel",null,null,null,null,{"$f":"PubTran!D49","v":0}]
["Subway/Light Rail",null,null,null,null,{"$f":"PubTran!D65","v":0}]
["Atypical O&M Score:"]
["Fences",null,null,null,null,{"$f":"Atyp!D3","v":0},"did well with the skills that made up the area(s) of",null,null,null,null,null,null,{"$f":"IF(F234>3.99,A234,\"\")","v":""},{"$f":"IF(F235>3.99,A235,\"\")","v":""},{"$f":"IF(F236>3.99,A236,\"\")","v":""},{"$f":"IF(F237>3.99,A237,\"\")","v":""}]
["Fields (Urban)",null,null,null,null,{"$f":"Atyp!D7","v":0},"had room for improvement with the skills that made up the area(s) of",null,null,null,null,null,null,{"$f":"IF(AND($F234>1.01,$F234<3.99),$A234,\"\")","v":""},{"$f":"IF(AND($F235>1.01,$F235<3.99),$A235,\"\")","v":""},{"$f":"IF(AND($F236>1.01,$F236<3.99),$A236,\"\")","v":""},{"$f":"IF(AND($F237>1.01,$F237<3.99),$A237,\"\")","v":""}]
["Parks/Playgrounds",null,null,null,null,{"$f":"Atyp!D13","v":0},"hadn't had the opportunity to work on the skills in the area(s) of",null,null,null,null,null,null,{"$f":"IF(AND($F234>0.99,$F234<1.000001),$A234,\"\")","v":""},{"$f":"IF(AND($F235>0.99,$F235<1.000001),$A235,\"\")","v":""},{"$f":"IF(AND($F236>0.99,$F236<1.000001),$A236,\"\")","v":""},{"$f":"IF(AND($F237>0.99,$F237<1.000001),$A237,\"\")","v":""}]
["Inclement Weather",null,null,null,null,{"$f":"Atyp!D21","v":0},"didn't need the skills in the area(s) of",null,null,null,null,null,null,{"$f":"IF($F234=0,$A234,\"\")","v":"Fences"},{"$f":"IF($F235=0,$A235,\"\")","v":"Fields (Urban)"},{"$f":"IF($F236=0,$A236,\"\")","v":"Parks/Playgrounds"},{"$f":"IF($F237=0,$A237,\"\")","v":"Inclement Weather"}]
["Rural Travel Score:"]
["Understanding Unique Dangers Related To Rural Travel",null,null,null,null,{"$f":"Rural!D3","v":0},"did well with the skills that made up the area(s) of",null,null,null,null,null,null,{"$f":"IF(F239>3.99,A239,\"\")","v":""},{"$f":"IF(F240>3.99,A240,\"\")","v":""},{"$f":"IF(F241>3.99,A241,\"\")","v":""},{"$f":"IF(F242>3.99,A242,\"\")","v":""},{"$f":"IF(F243>3.99,A243,\"\")","v":""}]
["Walking Along Rural Roads",null,null,null,null,{"$f":"Rural!D9","v":0},"had room for improvement with the skills that made up the area(s) of",null,null,null,null,null,null,{"$f":"IF(AND($F239>1.01,$F239<3.99),$A239,\"\")","v":""},{"$f":"IF(AND($F240>1.01,$F240<3.99),$A240,\"\")","v":""},{"$f":"IF(AND($F241>1.01,$F241<3.99),$A241,\"\")","v":""},{"$f":"IF(AND($F242>1.01,$F242<3.99),$A242,\"\")","v":""},{"$f":"IF(AND($F243>1.01,$F243<3.99),$A243,\"\")","v":""}]
["Ditches/Arroyos",null,null,null,null,{"$f":"Rural!D15","v":0},"hadn't had the opportunity to work on the skills in the area(s) of",null,null,null,null,null,null,{"$f":"IF(AND($F239>0.99,$F239<1.000001),$A239,\"\")","v":""},{"$f":"IF(AND($F240>0.99,$F240<1.000001),$A240,\"\")","v":""},{"$f":"IF(AND($F241>0.99,$F241<1.000001),$A241,\"\")","v":""},{"$f":"IF(AND($F242>0.99,$F242<1.000001),$A242,\"\")","v":""},{"$f":"IF(AND($F243>0.99,$F243<1.000001),$A243,\"\")","v":""}]
["Identifying And Going Around Items In Rural Areas",null,null,null,null,{"$f":"Rural!D22","v":0},"didn't need the skills in the area(s) of",null,null,null,null,null,null,{"$f":"IF($F239=0,$A239,\"\")","v":"Understanding Unique Dangers Related To Rural Travel"},{"$f":"IF($F240=0,$A240,\"\")","v":"Walking Along Rural Roads"},{"$f":"IF($F241=0,$A241,\"\")","v":"Ditches/Arroyos"},{"$f":"IF($F242=0,$A242,\"\")","v":"Identifying And Going Around Items In Rural Areas"},{"$f":"IF($F243=0,$A243,\"\")","v":"Rural Street Crossings"}]
["Rural Street Crossings",null,null,null,null,{"$f":"Rural!D28","v":0}]
["Vision Specific O&M Skills Score:"]
["Scanning Materials",null,null,null,null,{"$f":"VisSpec!D3","v":0},"did well with the skills that made up the area(s) of",null,null,null,null,null,null,{"$f":"IF(F245>3.99,A245,\"\")","v":""},{"$f":"IF(F246>3.99,A246,\"\")","v":""},{"$f":"IF(F247>3.99,A247,\"\")","v":""},{"$f":"IF(F248>3.99,A248,\"\")","v":""},{"$f":"IF(F249>3.99,A249,\"\")","v":""}]
["Scanning Environments",null,null,null,null,{"$f":"VisSpec!D10","v":0},"had room for improvement with the skills that made up the area(s) of",null,null,null,null,null,null,{"$f":"IF(AND($F245>1.01,$F245<3.99),$A245,\"\")","v":""},{"$f":"IF(AND($F246>1.01,$F246<3.99),$A246,\"\")","v":""},{"$f":"IF(AND($F247>1.01,$F247<3.99),$A247,\"\")","v":""},{"$f":"IF(AND($F248>1.01,$F248<3.99),$A248,\"\")","v":""},{"$f":"IF(AND($F249>1.01,$F249<3.99),$A249,\"\")","v":""}]
["Magnifiers And CCTVs",null,null,null,null,{"$f":"VisSpec!D17","v":0},"hadn't had the opportunity to work on the skills in the area(s) of",null,null,null,null,null,null,{"$f":"IF(AND($F245>0.99,$F245<1.000001),$A245,\"\")","v":""},{"$f":"IF(AND($F246>0.99,$F246<1.000001),$A246,\"\")","v":""},{"$f":"IF(AND($F247>0.99,$F247<1.000001),$A247,\"\")","v":""},{"$f":"IF(AND($F248>0.99,$F248<1.000001),$A248,\"\")","v":""},{"$f":"IF(AND($F249>0.99,$F249<1.000001),$A249,\"\")","v":""}]
["Monoculars",null,null,null,null,{"$f":"VisSpec!D21","v":0},"didn't need the skills in the area(s) of",null,null,null,null,null,null,{"$f":"IF($F245=0,$A245,\"\")","v":"Scanning Materials"},{"$f":"IF($F246=0,$A246,\"\")","v":"Scanning Environments"},{"$f":"IF($F247=0,$A247,\"\")","v":"Magnifiers And CCTVs"},{"$f":"IF($F248=0,$A248,\"\")","v":"Monoculars"},{"$f":"IF($F249=0,$A249,\"\")","v":"Visual Traveling"}]
["Visual Traveling",null,null,null,null,{"$f":"VisSpec!D27","v":0}]
["Community Score:"]
["Comparison Shopping From Home",null,null,null,null,{"$f":"Commun!D3","v":0},"did well with the skills that made up the area(s) of",null,null,null,null,null,null,{"$f":"IF(F251>3.99,A251,\"\")","v":""},{"$f":"IF(F252>3.99,A252,\"\")","v":""},{"$f":"IF(F253>3.99,A253,\"\")","v":""},{"$f":"IF(F254>3.99,A254,\"\")","v":""},{"$f":"IF(F255>3.99,A255,\"\")","v":""}]
["Stores",null,null,null,null,{"$f":"Commun!D7","v":0},"had room for improvement with the skills that made up the area(s) of",null,null,null,null,null,null,{"$f":"IF(AND($F251>1.01,$F251<3.99),$A251,\"\")","v":""},{"$f":"IF(AND($F252>1.01,$F252<3.99),$A252,\"\")","v":""},{"$f":"IF(AND($F253>1.01,$F253<3.99),$A253,\"\")","v":""},{"$f":"IF(AND($F254>1.01,$F254<3.99),$A254,\"\")","v":""},{"$f":"IF(AND($F255>1.01,$F255<3.99),$A255,\"\")","v":""}]
["Fast Food Restaurants",null,null,null,null,{"$f":"Commun!D19","v":0},"hadn't had the opportunity to work on the skills in the area(s) of",null,null,null,null,null,null,{"$f":"IF(AND($F251>0.99,$F251<1.000001),$A251,\"\")","v":""},{"$f":"IF(AND($F252>0.99,$F252<1.000001),$A252,\"\")","v":""},{"$f":"IF(AND($F253>0.99,$F253<1.000001),$A253,\"\")","v":""},{"$f":"IF(AND($F254>0.99,$F254<1.000001),$A254,\"\")","v":""},{"$f":"IF(AND($F255>0.99,$F255<1.000001),$A255,\"\")","v":""}]
["Cafeteria Restaurants",null,null,null,null,{"$f":"Commun!D30","v":0},"didn't need the skills in the area(s) of",null,null,null,null,null,null,{"$f":"IF($F251=0,$A251,\"\")","v":"Comparison Shopping From Home"},{"$f":"IF($F252=0,$A252,\"\")","v":"Stores"},{"$f":"IF($F253=0,$A253,\"\")","v":"Fast Food Restaurants"},{"$f":"IF($F254=0,$A254,\"\")","v":"Cafeteria Restaurants"},{"$f":"IF($F255=0,$A255,\"\")","v":"Sit Down Restaurants"}]
["Sit Down Restaurants",null,null,null,null,{"$f":"Commun!D41","v":0}]
[]
[]
[]
[null,null,null,null,null,null,"demonstrated","of the skills needed to travel independently as an adult."]
[{"$f":"G5","v":0},"Concepts",null,null,null,null,"did well with the skills that made up the domain(s) of",null,null,null,null,null,null,{"$f":"IF(A260>79.999999999,B260,\"\")","v":""},{"$f":"IF(A261>79.999999999,B261,\"\")","v":""},{"$f":"IF(A262>79.999999999,B262,\"\")","v":""},{"$f":"IF(A263>79.999999999,B263,\"\")","v":""},{"$f":"IF(A264>79.999999999,B264,\"\")","v":""},{"$f":"IF(A265>79.999999999,B265,\"\")","v":""},{"$f":"IF(A266>79.999999999,B266,\"\")","v":""},{"$f":"IF(A267>79.999999999,B267,\"\")","v":""},{"$f":"IF(A268>79.999999999,B268,\"\")","v":""},{"$f":"IF(A269>79.999999999,B269,\"\")","v":""},{"$f":"IF(A270>79.999999999,B270,\"\")","v":""},{"$f":"IF(A271>79.999999999,B271,\"\")","v":""},{"$f":"IF(A272>79.999999999,B272,\"\")","v":""},{"$f":"IF(A273>79.999999999,B273,\"\")","v":""},{"$f":"IF(A274>79.999999999,B274,\"\")","v":""}]
[{"$f":"G11","v":0},"Movement",null,null,null,null,"had room for improvement with the skills that made up the domain(s) of",null,null,null,null,null,null,{"$f":"IF(AND($A260>20.000001,$A260<79.999999998),$B260,\"\")","v":""},{"$f":"IF(AND($A261>20.000001,$A261<79.999999998),$B261,\"\")","v":""},{"$f":"IF(AND($A262>20.000001,$A262<79.999999998),$B262,\"\")","v":""},{"$f":"IF(AND($A263>20.000001,$A263<79.999999998),$B263,\"\")","v":""},{"$f":"IF(AND($A264>20.000001,$A264<79.999999998),$B264,\"\")","v":""},{"$f":"IF(AND($A265>20.000001,$A265<79.999999998),$B265,\"\")","v":""},{"$f":"IF(AND($A266>20.000001,$A266<79.999999998),$B266,\"\")","v":""},{"$f":"IF(AND($A267>20.000001,$A267<79.999999998),$B267,\"\")","v":""},{"$f":"IF(AND($A268>20.000001,$A268<79.999999998),$B268,\"\")","v":""},{"$f":"IF(AND($A269>20.000001,$A269<79.999999998),$B269,\"\")","v":""},{"$f":"IF(AND($A270>20.000001,$A270<79.999999998),$B270,\"\")","v":""},{"$f":"IF(AND($A271>20.000001,$A271<79.999999998),$B271,\"\")","v":""},{"$f":"IF(AND($A272>20.000001,$A272<79.999999998),$B272,\"\")","v":""},{"$f":"IF(AND($A273>20.000001,$A273<79.999999998),$B273,\"\")","v":""},{"$f":"IF(AND($A274>20.000001,$A274<79.999999998),$B274,\"\")","v":""}]
[{"$f":"G17","v":0},"Single Room O&M",null,null,null,null,"hadn't had the opportunity to work on the skills that made up the domain(s) of",null,null,null,null,null,null,{"$f":"IF(AND($A260>19.9,$A260<20.1),$B260,\"\")","v":""},{"$f":"IF(AND($A261>19.9,$A261<20.1),$B261,\"\")","v":""},{"$f":"IF(AND($A262>19.9,$A262<20.1),$B262,\"\")","v":""},{"$f":"IF(AND($A263>19.9,$A263<20.1),$B263,\"\")","v":""},{"$f":"IF(AND($A264>19.9,$A264<20.1),$B264,\"\")","v":""},{"$f":"IF(AND($A265>19.9,$A265<20.1),$B265,\"\")","v":""},{"$f":"IF(AND($A266>19.9,$A266<20.1),$B266,\"\")","v":""},{"$f":"IF(AND($A267>19.9,$A267<20.1),$B267,\"\")","v":""},{"$f":"IF(AND($A268>19.9,$A268<20.1),$B268,\"\")","v":""},{"$f":"IF(AND($A269>19.9,$A269<20.1),$B269,\"\")","v":""},{"$f":"IF(AND($A270>19.9,$A270<20.1),$B270,\"\")","v":""},{"$f":"IF(AND($A271>19.9,$A271<20.1),$B271,\"\")","v":""},{"$f":"IF(AND($A272>19.9,$A272<20.1),$B272,\"\")","v":""},{"$f":"IF(AND($A273>19.9,$A273<20.1),$B273,\"\")","v":""},{"$f":"IF(AND($A274>19.9,$A274<20.1),$B274,\"\")","v":""}]
[{"$f":"G23","v":0},"Indoor O&M",null,null,null,null,"had no need for the skills that made up the domain(s) of",null,null,null,null,null,null,{"$f":"IF($A260=0,$B260,\"\")","v":"Concepts"},{"$f":"IF($A261=0,$B261,\"\")","v":"Movement"},{"$f":"IF($A262=0,$B262,\"\")","v":"Single Room O&M"},{"$f":"IF($A263=0,$B263,\"\")","v":"Indoor O&M"},{"$f":"IF($A264=0,$B264,\"\")","v":"Self Protection"},{"$f":"IF($A265=0,$B265,\"\")","v":"Guided Travel"},{"$f":"IF($A266=0,$B266,\"\")","v":"Cane Skills"},{"$f":"IF($A267=0,$B267,\"\")","v":"Sidewalk Travel"},{"$f":"IF($A268=0,$B268,\"\")","v":"Street Crossings"},{"$f":"IF($A269=0,$B269,\"\")","v":"Orientation Skills & GPS"},{"$f":"IF($A270=0,$B270,\"\")","v":"Public Transportation"},{"$f":"IF($A271=0,$B271,\"\")","v":"Atypical O&M"},{"$f":"IF($A272=0,$B272,\"\")","v":"Rural Travel"},{"$f":"IF($A273=0,$B273,\"\")","v":"Vision Specific O&M Skills"},{"$f":"IF($A274=0,$B274,\"\")","v":"Community "}]
[{"$f":"G29","v":0},"Self Protection"]
[{"$f":"G35","v":0},"Guided Travel"]
[{"$f":"G41","v":0},"Cane Skills"]
[{"$f":"G47","v":0},"Sidewalk Travel"]
[{"$f":"G53","v":0},"Street Crossings"]
[{"$f":"G59","v":0},"Orientation Skills & GPS"]
[{"$f":"G65","v":0},"Public Transportation"]
[{"$f":"G71","v":0},"Atypical O&M"]
[{"$f":"G77","v":0},"Rural Travel"]
[{"$f":"G83","v":0},"Vision Specific O&M Skills"]
[{"$f":"G89","v":0},"Community "]
[]
["will demonstrate improved skills in Orientation & Mobility by increasing the score on the O&M Inventory from"]
["to a minimum of"]
["by the next annual IEP date."]
["Please see the attached chart. "]
["Over the previous grading period"]
["increased the score on the O&M Inventory from"]
["to"]
["and is now"]
["of the way to the goal of"]
["made gains in the domain(s) of"]
[null,{"$f":"Front!B3","v":0},{"$f":"Front!C3","v":0},{"$f":"Front!D3","v":0},{"$f":"Front!E3","v":0},{"$f":"Front!F3","v":0},{"$f":"Front!G3","v":0},{"$f":"Front!H3","v":0},{"$f":"Front!I3","v":0},{"$f":"Front!J3","v":0},{"$f":"Front!K3","v":0},{"$f":"Front!L3","v":0},{"$f":"Front!M3","v":0}]
[null,{"$f":"Front!B4","v":0},{"$f":"Front!C4","v":0},{"$f":"Front!D4","v":0},{"$f":"Front!E4","v":0},{"$f":"Front!F4","v":0},{"$f":"Front!G4","v":0},{"$f":"Front!H4","v":0},{"$f":"Front!I4","v":0},{"$f":"Front!J4","v":0},{"$f":"Front!K4","v":0},{"$f":"Front!L4","v":0},{"$f":"Front!M4","v":0}]
[null,{"$f":"Front!B5","v":0},{"$f":"Front!C5","v":0},{"$f":"Front!D5","v":0},{"$f":"Front!E5","v":0},{"$f":"Front!F5","v":0},{"$f":"Front!G5","v":0},{"$f":"Front!H5","v":0},{"$f":"Front!I5","v":0},{"$f":"Front!J5","v":0},{"$f":"Front!K5","v":0},{"$f":"Front!L5","v":0},{"$f":"Front!M5","v":0}]
[null,{"$f":"Front!B6","v":0},{"$f":"Front!C6","v":0},{"$f":"Front!D6","v":0},{"$f":"Front!E6","v":0},{"$f":"Front!F6","v":0},{"$f":"Front!G6","v":0},{"$f":"Front!H6","v":0},{"$f":"Front!I6","v":0},{"$f":"Front!J6","v":0},{"$f":"Front!K6","v":0},{"$f":"Front!L6","v":0},{"$f":"Front!M6","v":0}]
[null,{"$f":"Front!B7","v":0},{"$f":"Front!C7","v":0},{"$f":"Front!D7","v":0},{"$f":"Front!E7","v":0},{"$f":"Front!F7","v":0},{"$f":"Front!G7","v":0},{"$f":"Front!H7","v":0},{"$f":"Front!I7","v":0},{"$f":"Front!J7","v":0},{"$f":"Front!K7","v":0},{"$f":"Front!L7","v":0},{"$f":"Front!M7","v":0}]
[null,{"$f":"Front!B8","v":0},{"$f":"Front!C8","v":0},{"$f":"Front!D8","v":0},{"$f":"Front!E8","v":0},{"$f":"Front!F8","v":0},{"$f":"Front!G8","v":0},{"$f":"Front!H8","v":0},{"$f":"Front!I8","v":0},{"$f":"Front!J8","v":0},{"$f":"Front!K8","v":0},{"$f":"Front!L8","v":0},{"$f":"Front!M8","v":0}]
[null,{"$f":"Front!B9","v":0},{"$f":"Front!C9","v":0},{"$f":"Front!D9","v":0},{"$f":"Front!E9","v":0},{"$f":"Front!F9","v":0},{"$f":"Front!G9","v":0},{"$f":"Front!H9","v":0},{"$f":"Front!I9","v":0},{"$f":"Front!J9","v":0},{"$f":"Front!K9","v":0},{"$f":"Front!L9","v":0},{"$f":"Front!M9","v":0}]
[null,{"$f":"Front!B10","v":0},{"$f":"Front!C10","v":0},{"$f":"Front!D10","v":0},{"$f":"Front!E10","v":0},{"$f":"Front!F10","v":0},{"$f":"Front!G10","v":0},{"$f":"Front!H10","v":0},{"$f":"Front!I10","v":0},{"$f":"Front!J10","v":0},{"$f":"Front!K10","v":0},{"$f":"Front!L10","v":0},{"$f":"Front!M10","v":0}]
[null,{"$f":"Front!B11","v":0},{"$f":"Front!C11","v":0},{"$f":"Front!D11","v":0},{"$f":"Front!E11","v":0},{"$f":"Front!F11","v":0},{"$f":"Front!G11","v":0},{"$f":"Front!H11","v":0},{"$f":"Front!I11","v":0},{"$f":"Front!J11","v":0},{"$f":"Front!K11","v":0},{"$f":"Front!L11","v":0},{"$f":"Front!M11","v":0}]
[null,{"$f":"Front!B12","v":0},{"$f":"Front!C12","v":0},{"$f":"Front!D12","v":0},{"$f":"Front!E12","v":0},{"$f":"Front!F12","v":0},{"$f":"Front!G12","v":0},{"$f":"Front!H12","v":0},{"$f":"Front!I12","v":0},{"$f":"Front!J12","v":0},{"$f":"Front!K12","v":0},{"$f":"Front!L12","v":0},{"$f":"Front!M12","v":0}]
[null,{"$f":"Front!B13","v":0},{"$f":"Front!C13","v":0},{"$f":"Front!D13","v":0},{"$f":"Front!E13","v":0},{"$f":"Front!F13","v":0},{"$f":"Front!G13","v":0},{"$f":"Front!H13","v":0},{"$f":"Front!I13","v":0},{"$f":"Front!J13","v":0},{"$f":"Front!K13","v":0},{"$f":"Front!L13","v":0},{"$f":"Front!M13","v":0}]
[null,{"$f":"Front!B14","v":0},{"$f":"Front!C14","v":0},{"$f":"Front!D14","v":0},{"$f":"Front!E14","v":0},{"$f":"Front!F14","v":0},{"$f":"Front!G14","v":0},{"$f":"Front!H14","v":0},{"$f":"Front!I14","v":0},{"$f":"Front!J14","v":0},{"$f":"Front!K14","v":0},{"$f":"Front!L14","v":0},{"$f":"Front!M14","v":0}]
[null,{"$f":"Front!B15","v":0},{"$f":"Front!C15","v":0},{"$f":"Front!D15","v":0},{"$f":"Front!E15","v":0},{"$f":"Front!F15","v":0},{"$f":"Front!G15","v":0},{"$f":"Front!H15","v":0},{"$f":"Front!I15","v":0},{"$f":"Front!J15","v":0},{"$f":"Front!K15","v":0},{"$f":"Front!L15","v":0},{"$f":"Front!M15","v":0}]
[null,{"$f":"Front!B16","v":0},{"$f":"Front!C16","v":0},{"$f":"Front!D16","v":0},{"$f":"Front!E16","v":0},{"$f":"Front!F16","v":0},{"$f":"Front!G16","v":0},{"$f":"Front!H16","v":0},{"$f":"Front!I16","v":0},{"$f":"Front!J16","v":0},{"$f":"Front!K16","v":0},{"$f":"Front!L16","v":0},{"$f":"Front!M16","v":0}]
[null,{"$f":"Front!B17","v":0},{"$f":"Front!C17","v":0},{"$f":"Front!D17","v":0},{"$f":"Front!E17","v":0},{"$f":"Front!F17","v":0},{"$f":"Front!G17","v":0},{"$f":"Front!H17","v":0},{"$f":"Front!I17","v":0},{"$f":"Front!J17","v":0},{"$f":"Front!K17","v":0},{"$f":"Front!L17","v":0},{"$f":"Front!M17","v":0}]

{"sheet":"R2","index":17,"n_rows":300,"n_cols":29,"rows_kept":300,"cut":false,"hidden":false,"merged":[]}
[{"$f":"'R1'!A1","v":0},"← TYPE STUDENT NAME IN GREEN BOX",null,null,null,null,null,null,null,null,null,null,null,null,"%prog","total","tot round","%pr rnd","goal"]
["↓ HIGHLIGHT & COPY WHITE CELLS; PASTE IN WORD DOCUMENT AS \"KEEP TEXT ONLY\" OR \"UNFORMATTED\"",null,null,null,null,null,null,null,null,null,null,null,null,null,{"$f":"Front!B20","v":0},{"$f":"Front!B18","v":0},{"$f":"ROUND(P2,2)","v":0},{"$f":"ROUND(O2,2)","v":0},{"$f":"Front!B19","v":1}]
[{"$f":"CONCATENATE(A150,\" \",K3,\"%\")","v":"NMSBVI O&M INVENTORY TOTAL SCORE:  0%"},null,null,null,null,null,null,null,null,{"$f":"Front!C18","v":0},{"$f":"ROUND(J3,2)","v":0},null,null,null,{"$f":"Front!C20","v":0},{"$f":"Front!C18","v":0},0,0,{"$f":"Front!C19","v":1}]
[null,null,null,null,null,null,null,null,null,null,null,null,null,null,{"$f":"Front!D20","v":0},{"$f":"Front!D18","v":0},0,0,{"$f":"Front!D19","v":1}]
[{"$f":"CONCATENATE(A151,\" \",H5,\"%\")","v":"Concepts Score: 0%"},null,null,null,null,null,{"$f":"Front!C3","v":0},{"$f":"ROUND(G5,1)","v":0},"← Don't worry about these 2 numbers",null,null,null,null,null,{"$f":"Front!E20","v":0},{"$f":"Front!E18","v":0},0,0,{"$f":"Front!E19","v":1}]
[{"$f":"CONCATENATE($A1,\" \",G152,\" \",N152,\", \",O152,\", \",P152,\", \",Q152)","v":"0 did well with the skills that made up the area(s) of , , , "},null,null,null,null,null,null,null,null,null,null,null,null,null,{"$f":"Front!F20","v":0},{"$f":"Front!F18","v":0},0,0,{"$f":"Front!F19","v":1}]
[{"$f":"CONCATENATE($A1,\" \",G153,\" \",N153,\", \",O153,\", \",P153,\", \",Q153)","v":"0 had room for improvement with the skills that made up the area(s) of , , , "},null,null,null,null,null,null,null,null,null,null,null,null,null,{"$f":"Front!G20","v":0},{"$f":"Front!G18","v":0},0,0,{"$f":"Front!G19","v":1}]
[{"$f":"CONCATENATE($A1,\" \",G154,\" \",N154,\", \",O154,\", \",P154,\", \",Q154)","v":"0 hadn't had the opportunity to work on the skills in the area(s) of , , , "},null,null,null,null,null,null,null,null,null,null,null,null,null,{"$f":"Front!H20","v":0},{"$f":"Front!H18","v":0},0,0,{"$f":"Front!H19","v":1}]
[{"$f":"CONCATENATE($A1,\" \",G155,\" \",N155,\", \",O155,\", \",P155,\", \",Q155)","v":"0 didn't need the skills in the area(s) of Vocabulary, Laterality, Parallel/Perpendicular, Time And Distance"},null,null,null,null,null,null,null,null,null,null,null,null,null,{"$f":"Front!I20","v":0},{"$f":"Front!I18","v":0},0,0,{"$f":"Front!I19","v":1}]
[null,null,null,null,null,null,null,null,null,null,null,null,null,null,{"$f":"Front!J20","v":0},{"$f":"Front!J18","v":0},0,0,{"$f":"Front!J19","v":1}]
[{"$f":"CONCATENATE(A156,\" \",H11,\"%\")","v":"Movement Score: 0%"},null,null,null,null,null,{"$f":"Front!C4","v":0},{"$f":"ROUND(G11,1)","v":0},null,null,null,null,null,null,{"$f":"Front!K20","v":0},{"$f":"Front!K18","v":0},0,0,{"$f":"Front!K19","v":1}]
[{"$f":"CONCATENATE($A1,\" \",G157,\" \",N157,\", \",O157,\", \",P157,\", \",Q157)","v":"0 did well with the skills that made up the area(s) of , , , "},null,null,null,null,null,null,null,null,null,null,null,null,null,{"$f":"Front!L20","v":0},{"$f":"Front!L18","v":0},0,0,{"$f":"Front!L19","v":1}]
[{"$f":"CONCATENATE($A1,\" \",G158,\" \",N158,\", \",O158,\", \",P158,\", \",Q158)","v":"0 had room for improvement with the skills that made up the area(s) of , , , "},null,null,null,null,null,null,null,null,null,null,null,null,null,{"$f":"Front!M20","v":0},{"$f":"Front!M18","v":0},0,0,{"$f":"Front!M19","v":1}]
[{"$f":"CONCATENATE($A1,\" \",G159,\" \",N159,\", \",O159,\", \",P159,\", \",Q159)","v":"0 hadn't had the opportunity to work on the skills in the area(s) of , , , "},null,null,null,null,null,null,null,null,null,null,null,null,null,"↑ Don't worry about this chart"]
[{"$f":"CONCATENATE($A1,\" \",G160,\" \",N160,\", \",O160,\", \",P160,\", \",Q160)","v":"0 didn't need the skills in the area(s) of Walking, Maintaining Body Alignment While Walking, Balance, Turns"}]
[null,null,null,null,null,null,"DO NOT HIGHLIGHT & COPY ANY OF THE GREY CELLS; ALL THE TEXT YOU NEED IS IN WHITE CELLS"]
[{"$f":"CONCATENATE(A161,\" \",H17,\"%\")","v":"Single Room O&M Score: 0%"},null,null,null,null,null,{"$f":"Front!C5","v":0},{"$f":"ROUND(G17,1)","v":0}]
[{"$f":"CONCATENATE($A1,\" \",G162,\" \",N162,\", \",O162,\", \",P162,\", \",Q162,\", \",R162)","v":"0 did well with the skills that made up the area(s) of , , , , "}]
[{"$f":"CONCATENATE($A1,\" \",G163,\" \",N163,\", \",O163,\", \",P163,\", \",Q163,\", \",R163)","v":"0 had room for improvement with the skills that made up the area(s) of , , , , "}]
[{"$f":"CONCATENATE($A1,\" \",G164,\" \",N164,\", \",O164,\", \",P164,\", \",Q164,\", \",R164)","v":"0 hadn't had the opportunity to work on the skills in the area(s) of , , , , "}]
[{"$f":"CONCATENATE($A1,\" \",G165,\" \",N165,\", \",O165,\", \",P165,\", \",Q165,\", \",R165)","v":"0 didn't need the skills in the area(s) of Familiar Rooms, Unfamiliar Rooms, Seating (Rows), Seating (Tables), Locating Dropped Objects"}]
[null,null,null,null,null,null,"COPYING THE GREY CELLS WILL JUST MAKE A MESS OF YOUR WORD DOCUMENT. I KNOW IT LOOKS"]
[{"$f":"CONCATENATE(A167,\" \",H23,\"%\")","v":"Indoor O&M Score: 0%"},null,null,null,null,null,{"$f":"Front!C6","v":0},{"$f":"ROUND(G23,1)","v":0}]
[{"$f":"CONCATENATE($A1,\" \",G168,\" \",N168,\", \",O168,\", \",P168,\", \",Q168,\", \",R168,\", \",S168,\", \",T168,\", \",U168)","v":"0 did well with the skills that made up the area(s) of , , , , , , , "}]
[{"$f":"CONCATENATE($A1,\" \",G169,\" \",N169,\", \",O169,\", \",P169,\", \",Q169,\", \",R169,\", \",S169,\", \",T169,\", \",U169)","v":"0 had room for improvement with the skills that made up the area(s) of , , , , , , , "}]
[{"$f":"CONCATENATE($A1,\" \",G170,\" \",N170,\", \",O170,\", \",P170,\", \",Q170,\", \",R170,\", \",S170,\", \",T170,\", \",U170)","v":"0 hadn't had the opportunity to work on the skills in the area(s) of , , , , , , , "}]
[{"$f":"CONCATENATE($A1,\" \",G171,\" \",N171,\", \",O171,\", \",P171,\", \",Q171,\", \",R171,\", \",S171,\", \",T171,\", \",U171)","v":"0 didn't need the skills in the area(s) of Hand Trailing, Navigating Open Spaces, Doors, Ascending/Descending Stairs, Escalators, Elevators, Moving Sidewalks, Turnstiles"}]
[null,null,null,null,null,null,"LIKE THERE IS TEXT IN THE GREY CELLS BUT THERE REALLY ISN'T. TRUST ME; I'M AN EXCEL NERD."]
[{"$f":"CONCATENATE(A176,\" \",H29,\"%\")","v":"Self Protection Score: 0%"},null,null,null,null,null,{"$f":"Front!C7","v":0},{"$f":"ROUND(G29,1)","v":0}]
[{"$f":"CONCATENATE($A1,\" \",G176,\" \",N176,\", \",O176,\", \",P176)","v":"0 did well with the skills that made up the area(s) of , , "}]
[{"$f":"CONCATENATE($A1,\" \",G177,\" \",N177,\", \",O177,\", \",P177)","v":"0 had room for improvement with the skills that made up the area(s) of , , "}]
[{"$f":"CONCATENATE($A1,\" \",G178,\" \",N178,\", \",O178,\", \",P178)","v":"0 hadn't had the opportunity to work on the skills in the area(s) of , , "}]
[{"$f":"CONCATENATE($A1,\" \",G179,\" \",N179,\", \",O179,\", \",P179)","v":"0 didn't need the skills in the area(s) of Upper Hand Protective Technique, Lower Forearm Protective Technique, Protective Clothing"}]
[]
[{"$f":"CONCATENATE(A180,\" \",H35,\"%\")","v":"Guided Travel Score: 0%"},null,null,null,null,null,{"$f":"Front!C8","v":0},{"$f":"ROUND(G35,1)","v":0}]
[{"$f":"CONCATENATE($A1,\" \",G181,\" \",N181,\", \",O181,\", \",P181,\", \",Q181)","v":"0 did well with the skills that made up the area(s) of , , , "}]
[{"$f":"CONCATENATE($A1,\" \",G182,\" \",N182,\", \",O182,\", \",P182,\", \",Q182)","v":"0 had room for improvement with the skills that made up the area(s) of , , , "}]
[{"$f":"CONCATENATE($A1,\" \",G183,\" \",N183,\", \",O183,\", \",P183,\", \",Q183)","v":"0 hadn't had the opportunity to work on the skills in the area(s) of , , , "}]
[{"$f":"CONCATENATE($A1,\" \",G184,\" \",N184,\", \",O184,\", \",P184,\", \",Q184)","v":"0 didn't need the skills in the area(s) of Human Guide, Walking With Another (No Direct Contact), Menus, Getting Rides"}]
[]
[{"$f":"CONCATENATE(A185,\" \",H41,\"%\")","v":"Cane Skills Score: 0%"},null,null,null,null,null,{"$f":"Front!C9","v":0},{"$f":"ROUND(G41,1)","v":0}]
[{"$f":"CONCATENATE($A1,\" \",G186,\" \",N186,\", \",O186,\", \",P186,\", \",Q186,\", \",R186,\", \",S186,\", \",T186)","v":"0 did well with the skills that made up the area(s) of , , , , , , "}]
[{"$f":"CONCATENATE($A1,\" \",G187,\" \",N187,\", \",O187,\", \",P187,\", \",Q187,\", \",R187,\", \",S187,\", \",T187)","v":"0 had room for improvement with the skills that made up the area(s) of , , , , , , "}]
[{"$f":"CONCATENATE($A1,\" \",G188,\" \",N188,\", \",O188,\", \",P188,\", \",Q188,\", \",R188,\", \",S188,\", \",T188)","v":"0 hadn't had the opportunity to work on the skills in the area(s) of , , , , , , "}]
[{"$f":"CONCATENATE($A1,\" \",G189,\" \",N189,\", \",O189,\", \",P189,\", \",Q189,\", \",R189,\", \",S189,\", \",T189)","v":"0 didn't need the skills in the area(s) of Basic Skills, Types Of Grips, Constant Contact, Diagonal/Diagonal Trail, Two Point Touch/Touch Trail, Touch And Drag, Three Point Touch"}]
[]
[{"$f":"CONCATENATE(A193,\" \",H47,\"%\")","v":"Sidewalk Travel Score: 0%"},null,null,null,null,null,{"$f":"Front!C10","v":0},{"$f":"ROUND(G47,1)","v":0}]
[{"$f":"CONCATENATE($A1,\" \",G193,\" \",N193,\", \",O193,\", \",P193)","v":"0 did well with the skills that made up the area(s) of , , "}]
[{"$f":"CONCATENATE($A1,\" \",G194,\" \",N194,\", \",O194,\", \",P194)","v":"0 had room for improvement with the skills that made up the area(s) of , , "}]
[{"$f":"CONCATENATE($A1,\" \",G195,\" \",N195,\", \",O195,\", \",P195)","v":"0 hadn't had the opportunity to work on the skills in the area(s) of , , "}]
[{"$f":"CONCATENATE($A1,\" \",G196,\" \",N196,\", \",O196,\", \",P196)","v":"0 didn't need the skills in the area(s) of Walking On Sidewalks, Walking On Irregular Sidewalks, Correcting for Veering On Sidewalks"}]
[]
[{"$f":"CONCATENATE(A197,\" \",H53,\"%\")","v":"Street Crossings Score: 0%"},null,null,null,null,null,{"$f":"Front!C11","v":0},{"$f":"ROUND(G53,1)","v":0}]
[{"$f":"CONCATENATE($A1,\" \",G198,\" \",N198,\", \",O198,\", \",P198,\", \",Q198,\", \",R198,\", \",S198,\", \",T198,\", \",U198,\", \",V198,\", \",W198,\", \",X198,\", \",Y198,\", \",Z198,\", \",AA198,\", \",AB198,\", \",AC198)","v":"0 did well with the skills that made up the area(s) of , , , , , , , , , , , , , , , "}]
[{"$f":"CONCATENATE($A1,\" \",G199,\" \",N199,\", \",O199,\", \",P199,\", \",Q199,\", \",R199,\", \",S199,\", \",T199,\", \",U199,\", \",V199,\", \",W199,\", \",X199,\", \",Y199,\", \",Z199,\", \",AA199,\", \",AB199,\", \",AC199)","v":"0 had room for improvement with the skills that made up the area(s) of , , , , , , , , , , , , , , , "}]
[{"$f":"CONCATENATE($A1,\" \",G200,\" \",N200,\", \",O200,\", \",P200,\", \",Q200,\", \",R200,\", \",S200,\", \",T200,\", \",U200,\", \",V200,\", \",W200,\", \",X200,\", \",Y200,\", \",Z200,\", \",AA200,\", \",AB200,\", \",AC200)","v":"0 hadn't had the opportunity to work on the skills in the area(s) of , , , , , , , , , , , , , , , "}]
[{"$f":"CONCATENATE($A1,\" \",G201,\" \",N201,\", \",O201,\", \",P201,\", \",Q201,\", \",R201,\", \",S201,\", \",T201,\", \",U201,\", \",V201,\", \",W201,\", \",X201,\", \",Y201,\", \",Z201,\", \",AA201,\", \",AB201,\", \",AC201)","v":"0 didn't need the skills in the area(s) of Anticipating Street Crossings, Maintaining Line Of Travel, Maintaining Body Alignment, Re-establishing Body Alignment, Analyzing Intersections, Plus Intersections, T Intersections, Y Intersections, Roundabouts, Significantly Offset Intersections, Atypical Intersections, Newly Developed Intersections, Channelized Right Turn Lanes, Veering, Understanding Drivers’ Perspectives, Pedestrian Signals"}]
[]
[{"$f":"CONCATENATE(A214,\" \",H59,\"%\")","v":"Orientation Skills and GPS Score: 0%"},null,null,null,null,null,{"$f":"Front!C12","v":0},{"$f":"ROUND(G59,1)","v":0}]
[{"$f":"CONCATENATE($A1,\" \",G215,\" \",N215,\", \",O215,\", \",P215,\", \",Q215,\", \",R215,\", \",S215,\", \",T215,\", \",U215,\", \",V215,\", \",W215)","v":"0 did well with the skills that made up the area(s) of , , , , , , , , , "}]
[{"$f":"CONCATENATE($A1,\" \",G216,\" \",N216,\", \",O216,\", \",P216,\", \",Q216,\", \",R216,\", \",S216,\", \",T216,\", \",U216,\", \",V216,\", \",W216)","v":"0 had room for improvement with the skills that made up the area(s) of , , , , , , , , , "}]
[{"$f":"CONCATENATE($A1,\" \",G217,\" \",N217,\", \",O217,\", \",P217,\", \",Q217,\", \",R217,\", \",S217,\", \",T217,\", \",U217,\", \",V217,\", \",W217)","v":"0 hadn't had the opportunity to work on the skills in the area(s) of , , , , , , , , , "}]
[{"$f":"CONCATENATE($A1,\" \",G218,\" \",N218,\", \",O218,\", \",P218,\", \",Q218,\", \",R218,\", \",S218,\", \",T218,\", \",U218,\", \",V218,\", \",W218)","v":"0 didn't need the skills in the area(s) of Cardinality, Clues, Landmarks, Indoor Numbering Systems, Outdoor Numbering Systems, Grid System, Divisors And Block Numbering, Transferability, GPS, Maps"}]
[]
[{"$f":"CONCATENATE(A225,\" \",H65,\"%\")","v":"Public Transportation Score: 0%"},null,null,null,null,null,{"$f":"Front!C13","v":0},{"$f":"ROUND(G65,1)","v":0}]
[{"$f":"CONCATENATE($A1,\" \",G226,\" \",N226,\", \",O226,\", \",P226,\", \",Q226,\", \",R226,\", \",S226,\", \",T226)","v":"0 did well with the skills that made up the area(s) of , , , , , , "}]
[{"$f":"CONCATENATE($A1,\" \",G227,\" \",N227,\", \",O227,\", \",P227,\", \",Q227,\", \",R227,\", \",S227,\", \",T227)","v":"0 had room for improvement with the skills that made up the area(s) of , , , , , , "}]
[{"$f":"CONCATENATE($A1,\" \",G228,\" \",N228,\", \",O228,\", \",P228,\", \",Q228,\", \",R228,\", \",S228,\", \",T228)","v":"0 hadn't had the opportunity to work on the skills in the area(s) of , , , , , , "}]
[{"$f":"CONCATENATE($A1,\" \",G229,\" \",N229,\", \",O229,\", \",P229,\", \",Q229,\", \",R229,\", \",S229,\", \",T229)","v":"0 didn't need the skills in the area(s) of Identifying Common Public Transportation Options, Intra-City Bus Travel, Inter-City Bus Travel, Taxi/Ride Service, Handi-Ride/Para Transit, Air Travel, Subway/Light Rail"}]
[]
[{"$f":"CONCATENATE(A233,\" \",H71,\"%\")","v":"Atypical O&M Score: 0%"},null,null,null,null,null,{"$f":"Front!C14","v":0},{"$f":"ROUND(G71,1)","v":0}]
[{"$f":"CONCATENATE($A1,\" \",G234,\" \",N234,\", \",O234,\", \",P234,\", \",Q234)","v":"0 did well with the skills that made up the area(s) of , , , "}]
[{"$f":"CONCATENATE($A1,\" \",G235,\" \",N235,\", \",O235,\", \",P235,\", \",Q235)","v":"0 had room for improvement with the skills that made up the area(s) of , , , "}]
[{"$f":"CONCATENATE($A1,\" \",G236,\" \",N236,\", \",O236,\", \",P236,\", \",Q236)","v":"0 hadn't had the opportunity to work on the skills in the area(s) of , , , "}]
[{"$f":"CONCATENATE($A1,\" \",G237,\" \",N237,\", \",O237,\", \",P237,\", \",Q237)","v":"0 didn't need the skills in the area(s) of Fences, Fields (Urban), Parks/Playgrounds, Inclement Weather"}]
[]
[{"$f":"CONCATENATE(A238,\" \",H77,\"%\")","v":"Rural Travel Score: 0%"},null,null,null,null,null,{"$f":"Front!C15","v":0},{"$f":"ROUND(G77,1)","v":0}]
[{"$f":"CONCATENATE($A1,\" \",G239,\" \",N239,\", \",O239,\", \",P239,\", \",Q239,\", \",R239)","v":"0 did well with the skills that made up the area(s) of , , , , "}]
[{"$f":"CONCATENATE($A1,\" \",G240,\" \",N240,\", \",O240,\", \",P240,\", \",Q240,\", \",R240)","v":"0 had room for improvement with the skills that made up the area(s) of , , , , "}]
[{"$f":"CONCATENATE($A1,\" \",G241,\" \",N241,\", \",O241,\", \",P241,\", \",Q241,\", \",R241)","v":"0 hadn't had the opportunity to work on the skills in the area(s) of , , , , "}]
[{"$f":"CONCATENATE($A1,\" \",G242,\" \",N242,\", \",O242,\", \",P242,\", \",Q242,\", \",R242)","v":"0 didn't need the skills in the area(s) of Understanding Unique Dangers Related To Rural Travel, Walking Along Rural Roads, Ditches/Arroyos, Identifying And Going Around Items In Rural Areas, Rural Street Crossings"}]
[]
[{"$f":"CONCATENATE(A244,\" \",H83,\"%\")","v":"Vision Specific O&M Skills Score: 0%"},null,null,null,null,null,{"$f":"Front!C16","v":0},{"$f":"ROUND(G83,1)","v":0}]
[{"$f":"CONCATENATE($A1,\" \",G245,\" \",N245,\", \",O245,\", \",P245,\", \",Q245,\", \",R245)","v":"0 did well with the skills that made up the area(s) of , , , , "}]
[{"$f":"CONCATENATE($A1,\" \",G246,\" \",N246,\", \",O246,\", \",P246,\", \",Q246,\", \",R246)","v":"0 had room for improvement with the skills that made up the area(s) of , , , , "}]
[{"$f":"CONCATENATE($A1,\" \",G247,\" \",N247,\", \",O247,\", \",P247,\", \",Q247,\", \",R247)","v":"0 hadn't had the opportunity to work on the skills in the area(s) of , , , , "}]
[{"$f":"CONCATENATE($A1,\" \",G248,\" \",N248,\", \",O248,\", \",P248,\", \",Q248,\", \",R248)","v":"0 didn't need the skills in the area(s) of Scanning Materials, Scanning Environments, Magnifiers And CCTVs, Monoculars, Visual Traveling"}]
[]
[{"$f":"CONCATENATE(A250,\" \",H89,\"%\")","v":"Community Score: 0%"},null,null,null,null,null,{"$f":"Front!C17","v":0},{"$f":"ROUND(G89,1)","v":0}]
[{"$f":"CONCATENATE($A1,\" \",G251,\" \",N251,\", \",O251,\", \",P251,\", \",Q251,\", \",R251)","v":"0 did well with the skills that made up the area(s) of , , , , "}]
[{"$f":"CONCATENATE($A1,\" \",G252,\" \",N252,\", \",O252,\", \",P252,\", \",Q252,\", \",R252)","v":"0 had room for improvement with the skills that made up the area(s) of , , , , "}]
[{"$f":"CONCATENATE($A1,\" \",G253,\" \",N253,\", \",O253,\", \",P253,\", \",Q253,\", \",R253)","v":"0 hadn't had the opportunity to work on the skills in the area(s) of , , , , "}]
[{"$f":"CONCATENATE($A1,\" \",G254,\" \",N254,\", \",O254,\", \",P254,\", \",Q254,\", \",R254)","v":"0 didn't need the skills in the area(s) of Comparison Shopping From Home, Stores, Fast Food Restaurants, Cafeteria Restaurants, Sit Down Restaurants"}]
[]
["Summary"]
[{"$f":"CONCATENATE(A1,\" \",G259,\" \",K3,\" \",H259)","v":"0 demonstrated 0 of the skills needed to travel independently as an adult."}]
[{"$f":"CONCATENATE($A1,\" \",G260,\" \",N260,\", \",O260,\", \",P260,\", \",Q260,\", \",R260,\", \",S260,\", \",T260,\", \",U260,\", \",V260,\", \",W260,\", \",X260,\", \",Y260,\", \",Z260,\", \",AA260,\", \",AB260)","v":"0 did well with the skills that made up the domain(s) of , , , , , , , , , , , , , , "}]
[{"$f":"CONCATENATE($A1,\" \",G261,\" \",N261,\", \",O261,\", \",P261,\", \",Q261,\", \",R261,\", \",S261,\", \",T261,\", \",U261,\", \",V261,\", \",W261,\", \",X261,\", \",Y261,\", \",Z261,\", \",AA261,\", \",AB261)","v":"0 had room for improvement with the skills that made up the domain(s) of , , , , , , , , , , , , , , "}]
[{"$f":"CONCATENATE($A1,\" \",G262,\" \",N262,\", \",O262,\", \",P262,\", \",Q262,\", \",R262,\", \",S262,\", \",T262,\", \",U262,\", \",V262,\", \",W262,\", \",X262,\", \",Y262,\", \",Z262,\", \",AA262,\", \",AB262)","v":"0 hadn't had the opportunity to work on the skills that made up the domain(s) of , , , , , , , , , , , , , , "}]
[{"$f":"CONCATENATE($A1,\" \",G263,\" \",N263,\", \",O263,\", \",P263,\", \",Q263,\", \",R263,\", \",S263,\", \",T263,\", \",U263,\", \",V263,\", \",W263,\", \",X263,\", \",Y263,\", \",Z263,\", \",AA263,\", \",AB263)","v":"0 had no need for the skills that made up the domain(s) of Concepts, Movement, Single Room O&M, Indoor O&M, Self Protection, Guided Travel, Cane Skills, Sidewalk Travel, Street Crossings, Orientation Skills & GPS, Public Transportation, Atypical O&M, Rural Travel, Vision Specific O&M Skills, Community "}]
[]
[]
[]
[]
[]
[]
[]
[]
[]
["Present Level of Educational Performance"]
[{"$f":"CONCATENATE($A97,\" \",A98,\" \",A99,\", \",A100)","v":"0 did well with the skills that made up the domain(s) of , , , , , , , , , , , , , ,  0 had room for improvement with the skills that made up the domain(s) of , , , , , , , , , , , , , ,  0 hadn't had the opportunity to work on the skills that made up the domain(s) of , , , , , , , , , , , , , , , 0 had no need for the skills that made up the domain(s) of Concepts, Movement, Single Room O&M, Indoor O&M, Self Protection, Guided Travel, Cane Skills, Sidewalk Travel, Street Crossings, Orientation Skills & GPS, Public Transportation, Atypical O&M, Rural Travel, Vision Specific O&M Skills, Community "}]
[]
["Strengths"]
[{"$f":"A97","v":"0 did well with the skills that made up the domain(s) of , , , , , , , , , , , , , , "}]
[]
["Concerns"]
[{"$f":"A98","v":"0 had room for improvement with the skills that made up the domain(s) of , , , , , , , , , , , , , , "}]
[]
["Goal"]
[{"$f":"CONCATENATE($A1,\" \",A276,\" \",K3,\"% \",A277,\" \",(ROUNDUP(K3+5,0)),\"% \",A278)","v":"0 will demonstrate improved skills in Orientation & Mobility by increasing the score on the O&M Inventory from 0% to a minimum of 5% by the next annual IEP date."}]
[]
[]
[]
[]
["Progress Report"]
[{"$f":"CONCATENATE(A279,A280,\" \",$A1,\" \",A281,\" \",Q2,\"% \",A282,\" \",Q3,\"% \",A283,\" \",R3,\"% \",A284,\" \",S3,\"%. \",A1,\" \",A285,\" \",A286,\", \",A287,\", \",A288,\", \",A289,\", \",A290,\", \",A291,\", \",A292,\", \",A293,\", \",A294,\", \",A295,\", \",A296,\", \",A297,\", \",A298,\", \",A299,\", \",A300)","v":"Please see the attached chart. Over the previous grading period 0 increased the score on the O&M Inventory from 0% to 0% and is now 0% of the way to the goal of 1%. 0 made gains in the domain(s) of , , , , , , , , , , , , , , "}]
[]
[]
[]
[]
[]
[]
[]
[]
[]
[]
[]
[]
[]
[]
[]
[]
[]
[]
[]
[]
[]
[]
["↓Don't worry about any of this. It fills in automatically and is what creates the useful text "]
["NMSBVI O&M INVENTORY TOTAL SCORE: "]
["Concepts Score:"]
["Vocabulary",null,null,null,null,{"$f":"Concept!F3","v":0},"did well with the skills that made up the area(s) of",null,null,null,null,null,null,{"$f":"IF(F152>3.99,A152,\"\")","v":""},{"$f":"IF(F153>3.99,A153,\"\")","v":""},{"$f":"IF(F154>3.99,A154,\"\")","v":""},{"$f":"IF(F155>3.99,A155,\"\")","v":""},{"$f":"IF(F156>4,E156,\"\")","v":""}]
["Laterality",null,null,null,null,{"$f":"Concept!F9","v":0},"had room for improvement with the skills that made up the area(s) of",null,null,null,null,null,null,{"$f":"IF(AND($F152>1.01,$F152<3.99),$A152,\"\")","v":""},{"$f":"IF(AND($F153>1.01,$F153<3.99),$A153,\"\")","v":""},{"$f":"IF(AND($F154>1.01,$F154<3.99),$A154,\"\")","v":""},{"$f":"IF(AND($F155>1.01,$F155<3.99),$A155,\"\")","v":""}]
["Parallel/Perpendicular",null,null,null,null,{"$f":"Concept!F18","v":0},"hadn't had the opportunity to work on the skills in the area(s) of",null,null,null,null,null,null,{"$f":"IF(AND($F152>0.99,$F152<1.000001),$A152,\"\")","v":""},{"$f":"IF(AND($F153>0.99,$F153<1.000001),$A153,\"\")","v":""},{"$f":"IF(AND($F154>0.99,$F154<1.000001),$A154,\"\")","v":""},{"$f":"IF(AND($F155>0.99,$F155<1.000001),$A155,\"\")","v":""}]
["Time And Distance",null,null,null,null,{"$f":"Concept!F23","v":0},"didn't need the skills in the area(s) of",null,null,null,null,null,null,{"$f":"IF($F152=0,$A152,\"\")","v":"Vocabulary"},{"$f":"IF($F153=0,$A153,\"\")","v":"Laterality"},{"$f":"IF($F154=0,$A154,\"\")","v":"Parallel/Perpendicular"},{"$f":"IF($F155=0,$A155,\"\")","v":"Time And Distance"}]
["Movement Score:"]
["Walking",null,null,null,null,{"$f":"Move!F3","v":0},"did well with the skills that made up the area(s) of",null,null,null,null,null,null,{"$f":"IF(F157>3.99,A157,\"\")","v":""},{"$f":"IF(F158>3.99,A158,\"\")","v":""},{"$f":"IF(F159>3.99,A159,\"\")","v":""},{"$f":"IF(F160>3.99,A160,\"\")","v":""}]
["Maintaining Body Alignment While Walking",null,null,null,null,{"$f":"Move!F9","v":0},"had room for improvement with the skills that made up the area(s) of",null,null,null,null,null,null,{"$f":"IF(AND($F157>1.01,$F157<3.99),$A157,\"\")","v":""},{"$f":"IF(AND($F158>1.01,$F158<3.99),$A158,\"\")","v":""},{"$f":"IF(AND($F159>1.01,$F159<3.99),$A159,\"\")","v":""},{"$f":"IF(AND($F160>1.01,$F160<3.99),$A160,\"\")","v":""}]
["Balance",null,null,null,null,{"$f":"Move!F15","v":0},"hadn't had the opportunity to work on the skills in the area(s) of",null,null,null,null,null,null,{"$f":"IF(AND($F157>0.99,$F157<1.000001),$A157,\"\")","v":""},{"$f":"IF(AND($F158>0.99,$F158<1.000001),$A158,\"\")","v":""},{"$f":"IF(AND($F159>0.99,$F159<1.000001),$A159,\"\")","v":""},{"$f":"IF(AND($F160>0.99,$F160<1.000001),$A160,\"\")","v":""}]
["Turns",null,null,null,null,{"$f":"Move!F23","v":0},"didn't need the skills in the area(s) of",null,null,null,null,null,null,{"$f":"IF($F157=0,$A157,\"\")","v":"Walking"},{"$f":"IF($F158=0,$A158,\"\")","v":"Maintaining Body Alignment While Walking"},{"$f":"IF($F159=0,$A159,\"\")","v":"Balance"},{"$f":"IF($F160=0,$A160,\"\")","v":"Turns"}]
["Single Room O&M Score:"]
["Familiar Rooms",null,null,null,null,{"$f":"SingRm!F3","v":0},"did well with the skills that made up the area(s) of",null,null,null,null,null,null,{"$f":"IF(F162>3.99,A162,\"\")","v":""},{"$f":"IF(F163>3.99,A163,\"\")","v":""},{"$f":"IF(F164>3.99,A164,\"\")","v":""},{"$f":"IF(F165>3.99,A165,\"\")","v":""},{"$f":"IF(F166>3.99,A166,\"\")","v":""}]
["Unfamiliar Rooms",null,null,null,null,{"$f":"SingRm!F9","v":0},"had room for improvement with the skills that made up the area(s) of",null,null,null,null,null,null,{"$f":"IF(AND($F162>1.01,$F162<3.99),$A162,\"\")","v":""},{"$f":"IF(AND($F163>1.01,$F163<3.99),$A163,\"\")","v":""},{"$f":"IF(AND($F164>1.01,$F164<3.99),$A164,\"\")","v":""},{"$f":"IF(AND($F165>1.01,$F165<3.99),$A165,\"\")","v":""},{"$f":"IF(AND($F166>1.01,$F166<3.99),$A166,\"\")","v":""}]
["Seating (Rows)",null,null,null,null,{"$f":"SingRm!F16","v":0},"hadn't had the opportunity to work on the skills in the area(s) of",null,null,null,null,null,null,{"$f":"IF(AND($F162>0.99,$F162<1.000001),$A162,\"\")","v":""},{"$f":"IF(AND($F163>0.99,$F163<1.000001),$A163,\"\")","v":""},{"$f":"IF(AND($F164>0.99,$F164<1.000001),$A164,\"\")","v":""},{"$f":"IF(AND($F165>0.99,$F165<1.000001),$A165,\"\")","v":""},{"$f":"IF(AND($F166>0.99,$F166<1.000001),$A166,\"\")","v":""}]
["Seating (Tables)",null,null,null,null,{"$f":"SingRm!F23","v":0},"didn't need the skills in the area(s) of",null,null,null,null,null,null,{"$f":"IF($F162=0,$A162,\"\")","v":"Familiar Rooms"},{"$f":"IF($F163=0,$A163,\"\")","v":"Unfamiliar Rooms"},{"$f":"IF($F164=0,$A164,\"\")","v":"Seating (Rows)"},{"$f":"IF($F165=0,$A165,\"\")","v":"Seating (Tables)"},{"$f":"IF($F166=0,$A166,\"\")","v":"Locating Dropped Objects"}]
["Locating Dropped Objects",null,null,null,null,{"$f":"SingRm!F28","v":0}]
["Indoor O&M Score:"]
["Hand Trailing",null,null,null,null,{"$f":"Indoor!F3","v":0},"did well with the skills that made up the area(s) of",null,null,null,null,null,null,{"$f":"IF(F168>3.99,A168,\"\")","v":""},{"$f":"IF(F169>3.99,A169,\"\")","v":""},{"$f":"IF(F170>3.99,A170,\"\")","v":""},{"$f":"IF(F171>3.99,A171,\"\")","v":""},{"$f":"IF(F172>3.99,A172,\"\")","v":""},{"$f":"IF(F173>3.99,A173,\"\")","v":""},{"$f":"IF(F174>3.99,A174,\"\")","v":""},{"$f":"IF(F175>3.99,A175,\"\")","v":""}]
["Navigating Open Spaces",null,null,null,null,{"$f":"Indoor!F6","v":0},"had room for improvement with the skills that made up the area(s) of",null,null,null,null,null,null,{"$f":"IF(AND($F168>1.01,$F168<3.99),$A168,\"\")","v":""},{"$f":"IF(AND($F169>1.01,$F169<3.99),$A169,\"\")","v":""},{"$f":"IF(AND($F170>1.01,$F170<3.99),$A170,\"\")","v":""},{"$f":"IF(AND($F171>1.01,$F171<3.99),$A171,\"\")","v":""},{"$f":"IF(AND($F172>1.01,$F172<3.99),$A172,\"\")","v":""},{"$f":"IF(AND($F173>1.01,$F173<3.99),$A173,\"\")","v":""},{"$f":"IF(AND($F174>1.01,$F174<3.99),$A174,\"\")","v":""},{"$f":"IF(AND($F175>1.01,$F175<3.99),$A175,\"\")","v":""}]
["Doors",null,null,null,null,{"$f":"Indoor!F9","v":0},"hadn't had the opportunity to work on the skills in the area(s) of",null,null,null,null,null,null,{"$f":"IF(AND($F168>0.99,$F168<1.000001),$A168,\"\")","v":""},{"$f":"IF(AND($F169>0.99,$F169<1.000001),$A169,\"\")","v":""},{"$f":"IF(AND($F170>0.99,$F170<1.000001),$A170,\"\")","v":""},{"$f":"IF(AND($F171>0.99,$F171<1.000001),$A171,\"\")","v":""},{"$f":"IF(AND($F172>0.99,$F172<1.000001),$A172,\"\")","v":""},{"$f":"IF(AND($F173>0.99,$F173<1.000001),$A173,\"\")","v":""},{"$f":"IF(AND($F174>0.99,$F174<1.000001),$A174,\"\")","v":""},{"$f":"IF(AND($F175>0.99,$F175<1.000001),$A175,\"\")","v":""}]
["Ascending/Descending Stairs",null,null,null,null,{"$f":"Indoor!F15","v":0},"didn't need the skills in the area(s) of",null,null,null,null,null,null,{"$f":"IF($F168=0,$A168,\"\")","v":"Hand Trailing"},{"$f":"IF($F169=0,$A169,\"\")","v":"Navigating Open Spaces"},{"$f":"IF($F170=0,$A170,\"\")","v":"Doors"},{"$f":"IF($F171=0,$A171,\"\")","v":"Ascending/Descending Stairs"},{"$f":"IF($F172=0,$A172,\"\")","v":"Escalators"},{"$f":"IF($F173=0,$A173,\"\")","v":"Elevators"},{"$f":"IF($F174=0,$A174,\"\")","v":"Moving Sidewalks"},{"$f":"IF($F175=0,$A175,\"\")","v":"Turnstiles"}]
["Escalators",null,null,null,null,{"$f":"Indoor!F23","v":0}]
["Elevators",null,null,null,null,{"$f":"Indoor!F35","v":0}]
["Moving Sidewalks",null,null,null,null,{"$f":"Indoor!F44","v":0}]
["Turnstiles",null,null,null,null,{"$f":"Indoor!F54","v":0}]
["Self Protection Score:",null,null,null,null,null,"did well with the skills that made up the area(s) of",null,null,null,null,null,null,{"$f":"IF(F177>3.99,A177,\"\")","v":""},{"$f":"IF(F178>3.99,A178,\"\")","v":""},{"$f":"IF(F179>3.99,A179,\"\")","v":""}]
["Upper Hand Protective Technique",null,null,null,null,{"$f":"SelfPro!F3","v":0},"had room for improvement with the skills that made up the area(s) of",null,null,null,null,null,null,{"$f":"IF(AND($F177>1.01,$F177<3.99),$A177,\"\")","v":""},{"$f":"IF(AND($F178>1.01,$F178<3.99),$A178,\"\")","v":""},{"$f":"IF(AND($F179>1.01,$F179<3.99),$A179,\"\")","v":""}]
["Lower Forearm Protective Technique",null,null,null,null,{"$f":"SelfPro!F8","v":0},"hadn't had the opportunity to work on the skills in the area(s) of",null,null,null,null,null,null,{"$f":"IF(AND($F177>0.99,$F177<1.000001),$A177,\"\")","v":""},{"$f":"IF(AND($F178>0.99,$F178<1.000001),$A178,\"\")","v":""},{"$f":"IF(AND($F179>0.99,$F179<1.000001),$A179,\"\")","v":""}]
["Protective Clothing",null,null,null,null,{"$f":"SelfPro!F12","v":0},"didn't need the skills in the area(s) of",null,null,null,null,null,null,{"$f":"IF($F177=0,$A177,\"\")","v":"Upper Hand Protective Technique"},{"$f":"IF($F178=0,$A178,\"\")","v":"Lower Forearm Protective Technique"},{"$f":"IF($F179=0,$A179,\"\")","v":"Protective Clothing"}]
["Guided Travel Score:"]
["Human Guide",null,null,null,null,{"$f":"Guided!F3","v":0},"did well with the skills that made up the area(s) of",null,null,null,null,null,null,{"$f":"IF(F181>3.99,A181,\"\")","v":""},{"$f":"IF(F182>3.99,A182,\"\")","v":""},{"$f":"IF(F183>3.99,A183,\"\")","v":""},{"$f":"IF(F184>3.99,A184,\"\")","v":""}]
["Walking With Another (No Direct Contact)",null,null,null,null,{"$f":"Guided!F11","v":0},"had room for improvement with the skills that made up the area(s) of",null,null,null,null,null,null,{"$f":"IF(AND($F181>1.01,$F181<3.99),$A181,\"\")","v":""},{"$f":"IF(AND($F182>1.01,$F182<3.99),$A182,\"\")","v":""},{"$f":"IF(AND($F183>1.01,$F183<3.99),$A183,\"\")","v":""},{"$f":"IF(AND($F184>1.01,$F184<3.99),$A184,\"\")","v":""}]
["Menus",null,null,null,null,{"$f":"Guided!F16","v":0},"hadn't had the opportunity to work on the skills in the area(s) of",null,null,null,null,null,null,{"$f":"IF(AND($F181>0.99,$F181<1.000001),$A181,\"\")","v":""},{"$f":"IF(AND($F182>0.99,$F182<1.000001),$A182,\"\")","v":""},{"$f":"IF(AND($F183>0.99,$F183<1.000001),$A183,\"\")","v":""},{"$f":"IF(AND($F184>0.99,$F184<1.000001),$A184,\"\")","v":""}]
["Getting Rides",null,null,null,null,{"$f":"Guided!F20","v":0},"didn't need the skills in the area(s) of",null,null,null,null,null,null,{"$f":"IF($F181=0,$A181,\"\")","v":"Human Guide"},{"$f":"IF($F182=0,$A182,\"\")","v":"Walking With Another (No Direct Contact)"},{"$f":"IF($F183=0,$A183,\"\")","v":"Menus"},{"$f":"IF($F184=0,$A184,\"\")","v":"Getting Rides"}]
["Cane Skills Score:"]
["Basic Skills",null,null,null,null,{"$f":"Cane!F3","v":0},"did well with the skills that made up the area(s) of",null,null,null,null,null,null,{"$f":"IF(F186>3.99,A186,\"\")","v":""},{"$f":"IF(F187>3.99,A187,\"\")","v":""},{"$f":"IF(F188>3.99,A188,\"\")","v":""},{"$f":"IF(F189>3.99,A189,\"\")","v":""},{"$f":"IF(F190>3.99,A190,\"\")","v":""},{"$f":"IF(F191>3.99,A191,\"\")","v":""},{"$f":"IF(F192>3.99,A192,\"\")","v":""}]
["Types Of Grips",null,null,null,null,{"$f":"Cane!F10","v":0},"had room for improvement with the skills that made up the area(s) of",null,null,null,null,null,null,{"$f":"IF(AND($F186>1.01,$F186<3.99),$A186,\"\")","v":""},{"$f":"IF(AND($F187>1.01,$F187<3.99),$A187,\"\")","v":""},{"$f":"IF(AND($F188>1.01,$F188<3.99),$A188,\"\")","v":""},{"$f":"IF(AND($F189>1.01,$F189<3.99),$A189,\"\")","v":""},{"$f":"IF(AND($F190>1.01,$F190<3.99),$A190,\"\")","v":""},{"$f":"IF(AND($F191>1.01,$F191<3.99),$A191,\"\")","v":""},{"$f":"IF(AND($F192>1.01,$F192<3.99),$A192,\"\")","v":""}]
["Constant Contact",null,null,null,null,{"$f":"Cane!F16","v":0},"hadn't had the opportunity to work on the skills in the area(s) of",null,null,null,null,null,null,{"$f":"IF(AND($F186>0.99,$F186<1.000001),$A186,\"\")","v":""},{"$f":"IF(AND($F187>0.99,$F187<1.000001),$A187,\"\")","v":""},{"$f":"IF(AND($F188>0.99,$F188<1.000001),$A188,\"\")","v":""},{"$f":"IF(AND($F189>0.99,$F189<1.000001),$A189,\"\")","v":""},{"$f":"IF(AND($F190>0.99,$F190<1.000001),$A190,\"\")","v":""},{"$f":"IF(AND($F191>0.99,$F191<1.000001),$A191,\"\")","v":""},{"$f":"IF(AND($F192>0.99,$F192<1.000001),$A192,\"\")","v":""}]
["Diagonal/Diagonal Trail",null,null,null,null,{"$f":"Cane!F22","v":0},"didn't need the skills in the area(s) of",null,null,null,null,null,null,{"$f":"IF($F186=0,$A186,\"\")","v":"Basic Skills"},{"$f":"IF($F187=0,$A187,\"\")","v":"Types Of Grips"},{"$f":"IF($F188=0,$A188,\"\")","v":"Constant Contact"},{"$f":"IF($F189=0,$A189,\"\")","v":"Diagonal/Diagonal Trail"},{"$f":"IF($F190=0,$A190,\"\")","v":"Two Point Touch/Touch Trail"},{"$f":"IF($F191=0,$A191,\"\")","v":"Touch And Drag"},{"$f":"IF($F192=0,$A192,\"\")","v":"Three Point Touch"}]
["Two Point Touch/Touch Trail",null,null,null,null,{"$f":"Cane!F28","v":0}]
["Touch And Drag",null,null,null,null,{"$f":"Cane!F35","v":0}]
["Three Point Touch",null,null,null,null,{"$f":"Cane!F42","v":0}]
["Sidewalk Travel Score:",null,null,null,null,null,"did well with the skills that made up the area(s) of",null,null,null,null,null,null,{"$f":"IF(F194>3.99,A194,\"\")","v":""},{"$f":"IF(F195>3.99,A195,\"\")","v":""},{"$f":"IF(F196>3.99,A196,\"\")","v":""}]
["Walking On Sidewalks",null,null,null,null,{"$f":"Sidewalk!F3","v":0},"had room for improvement with the skills that made up the area(s) of",null,null,null,null,null,null,{"$f":"IF(AND($F194>1.01,$F194<3.99),$A194,\"\")","v":""},{"$f":"IF(AND($F195>1.01,$F195<3.99),$A195,\"\")","v":""},{"$f":"IF(AND($F196>1.01,$F196<3.99),$A196,\"\")","v":""}]
["Walking On Irregular Sidewalks",null,null,null,null,{"$f":"Sidewalk!F15","v":0},"hadn't had the opportunity to work on the skills in the area(s) of",null,null,null,null,null,null,{"$f":"IF(AND($F194>0.99,$F194<1.000001),$A194,\"\")","v":""},{"$f":"IF(AND($F195>0.99,$F195<1.000001),$A195,\"\")","v":""},{"$f":"IF(AND($F196>0.99,$F196<1.000001),$A196,\"\")","v":""}]
["Correcting for Veering On Sidewalks",null,null,null,null,{"$f":"Sidewalk!F21","v":0},"didn't need the skills in the area(s) of",null,null,null,null,null,null,{"$f":"IF($F194=0,$A194,\"\")","v":"Walking On Sidewalks"},{"$f":"IF($F195=0,$A195,\"\")","v":"Walking On Irregular Sidewalks"},{"$f":"IF($F196=0,$A196,\"\")","v":"Correcting for Veering On Sidewalks"}]
["Street Crossings Score:"]
["Anticipating Street Crossings",null,null,null,null,{"$f":"StCross!F3","v":0},"did well with the skills that made up the area(s) of",null,null,null,null,null,null,{"$f":"IF(F198>3.99,A198,\"\")","v":""},{"$f":"IF(F199>3.99,A199,\"\")","v":""},{"$f":"IF(F200>3.99,A200,\"\")","v":""},{"$f":"IF(F201>3.99,A201,\"\")","v":""},{"$f":"IF(F202>3.99,A202,\"\")","v":""},{"$f":"IF(F203>3.99,A203,\"\")","v":""},{"$f":"IF(F204>3.99,A204,\"\")","v":""},{"$f":"IF(F205>3.99,A205,\"\")","v":""},{"$f":"IF(F206>3.99,A206,\"\")","v":""},{"$f":"IF(F207>3.99,A207,\"\")","v":""},{"$f":"IF(F208>3.99,A208,\"\")","v":""},{"$f":"IF(F209>3.99,A209,\"\")","v":""},{"$f":"IF(F210>3.99,A210,\"\")","v":""},{"$f":"IF(F211>3.99,A211,\"\")","v":""},{"$f":"IF(F212>3.99,A212,\"\")","v":""},{"$f":"IF(F213>3.99,A213,\"\")","v":""}]
["Maintaining Line Of Travel",null,null,null,null,{"$f":"StCross!F9","v":0},"had room for improvement with the skills that made up the area(s) of",null,null,null,null,null,null,{"$f":"IF(AND($F198>1.01,$F198<3.99),$A198,\"\")","v":""},{"$f":"IF(AND($F199>1.01,$F199<3.99),$A199,\"\")","v":""},{"$f":"IF(AND($F200>1.01,$F200<3.99),$A200,\"\")","v":""},{"$f":"IF(AND($F201>1.01,$F201<3.99),$A201,\"\")","v":""},{"$f":"IF(AND($F202>1.01,$F202<3.99),$A202,\"\")","v":""},{"$f":"IF(AND($F203>1.01,$F203<3.99),$A203,\"\")","v":""},{"$f":"IF(AND($F204>1.01,$F204<3.99),$A204,\"\")","v":""},{"$f":"IF(AND($F205>1.01,$F205<3.99),$A205,\"\")","v":""},{"$f":"IF(AND($F206>1.01,$F206<3.99),$A206,\"\")","v":""},{"$f":"IF(AND($F207>1.01,$F207<3.99),$A207,\"\")","v":""},{"$f":"IF(AND($F208>1.01,$F208<3.99),$A208,\"\")","v":""},{"$f":"IF(AND($F209>1.01,$F209<3.99),$A209,\"\")","v":""},{"$f":"IF(AND($F210>1.01,$F210<3.99),$A210,\"\")","v":""},{"$f":"IF(AND($F211>1.01,$F211<3.99),$A211,\"\")","v":""},{"$f":"IF(AND($F212>1.01,$F212<3.99),$A212,\"\")","v":""},{"$f":"IF(AND($F213>1.01,$F213<3.99),$A213,\"\")","v":""}]
["Maintaining Body Alignment",null,null,null,null,{"$f":"StCross!F10","v":0},"hadn't had the opportunity to work on the skills in the area(s) of",null,null,null,null,null,null,{"$f":"IF(AND($F198>0.99,$F198<1.000001),$A198,\"\")","v":""},{"$f":"IF(AND($F199>0.99,$F199<1.000001),$A199,\"\")","v":""},{"$f":"IF(AND($F200>0.99,$F200<1.000001),$A200,\"\")","v":""},{"$f":"IF(AND($F201>0.99,$F201<1.000001),$A201,\"\")","v":""},{"$f":"IF(AND($F202>0.99,$F202<1.000001),$A202,\"\")","v":""},{"$f":"IF(AND($F203>0.99,$F203<1.000001),$A203,\"\")","v":""},{"$f":"IF(AND($F204>0.99,$F204<1.000001),$A204,\"\")","v":""},{"$f":"IF(AND($F205>0.99,$F205<1.000001),$A205,\"\")","v":""},{"$f":"IF(AND($F206>0.99,$F206<1.000001),$A206,\"\")","v":""},{"$f":"IF(AND($F207>0.99,$F207<1.000001),$A207,\"\")","v":""},{"$f":"IF(AND($F208>0.99,$F208<1.000001),$A208,\"\")","v":""},{"$f":"IF(AND($F209>0.99,$F209<1.000001),$A209,\"\")","v":""},{"$f":"IF(AND($F210>0.99,$F210<1.000001),$A210,\"\")","v":""},{"$f":"IF(AND($F211>0.99,$F211<1.000001),$A211,\"\")","v":""},{"$f":"IF(AND($F212>0.99,$F212<1.000001),$A212,\"\")","v":""},{"$f":"IF(AND($F213>0.99,$F213<1.000001),$A213,\"\")","v":""}]
["Re-establishing Body Alignment",null,null,null,null,{"$f":"StCross!F14","v":0},"didn't need the skills in the area(s) of",null,null,null,null,null,null,{"$f":"IF($F198=0,$A198,\"\")","v":"Anticipating Street Crossings"},{"$f":"IF($F199=0,$A199,\"\")","v":"Maintaining Line Of Travel"},{"$f":"IF($F200=0,$A200,\"\")","v":"Maintaining Body Alignment"},{"$f":"IF($F201=0,$A201,\"\")","v":"Re-establishing Body Alignment"},{"$f":"IF($F202=0,$A202,\"\")","v":"Analyzing Intersections"},{"$f":"IF($F203=0,$A203,\"\")","v":"Plus Intersections"},{"$f":"IF($F204=0,$A204,\"\")","v":"T Intersections"},{"$f":"IF($F205=0,$A205,\"\")","v":"Y Intersections"},{"$f":"IF($F206=0,$A206,\"\")","v":"Roundabouts"},{"$f":"IF($F207=0,$A207,\"\")","v":"Significantly Offset Intersections"},{"$f":"IF($F208=0,$A208,\"\")","v":"Atypical Intersections"},{"$f":"IF($F209=0,$A209,\"\")","v":"Newly Developed Intersections"},{"$f":"IF($F210=0,$A210,\"\")","v":"Channelized Right Turn Lanes"},{"$f":"IF($F211=0,$A211,\"\")","v":"Veering"},{"$f":"IF($F212=0,$A212,\"\")","v":"Understanding Drivers’ Perspectives"},{"$f":"IF($F213=0,$A213,\"\")","v":"Pedestrian Signals"}]
["Analyzing Intersections",null,null,null,null,{"$f":"StCross!F18","v":0}]
["Plus Intersections",null,null,null,null,{"$f":"StCross!F34","v":0}]
["T Intersections",null,null,null,null,{"$f":"StCross!F53","v":0}]
["Y Intersections",null,null,null,null,{"$f":"StCross!F75","v":0}]
["Roundabouts",null,null,null,null,{"$f":"StCross!F100","v":0}]
["Significantly Offset Intersections",null,null,null,null,{"$f":"StCross!F115","v":0}]
["Atypical Intersections",null,null,null,null,{"$f":"StCross!F120","v":0}]
["Newly Developed Intersections",null,null,null,null,{"$f":"StCross!F130","v":0}]
["Channelized Right Turn Lanes",null,null,null,null,{"$f":"StCross!F138","v":0}]
["Veering",null,null,null,null,{"$f":"StCross!F148","v":0}]
["Understanding Drivers’ Perspectives",null,null,null,null,{"$f":"StCross!F162","v":0}]
["Pedestrian Signals",null,null,null,null,{"$f":"StCross!F171","v":0}]
["Orientation Skills and GPS Score:"]
["Cardinality",null,null,null,null,{"$f":"Orient!F3","v":0},"did well with the skills that made up the area(s) of",null,null,null,null,null,null,{"$f":"IF(F215>3.99,A215,\"\")","v":""},{"$f":"IF(F216>3.99,A216,\"\")","v":""},{"$f":"IF(F217>3.99,A217,\"\")","v":""},{"$f":"IF(F218>3.99,A218,\"\")","v":""},{"$f":"IF(F219>3.99,A219,\"\")","v":""},{"$f":"IF(F220>3.99,A220,\"\")","v":""},{"$f":"IF(F221>3.99,A221,\"\")","v":""},{"$f":"IF(F222>3.99,A222,\"\")","v":""},{"$f":"IF(F223>3.99,A223,\"\")","v":""},{"$f":"IF(F224>3.99,A224,\"\")","v":""}]
["Clues",null,null,null,null,{"$f":"Orient!F18","v":0},"had room for improvement with the skills that made up the area(s) of",null,null,null,null,null,null,{"$f":"IF(AND($F215>1.01,$F215<3.99),$A215,\"\")","v":""},{"$f":"IF(AND($F216>1.01,$F216<3.99),$A216,\"\")","v":""},{"$f":"IF(AND($F217>1.01,$F217<3.99),$A217,\"\")","v":""},{"$f":"IF(AND($F218>1.01,$F218<3.99),$A218,\"\")","v":""},{"$f":"IF(AND($F219>1.01,$F219<3.99),$A219,\"\")","v":""},{"$f":"IF(AND($F220>1.01,$F220<3.99),$A220,\"\")","v":""},{"$f":"IF(AND($F221>1.01,$F221<3.99),$A221,\"\")","v":""},{"$f":"IF(AND($F222>1.01,$F222<3.99),$A222,\"\")","v":""},{"$f":"IF(AND($F223>1.01,$F223<3.99),$A223,\"\")","v":""},{"$f":"IF(AND($F224>1.01,$F224<3.99),$A224,\"\")","v":""}]
["Landmarks",null,null,null,null,{"$f":"Orient!F24","v":0},"hadn't had the opportunity to work on the skills in the area(s) of",null,null,null,null,null,null,{"$f":"IF(AND($F215>0.99,$F215<1.000001),$A215,\"\")","v":""},{"$f":"IF(AND($F216>0.99,$F216<1.000001),$A216,\"\")","v":""},{"$f":"IF(AND($F217>0.99,$F217<1.000001),$A217,\"\")","v":""},{"$f":"IF(AND($F218>0.99,$F218<1.000001),$A218,\"\")","v":""},{"$f":"IF(AND($F219>0.99,$F219<1.000001),$A219,\"\")","v":""},{"$f":"IF(AND($F220>0.99,$F220<1.000001),$A220,\"\")","v":""},{"$f":"IF(AND($F221>0.99,$F221<1.000001),$A221,\"\")","v":""},{"$f":"IF(AND($F222>0.99,$F222<1.000001),$A222,\"\")","v":""},{"$f":"IF(AND($F223>0.99,$F223<1.000001),$A223,\"\")","v":""},{"$f":"IF(AND($F224>0.99,$F224<1.000001),$A224,\"\")","v":""}]
["Indoor Numbering Systems",null,null,null,null,{"$f":"Orient!F30","v":0},"didn't need the skills in the area(s) of",null,null,null,null,null,null,{"$f":"IF($F215=0,$A215,\"\")","v":"Cardinality"},{"$f":"IF($F216=0,$A216,\"\")","v":"Clues"},{"$f":"IF($F217=0,$A217,\"\")","v":"Landmarks"},{"$f":"IF($F218=0,$A218,\"\")","v":"Indoor Numbering Systems"},{"$f":"IF($F219=0,$A219,\"\")","v":"Outdoor Numbering Systems"},{"$f":"IF($F220=0,$A220,\"\")","v":"Grid System"},{"$f":"IF($F221=0,$A221,\"\")","v":"Divisors And Block Numbering"},{"$f":"IF($F222=0,$A222,\"\")","v":"Transferability"},{"$f":"IF($F223=0,$A223,\"\")","v":"GPS"},{"$f":"IF($F224=0,$A224,\"\")","v":"Maps"}]
["Outdoor Numbering Systems",null,null,null,null,{"$f":"Orient!F36","v":0}]
["Grid System",null,null,null,null,{"$f":"Orient!F42","v":0}]
["Divisors And Block Numbering",null,null,null,null,{"$f":"Orient!F53","v":0}]
["Transferability",null,null,null,null,{"$f":"Orient!F60","v":0}]
["GPS",null,null,null,null,{"$f":"Orient!F64","v":0}]
["Maps",null,null,null,null,{"$f":"Orient!F72","v":0}]
["Public Transportation Score:"]
["Identifying Common Public Transportation Options",null,null,null,null,{"$f":"PubTran!F3","v":0},"did well with the skills that made up the area(s) of",null,null,null,null,null,null,{"$f":"IF(F226>3.99,A226,\"\")","v":""},{"$f":"IF(F227>3.99,A227,\"\")","v":""},{"$f":"IF(F228>3.99,A228,\"\")","v":""},{"$f":"IF(F229>3.99,A229,\"\")","v":""},{"$f":"IF(F230>3.99,A230,\"\")","v":""},{"$f":"IF(F231>3.99,A231,\"\")","v":""},{"$f":"IF(F232>3.99,A232,\"\")","v":""}]
["Intra-City Bus Travel",null,null,null,null,{"$f":"PubTran!F4","v":0},"had room for improvement with the skills that made up the area(s) of",null,null,null,null,null,null,{"$f":"IF(AND($F226>1.01,$F226<3.99),$A226,\"\")","v":""},{"$f":"IF(AND($F227>1.01,$F227<3.99),$A227,\"\")","v":""},{"$f":"IF(AND($F228>1.01,$F228<3.99),$A228,\"\")","v":""},{"$f":"IF(AND($F229>1.01,$F229<3.99),$A229,\"\")","v":""},{"$f":"IF(AND($F230>1.01,$F230<3.99),$A230,\"\")","v":""},{"$f":"IF(AND($F231>1.01,$F231<3.99),$A231,\"\")","v":""},{"$f":"IF(AND($F232>1.01,$F232<3.99),$A232,\"\")","v":""}]
["Inter-City Bus Travel",null,null,null,null,{"$f":"PubTran!F22","v":0},"hadn't had the opportunity to work on the skills in the area(s) of",null,null,null,null,null,null,{"$f":"IF(AND($F226>0.99,$F226<1.000001),$A226,\"\")","v":""},{"$f":"IF(AND($F227>0.99,$F227<1.000001),$A227,\"\")","v":""},{"$f":"IF(AND($F228>0.99,$F228<1.000001),$A228,\"\")","v":""},{"$f":"IF(AND($F229>0.99,$F229<1.000001),$A229,\"\")","v":""},{"$f":"IF(AND($F230>0.99,$F230<1.000001),$A230,\"\")","v":""},{"$f":"IF(AND($F231>0.99,$F231<1.000001),$A231,\"\")","v":""},{"$f":"IF(AND($F232>0.99,$F232<1.000001),$A232,\"\")","v":""}]
["Taxi/Ride Service",null,null,null,null,{"$f":"PubTran!F38","v":0},"didn't need the skills in the area(s) of",null,null,null,null,null,null,{"$f":"IF($F226=0,$A226,\"\")","v":"Identifying Common Public Transportation Options"},{"$f":"IF($F227=0,$A227,\"\")","v":"Intra-City Bus Travel"},{"$f":"IF($F228=0,$A228,\"\")","v":"Inter-City Bus Travel"},{"$f":"IF($F229=0,$A229,\"\")","v":"Taxi/Ride Service"},{"$f":"IF($F230=0,$A230,\"\")","v":"Handi-Ride/Para Transit"},{"$f":"IF($F231=0,$A231,\"\")","v":"Air Travel"},{"$f":"IF($F232=0,$A232,\"\")","v":"Subway/Light Rail"}]
["Handi-Ride/Para Transit",null,null,null,null,{"$f":"PubTran!F45","v":0}]
["Air Travel",null,null,null,null,{"$f":"PubTran!F49","v":0}]
["Subway/Light Rail",null,null,null,null,{"$f":"PubTran!F65","v":0}]
["Atypical O&M Score:"]
["Fences",null,null,null,null,{"$f":"Atyp!F3","v":0},"did well with the skills that made up the area(s) of",null,null,null,null,null,null,{"$f":"IF(F234>3.99,A234,\"\")","v":""},{"$f":"IF(F235>3.99,A235,\"\")","v":""},{"$f":"IF(F236>3.99,A236,\"\")","v":""},{"$f":"IF(F237>3.99,A237,\"\")","v":""}]
["Fields (Urban)",null,null,null,null,{"$f":"Atyp!F7","v":0},"had room for improvement with the skills that made up the area(s) of",null,null,null,null,null,null,{"$f":"IF(AND($F234>1.01,$F234<3.99),$A234,\"\")","v":""},{"$f":"IF(AND($F235>1.01,$F235<3.99),$A235,\"\")","v":""},{"$f":"IF(AND($F236>1.01,$F236<3.99),$A236,\"\")","v":""},{"$f":"IF(AND($F237>1.01,$F237<3.99),$A237,\"\")","v":""}]
["Parks/Playgrounds",null,null,null,null,{"$f":"Atyp!F13","v":0},"hadn't had the opportunity to work on the skills in the area(s) of",null,null,null,null,null,null,{"$f":"IF(AND($F234>0.99,$F234<1.000001),$A234,\"\")","v":""},{"$f":"IF(AND($F235>0.99,$F235<1.000001),$A235,\"\")","v":""},{"$f":"IF(AND($F236>0.99,$F236<1.000001),$A236,\"\")","v":""},{"$f":"IF(AND($F237>0.99,$F237<1.000001),$A237,\"\")","v":""}]
["Inclement Weather",null,null,null,null,{"$f":"Atyp!F21","v":0},"didn't need the skills in the area(s) of",null,null,null,null,null,null,{"$f":"IF($F234=0,$A234,\"\")","v":"Fences"},{"$f":"IF($F235=0,$A235,\"\")","v":"Fields (Urban)"},{"$f":"IF($F236=0,$A236,\"\")","v":"Parks/Playgrounds"},{"$f":"IF($F237=0,$A237,\"\")","v":"Inclement Weather"}]
["Rural Travel Score:"]
["Understanding Unique Dangers Related To Rural Travel",null,null,null,null,{"$f":"Rural!F3","v":0},"did well with the skills that made up the area(s) of",null,null,null,null,null,null,{"$f":"IF(F239>3.99,A239,\"\")","v":""},{"$f":"IF(F240>3.99,A240,\"\")","v":""},{"$f":"IF(F241>3.99,A241,\"\")","v":""},{"$f":"IF(F242>3.99,A242,\"\")","v":""},{"$f":"IF(F243>3.99,A243,\"\")","v":""}]
["Walking Along Rural Roads",null,null,null,null,{"$f":"Rural!F9","v":0},"had room for improvement with the skills that made up the area(s) of",null,null,null,null,null,null,{"$f":"IF(AND($F239>1.01,$F239<3.99),$A239,\"\")","v":""},{"$f":"IF(AND($F240>1.01,$F240<3.99),$A240,\"\")","v":""},{"$f":"IF(AND($F241>1.01,$F241<3.99),$A241,\"\")","v":""},{"$f":"IF(AND($F242>1.01,$F242<3.99),$A242,\"\")","v":""},{"$f":"IF(AND($F243>1.01,$F243<3.99),$A243,\"\")","v":""}]
["Ditches/Arroyos",null,null,null,null,{"$f":"Rural!F15","v":0},"hadn't had the opportunity to work on the skills in the area(s) of",null,null,null,null,null,null,{"$f":"IF(AND($F239>0.99,$F239<1.000001),$A239,\"\")","v":""},{"$f":"IF(AND($F240>0.99,$F240<1.000001),$A240,\"\")","v":""},{"$f":"IF(AND($F241>0.99,$F241<1.000001),$A241,\"\")","v":""},{"$f":"IF(AND($F242>0.99,$F242<1.000001),$A242,\"\")","v":""},{"$f":"IF(AND($F243>0.99,$F243<1.000001),$A243,\"\")","v":""}]
["Identifying And Going Around Items In Rural Areas",null,null,null,null,{"$f":"Rural!F22","v":0},"didn't need the skills in the area(s) of",null,null,null,null,null,null,{"$f":"IF($F239=0,$A239,\"\")","v":"Understanding Unique Dangers Related To Rural Travel"},{"$f":"IF($F240=0,$A240,\"\")","v":"Walking Along Rural Roads"},{"$f":"IF($F241=0,$A241,\"\")","v":"Ditches/Arroyos"},{"$f":"IF($F242=0,$A242,\"\")","v":"Identifying And Going Around Items In Rural Areas"},{"$f":"IF($F243=0,$A243,\"\")","v":"Rural Street Crossings"}]
["Rural Street Crossings",null,null,null,null,{"$f":"Rural!F28","v":0}]
["Vision Specific O&M Skills Score:"]
["Scanning Materials",null,null,null,null,{"$f":"VisSpec!F3","v":0},"did well with the skills that made up the area(s) of",null,null,null,null,null,null,{"$f":"IF(F245>3.99,A245,\"\")","v":""},{"$f":"IF(F246>3.99,A246,\"\")","v":""},{"$f":"IF(F247>3.99,A247,\"\")","v":""},{"$f":"IF(F248>3.99,A248,\"\")","v":""},{"$f":"IF(F249>3.99,A249,\"\")","v":""}]
["Scanning Environments",null,null,null,null,{"$f":"VisSpec!F10","v":0},"had room for improvement with the skills that made up the area(s) of",null,null,null,null,null,null,{"$f":"IF(AND($F245>1.01,$F245<3.99),$A245,\"\")","v":""},{"$f":"IF(AND($F246>1.01,$F246<3.99),$A246,\"\")","v":""},{"$f":"IF(AND($F247>1.01,$F247<3.99),$A247,\"\")","v":""},{"$f":"IF(AND($F248>1.01,$F248<3.99),$A248,\"\")","v":""},{"$f":"IF(AND($F249>1.01,$F249<3.99),$A249,\"\")","v":""}]
["Magnifiers And CCTVs",null,null,null,null,{"$f":"VisSpec!F17","v":0},"hadn't had the opportunity to work on the skills in the area(s) of",null,null,null,null,null,null,{"$f":"IF(AND($F245>0.99,$F245<1.000001),$A245,\"\")","v":""},{"$f":"IF(AND($F246>0.99,$F246<1.000001),$A246,\"\")","v":""},{"$f":"IF(AND($F247>0.99,$F247<1.000001),$A247,\"\")","v":""},{"$f":"IF(AND($F248>0.99,$F248<1.000001),$A248,\"\")","v":""},{"$f":"IF(AND($F249>0.99,$F249<1.000001),$A249,\"\")","v":""}]
["Monoculars",null,null,null,null,{"$f":"VisSpec!F21","v":0},"didn't need the skills in the area(s) of",null,null,null,null,null,null,{"$f":"IF($F245=0,$A245,\"\")","v":"Scanning Materials"},{"$f":"IF($F246=0,$A246,\"\")","v":"Scanning Environments"},{"$f":"IF($F247=0,$A247,\"\")","v":"Magnifiers And CCTVs"},{"$f":"IF($F248=0,$A248,\"\")","v":"Monoculars"},{"$f":"IF($F249=0,$A249,\"\")","v":"Visual Traveling"}]
["Visual Traveling",null,null,null,null,{"$f":"VisSpec!F27","v":0}]
["Community Score:"]
["Comparison Shopping From Home",null,null,null,null,{"$f":"Commun!F3","v":0},"did well with the skills that made up the area(s) of",null,null,null,null,null,null,{"$f":"IF(F251>3.99,A251,\"\")","v":""},{"$f":"IF(F252>3.99,A252,\"\")","v":""},{"$f":"IF(F253>3.99,A253,\"\")","v":""},{"$f":"IF(F254>3.99,A254,\"\")","v":""},{"$f":"IF(F255>3.99,A255,\"\")","v":""}]
["Stores",null,null,null,null,{"$f":"Commun!F7","v":0},"had room for improvement with the skills that made up the area(s) of",null,null,null,null,null,null,{"$f":"IF(AND($F251>1.01,$F251<3.99),$A251,\"\")","v":""},{"$f":"IF(AND($F252>1.01,$F252<3.99),$A252,\"\")","v":""},{"$f":"IF(AND($F253>1.01,$F253<3.99),$A253,\"\")","v":""},{"$f":"IF(AND($F254>1.01,$F254<3.99),$A254,\"\")","v":""},{"$f":"IF(AND($F255>1.01,$F255<3.99),$A255,\"\")","v":""}]
["Fast Food Restaurants",null,null,null,null,{"$f":"Commun!F19","v":0},"hadn't had the opportunity to work on the skills in the area(s) of",null,null,null,null,null,null,{"$f":"IF(AND($F251>0.99,$F251<1.000001),$A251,\"\")","v":""},{"$f":"IF(AND($F252>0.99,$F252<1.000001),$A252,\"\")","v":""},{"$f":"IF(AND($F253>0.99,$F253<1.000001),$A253,\"\")","v":""},{"$f":"IF(AND($F254>0.99,$F254<1.000001),$A254,\"\")","v":""},{"$f":"IF(AND($F255>0.99,$F255<1.000001),$A255,\"\")","v":""}]
["Cafeteria Restaurants",null,null,null,null,{"$f":"Commun!F30","v":0},"didn't need the skills in the area(s) of",null,null,null,null,null,null,{"$f":"IF($F251=0,$A251,\"\")","v":"Comparison Shopping From Home"},{"$f":"IF($F252=0,$A252,\"\")","v":"Stores"},{"$f":"IF($F253=0,$A253,\"\")","v":"Fast Food Restaurants"},{"$f":"IF($F254=0,$A254,\"\")","v":"Cafeteria Restaurants"},{"$f":"IF($F255=0,$A255,\"\")","v":"Sit Down Restaurants"}]
["Sit Down Restaurants",null,null,null,null,{"$f":"Commun!F41","v":0}]
[]
[]
[]
[null,null,null,null,null,null,"demonstrated","of the skills needed to travel independently as an adult."]
[{"$f":"G5","v":0},"Concepts",null,null,null,null,"did well with the skills that made up the domain(s) of",null,null,null,null,null,null,{"$f":"IF(A260>79.999999999,B260,\"\")","v":""},{"$f":"IF(A261>79.999999999,B261,\"\")","v":""},{"$f":"IF(A262>79.999999999,B262,\"\")","v":""},{"$f":"IF(A263>79.999999999,B263,\"\")","v":""},{"$f":"IF(A264>79.999999999,B264,\"\")","v":""},{"$f":"IF(A265>79.999999999,B265,\"\")","v":""},{"$f":"IF(A266>79.999999999,B266,\"\")","v":""},{"$f":"IF(A267>79.999999999,B267,\"\")","v":""},{"$f":"IF(A268>79.999999999,B268,\"\")","v":""},{"$f":"IF(A269>79.999999999,B269,\"\")","v":""},{"$f":"IF(A270>79.999999999,B270,\"\")","v":""},{"$f":"IF(A271>79.999999999,B271,\"\")","v":""},{"$f":"IF(A272>79.999999999,B272,\"\")","v":""},{"$f":"IF(A273>79.999999999,B273,\"\")","v":""},{"$f":"IF(A274>79.999999999,B274,\"\")","v":""}]
[{"$f":"G11","v":0},"Movement",null,null,null,null,"had room for improvement with the skills that made up the domain(s) of",null,null,null,null,null,null,{"$f":"IF(AND($A260>20.000001,$A260<79.999999998),$B260,\"\")","v":""},{"$f":"IF(AND($A261>20.000001,$A261<79.999999998),$B261,\"\")","v":""},{"$f":"IF(AND($A262>20.000001,$A262<79.999999998),$B262,\"\")","v":""},{"$f":"IF(AND($A263>20.000001,$A263<79.999999998),$B263,\"\")","v":""},{"$f":"IF(AND($A264>20.000001,$A264<79.999999998),$B264,\"\")","v":""},{"$f":"IF(AND($A265>20.000001,$A265<79.999999998),$B265,\"\")","v":""},{"$f":"IF(AND($A266>20.000001,$A266<79.999999998),$B266,\"\")","v":""},{"$f":"IF(AND($A267>20.000001,$A267<79.999999998),$B267,\"\")","v":""},{"$f":"IF(AND($A268>20.000001,$A268<79.999999998),$B268,\"\")","v":""},{"$f":"IF(AND($A269>20.000001,$A269<79.999999998),$B269,\"\")","v":""},{"$f":"IF(AND($A270>20.000001,$A270<79.999999998),$B270,\"\")","v":""},{"$f":"IF(AND($A271>20.000001,$A271<79.999999998),$B271,\"\")","v":""},{"$f":"IF(AND($A272>20.000001,$A272<79.999999998),$B272,\"\")","v":""},{"$f":"IF(AND($A273>20.000001,$A273<79.999999998),$B273,\"\")","v":""},{"$f":"IF(AND($A274>20.000001,$A274<79.999999998),$B274,\"\")","v":""}]
[{"$f":"G17","v":0},"Single Room O&M",null,null,null,null,"hadn't had the opportunity to work on the skills that made up the domain(s) of",null,null,null,null,null,null,{"$f":"IF(AND($A260>19.9,$A260<20.1),$B260,\"\")","v":""},{"$f":"IF(AND($A261>19.9,$A261<20.1),$B261,\"\")","v":""},{"$f":"IF(AND($A262>19.9,$A262<20.1),$B262,\"\")","v":""},{"$f":"IF(AND($A263>19.9,$A263<20.1),$B263,\"\")","v":""},{"$f":"IF(AND($A264>19.9,$A264<20.1),$B264,\"\")","v":""},{"$f":"IF(AND($A265>19.9,$A265<20.1),$B265,\"\")","v":""},{"$f":"IF(AND($A266>19.9,$A266<20.1),$B266,\"\")","v":""},{"$f":"IF(AND($A267>19.9,$A267<20.1),$B267,\"\")","v":""},{"$f":"IF(AND($A268>19.9,$A268<20.1),$B268,\"\")","v":""},{"$f":"IF(AND($A269>19.9,$A269<20.1),$B269,\"\")","v":""},{"$f":"IF(AND($A270>19.9,$A270<20.1),$B270,\"\")","v":""},{"$f":"IF(AND($A271>19.9,$A271<20.1),$B271,\"\")","v":""},{"$f":"IF(AND($A272>19.9,$A272<20.1),$B272,\"\")","v":""},{"$f":"IF(AND($A273>19.9,$A273<20.1),$B273,\"\")","v":""},{"$f":"IF(AND($A274>19.9,$A274<20.1),$B274,\"\")","v":""}]
[{"$f":"G23","v":0},"Indoor O&M",null,null,null,null,"had no need for the skills that made up the domain(s) of",null,null,null,null,null,null,{"$f":"IF($A260=0,$B260,\"\")","v":"Concepts"},{"$f":"IF($A261=0,$B261,\"\")","v":"Movement"},{"$f":"IF($A262=0,$B262,\"\")","v":"Single Room O&M"},{"$f":"IF($A263=0,$B263,\"\")","v":"Indoor O&M"},{"$f":"IF($A264=0,$B264,\"\")","v":"Self Protection"},{"$f":"IF($A265=0,$B265,\"\")","v":"Guided Travel"},{"$f":"IF($A266=0,$B266,\"\")","v":"Cane Skills"},{"$f":"IF($A267=0,$B267,\"\")","v":"Sidewalk Travel"},{"$f":"IF($A268=0,$B268,\"\")","v":"Street Crossings"},{"$f":"IF($A269=0,$B269,\"\")","v":"Orientation Skills & GPS"},{"$f":"IF($A270=0,$B270,\"\")","v":"Public Transportation"},{"$f":"IF($A271=0,$B271,\"\")","v":"Atypical O&M"},{"$f":"IF($A272=0,$B272,\"\")","v":"Rural Travel"},{"$f":"IF($A273=0,$B273,\"\")","v":"Vision Specific O&M Skills"},{"$f":"IF($A274=0,$B274,\"\")","v":"Community "}]
[{"$f":"G29","v":0},"Self Protection"]
[{"$f":"G35","v":0},"Guided Travel"]
[{"$f":"G41","v":0},"Cane Skills"]
[{"$f":"G47","v":0},"Sidewalk Travel"]
[{"$f":"G53","v":0},"Street Crossings"]
[{"$f":"G59","v":0},"Orientation Skills & GPS"]
[{"$f":"G65","v":0},"Public Transportation"]
[{"$f":"G71","v":0},"Atypical O&M"]
[{"$f":"G77","v":0},"Rural Travel"]
[{"$f":"G83","v":0},"Vision Specific O&M Skills"]
[{"$f":"G89","v":0},"Community "]
[]
["will demonstrate improved skills in Orientation & Mobility by increasing the score on the O&M Inventory from"]
["to a minimum of"]
["by the next annual IEP date."]
["Please see the attached chart. "]
["Over the previous grading period"]
["increased the score on the O&M Inventory from"]
["to"]
["and is now"]
["of the way to the goal of"]
["made gains in the domain(s) of"]
[{"$f":"IF($C286>$B286,$B260,\"\")","v":""},{"$f":"Front!B3","v":0},{"$f":"Front!C3","v":0},{"$f":"Front!D3","v":0},{"$f":"Front!E3","v":0},{"$f":"Front!F3","v":0},{"$f":"Front!G3","v":0},{"$f":"Front!H3","v":0},{"$f":"Front!I3","v":0},{"$f":"Front!J3","v":0},{"$f":"Front!K3","v":0},{"$f":"Front!L3","v":0},{"$f":"Front!M3","v":0}]
["",{"$f":"Front!B4","v":0},{"$f":"Front!C4","v":0},{"$f":"Front!D4","v":0},{"$f":"Front!E4","v":0},{"$f":"Front!F4","v":0},{"$f":"Front!G4","v":0},{"$f":"Front!H4","v":0},{"$f":"Front!I4","v":0},{"$f":"Front!J4","v":0},{"$f":"Front!K4","v":0},{"$f":"Front!L4","v":0},{"$f":"Front!M4","v":0}]
["",{"$f":"Front!B5","v":0},{"$f":"Front!C5","v":0},{"$f":"Front!D5","v":0},{"$f":"Front!E5","v":0},{"$f":"Front!F5","v":0},{"$f":"Front!G5","v":0},{"$f":"Front!H5","v":0},{"$f":"Front!I5","v":0},{"$f":"Front!J5","v":0},{"$f":"Front!K5","v":0},{"$f":"Front!L5","v":0},{"$f":"Front!M5","v":0}]
["",{"$f":"Front!B6","v":0},{"$f":"Front!C6","v":0},{"$f":"Front!D6","v":0},{"$f":"Front!E6","v":0},{"$f":"Front!F6","v":0},{"$f":"Front!G6","v":0},{"$f":"Front!H6","v":0},{"$f":"Front!I6","v":0},{"$f":"Front!J6","v":0},{"$f":"Front!K6","v":0},{"$f":"Front!L6","v":0},{"$f":"Front!M6","v":0}]
["",{"$f":"Front!B7","v":0},{"$f":"Front!C7","v":0},{"$f":"Front!D7","v":0},{"$f":"Front!E7","v":0},{"$f":"Front!F7","v":0},{"$f":"Front!G7","v":0},{"$f":"Front!H7","v":0},{"$f":"Front!I7","v":0},{"$f":"Front!J7","v":0},{"$f":"Front!K7","v":0},{"$f":"Front!L7","v":0},{"$f":"Front!M7","v":0}]
["",{"$f":"Front!B8","v":0},{"$f":"Front!C8","v":0},{"$f":"Front!D8","v":0},{"$f":"Front!E8","v":0},{"$f":"Front!F8","v":0},{"$f":"Front!G8","v":0},{"$f":"Front!H8","v":0},{"$f":"Front!I8","v":0},{"$f":"Front!J8","v":0},{"$f":"Front!K8","v":0},{"$f":"Front!L8","v":0},{"$f":"Front!M8","v":0}]
["",{"$f":"Front!B9","v":0},{"$f":"Front!C9","v":0},{"$f":"Front!D9","v":0},{"$f":"Front!E9","v":0},{"$f":"Front!F9","v":0},{"$f":"Front!G9","v":0},{"$f":"Front!H9","v":0},{"$f":"Front!I9","v":0},{"$f":"Front!J9","v":0},{"$f":"Front!K9","v":0},{"$f":"Front!L9","v":0},{"$f":"Front!M9","v":0}]
["",{"$f":"Front!B10","v":0},{"$f":"Front!C10","v":0},{"$f":"Front!D10","v":0},{"$f":"Front!E10","v":0},{"$f":"Front!F10","v":0},{"$f":"Front!G10","v":0},{"$f":"Front!H10","v":0},{"$f":"Front!I10","v":0},{"$f":"Front!J10","v":0},{"$f":"Front!K10","v":0},{"$f":"Front!L10","v":0},{"$f":"Front!M10","v":0}]
["",{"$f":"Front!B11","v":0},{"$f":"Front!C11","v":0},{"$f":"Front!D11","v":0},{"$f":"Front!E11","v":0},{"$f":"Front!F11","v":0},{"$f":"Front!G11","v":0},{"$f":"Front!H11","v":0},{"$f":"Front!I11","v":0},{"$f":"Front!J11","v":0},{"$f":"Front!K11","v":0},{"$f":"Front!L11","v":0},{"$f":"Front!M11","v":0}]
["",{"$f":"Front!B12","v":0},{"$f":"Front!C12","v":0},{"$f":"Front!D12","v":0},{"$f":"Front!E12","v":0},{"$f":"Front!F12","v":0},{"$f":"Front!G12","v":0},{"$f":"Front!H12","v":0},{"$f":"Front!I12","v":0},{"$f":"Front!J12","v":0},{"$f":"Front!K12","v":0},{"$f":"Front!L12","v":0},{"$f":"Front!M12","v":0}]
["",{"$f":"Front!B13","v":0},{"$f":"Front!C13","v":0},{"$f":"Front!D13","v":0},{"$f":"Front!E13","v":0},{"$f":"Front!F13","v":0},{"$f":"Front!G13","v":0},{"$f":"Front!H13","v":0},{"$f":"Front!I13","v":0},{"$f":"Front!J13","v":0},{"$f":"Front!K13","v":0},{"$f":"Front!L13","v":0},{"$f":"Front!M13","v":0}]
["",{"$f":"Front!B14","v":0},{"$f":"Front!C14","v":0},{"$f":"Front!D14","v":0},{"$f":"Front!E14","v":0},{"$f":"Front!F14","v":0},{"$f":"Front!G14","v":0},{"$f":"Front!H14","v":0},{"$f":"Front!I14","v":0},{"$f":"Front!J14","v":0},{"$f":"Front!K14","v":0},{"$f":"Front!L14","v":0},{"$f":"Front!M14","v":0}]
["",{"$f":"Front!B15","v":0},{"$f":"Front!C15","v":0},{"$f":"Front!D15","v":0},{"$f":"Front!E15","v":0},{"$f":"Front!F15","v":0},{"$f":"Front!G15","v":0},{"$f":"Front!H15","v":0},{"$f":"Front!I15","v":0},{"$f":"Front!J15","v":0},{"$f":"Front!K15","v":0},{"$f":"Front!L15","v":0},{"$f":"Front!M15","v":0}]
["",{"$f":"Front!B16","v":0},{"$f":"Front!C16","v":0},{"$f":"Front!D16","v":0},{"$f":"Front!E16","v":0},{"$f":"Front!F16","v":0},{"$f":"Front!G16","v":0},{"$f":"Front!H16","v":0},{"$f":"Front!I16","v":0},{"$f":"Front!J16","v":0},{"$f":"Front!K16","v":0},{"$f":"Front!L16","v":0},{"$f":"Front!M16","v":0}]
["",{"$f":"Front!B17","v":0},{"$f":"Front!C17","v":0},{"$f":"Front!D17","v":0},{"$f":"Front!E17","v":0},{"$f":"Front!F17","v":0},{"$f":"Front!G17","v":0},{"$f":"Front!H17","v":0},{"$f":"Front!I17","v":0},{"$f":"Front!J17","v":0},{"$f":"Front!K17","v":0},{"$f":"Front!L17","v":0},{"$f":"Front!M17","v":0}]

{"sheet":"R3","index":18,"n_rows":300,"n_cols":29,"rows_kept":300,"cut":false,"hidden":false,"merged":[]}
[{"$f":"'R1'!A1","v":0},"← TYPE STUDENT NAME IN GREEN BOX",null,null,null,null,null,null,null,null,null,null,null,null,"%prog","total","tot round","%pr rnd","goal"]
["↓ HIGHLIGHT & COPY WHITE CELLS; PASTE IN WORD DOCUMENT AS \"KEEP TEXT ONLY\" OR \"UNFORMATTED\"",null,null,null,null,null,null,null,null,null,null,null,null,null,{"$f":"Front!B20","v":0},{"$f":"Front!B18","v":0},{"$f":"ROUND(P2,2)","v":0},{"$f":"ROUND(O2,2)","v":0},{"$f":"Front!B19","v":1}]
[{"$f":"CONCATENATE(A150,\" \",K3,\"%\")","v":"NMSBVI O&M INVENTORY TOTAL SCORE:  0%"},null,null,null,null,null,null,null,null,{"$f":"Front!D18","v":0},{"$f":"ROUND(J3,2)","v":0},null,null,null,{"$f":"Front!C20","v":0},{"$f":"Front!C18","v":0},0,0,{"$f":"Front!C19","v":1}]
[null,null,null,null,null,null,null,null,null,null,null,null,null,null,{"$f":"Front!D20","v":0},{"$f":"Front!D18","v":0},0,0,{"$f":"Front!D19","v":1}]
[{"$f":"CONCATENATE(A151,\" \",H5,\"%\")","v":"Concepts Score: 0%"},null,null,null,null,null,{"$f":"Front!D3","v":0},{"$f":"ROUND(G5,1)","v":0},"← Don't worry about these 2 numbers",null,null,null,null,null,{"$f":"Front!E20","v":0},{"$f":"Front!E18","v":0},0,0,{"$f":"Front!E19","v":1}]
[{"$f":"CONCATENATE($A1,\" \",G152,\" \",N152,\", \",O152,\", \",P152,\", \",Q152)","v":"0 did well with the skills that made up the area(s) of , , , "},null,null,null,null,null,null,null,null,null,null,null,null,null,{"$f":"Front!F20","v":0},{"$f":"Front!F18","v":0},0,0,{"$f":"Front!F19","v":1}]
[{"$f":"CONCATENATE($A1,\" \",G153,\" \",N153,\", \",O153,\", \",P153,\", \",Q153)","v":"0 had room for improvement with the skills that made up the area(s) of , , , "},null,null,null,null,null,null,null,null,null,null,null,null,null,{"$f":"Front!G20","v":0},{"$f":"Front!G18","v":0},0,0,{"$f":"Front!G19","v":1}]
[{"$f":"CONCATENATE($A1,\" \",G154,\" \",N154,\", \",O154,\", \",P154,\", \",Q154)","v":"0 hadn't had the opportunity to work on the skills in the area(s) of , , , "},null,null,null,null,null,null,null,null,null,null,null,null,null,{"$f":"Front!H20","v":0},{"$f":"Front!H18","v":0},0,0,{"$f":"Front!H19","v":1}]
[{"$f":"CONCATENATE($A1,\" \",G155,\" \",N155,\", \",O155,\", \",P155,\", \",Q155)","v":"0 didn't need the skills in the area(s) of Vocabulary, Laterality, Parallel/Perpendicular, Time And Distance"},null,null,null,null,null,null,null,null,null,null,null,null,null,{"$f":"Front!I20","v":0},{"$f":"Front!I18","v":0},0,0,{"$f":"Front!I19","v":1}]
[null,null,null,null,null,null,null,null,null,null,null,null,null,null,{"$f":"Front!J20","v":0},{"$f":"Front!J18","v":0},0,0,{"$f":"Front!J19","v":1}]
[{"$f":"CONCATENATE(A156,\" \",H11,\"%\")","v":"Movement Score: 0%"},null,null,null,null,null,{"$f":"Front!D4","v":0},{"$f":"ROUND(G11,1)","v":0},null,null,null,null,null,null,{"$f":"Front!K20","v":0},{"$f":"Front!K18","v":0},0,0,{"$f":"Front!K19","v":1}]
[{"$f":"CONCATENATE($A1,\" \",G157,\" \",N157,\", \",O157,\", \",P157,\", \",Q157)","v":"0 did well with the skills that made up the area(s) of , , , "},null,null,null,null,null,null,null,null,null,null,null,null,null,{"$f":"Front!L20","v":0},{"$f":"Front!L18","v":0},0,0,{"$f":"Front!L19","v":1}]
[{"$f":"CONCATENATE($A1,\" \",G158,\" \",N158,\", \",O158,\", \",P158,\", \",Q158)","v":"0 had room for improvement with the skills that made up the area(s) of , , , "},null,null,null,null,null,null,null,null,null,null,null,null,null,{"$f":"Front!M20","v":0},{"$f":"Front!M18","v":0},0,0,{"$f":"Front!M19","v":1}]
[{"$f":"CONCATENATE($A1,\" \",G159,\" \",N159,\", \",O159,\", \",P159,\", \",Q159)","v":"0 hadn't had the opportunity to work on the skills in the area(s) of , , , "},null,null,null,null,null,null,null,null,null,null,null,null,null,"↑ Don't worry about this chart"]
[{"$f":"CONCATENATE($A1,\" \",G160,\" \",N160,\", \",O160,\", \",P160,\", \",Q160)","v":"0 didn't need the skills in the area(s) of Walking, Maintaining Body Alignment While Walking, Balance, Turns"}]
[null,null,null,null,null,null,"DO NOT HIGHLIGHT & COPY ANY OF THE GREY CELLS; ALL THE TEXT YOU NEED IS IN WHITE CELLS"]
[{"$f":"CONCATENATE(A161,\" \",H17,\"%\")","v":"Single Room O&M Score: 0%"},null,null,null,null,null,{"$f":"Front!D5","v":0},{"$f":"ROUND(G17,1)","v":0}]
[{"$f":"CONCATENATE($A1,\" \",G162,\" \",N162,\", \",O162,\", \",P162,\", \",Q162,\", \",R162)","v":"0 did well with the skills that made up the area(s) of , , , , "}]
[{"$f":"CONCATENATE($A1,\" \",G163,\" \",N163,\", \",O163,\", \",P163,\", \",Q163,\", \",R163)","v":"0 had room for improvement with the skills that made up the area(s) of , , , , "}]
[{"$f":"CONCATENATE($A1,\" \",G164,\" \",N164,\", \",O164,\", \",P164,\", \",Q164,\", \",R164)","v":"0 hadn't had the opportunity to work on the skills in the area(s) of , , , , "}]
[{"$f":"CONCATENATE($A1,\" \",G165,\" \",N165,\", \",O165,\", \",P165,\", \",Q165,\", \",R165)","v":"0 didn't need the skills in the area(s) of Familiar Rooms, Unfamiliar Rooms, Seating (Rows), Seating (Tables), Locating Dropped Objects"}]
[null,null,null,null,null,null,"COPYING THE GREY CELLS WILL JUST MAKE A MESS OF YOUR WORD DOCUMENT. I KNOW IT LOOKS"]
[{"$f":"CONCATENATE(A167,\" \",H23,\"%\")","v":"Indoor O&M Score: 0%"},null,null,null,null,null,{"$f":"Front!D6","v":0},{"$f":"ROUND(G23,1)","v":0}]
[{"$f":"CONCATENATE($A1,\" \",G168,\" \",N168,\", \",O168,\", \",P168,\", \",Q168,\", \",R168,\", \",S168,\", \",T168,\", \",U168)","v":"0 did well with the skills that made up the area(s) of , , , , , , , "}]
[{"$f":"CONCATENATE($A1,\" \",G169,\" \",N169,\", \",O169,\", \",P169,\", \",Q169,\", \",R169,\", \",S169,\", \",T169,\", \",U169)","v":"0 had room for improvement with the skills that made up the area(s) of , , , , , , , "}]
[{"$f":"CONCATENATE($A1,\" \",G170,\" \",N170,\", \",O170,\", \",P170,\", \",Q170,\", \",R170,\", \",S170,\", \",T170,\", \",U170)","v":"0 hadn't had the opportunity to work on the skills in the area(s) of , , , , , , , "}]
[{"$f":"CONCATENATE($A1,\" \",G171,\" \",N171,\", \",O171,\", \",P171,\", \",Q171,\", \",R171,\", \",S171,\", \",T171,\", \",U171)","v":"0 didn't need the skills in the area(s) of Hand Trailing, Navigating Open Spaces, Doors, Ascending/Descending Stairs, Escalators, Elevators, Moving Sidewalks, Turnstiles"}]
[null,null,null,null,null,null,"LIKE THERE IS TEXT IN THE GREY CELLS BUT THERE REALLY ISN'T. TRUST ME; I'M AN EXCEL NERD."]
[{"$f":"CONCATENATE(A176,\" \",H29,\"%\")","v":"Self Protection Score: 0%"},null,null,null,null,null,{"$f":"Front!D7","v":0},{"$f":"ROUND(G29,1)","v":0}]
[{"$f":"CONCATENATE($A1,\" \",G176,\" \",N176,\", \",O176,\", \",P176)","v":"0 did well with the skills that made up the area(s) of , , "}]
[{"$f":"CONCATENATE($A1,\" \",G177,\" \",N177,\", \",O177,\", \",P177)","v":"0 had room for improvement with the skills that made up the area(s) of , , "}]
[{"$f":"CONCATENATE($A1,\" \",G178,\" \",N178,\", \",O178,\", \",P178)","v":"0 hadn't had the opportunity to work on the skills in the area(s) of , , "}]
[{"$f":"CONCATENATE($A1,\" \",G179,\" \",N179,\", \",O179,\", \",P179)","v":"0 didn't need the skills in the area(s) of Upper Hand Protective Technique, Lower Forearm Protective Technique, Protective Clothing"}]
[]
[{"$f":"CONCATENATE(A180,\" \",H35,\"%\")","v":"Guided Travel Score: 0%"},null,null,null,null,null,{"$f":"Front!D8","v":0},{"$f":"ROUND(G35,1)","v":0}]
[{"$f":"CONCATENATE($A1,\" \",G181,\" \",N181,\", \",O181,\", \",P181,\", \",Q181)","v":"0 did well with the skills that made up the area(s) of , , , "}]
[{"$f":"CONCATENATE($A1,\" \",G182,\" \",N182,\", \",O182,\", \",P182,\", \",Q182)","v":"0 had room for improvement with the skills that made up the area(s) of , , , "}]
[{"$f":"CONCATENATE($A1,\" \",G183,\" \",N183,\", \",O183,\", \",P183,\", \",Q183)","v":"0 hadn't had the opportunity to work on the skills in the area(s) of , , , "}]
[{"$f":"CONCATENATE($A1,\" \",G184,\" \",N184,\", \",O184,\", \",P184,\", \",Q184)","v":"0 didn't need the skills in the area(s) of Human Guide, Walking With Another (No Direct Contact), Menus, Getting Rides"}]
[]
[{"$f":"CONCATENATE(A185,\" \",H41,\"%\")","v":"Cane Skills Score: 0%"},null,null,null,null,null,{"$f":"Front!D9","v":0},{"$f":"ROUND(G41,1)","v":0}]
[{"$f":"CONCATENATE($A1,\" \",G186,\" \",N186,\", \",O186,\", \",P186,\", \",Q186,\", \",R186,\", \",S186,\", \",T186)","v":"0 did well with the skills that made up the area(s) of , , , , , , "}]
[{"$f":"CONCATENATE($A1,\" \",G187,\" \",N187,\", \",O187,\", \",P187,\", \",Q187,\", \",R187,\", \",S187,\", \",T187)","v":"0 had room for improvement with the skills that made up the area(s) of , , , , , , "}]
[{"$f":"CONCATENATE($A1,\" \",G188,\" \",N188,\", \",O188,\", \",P188,\", \",Q188,\", \",R188,\", \",S188,\", \",T188)","v":"0 hadn't had the opportunity to work on the skills in the area(s) of , , , , , , "}]
[{"$f":"CONCATENATE($A1,\" \",G189,\" \",N189,\", \",O189,\", \",P189,\", \",Q189,\", \",R189,\", \",S189,\", \",T189)","v":"0 didn't need the skills in the area(s) of Basic Skills, Types Of Grips, Constant Contact, Diagonal/Diagonal Trail, Two Point Touch/Touch Trail, Touch And Drag, Three Point Touch"}]
[]
[{"$f":"CONCATENATE(A193,\" \",H47,\"%\")","v":"Sidewalk Travel Score: 0%"},null,null,null,null,null,{"$f":"Front!D10","v":0},{"$f":"ROUND(G47,1)","v":0}]
[{"$f":"CONCATENATE($A1,\" \",G193,\" \",N193,\", \",O193,\", \",P193)","v":"0 did well with the skills that made up the area(s) of , , "}]
[{"$f":"CONCATENATE($A1,\" \",G194,\" \",N194,\", \",O194,\", \",P194)","v":"0 had room for improvement with the skills that made up the area(s) of , , "}]
[{"$f":"CONCATENATE($A1,\" \",G195,\" \",N195,\", \",O195,\", \",P195)","v":"0 hadn't had the opportunity to work on the skills in the area(s) of , , "}]
[{"$f":"CONCATENATE($A1,\" \",G196,\" \",N196,\", \",O196,\", \",P196)","v":"0 didn't need the skills in the area(s) of Walking On Sidewalks, Walking On Irregular Sidewalks, Correcting for Veering On Sidewalks"}]
[]
[{"$f":"CONCATENATE(A197,\" \",H53,\"%\")","v":"Street Crossings Score: 0%"},null,null,null,null,null,{"$f":"Front!D11","v":0},{"$f":"ROUND(G53,1)","v":0}]
[{"$f":"CONCATENATE($A1,\" \",G198,\" \",N198,\", \",O198,\", \",P198,\", \",Q198,\", \",R198,\", \",S198,\", \",T198,\", \",U198,\", \",V198,\", \",W198,\", \",X198,\", \",Y198,\", \",Z198,\", \",AA198,\", \",AB198,\", \",AC198)","v":"0 did well with the skills that made up the area(s) of , , , , , , , , , , , , , , , "}]
[{"$f":"CONCATENATE($A1,\" \",G199,\" \",N199,\", \",O199,\", \",P199,\", \",Q199,\", \",R199,\", \",S199,\", \",T199,\", \",U199,\", \",V199,\", \",W199,\", \",X199,\", \",Y199,\", \",Z199,\", \",AA199,\", \",AB199,\", \",AC199)","v":"0 had room for improvement with the skills that made up the area(s) of , , , , , , , , , , , , , , , "}]
[{"$f":"CONCATENATE($A1,\" \",G200,\" \",N200,\", \",O200,\", \",P200,\", \",Q200,\", \",R200,\", \",S200,\", \",T200,\", \",U200,\", \",V200,\", \",W200,\", \",X200,\", \",Y200,\", \",Z200,\", \",AA200,\", \",AB200,\", \",AC200)","v":"0 hadn't had the opportunity to work on the skills in the area(s) of , , , , , , , , , , , , , , , "}]
[{"$f":"CONCATENATE($A1,\" \",G201,\" \",N201,\", \",O201,\", \",P201,\", \",Q201,\", \",R201,\", \",S201,\", \",T201,\", \",U201,\", \",V201,\", \",W201,\", \",X201,\", \",Y201,\", \",Z201,\", \",AA201,\", \",AB201,\", \",AC201)","v":"0 didn't need the skills in the area(s) of Anticipating Street Crossings, Maintaining Line Of Travel, Maintaining Body Alignment, Re-establishing Body Alignment, Analyzing Intersections, Plus Intersections, T Intersections, Y Intersections, Roundabouts, Significantly Offset Intersections, Atypical Intersections, Newly Developed Intersections, Channelized Right Turn Lanes, Veering, Understanding Drivers’ Perspectives, Pedestrian Signals"}]
[]
[{"$f":"CONCATENATE(A214,\" \",H59,\"%\")","v":"Orientation Skills and GPS Score: 0%"},null,null,null,null,null,{"$f":"Front!D12","v":0},{"$f":"ROUND(G59,1)","v":0}]
[{"$f":"CONCATENATE($A1,\" \",G215,\" \",N215,\", \",O215,\", \",P215,\", \",Q215,\", \",R215,\", \",S215,\", \",T215,\", \",U215,\", \",V215,\", \",W215)","v":"0 did well with the skills that made up the area(s) of , , , , , , , , , "}]
[{"$f":"CONCATENATE($A1,\" \",G216,\" \",N216,\", \",O216,\", \",P216,\", \",Q216,\", \",R216,\", \",S216,\", \",T216,\", \",U216,\", \",V216,\", \",W216)","v":"0 had room for improvement with the skills that made up the area(s) of , , , , , , , , , "}]
[{"$f":"CONCATENATE($A1,\" \",G217,\" \",N217,\", \",O217,\", \",P217,\", \",Q217,\", \",R217,\", \",S217,\", \",T217,\", \",U217,\", \",V217,\", \",W217)","v":"0 hadn't had the opportunity to work on the skills in the area(s) of , , , , , , , , , "}]
[{"$f":"CONCATENATE($A1,\" \",G218,\" \",N218,\", \",O218,\", \",P218,\", \",Q218,\", \",R218,\", \",S218,\", \",T218,\", \",U218,\", \",V218,\", \",W218)","v":"0 didn't need the skills in the area(s) of Cardinality, Clues, Landmarks, Indoor Numbering Systems, Outdoor Numbering Systems, Grid System, Divisors And Block Numbering, Transferability, GPS, Maps"}]
[]
[{"$f":"CONCATENATE(A225,\" \",H65,\"%\")","v":"Public Transportation Score: 0%"},null,null,null,null,null,{"$f":"Front!D13","v":0},{"$f":"ROUND(G65,1)","v":0}]
[{"$f":"CONCATENATE($A1,\" \",G226,\" \",N226,\", \",O226,\", \",P226,\", \",Q226,\", \",R226,\", \",S226,\", \",T226)","v":"0 did well with the skills that made up the area(s) of , , , , , , "}]
[{"$f":"CONCATENATE($A1,\" \",G227,\" \",N227,\", \",O227,\", \",P227,\", \",Q227,\", \",R227,\", \",S227,\", \",T227)","v":"0 had room for improvement with the skills that made up the area(s) of , , , , , , "}]
[{"$f":"CONCATENATE($A1,\" \",G228,\" \",N228,\", \",O228,\", \",P228,\", \",Q228,\", \",R228,\", \",S228,\", \",T228)","v":"0 hadn't had the opportunity to work on the skills in the area(s) of , , , , , , "}]
[{"$f":"CONCATENATE($A1,\" \",G229,\" \",N229,\", \",O229,\", \",P229,\", \",Q229,\", \",R229,\", \",S229,\", \",T229)","v":"0 didn't need the skills in the area(s) of Identifying Common Public Transportation Options, Intra-City Bus Travel, Inter-City Bus Travel, Taxi/Ride Service, Handi-Ride/Para Transit, Air Travel, Subway/Light Rail"}]
[]
[{"$f":"CONCATENATE(A233,\" \",H71,\"%\")","v":"Atypical O&M Score: 0%"},null,null,null,null,null,{"$f":"Front!D14","v":0},{"$f":"ROUND(G71,1)","v":0}]
[{"$f":"CONCATENATE($A1,\" \",G234,\" \",N234,\", \",O234,\", \",P234,\", \",Q234)","v":"0 did well with the skills that made up the area(s) of , , , "}]
[{"$f":"CONCATENATE($A1,\" \",G235,\" \",N235,\", \",O235,\", \",P235,\", \",Q235)","v":"0 had room for improvement with the skills that made up the area(s) of , , , "}]
[{"$f":"CONCATENATE($A1,\" \",G236,\" \",N236,\", \",O236,\", \",P236,\", \",Q236)","v":"0 hadn't had the opportunity to work on the skills in the area(s) of , , , "}]
[{"$f":"CONCATENATE($A1,\" \",G237,\" \",N237,\", \",O237,\", \",P237,\", \",Q237)","v":"0 didn't need the skills in the area(s) of Fences, Fields (Urban), Parks/Playgrounds, Inclement Weather"}]
[]
[{"$f":"CONCATENATE(A238,\" \",H77,\"%\")","v":"Rural Travel Score: 0%"},null,null,null,null,null,{"$f":"Front!D15","v":0},{"$f":"ROUND(G77,1)","v":0}]
[{"$f":"CONCATENATE($A1,\" \",G239,\" \",N239,\", \",O239,\", \",P239,\", \",Q239,\", \",R239)","v":"0 did well with the skills that made up the area(s) of , , , , "}]
[{"$f":"CONCATENATE($A1,\" \",G240,\" \",N240,\", \",O240,\", \",P240,\", \",Q240,\", \",R240)","v":"0 had room for improvement with the skills that made up the area(s) of , , , , "}]
[{"$f":"CONCATENATE($A1,\" \",G241,\" \",N241,\", \",O241,\", \",P241,\", \",Q241,\", \",R241)","v":"0 hadn't had the opportunity to work on the skills in the area(s) of , , , , "}]
[{"$f":"CONCATENATE($A1,\" \",G242,\" \",N242,\", \",O242,\", \",P242,\", \",Q242,\", \",R242)","v":"0 didn't need the skills in the area(s) of Understanding Unique Dangers Related To Rural Travel, Walking Along Rural Roads, Ditches/Arroyos, Identifying And Going Around Items In Rural Areas, Rural Street Crossings"}]
[]
[{"$f":"CONCATENATE(A244,\" \",H83,\"%\")","v":"Vision Specific O&M Skills Score: 0%"},null,null,null,null,null,{"$f":"Front!D16","v":0},{"$f":"ROUND(G83,1)","v":0}]
[{"$f":"CONCATENATE($A1,\" \",G245,\" \",N245,\", \",O245,\", \",P245,\", \",Q245,\", \",R245)","v":"0 did well with the skills that made up the area(s) of , , , , "}]
[{"$f":"CONCATENATE($A1,\" \",G246,\" \",N246,\", \",O246,\", \",P246,\", \",Q246,\", \",R246)","v":"0 had room for improvement with the skills that made up the area(s) of , , , , "}]
[{"$f":"CONCATENATE($A1,\" \",G247,\" \",N247,\", \",O247,\", \",P247,\", \",Q247,\", \",R247)","v":"0 hadn't had the opportunity to work on the skills in the area(s) of , , , , "}]
[{"$f":"CONCATENATE($A1,\" \",G248,\" \",N248,\", \",O248,\", \",P248,\", \",Q248,\", \",R248)","v":"0 didn't need the skills in the area(s) of Scanning Materials, Scanning Environments, Magnifiers And CCTVs, Monoculars, Visual Traveling"}]
[]
[{"$f":"CONCATENATE(A250,\" \",H89,\"%\")","v":"Community Score: 0%"},null,null,null,null,null,{"$f":"Front!D17","v":0},{"$f":"ROUND(G89,1)","v":0}]
[{"$f":"CONCATENATE($A1,\" \",G251,\" \",N251,\", \",O251,\", \",P251,\", \",Q251,\", \",R251)","v":"0 did well with the skills that made up the area(s) of , , , , "}]
[{"$f":"CONCATENATE($A1,\" \",G252,\" \",N252,\", \",O252,\", \",P252,\", \",Q252,\", \",R252)","v":"0 had room for improvement with the skills that made up the area(s) of , , , , "}]
[{"$f":"CONCATENATE($A1,\" \",G253,\" \",N253,\", \",O253,\", \",P253,\", \",Q253,\", \",R253)","v":"0 hadn't had the opportunity to work on the skills in the area(s) of , , , , "}]
[{"$f":"CONCATENATE($A1,\" \",G254,\" \",N254,\", \",O254,\", \",P254,\", \",Q254,\", \",R254)","v":"0 didn't need the skills in the area(s) of Comparison Shopping From Home, Stores, Fast Food Restaurants, Cafeteria Restaurants, Sit Down Restaurants"}]
[]
["Summary"]
[{"$f":"CONCATENATE(A1,\" \",G259,\" \",K3,\" \",H259)","v":"0 demonstrated 0 of the skills needed to travel independently as an adult."}]
[{"$f":"CONCATENATE($A1,\" \",G260,\" \",N260,\", \",O260,\", \",P260,\", \",Q260,\", \",R260,\", \",S260,\", \",T260,\", \",U260,\", \",V260,\", \",W260,\", \",X260,\", \",Y260,\", \",Z260,\", \",AA260,\", \",AB260)","v":"0 did well with the skills that made up the domain(s) of , , , , , , , , , , , , , , "}]
[{"$f":"CONCATENATE($A1,\" \",G261,\" \",N261,\", \",O261,\", \",P261,\", \",Q261,\", \",R261,\", \",S261,\", \",T261,\", \",U261,\", \",V261,\", \",W261,\", \",X261,\", \",Y261,\", \",Z261,\", \",AA261,\", \",AB261)","v":"0 had room for improvement with the skills that made up the domain(s) of , , , , , , , , , , , , , , "}]
[{"$f":"CONCATENATE($A1,\" \",G262,\" \",N262,\", \",O262,\", \",P262,\", \",Q262,\", \",R262,\", \",S262,\", \",T262,\", \",U262,\", \",V262,\", \",W262,\", \",X262,\", \",Y262,\", \",Z262,\", \",AA262,\", \",AB262)","v":"0 hadn't had the opportunity to work on the skills that made up the domain(s) of , , , , , , , , , , , , , , "}]
[{"$f":"CONCATENATE($A1,\" \",G263,\" \",N263,\", \",O263,\", \",P263,\", \",Q263,\", \",R263,\", \",S263,\", \",T263,\", \",U263,\", \",V263,\", \",W263,\", \",X263,\", \",Y263,\", \",Z263,\", \",AA263,\", \",AB263)","v":"0 had no need for the skills that made up the domain(s) of Concepts, Movement, Single Room O&M, Indoor O&M, Self Protection, Guided Travel, Cane Skills, Sidewalk Travel, Street Crossings, Orientation Skills & GPS, Public Transportation, Atypical O&M, Rural Travel, Vision Specific O&M Skills, Community "}]
[]
[]
[]
[]
[]
[]
[]
[]
[]
["Present Level of Educational Performance"]
[{"$f":"CONCATENATE($A97,\" \",A98,\" \",A99,\", \",A100)","v":"0 did well with the skills that made up the domain(s) of , , , , , , , , , , , , , ,  0 had room for improvement with the skills that made up the domain(s) of , , , , , , , , , , , , , ,  0 hadn't had the opportunity to work on the skills that made up the domain(s) of , , , , , , , , , , , , , , , 0 had no need for the skills that made up the domain(s) of Concepts, Movement, Single Room O&M, Indoor O&M, Self Protection, Guided Travel, Cane Skills, Sidewalk Travel, Street Crossings, Orientation Skills & GPS, Public Transportation, Atypical O&M, Rural Travel, Vision Specific O&M Skills, Community "}]
[]
["Strengths"]
[{"$f":"A97","v":"0 did well with the skills that made up the domain(s) of , , , , , , , , , , , , , , "}]
[]
["Concerns"]
[{"$f":"A98","v":"0 had room for improvement with the skills that made up the domain(s) of , , , , , , , , , , , , , , "}]
[]
["Goal"]
[{"$f":"CONCATENATE($A1,\" \",A276,\" \",K3,\"% \",A277,\" \",(ROUNDUP(K3+5,0)),\"% \",A278)","v":"0 will demonstrate improved skills in Orientation & Mobility by increasing the score on the O&M Inventory from 0% to a minimum of 5% by the next annual IEP date."}]
[]
[]
[]
[]
["Progress Report"]
[{"$f":"CONCATENATE(A279,A280,\" \",$A1,\" \",A281,\" \",Q3,\"% \",A282,\" \",Q4,\"% \",A283,\" \",R4,\"% \",A284,\" \",S4,\"%. \",A1,\" \",A285,\" \",A286,\", \",A287,\", \",A288,\", \",A289,\", \",A290,\", \",A291,\", \",A292,\", \",A293,\", \",A294,\", \",A295,\", \",A296,\", \",A297,\", \",A298,\", \",A299,\", \",A300)","v":"Please see the attached chart. Over the previous grading period 0 increased the score on the O&M Inventory from 0% to 0% and is now 0% of the way to the goal of 1%. 0 made gains in the domain(s) of , , , , , , , , , , , , , , "}]
[]
[]
[]
[]
[]
[]
[]
[]
[]
[]
[]
[]
[]
[]
[]
[]
[]
[]
[]
[]
[]
[]
["↓Don't worry about any of this. It fills in automatically and is what creates the useful text "]
["NMSBVI O&M INVENTORY TOTAL SCORE: "]
["Concepts Score:"]
["Vocabulary",null,null,null,null,{"$f":"Concept!H3","v":0},"did well with the skills that made up the area(s) of",null,null,null,null,null,null,{"$f":"IF(F152>3.99,A152,\"\")","v":""},{"$f":"IF(F153>3.99,A153,\"\")","v":""},{"$f":"IF(F154>3.99,A154,\"\")","v":""},{"$f":"IF(F155>3.99,A155,\"\")","v":""},{"$f":"IF(F156>4,E156,\"\")","v":""}]
["Laterality",null,null,null,null,{"$f":"Concept!H9","v":0},"had room for improvement with the skills that made up the area(s) of",null,null,null,null,null,null,{"$f":"IF(AND($F152>1.01,$F152<3.99),$A152,\"\")","v":""},{"$f":"IF(AND($F153>1.01,$F153<3.99),$A153,\"\")","v":""},{"$f":"IF(AND($F154>1.01,$F154<3.99),$A154,\"\")","v":""},{"$f":"IF(AND($F155>1.01,$F155<3.99),$A155,\"\")","v":""}]
["Parallel/Perpendicular",null,null,null,null,{"$f":"Concept!H18","v":0},"hadn't had the opportunity to work on the skills in the area(s) of",null,null,null,null,null,null,{"$f":"IF(AND($F152>0.99,$F152<1.000001),$A152,\"\")","v":""},{"$f":"IF(AND($F153>0.99,$F153<1.000001),$A153,\"\")","v":""},{"$f":"IF(AND($F154>0.99,$F154<1.000001),$A154,\"\")","v":""},{"$f":"IF(AND($F155>0.99,$F155<1.000001),$A155,\"\")","v":""}]
["Time And Distance",null,null,null,null,{"$f":"Concept!H23","v":0},"didn't need the skills in the area(s) of",null,null,null,null,null,null,{"$f":"IF($F152=0,$A152,\"\")","v":"Vocabulary"},{"$f":"IF($F153=0,$A153,\"\")","v":"Laterality"},{"$f":"IF($F154=0,$A154,\"\")","v":"Parallel/Perpendicular"},{"$f":"IF($F155=0,$A155,\"\")","v":"Time And Distance"}]
["Movement Score:"]
["Walking",null,null,null,null,{"$f":"Move!H3","v":0},"did well with the skills that made up the area(s) of",null,null,null,null,null,null,{"$f":"IF(F157>3.99,A157,\"\")","v":""},{"$f":"IF(F158>3.99,A158,\"\")","v":""},{"$f":"IF(F159>3.99,A159,\"\")","v":""},{"$f":"IF(F160>3.99,A160,\"\")","v":""}]
["Maintaining Body Alignment While Walking",null,null,null,null,{"$f":"Move!H9","v":0},"had room for improvement with the skills that made up the area(s) of",null,null,null,null,null,null,{"$f":"IF(AND($F157>1.01,$F157<3.99),$A157,\"\")","v":""},{"$f":"IF(AND($F158>1.01,$F158<3.99),$A158,\"\")","v":""},{"$f":"IF(AND($F159>1.01,$F159<3.99),$A159,\"\")","v":""},{"$f":"IF(AND($F160>1.01,$F160<3.99),$A160,\"\")","v":""}]
["Balance",null,null,null,null,{"$f":"Move!H15","v":0},"hadn't had the opportunity to work on the skills in the area(s) of",null,null,null,null,null,null,{"$f":"IF(AND($F157>0.99,$F157<1.000001),$A157,\"\")","v":""},{"$f":"IF(AND($F158>0.99,$F158<1.000001),$A158,\"\")","v":""},{"$f":"IF(AND($F159>0.99,$F159<1.000001),$A159,\"\")","v":""},{"$f":"IF(AND($F160>0.99,$F160<1.000001),$A160,\"\")","v":""}]
["Turns",null,null,null,null,{"$f":"Move!H23","v":0},"didn't need the skills in the area(s) of",null,null,null,null,null,null,{"$f":"IF($F157=0,$A157,\"\")","v":"Walking"},{"$f":"IF($F158=0,$A158,\"\")","v":"Maintaining Body Alignment While Walking"},{"$f":"IF($F159=0,$A159,\"\")","v":"Balance"},{"$f":"IF($F160=0,$A160,\"\")","v":"Turns"}]
["Single Room O&M Score:"]
["Familiar Rooms",null,null,null,null,{"$f":"SingRm!H3","v":0},"did well with the skills that made up the area(s) of",null,null,null,null,null,null,{"$f":"IF(F162>3.99,A162,\"\")","v":""},{"$f":"IF(F163>3.99,A163,\"\")","v":""},{"$f":"IF(F164>3.99,A164,\"\")","v":""},{"$f":"IF(F165>3.99,A165,\"\")","v":""},{"$f":"IF(F166>3.99,A166,\"\")","v":""}]
["Unfamiliar Rooms",null,null,null,null,{"$f":"SingRm!H9","v":0},"had room for improvement with the skills that made up the area(s) of",null,null,null,null,null,null,{"$f":"IF(AND($F162>1.01,$F162<3.99),$A162,\"\")","v":""},{"$f":"IF(AND($F163>1.01,$F163<3.99),$A163,\"\")","v":""},{"$f":"IF(AND($F164>1.01,$F164<3.99),$A164,\"\")","v":""},{"$f":"IF(AND($F165>1.01,$F165<3.99),$A165,\"\")","v":""},{"$f":"IF(AND($F166>1.01,$F166<3.99),$A166,\"\")","v":""}]
["Seating (Rows)",null,null,null,null,{"$f":"SingRm!H16","v":0},"hadn't had the opportunity to work on the skills in the area(s) of",null,null,null,null,null,null,{"$f":"IF(AND($F162>0.99,$F162<1.000001),$A162,\"\")","v":""},{"$f":"IF(AND($F163>0.99,$F163<1.000001),$A163,\"\")","v":""},{"$f":"IF(AND($F164>0.99,$F164<1.000001),$A164,\"\")","v":""},{"$f":"IF(AND($F165>0.99,$F165<1.000001),$A165,\"\")","v":""},{"$f":"IF(AND($F166>0.99,$F166<1.000001),$A166,\"\")","v":""}]
["Seating (Tables)",null,null,null,null,{"$f":"SingRm!H23","v":0},"didn't need the skills in the area(s) of",null,null,null,null,null,null,{"$f":"IF($F162=0,$A162,\"\")","v":"Familiar Rooms"},{"$f":"IF($F163=0,$A163,\"\")","v":"Unfamiliar Rooms"},{"$f":"IF($F164=0,$A164,\"\")","v":"Seating (Rows)"},{"$f":"IF($F165=0,$A165,\"\")","v":"Seating (Tables)"},{"$f":"IF($F166=0,$A166,\"\")","v":"Locating Dropped Objects"}]
["Locating Dropped Objects",null,null,null,null,{"$f":"SingRm!H28","v":0}]
["Indoor O&M Score:"]
["Hand Trailing",null,null,null,null,{"$f":"Indoor!H3","v":0},"did well with the skills that made up the area(s) of",null,null,null,null,null,null,{"$f":"IF(F168>3.99,A168,\"\")","v":""},{"$f":"IF(F169>3.99,A169,\"\")","v":""},{"$f":"IF(F170>3.99,A170,\"\")","v":""},{"$f":"IF(F171>3.99,A171,\"\")","v":""},{"$f":"IF(F172>3.99,A172,\"\")","v":""},{"$f":"IF(F173>3.99,A173,\"\")","v":""},{"$f":"IF(F174>3.99,A174,\"\")","v":""},{"$f":"IF(F175>3.99,A175,\"\")","v":""}]
["Navigating Open Spaces",null,null,null,null,{"$f":"Indoor!H6","v":0},"had room for improvement with the skills that made up the area(s) of",null,null,null,null,null,null,{"$f":"IF(AND($F168>1.01,$F168<3.99),$A168,\"\")","v":""},{"$f":"IF(AND($F169>1.01,$F169<3.99),$A169,\"\")","v":""},{"$f":"IF(AND($F170>1.01,$F170<3.99),$A170,\"\")","v":""},{"$f":"IF(AND($F171>1.01,$F171<3.99),$A171,\"\")","v":""},{"$f":"IF(AND($F172>1.01,$F172<3.99),$A172,\"\")","v":""},{"$f":"IF(AND($F173>1.01,$F173<3.99),$A173,\"\")","v":""},{"$f":"IF(AND($F174>1.01,$F174<3.99),$A174,\"\")","v":""},{"$f":"IF(AND($F175>1.01,$F175<3.99),$A175,\"\")","v":""}]
["Doors",null,null,null,null,{"$f":"Indoor!H9","v":0},"hadn't had the opportunity to work on the skills in the area(s) of",null,null,null,null,null,null,{"$f":"IF(AND($F168>0.99,$F168<1.000001),$A168,\"\")","v":""},{"$f":"IF(AND($F169>0.99,$F169<1.000001),$A169,\"\")","v":""},{"$f":"IF(AND($F170>0.99,$F170<1.000001),$A170,\"\")","v":""},{"$f":"IF(AND($F171>0.99,$F171<1.000001),$A171,\"\")","v":""},{"$f":"IF(AND($F172>0.99,$F172<1.000001),$A172,\"\")","v":""},{"$f":"IF(AND($F173>0.99,$F173<1.000001),$A173,\"\")","v":""},{"$f":"IF(AND($F174>0.99,$F174<1.000001),$A174,\"\")","v":""},{"$f":"IF(AND($F175>0.99,$F175<1.000001),$A175,\"\")","v":""}]
["Ascending/Descending Stairs",null,null,null,null,{"$f":"Indoor!H15","v":0},"didn't need the skills in the area(s) of",null,null,null,null,null,null,{"$f":"IF($F168=0,$A168,\"\")","v":"Hand Trailing"},{"$f":"IF($F169=0,$A169,\"\")","v":"Navigating Open Spaces"},{"$f":"IF($F170=0,$A170,\"\")","v":"Doors"},{"$f":"IF($F171=0,$A171,\"\")","v":"Ascending/Descending Stairs"},{"$f":"IF($F172=0,$A172,\"\")","v":"Escalators"},{"$f":"IF($F173=0,$A173,\"\")","v":"Elevators"},{"$f":"IF($F174=0,$A174,\"\")","v":"Moving Sidewalks"},{"$f":"IF($F175=0,$A175,\"\")","v":"Turnstiles"}]
["Escalators",null,null,null,null,{"$f":"Indoor!H23","v":0}]
["Elevators",null,null,null,null,{"$f":"Indoor!H35","v":0}]
["Moving Sidewalks",null,null,null,null,{"$f":"Indoor!H44","v":0}]
["Turnstiles",null,null,null,null,{"$f":"Indoor!H54","v":0}]
["Self Protection Score:",null,null,null,null,null,"did well with the skills that made up the area(s) of",null,null,null,null,null,null,{"$f":"IF(F177>3.99,A177,\"\")","v":""},{"$f":"IF(F178>3.99,A178,\"\")","v":""},{"$f":"IF(F179>3.99,A179,\"\")","v":""}]
["Upper Hand Protective Technique",null,null,null,null,{"$f":"SelfPro!H3","v":0},"had room for improvement with the skills that made up the area(s) of",null,null,null,null,null,null,{"$f":"IF(AND($F177>1.01,$F177<3.99),$A177,\"\")","v":""},{"$f":"IF(AND($F178>1.01,$F178<3.99),$A178,\"\")","v":""},{"$f":"IF(AND($F179>1.01,$F179<3.99),$A179,\"\")","v":""}]
["Lower Forearm Protective Technique",null,null,null,null,{"$f":"SelfPro!H8","v":0},"hadn't had the opportunity to work on the skills in the area(s) of",null,null,null,null,null,null,{"$f":"IF(AND($F177>0.99,$F177<1.000001),$A177,\"\")","v":""},{"$f":"IF(AND($F178>0.99,$F178<1.000001),$A178,\"\")","v":""},{"$f":"IF(AND($F179>0.99,$F179<1.000001),$A179,\"\")","v":""}]
["Protective Clothing",null,null,null,null,{"$f":"SelfPro!H12","v":0},"didn't need the skills in the area(s) of",null,null,null,null,null,null,{"$f":"IF($F177=0,$A177,\"\")","v":"Upper Hand Protective Technique"},{"$f":"IF($F178=0,$A178,\"\")","v":"Lower Forearm Protective Technique"},{"$f":"IF($F179=0,$A179,\"\")","v":"Protective Clothing"}]
["Guided Travel Score:"]
["Human Guide",null,null,null,null,{"$f":"Guided!H3","v":0},"did well with the skills that made up the area(s) of",null,null,null,null,null,null,{"$f":"IF(F181>3.99,A181,\"\")","v":""},{"$f":"IF(F182>3.99,A182,\"\")","v":""},{"$f":"IF(F183>3.99,A183,\"\")","v":""},{"$f":"IF(F184>3.99,A184,\"\")","v":""}]
["Walking With Another (No Direct Contact)",null,null,null,null,{"$f":"Guided!H11","v":0},"had room for improvement with the skills that made up the area(s) of",null,null,null,null,null,null,{"$f":"IF(AND($F181>1.01,$F181<3.99),$A181,\"\")","v":""},{"$f":"IF(AND($F182>1.01,$F182<3.99),$A182,\"\")","v":""},{"$f":"IF(AND($F183>1.01,$F183<3.99),$A183,\"\")","v":""},{"$f":"IF(AND($F184>1.01,$F184<3.99),$A184,\"\")","v":""}]
["Menus",null,null,null,null,{"$f":"Guided!H16","v":0},"hadn't had the opportunity to work on the skills in the area(s) of",null,null,null,null,null,null,{"$f":"IF(AND($F181>0.99,$F181<1.000001),$A181,\"\")","v":""},{"$f":"IF(AND($F182>0.99,$F182<1.000001),$A182,\"\")","v":""},{"$f":"IF(AND($F183>0.99,$F183<1.000001),$A183,\"\")","v":""},{"$f":"IF(AND($F184>0.99,$F184<1.000001),$A184,\"\")","v":""}]
["Getting Rides",null,null,null,null,{"$f":"Guided!H20","v":0},"didn't need the skills in the area(s) of",null,null,null,null,null,null,{"$f":"IF($F181=0,$A181,\"\")","v":"Human Guide"},{"$f":"IF($F182=0,$A182,\"\")","v":"Walking With Another (No Direct Contact)"},{"$f":"IF($F183=0,$A183,\"\")","v":"Menus"},{"$f":"IF($F184=0,$A184,\"\")","v":"Getting Rides"}]
["Cane Skills Score:"]
["Basic Skills",null,null,null,null,{"$f":"Cane!H3","v":0},"did well with the skills that made up the area(s) of",null,null,null,null,null,null,{"$f":"IF(F186>3.99,A186,\"\")","v":""},{"$f":"IF(F187>3.99,A187,\"\")","v":""},{"$f":"IF(F188>3.99,A188,\"\")","v":""},{"$f":"IF(F189>3.99,A189,\"\")","v":""},{"$f":"IF(F190>3.99,A190,\"\")","v":""},{"$f":"IF(F191>3.99,A191,\"\")","v":""},{"$f":"IF(F192>3.99,A192,\"\")","v":""}]
["Types Of Grips",null,null,null,null,{"$f":"Cane!H10","v":0},"had room for improvement with the skills that made up the area(s) of",null,null,null,null,null,null,{"$f":"IF(AND($F186>1.01,$F186<3.99),$A186,\"\")","v":""},{"$f":"IF(AND($F187>1.01,$F187<3.99),$A187,\"\")","v":""},{"$f":"IF(AND($F188>1.01,$F188<3.99),$A188,\"\")","v":""},{"$f":"IF(AND($F189>1.01,$F189<3.99),$A189,\"\")","v":""},{"$f":"IF(AND($F190>1.01,$F190<3.99),$A190,\"\")","v":""},{"$f":"IF(AND($F191>1.01,$F191<3.99),$A191,\"\")","v":""},{"$f":"IF(AND($F192>1.01,$F192<3.99),$A192,\"\")","v":""}]
["Constant Contact",null,null,null,null,{"$f":"Cane!H16","v":0},"hadn't had the opportunity to work on the skills in the area(s) of",null,null,null,null,null,null,{"$f":"IF(AND($F186>0.99,$F186<1.000001),$A186,\"\")","v":""},{"$f":"IF(AND($F187>0.99,$F187<1.000001),$A187,\"\")","v":""},{"$f":"IF(AND($F188>0.99,$F188<1.000001),$A188,\"\")","v":""},{"$f":"IF(AND($F189>0.99,$F189<1.000001),$A189,\"\")","v":""},{"$f":"IF(AND($F190>0.99,$F190<1.000001),$A190,\"\")","v":""},{"$f":"IF(AND($F191>0.99,$F191<1.000001),$A191,\"\")","v":""},{"$f":"IF(AND($F192>0.99,$F192<1.000001),$A192,\"\")","v":""}]
["Diagonal/Diagonal Trail",null,null,null,null,{"$f":"Cane!H22","v":0},"didn't need the skills in the area(s) of",null,null,null,null,null,null,{"$f":"IF($F186=0,$A186,\"\")","v":"Basic Skills"},{"$f":"IF($F187=0,$A187,\"\")","v":"Types Of Grips"},{"$f":"IF($F188=0,$A188,\"\")","v":"Constant Contact"},{"$f":"IF($F189=0,$A189,\"\")","v":"Diagonal/Diagonal Trail"},{"$f":"IF($F190=0,$A190,\"\")","v":"Two Point Touch/Touch Trail"},{"$f":"IF($F191=0,$A191,\"\")","v":"Touch And Drag"},{"$f":"IF($F192=0,$A192,\"\")","v":"Three Point Touch"}]
["Two Point Touch/Touch Trail",null,null,null,null,{"$f":"Cane!H28","v":0}]
["Touch And Drag",null,null,null,null,{"$f":"Cane!H35","v":0}]
["Three Point Touch",null,null,null,null,{"$f":"Cane!H42","v":0}]
["Sidewalk Travel Score:",null,null,null,null,null,"did well with the skills that made up the area(s) of",null,null,null,null,null,null,{"$f":"IF(F194>3.99,A194,\"\")","v":""},{"$f":"IF(F195>3.99,A195,\"\")","v":""},{"$f":"IF(F196>3.99,A196,\"\")","v":""}]
["Walking On Sidewalks",null,null,null,null,{"$f":"Sidewalk!H3","v":0},"had room for improvement with the skills that made up the area(s) of",null,null,null,null,null,null,{"$f":"IF(AND($F194>1.01,$F194<3.99),$A194,\"\")","v":""},{"$f":"IF(AND($F195>1.01,$F195<3.99),$A195,\"\")","v":""},{"$f":"IF(AND($F196>1.01,$F196<3.99),$A196,\"\")","v":""}]
["Walking On Irregular Sidewalks",null,null,null,null,{"$f":"Sidewalk!H15","v":0},"hadn't had the opportunity to work on the skills in the area(s) of",null,null,null,null,null,null,{"$f":"IF(AND($F194>0.99,$F194<1.000001),$A194,\"\")","v":""},{"$f":"IF(AND($F195>0.99,$F195<1.000001),$A195,\"\")","v":""},{"$f":"IF(AND($F196>0.99,$F196<1.000001),$A196,\"\")","v":""}]
["Correcting for Veering On Sidewalks",null,null,null,null,{"$f":"Sidewalk!H21","v":0},"didn't need the skills in the area(s) of",null,null,null,null,null,null,{"$f":"IF($F194=0,$A194,\"\")","v":"Walking On Sidewalks"},{"$f":"IF($F195=0,$A195,\"\")","v":"Walking On Irregular Sidewalks"},{"$f":"IF($F196=0,$A196,\"\")","v":"Correcting for Veering On Sidewalks"}]
["Street Crossings Score:"]
["Anticipating Street Crossings",null,null,null,null,{"$f":"StCross!H3","v":0},"did well with the skills that made up the area(s) of",null,null,null,null,null,null,{"$f":"IF(F198>3.99,A198,\"\")","v":""},{"$f":"IF(F199>3.99,A199,\"\")","v":""},{"$f":"IF(F200>3.99,A200,\"\")","v":""},{"$f":"IF(F201>3.99,A201,\"\")","v":""},{"$f":"IF(F202>3.99,A202,\"\")","v":""},{"$f":"IF(F203>3.99,A203,\"\")","v":""},{"$f":"IF(F204>3.99,A204,\"\")","v":""},{"$f":"IF(F205>3.99,A205,\"\")","v":""},{"$f":"IF(F206>3.99,A206,\"\")","v":""},{"$f":"IF(F207>3.99,A207,\"\")","v":""},{"$f":"IF(F208>3.99,A208,\"\")","v":""},{"$f":"IF(F209>3.99,A209,\"\")","v":""},{"$f":"IF(F210>3.99,A210,\"\")","v":""},{"$f":"IF(F211>3.99,A211,\"\")","v":""},{"$f":"IF(F212>3.99,A212,\"\")","v":""},{"$f":"IF(F213>3.99,A213,\"\")","v":""}]
["Maintaining Line Of Travel",null,null,null,null,{"$f":"StCross!H9","v":0},"had room for improvement with the skills that made up the area(s) of",null,null,null,null,null,null,{"$f":"IF(AND($F198>1.01,$F198<3.99),$A198,\"\")","v":""},{"$f":"IF(AND($F199>1.01,$F199<3.99),$A199,\"\")","v":""},{"$f":"IF(AND($F200>1.01,$F200<3.99),$A200,\"\")","v":""},{"$f":"IF(AND($F201>1.01,$F201<3.99),$A201,\"\")","v":""},{"$f":"IF(AND($F202>1.01,$F202<3.99),$A202,\"\")","v":""},{"$f":"IF(AND($F203>1.01,$F203<3.99),$A203,\"\")","v":""},{"$f":"IF(AND($F204>1.01,$F204<3.99),$A204,\"\")","v":""},{"$f":"IF(AND($F205>1.01,$F205<3.99),$A205,\"\")","v":""},{"$f":"IF(AND($F206>1.01,$F206<3.99),$A206,\"\")","v":""},{"$f":"IF(AND($F207>1.01,$F207<3.99),$A207,\"\")","v":""},{"$f":"IF(AND($F208>1.01,$F208<3.99),$A208,\"\")","v":""},{"$f":"IF(AND($F209>1.01,$F209<3.99),$A209,\"\")","v":""},{"$f":"IF(AND($F210>1.01,$F210<3.99),$A210,\"\")","v":""},{"$f":"IF(AND($F211>1.01,$F211<3.99),$A211,\"\")","v":""},{"$f":"IF(AND($F212>1.01,$F212<3.99),$A212,\"\")","v":""},{"$f":"IF(AND($F213>1.01,$F213<3.99),$A213,\"\")","v":""}]
["Maintaining Body Alignment",null,null,null,null,{"$f":"StCross!H10","v":0},"hadn't had the opportunity to work on the skills in the area(s) of",null,null,null,null,null,null,{"$f":"IF(AND($F198>0.99,$F198<1.000001),$A198,\"\")","v":""},{"$f":"IF(AND($F199>0.99,$F199<1.000001),$A199,\"\")","v":""},{"$f":"IF(AND($F200>0.99,$F200<1.000001),$A200,\"\")","v":""},{"$f":"IF(AND($F201>0.99,$F201<1.000001),$A201,\"\")","v":""},{"$f":"IF(AND($F202>0.99,$F202<1.000001),$A202,\"\")","v":""},{"$f":"IF(AND($F203>0.99,$F203<1.000001),$A203,\"\")","v":""},{"$f":"IF(AND($F204>0.99,$F204<1.000001),$A204,\"\")","v":""},{"$f":"IF(AND($F205>0.99,$F205<1.000001),$A205,\"\")","v":""},{"$f":"IF(AND($F206>0.99,$F206<1.000001),$A206,\"\")","v":""},{"$f":"IF(AND($F207>0.99,$F207<1.000001),$A207,\"\")","v":""},{"$f":"IF(AND($F208>0.99,$F208<1.000001),$A208,\"\")","v":""},{"$f":"IF(AND($F209>0.99,$F209<1.000001),$A209,\"\")","v":""},{"$f":"IF(AND($F210>0.99,$F210<1.000001),$A210,\"\")","v":""},{"$f":"IF(AND($F211>0.99,$F211<1.000001),$A211,\"\")","v":""},{"$f":"IF(AND($F212>0.99,$F212<1.000001),$A212,\"\")","v":""},{"$f":"IF(AND($F213>0.99,$F213<1.000001),$A213,\"\")","v":""}]
["Re-establishing Body Alignment",null,null,null,null,{"$f":"StCross!H14","v":0},"didn't need the skills in the area(s) of",null,null,null,null,null,null,{"$f":"IF($F198=0,$A198,\"\")","v":"Anticipating Street Crossings"},{"$f":"IF($F199=0,$A199,\"\")","v":"Maintaining Line Of Travel"},{"$f":"IF($F200=0,$A200,\"\")","v":"Maintaining Body Alignment"},{"$f":"IF($F201=0,$A201,\"\")","v":"Re-establishing Body Alignment"},{"$f":"IF($F202=0,$A202,\"\")","v":"Analyzing Intersections"},{"$f":"IF($F203=0,$A203,\"\")","v":"Plus Intersections"},{"$f":"IF($F204=0,$A204,\"\")","v":"T Intersections"},{"$f":"IF($F205=0,$A205,\"\")","v":"Y Intersections"},{"$f":"IF($F206=0,$A206,\"\")","v":"Roundabouts"},{"$f":"IF($F207=0,$A207,\"\")","v":"Significantly Offset Intersections"},{"$f":"IF($F208=0,$A208,\"\")","v":"Atypical Intersections"},{"$f":"IF($F209=0,$A209,\"\")","v":"Newly Developed Intersections"},{"$f":"IF($F210=0,$A210,\"\")","v":"Channelized Right Turn Lanes"},{"$f":"IF($F211=0,$A211,\"\")","v":"Veering"},{"$f":"IF($F212=0,$A212,\"\")","v":"Understanding Drivers’ Perspectives"},{"$f":"IF($F213=0,$A213,\"\")","v":"Pedestrian Signals"}]
["Analyzing Intersections",null,null,null,null,{"$f":"StCross!H18","v":0}]
["Plus Intersections",null,null,null,null,{"$f":"StCross!H34","v":0}]
["T Intersections",null,null,null,null,{"$f":"StCross!H53","v":0}]
["Y Intersections",null,null,null,null,{"$f":"StCross!H75","v":0}]
["Roundabouts",null,null,null,null,{"$f":"StCross!H100","v":0}]
["Significantly Offset Intersections",null,null,null,null,{"$f":"StCross!H115","v":0}]
["Atypical Intersections",null,null,null,null,{"$f":"StCross!H120","v":0}]
["Newly Developed Intersections",null,null,null,null,{"$f":"StCross!H130","v":0}]
["Channelized Right Turn Lanes",null,null,null,null,{"$f":"StCross!H138","v":0}]
["Veering",null,null,null,null,{"$f":"StCross!H148","v":0}]
["Understanding Drivers’ Perspectives",null,null,null,null,{"$f":"StCross!H162","v":0}]
["Pedestrian Signals",null,null,null,null,{"$f":"StCross!H171","v":0}]
["Orientation Skills and GPS Score:"]
["Cardinality",null,null,null,null,{"$f":"Orient!H3","v":0},"did well with the skills that made up the area(s) of",null,null,null,null,null,null,{"$f":"IF(F215>3.99,A215,\"\")","v":""},{"$f":"IF(F216>3.99,A216,\"\")","v":""},{"$f":"IF(F217>3.99,A217,\"\")","v":""},{"$f":"IF(F218>3.99,A218,\"\")","v":""},{"$f":"IF(F219>3.99,A219,\"\")","v":""},{"$f":"IF(F220>3.99,A220,\"\")","v":""},{"$f":"IF(F221>3.99,A221,\"\")","v":""},{"$f":"IF(F222>3.99,A222,\"\")","v":""},{"$f":"IF(F223>3.99,A223,\"\")","v":""},{"$f":"IF(F224>3.99,A224,\"\")","v":""}]
["Clues",null,null,null,null,{"$f":"Orient!H18","v":0},"had room for improvement with the skills that made up the area(s) of",null,null,null,null,null,null,{"$f":"IF(AND($F215>1.01,$F215<3.99),$A215,\"\")","v":""},{"$f":"IF(AND($F216>1.01,$F216<3.99),$A216,\"\")","v":""},{"$f":"IF(AND($F217>1.01,$F217<3.99),$A217,\"\")","v":""},{"$f":"IF(AND($F218>1.01,$F218<3.99),$A218,\"\")","v":""},{"$f":"IF(AND($F219>1.01,$F219<3.99),$A219,\"\")","v":""},{"$f":"IF(AND($F220>1.01,$F220<3.99),$A220,\"\")","v":""},{"$f":"IF(AND($F221>1.01,$F221<3.99),$A221,\"\")","v":""},{"$f":"IF(AND($F222>1.01,$F222<3.99),$A222,\"\")","v":""},{"$f":"IF(AND($F223>1.01,$F223<3.99),$A223,\"\")","v":""},{"$f":"IF(AND($F224>1.01,$F224<3.99),$A224,\"\")","v":""}]
["Landmarks",null,null,null,null,{"$f":"Orient!H24","v":0},"hadn't had the opportunity to work on the skills in the area(s) of",null,null,null,null,null,null,{"$f":"IF(AND($F215>0.99,$F215<1.000001),$A215,\"\")","v":""},{"$f":"IF(AND($F216>0.99,$F216<1.000001),$A216,\"\")","v":""},{"$f":"IF(AND($F217>0.99,$F217<1.000001),$A217,\"\")","v":""},{"$f":"IF(AND($F218>0.99,$F218<1.000001),$A218,\"\")","v":""},{"$f":"IF(AND($F219>0.99,$F219<1.000001),$A219,\"\")","v":""},{"$f":"IF(AND($F220>0.99,$F220<1.000001),$A220,\"\")","v":""},{"$f":"IF(AND($F221>0.99,$F221<1.000001),$A221,\"\")","v":""},{"$f":"IF(AND($F222>0.99,$F222<1.000001),$A222,\"\")","v":""},{"$f":"IF(AND($F223>0.99,$F223<1.000001),$A223,\"\")","v":""},{"$f":"IF(AND($F224>0.99,$F224<1.000001),$A224,\"\")","v":""}]
["Indoor Numbering Systems",null,null,null,null,{"$f":"Orient!H30","v":0},"didn't need the skills in the area(s) of",null,null,null,null,null,null,{"$f":"IF($F215=0,$A215,\"\")","v":"Cardinality"},{"$f":"IF($F216=0,$A216,\"\")","v":"Clues"},{"$f":"IF($F217=0,$A217,\"\")","v":"Landmarks"},{"$f":"IF($F218=0,$A218,\"\")","v":"Indoor Numbering Systems"},{"$f":"IF($F219=0,$A219,\"\")","v":"Outdoor Numbering Systems"},{"$f":"IF($F220=0,$A220,\"\")","v":"Grid System"},{"$f":"IF($F221=0,$A221,\"\")","v":"Divisors And Block Numbering"},{"$f":"IF($F222=0,$A222,\"\")","v":"Transferability"},{"$f":"IF($F223=0,$A223,\"\")","v":"GPS"},{"$f":"IF($F224=0,$A224,\"\")","v":"Maps"}]
["Outdoor Numbering Systems",null,null,null,null,{"$f":"Orient!H36","v":0}]
["Grid System",null,null,null,null,{"$f":"Orient!H42","v":0}]
["Divisors And Block Numbering",null,null,null,null,{"$f":"Orient!H53","v":0}]
["Transferability",null,null,null,null,{"$f":"Orient!H60","v":0}]
["GPS",null,null,null,null,{"$f":"Orient!H64","v":0}]
["Maps",null,null,null,null,{"$f":"Orient!H72","v":0}]
["Public Transportation Score:"]
["Identifying Common Public Transportation Options",null,null,null,null,{"$f":"PubTran!H3","v":0},"did well with the skills that made up the area(s) of",null,null,null,null,null,null,{"$f":"IF(F226>3.99,A226,\"\")","v":""},{"$f":"IF(F227>3.99,A227,\"\")","v":""},{"$f":"IF(F228>3.99,A228,\"\")","v":""},{"$f":"IF(F229>3.99,A229,\"\")","v":""},{"$f":"IF(F230>3.99,A230,\"\")","v":""},{"$f":"IF(F231>3.99,A231,\"\")","v":""},{"$f":"IF(F232>3.99,A232,\"\")","v":""}]
["Intra-City Bus Travel",null,null,null,null,{"$f":"PubTran!H4","v":0},"had room for improvement with the skills that made up the area(s) of",null,null,null,null,null,null,{"$f":"IF(AND($F226>1.01,$F226<3.99),$A226,\"\")","v":""},{"$f":"IF(AND($F227>1.01,$F227<3.99),$A227,\"\")","v":""},{"$f":"IF(AND($F228>1.01,$F228<3.99),$A228,\"\")","v":""},{"$f":"IF(AND($F229>1.01,$F229<3.99),$A229,\"\")","v":""},{"$f":"IF(AND($F230>1.01,$F230<3.99),$A230,\"\")","v":""},{"$f":"IF(AND($F231>1.01,$F231<3.99),$A231,\"\")","v":""},{"$f":"IF(AND($F232>1.01,$F232<3.99),$A232,\"\")","v":""}]
["Inter-City Bus Travel",null,null,null,null,{"$f":"PubTran!H22","v":0},"hadn't had the opportunity to work on the skills in the area(s) of",null,null,null,null,null,null,{"$f":"IF(AND($F226>0.99,$F226<1.000001),$A226,\"\")","v":""},{"$f":"IF(AND($F227>0.99,$F227<1.000001),$A227,\"\")","v":""},{"$f":"IF(AND($F228>0.99,$F228<1.000001),$A228,\"\")","v":""},{"$f":"IF(AND($F229>0.99,$F229<1.000001),$A229,\"\")","v":""},{"$f":"IF(AND($F230>0.99,$F230<1.000001),$A230,\"\")","v":""},{"$f":"IF(AND($F231>0.99,$F231<1.000001),$A231,\"\")","v":""},{"$f":"IF(AND($F232>0.99,$F232<1.000001),$A232,\"\")","v":""}]
["Taxi/Ride Service",null,null,null,null,{"$f":"PubTran!H38","v":0},"didn't need the skills in the area(s) of",null,null,null,null,null,null,{"$f":"IF($F226=0,$A226,\"\")","v":"Identifying Common Public Transportation Options"},{"$f":"IF($F227=0,$A227,\"\")","v":"Intra-City Bus Travel"},{"$f":"IF($F228=0,$A228,\"\")","v":"Inter-City Bus Travel"},{"$f":"IF($F229=0,$A229,\"\")","v":"Taxi/Ride Service"},{"$f":"IF($F230=0,$A230,\"\")","v":"Handi-Ride/Para Transit"},{"$f":"IF($F231=0,$A231,\"\")","v":"Air Travel"},{"$f":"IF($F232=0,$A232,\"\")","v":"Subway/Light Rail"}]
["Handi-Ride/Para Transit",null,null,null,null,{"$f":"PubTran!H45","v":0}]
["Air Travel",null,null,null,null,{"$f":"PubTran!H49","v":0}]
["Subway/Light Rail",null,null,null,null,{"$f":"PubTran!H65","v":0}]
["Atypical O&M Score:"]
["Fences",null,null,null,null,{"$f":"Atyp!H3","v":0},"did well with the skills that made up the area(s) of",null,null,null,null,null,null,{"$f":"IF(F234>3.99,A234,\"\")","v":""},{"$f":"IF(F235>3.99,A235,\"\")","v":""},{"$f":"IF(F236>3.99,A236,\"\")","v":""},{"$f":"IF(F237>3.99,A237,\"\")","v":""}]
["Fields (Urban)",null,null,null,null,{"$f":"Atyp!H7","v":0},"had room for improvement with the skills that made up the area(s) of",null,null,null,null,null,null,{"$f":"IF(AND($F234>1.01,$F234<3.99),$A234,\"\")","v":""},{"$f":"IF(AND($F235>1.01,$F235<3.99),$A235,\"\")","v":""},{"$f":"IF(AND($F236>1.01,$F236<3.99),$A236,\"\")","v":""},{"$f":"IF(AND($F237>1.01,$F237<3.99),$A237,\"\")","v":""}]
["Parks/Playgrounds",null,null,null,null,{"$f":"Atyp!H13","v":0},"hadn't had the opportunity to work on the skills in the area(s) of",null,null,null,null,null,null,{"$f":"IF(AND($F234>0.99,$F234<1.000001),$A234,\"\")","v":""},{"$f":"IF(AND($F235>0.99,$F235<1.000001),$A235,\"\")","v":""},{"$f":"IF(AND($F236>0.99,$F236<1.000001),$A236,\"\")","v":""},{"$f":"IF(AND($F237>0.99,$F237<1.000001),$A237,\"\")","v":""}]
["Inclement Weather",null,null,null,null,{"$f":"Atyp!H21","v":0},"didn't need the skills in the area(s) of",null,null,null,null,null,null,{"$f":"IF($F234=0,$A234,\"\")","v":"Fences"},{"$f":"IF($F235=0,$A235,\"\")","v":"Fields (Urban)"},{"$f":"IF($F236=0,$A236,\"\")","v":"Parks/Playgrounds"},{"$f":"IF($F237=0,$A237,\"\")","v":"Inclement Weather"}]
["Rural Travel Score:"]
["Understanding Unique Dangers Related To Rural Travel",null,null,null,null,{"$f":"Rural!H3","v":0},"did well with the skills that made up the area(s) of",null,null,null,null,null,null,{"$f":"IF(F239>3.99,A239,\"\")","v":""},{"$f":"IF(F240>3.99,A240,\"\")","v":""},{"$f":"IF(F241>3.99,A241,\"\")","v":""},{"$f":"IF(F242>3.99,A242,\"\")","v":""},{"$f":"IF(F243>3.99,A243,\"\")","v":""}]
["Walking Along Rural Roads",null,null,null,null,{"$f":"Rural!H9","v":0},"had room for improvement with the skills that made up the area(s) of",null,null,null,null,null,null,{"$f":"IF(AND($F239>1.01,$F239<3.99),$A239,\"\")","v":""},{"$f":"IF(AND($F240>1.01,$F240<3.99),$A240,\"\")","v":""},{"$f":"IF(AND($F241>1.01,$F241<3.99),$A241,\"\")","v":""},{"$f":"IF(AND($F242>1.01,$F242<3.99),$A242,\"\")","v":""},{"$f":"IF(AND($F243>1.01,$F243<3.99),$A243,\"\")","v":""}]
["Ditches/Arroyos",null,null,null,null,{"$f":"Rural!H15","v":0},"hadn't had the opportunity to work on the skills in the area(s) of",null,null,null,null,null,null,{"$f":"IF(AND($F239>0.99,$F239<1.000001),$A239,\"\")","v":""},{"$f":"IF(AND($F240>0.99,$F240<1.000001),$A240,\"\")","v":""},{"$f":"IF(AND($F241>0.99,$F241<1.000001),$A241,\"\")","v":""},{"$f":"IF(AND($F242>0.99,$F242<1.000001),$A242,\"\")","v":""},{"$f":"IF(AND($F243>0.99,$F243<1.000001),$A243,\"\")","v":""}]
["Identifying And Going Around Items In Rural Areas",null,null,null,null,{"$f":"Rural!H22","v":0},"didn't need the skills in the area(s) of",null,null,null,null,null,null,{"$f":"IF($F239=0,$A239,\"\")","v":"Understanding Unique Dangers Related To Rural Travel"},{"$f":"IF($F240=0,$A240,\"\")","v":"Walking Along Rural Roads"},{"$f":"IF($F241=0,$A241,\"\")","v":"Ditches/Arroyos"},{"$f":"IF($F242=0,$A242,\"\")","v":"Identifying And Going Around Items In Rural Areas"},{"$f":"IF($F243=0,$A243,\"\")","v":"Rural Street Crossings"}]
["Rural Street Crossings",null,null,null,null,{"$f":"Rural!H28","v":0}]
["Vision Specific O&M Skills Score:"]
["Scanning Materials",null,null,null,null,{"$f":"VisSpec!H3","v":0},"did well with the skills that made up the area(s) of",null,null,null,null,null,null,{"$f":"IF(F245>3.99,A245,\"\")","v":""},{"$f":"IF(F246>3.99,A246,\"\")","v":""},{"$f":"IF(F247>3.99,A247,\"\")","v":""},{"$f":"IF(F248>3.99,A248,\"\")","v":""},{"$f":"IF(F249>3.99,A249,\"\")","v":""}]
["Scanning Environments",null,null,null,null,{"$f":"VisSpec!H10","v":0},"had room for improvement with the skills that made up the area(s) of",null,null,null,null,null,null,{"$f":"IF(AND($F245>1.01,$F245<3.99),$A245,\"\")","v":""},{"$f":"IF(AND($F246>1.01,$F246<3.99),$A246,\"\")","v":""},{"$f":"IF(AND($F247>1.01,$F247<3.99),$A247,\"\")","v":""},{"$f":"IF(AND($F248>1.01,$F248<3.99),$A248,\"\")","v":""},{"$f":"IF(AND($F249>1.01,$F249<3.99),$A249,\"\")","v":""}]
["Magnifiers And CCTVs",null,null,null,null,{"$f":"VisSpec!H17","v":0},"hadn't had the opportunity to work on the skills in the area(s) of",null,null,null,null,null,null,{"$f":"IF(AND($F245>0.99,$F245<1.000001),$A245,\"\")","v":""},{"$f":"IF(AND($F246>0.99,$F246<1.000001),$A246,\"\")","v":""},{"$f":"IF(AND($F247>0.99,$F247<1.000001),$A247,\"\")","v":""},{"$f":"IF(AND($F248>0.99,$F248<1.000001),$A248,\"\")","v":""},{"$f":"IF(AND($F249>0.99,$F249<1.000001),$A249,\"\")","v":""}]
["Monoculars",null,null,null,null,{"$f":"VisSpec!H21","v":0},"didn't need the skills in the area(s) of",null,null,null,null,null,null,{"$f":"IF($F245=0,$A245,\"\")","v":"Scanning Materials"},{"$f":"IF($F246=0,$A246,\"\")","v":"Scanning Environments"},{"$f":"IF($F247=0,$A247,\"\")","v":"Magnifiers And CCTVs"},{"$f":"IF($F248=0,$A248,\"\")","v":"Monoculars"},{"$f":"IF($F249=0,$A249,\"\")","v":"Visual Traveling"}]
["Visual Traveling",null,null,null,null,{"$f":"VisSpec!H27","v":0}]
["Community Score:"]
["Comparison Shopping From Home",null,null,null,null,{"$f":"Commun!H3","v":0},"did well with the skills that made up the area(s) of",null,null,null,null,null,null,{"$f":"IF(F251>3.99,A251,\"\")","v":""},{"$f":"IF(F252>3.99,A252,\"\")","v":""},{"$f":"IF(F253>3.99,A253,\"\")","v":""},{"$f":"IF(F254>3.99,A254,\"\")","v":""},{"$f":"IF(F255>3.99,A255,\"\")","v":""}]
["Stores",null,null,null,null,{"$f":"Commun!H7","v":0},"had room for improvement with the skills that made up the area(s) of",null,null,null,null,null,null,{"$f":"IF(AND($F251>1.01,$F251<3.99),$A251,\"\")","v":""},{"$f":"IF(AND($F252>1.01,$F252<3.99),$A252,\"\")","v":""},{"$f":"IF(AND($F253>1.01,$F253<3.99),$A253,\"\")","v":""},{"$f":"IF(AND($F254>1.01,$F254<3.99),$A254,\"\")","v":""},{"$f":"IF(AND($F255>1.01,$F255<3.99),$A255,\"\")","v":""}]
["Fast Food Restaurants",null,null,null,null,{"$f":"Commun!H19","v":0},"hadn't had the opportunity to work on the skills in the area(s) of",null,null,null,null,null,null,{"$f":"IF(AND($F251>0.99,$F251<1.000001),$A251,\"\")","v":""},{"$f":"IF(AND($F252>0.99,$F252<1.000001),$A252,\"\")","v":""},{"$f":"IF(AND($F253>0.99,$F253<1.000001),$A253,\"\")","v":""},{"$f":"IF(AND($F254>0.99,$F254<1.000001),$A254,\"\")","v":""},{"$f":"IF(AND($F255>0.99,$F255<1.000001),$A255,\"\")","v":""}]
["Cafeteria Restaurants",null,null,null,null,{"$f":"Commun!H30","v":0},"didn't need the skills in the area(s) of",null,null,null,null,null,null,{"$f":"IF($F251=0,$A251,\"\")","v":"Comparison Shopping From Home"},{"$f":"IF($F252=0,$A252,\"\")","v":"Stores"},{"$f":"IF($F253=0,$A253,\"\")","v":"Fast Food Restaurants"},{"$f":"IF($F254=0,$A254,\"\")","v":"Cafeteria Restaurants"},{"$f":"IF($F255=0,$A255,\"\")","v":"Sit Down Restaurants"}]
["Sit Down Restaurants",null,null,null,null,{"$f":"Commun!H41","v":0}]
[]
[]
[]
[null,null,null,null,null,null,"demonstrated","of the skills needed to travel independently as an adult."]
[{"$f":"G5","v":0},"Concepts",null,null,null,null,"did well with the skills that made up the domain(s) of",null,null,null,null,null,null,{"$f":"IF(A260>79.999999999,B260,\"\")","v":""},{"$f":"IF(A261>79.999999999,B261,\"\")","v":""},{"$f":"IF(A262>79.999999999,B262,\"\")","v":""},{"$f":"IF(A263>79.999999999,B263,\"\")","v":""},{"$f":"IF(A264>79.999999999,B264,\"\")","v":""},{"$f":"IF(A265>79.999999999,B265,\"\")","v":""},{"$f":"IF(A266>79.999999999,B266,\"\")","v":""},{"$f":"IF(A267>79.999999999,B267,\"\")","v":""},{"$f":"IF(A268>79.999999999,B268,\"\")","v":""},{"$f":"IF(A269>79.999999999,B269,\"\")","v":""},{"$f":"IF(A270>79.999999999,B270,\"\")","v":""},{"$f":"IF(A271>79.999999999,B271,\"\")","v":""},{"$f":"IF(A272>79.999999999,B272,\"\")","v":""},{"$f":"IF(A273>79.999999999,B273,\"\")","v":""},{"$f":"IF(A274>79.999999999,B274,\"\")","v":""}]
[{"$f":"G11","v":0},"Movement",null,null,null,null,"had room for improvement with the skills that made up the domain(s) of",null,null,null,null,null,null,{"$f":"IF(AND($A260>20.000001,$A260<79.999999998),$B260,\"\")","v":""},{"$f":"IF(AND($A261>20.000001,$A261<79.999999998),$B261,\"\")","v":""},{"$f":"IF(AND($A262>20.000001,$A262<79.999999998),$B262,\"\")","v":""},{"$f":"IF(AND($A263>20.000001,$A263<79.999999998),$B263,\"\")","v":""},{"$f":"IF(AND($A264>20.000001,$A264<79.999999998),$B264,\"\")","v":""},{"$f":"IF(AND($A265>20.000001,$A265<79.999999998),$B265,\"\")","v":""},{"$f":"IF(AND($A266>20.000001,$A266<79.999999998),$B266,\"\")","v":""},{"$f":"IF(AND($A267>20.000001,$A267<79.999999998),$B267,\"\")","v":""},{"$f":"IF(AND($A268>20.000001,$A268<79.999999998),$B268,\"\")","v":""},{"$f":"IF(AND($A269>20.000001,$A269<79.999999998),$B269,\"\")","v":""},{"$f":"IF(AND($A270>20.000001,$A270<79.999999998),$B270,\"\")","v":""},{"$f":"IF(AND($A271>20.000001,$A271<79.999999998),$B271,\"\")","v":""},{"$f":"IF(AND($A272>20.000001,$A272<79.999999998),$B272,\"\")","v":""},{"$f":"IF(AND($A273>20.000001,$A273<79.999999998),$B273,\"\")","v":""},{"$f":"IF(AND($A274>20.000001,$A274<79.999999998),$B274,\"\")","v":""}]
[{"$f":"G17","v":0},"Single Room O&M",null,null,null,null,"hadn't had the opportunity to work on the skills that made up the domain(s) of",null,null,null,null,null,null,{"$f":"IF(AND($A260>19.9,$A260<20.1),$B260,\"\")","v":""},{"$f":"IF(AND($A261>19.9,$A261<20.1),$B261,\"\")","v":""},{"$f":"IF(AND($A262>19.9,$A262<20.1),$B262,\"\")","v":""},{"$f":"IF(AND($A263>19.9,$A263<20.1),$B263,\"\")","v":""},{"$f":"IF(AND($A264>19.9,$A264<20.1),$B264,\"\")","v":""},{"$f":"IF(AND($A265>19.9,$A265<20.1),$B265,\"\")","v":""},{"$f":"IF(AND($A266>19.9,$A266<20.1),$B266,\"\")","v":""},{"$f":"IF(AND($A267>19.9,$A267<20.1),$B267,\"\")","v":""},{"$f":"IF(AND($A268>19.9,$A268<20.1),$B268,\"\")","v":""},{"$f":"IF(AND($A269>19.9,$A269<20.1),$B269,\"\")","v":""},{"$f":"IF(AND($A270>19.9,$A270<20.1),$B270,\"\")","v":""},{"$f":"IF(AND($A271>19.9,$A271<20.1),$B271,\"\")","v":""},{"$f":"IF(AND($A272>19.9,$A272<20.1),$B272,\"\")","v":""},{"$f":"IF(AND($A273>19.9,$A273<20.1),$B273,\"\")","v":""},{"$f":"IF(AND($A274>19.9,$A274<20.1),$B274,\"\")","v":""}]
[{"$f":"G23","v":0},"Indoor O&M",null,null,null,null,"had no need for the skills that made up the domain(s) of",null,null,null,null,null,null,{"$f":"IF($A260=0,$B260,\"\")","v":"Concepts"},{"$f":"IF($A261=0,$B261,\"\")","v":"Movement"},{"$f":"IF($A262=0,$B262,\"\")","v":"Single Room O&M"},{"$f":"IF($A263=0,$B263,\"\")","v":"Indoor O&M"},{"$f":"IF($A264=0,$B264,\"\")","v":"Self Protection"},{"$f":"IF($A265=0,$B265,\"\")","v":"Guided Travel"},{"$f":"IF($A266=0,$B266,\"\")","v":"Cane Skills"},{"$f":"IF($A267=0,$B267,\"\")","v":"Sidewalk Travel"},{"$f":"IF($A268=0,$B268,\"\")","v":"Street Crossings"},{"$f":"IF($A269=0,$B269,\"\")","v":"Orientation Skills & GPS"},{"$f":"IF($A270=0,$B270,\"\")","v":"Public Transportation"},{"$f":"IF($A271=0,$B271,\"\")","v":"Atypical O&M"},{"$f":"IF($A272=0,$B272,\"\")","v":"Rural Travel"},{"$f":"IF($A273=0,$B273,\"\")","v":"Vision Specific O&M Skills"},{"$f":"IF($A274=0,$B274,\"\")","v":"Community "}]
[{"$f":"G29","v":0},"Self Protection"]
[{"$f":"G35","v":0},"Guided Travel"]
[{"$f":"G41","v":0},"Cane Skills"]
[{"$f":"G47","v":0},"Sidewalk Travel"]
[{"$f":"G53","v":0},"Street Crossings"]
[{"$f":"G59","v":0},"Orientation Skills & GPS"]
[{"$f":"G65","v":0},"Public Transportation"]
[{"$f":"G71","v":0},"Atypical O&M"]
[{"$f":"G77","v":0},"Rural Travel"]
[{"$f":"G83","v":0},"Vision Specific O&M Skills"]
[{"$f":"G89","v":0},"Community "]
[]
["will demonstrate improved skills in Orientation & Mobility by increasing the score on the O&M Inventory from"]
["to a minimum of"]
["by the next annual IEP date."]
["Please see the attached chart. "]
["Over the previous grading period"]
["increased the score on the O&M Inventory from"]
["to"]
["and is now"]
["of the way to the goal of"]
["made gains in the domain(s) of"]
[{"$f":"IF($D286>$C286,$B260,\"\")","v":""},{"$f":"Front!B3","v":0},{"$f":"Front!C3","v":0},{"$f":"Front!D3","v":0},{"$f":"Front!E3","v":0},{"$f":"Front!F3","v":0},{"$f":"Front!G3","v":0},{"$f":"Front!H3","v":0},{"$f":"Front!I3","v":0},{"$f":"Front!J3","v":0},{"$f":"Front!K3","v":0},{"$f":"Front!L3","v":0},{"$f":"Front!M3","v":0}]
["",{"$f":"Front!B4","v":0},{"$f":"Front!C4","v":0},{"$f":"Front!D4","v":0},{"$f":"Front!E4","v":0},{"$f":"Front!F4","v":0},{"$f":"Front!G4","v":0},{"$f":"Front!H4","v":0},{"$f":"Front!I4","v":0},{"$f":"Front!J4","v":0},{"$f":"Front!K4","v":0},{"$f":"Front!L4","v":0},{"$f":"Front!M4","v":0}]
["",{"$f":"Front!B5","v":0},{"$f":"Front!C5","v":0},{"$f":"Front!D5","v":0},{"$f":"Front!E5","v":0},{"$f":"Front!F5","v":0},{"$f":"Front!G5","v":0},{"$f":"Front!H5","v":0},{"$f":"Front!I5","v":0},{"$f":"Front!J5","v":0},{"$f":"Front!K5","v":0},{"$f":"Front!L5","v":0},{"$f":"Front!M5","v":0}]
["",{"$f":"Front!B6","v":0},{"$f":"Front!C6","v":0},{"$f":"Front!D6","v":0},{"$f":"Front!E6","v":0},{"$f":"Front!F6","v":0},{"$f":"Front!G6","v":0},{"$f":"Front!H6","v":0},{"$f":"Front!I6","v":0},{"$f":"Front!J6","v":0},{"$f":"Front!K6","v":0},{"$f":"Front!L6","v":0},{"$f":"Front!M6","v":0}]
["",{"$f":"Front!B7","v":0},{"$f":"Front!C7","v":0},{"$f":"Front!D7","v":0},{"$f":"Front!E7","v":0},{"$f":"Front!F7","v":0},{"$f":"Front!G7","v":0},{"$f":"Front!H7","v":0},{"$f":"Front!I7","v":0},{"$f":"Front!J7","v":0},{"$f":"Front!K7","v":0},{"$f":"Front!L7","v":0},{"$f":"Front!M7","v":0}]
["",{"$f":"Front!B8","v":0},{"$f":"Front!C8","v":0},{"$f":"Front!D8","v":0},{"$f":"Front!E8","v":0},{"$f":"Front!F8","v":0},{"$f":"Front!G8","v":0},{"$f":"Front!H8","v":0},{"$f":"Front!I8","v":0},{"$f":"Front!J8","v":0},{"$f":"Front!K8","v":0},{"$f":"Front!L8","v":0},{"$f":"Front!M8","v":0}]
["",{"$f":"Front!B9","v":0},{"$f":"Front!C9","v":0},{"$f":"Front!D9","v":0},{"$f":"Front!E9","v":0},{"$f":"Front!F9","v":0},{"$f":"Front!G9","v":0},{"$f":"Front!H9","v":0},{"$f":"Front!I9","v":0},{"$f":"Front!J9","v":0},{"$f":"Front!K9","v":0},{"$f":"Front!L9","v":0},{"$f":"Front!M9","v":0}]
["",{"$f":"Front!B10","v":0},{"$f":"Front!C10","v":0},{"$f":"Front!D10","v":0},{"$f":"Front!E10","v":0},{"$f":"Front!F10","v":0},{"$f":"Front!G10","v":0},{"$f":"Front!H10","v":0},{"$f":"Front!I10","v":0},{"$f":"Front!J10","v":0},{"$f":"Front!K10","v":0},{"$f":"Front!L10","v":0},{"$f":"Front!M10","v":0}]
["",{"$f":"Front!B11","v":0},{"$f":"Front!C11","v":0},{"$f":"Front!D11","v":0},{"$f":"Front!E11","v":0},{"$f":"Front!F11","v":0},{"$f":"Front!G11","v":0},{"$f":"Front!H11","v":0},{"$f":"Front!I11","v":0},{"$f":"Front!J11","v":0},{"$f":"Front!K11","v":0},{"$f":"Front!L11","v":0},{"$f":"Front!M11","v":0}]
["",{"$f":"Front!B12","v":0},{"$f":"Front!C12","v":0},{"$f":"Front!D12","v":0},{"$f":"Front!E12","v":0},{"$f":"Front!F12","v":0},{"$f":"Front!G12","v":0},{"$f":"Front!H12","v":0},{"$f":"Front!I12","v":0},{"$f":"Front!J12","v":0},{"$f":"Front!K12","v":0},{"$f":"Front!L12","v":0},{"$f":"Front!M12","v":0}]
["",{"$f":"Front!B13","v":0},{"$f":"Front!C13","v":0},{"$f":"Front!D13","v":0},{"$f":"Front!E13","v":0},{"$f":"Front!F13","v":0},{"$f":"Front!G13","v":0},{"$f":"Front!H13","v":0},{"$f":"Front!I13","v":0},{"$f":"Front!J13","v":0},{"$f":"Front!K13","v":0},{"$f":"Front!L13","v":0},{"$f":"Front!M13","v":0}]
["",{"$f":"Front!B14","v":0},{"$f":"Front!C14","v":0},{"$f":"Front!D14","v":0},{"$f":"Front!E14","v":0},{"$f":"Front!F14","v":0},{"$f":"Front!G14","v":0},{"$f":"Front!H14","v":0},{"$f":"Front!I14","v":0},{"$f":"Front!J14","v":0},{"$f":"Front!K14","v":0},{"$f":"Front!L14","v":0},{"$f":"Front!M14","v":0}]
["",{"$f":"Front!B15","v":0},{"$f":"Front!C15","v":0},{"$f":"Front!D15","v":0},{"$f":"Front!E15","v":0},{"$f":"Front!F15","v":0},{"$f":"Front!G15","v":0},{"$f":"Front!H15","v":0},{"$f":"Front!I15","v":0},{"$f":"Front!J15","v":0},{"$f":"Front!K15","v":0},{"$f":"Front!L15","v":0},{"$f":"Front!M15","v":0}]
["",{"$f":"Front!B16","v":0},{"$f":"Front!C16","v":0},{"$f":"Front!D16","v":0},{"$f":"Front!E16","v":0},{"$f":"Front!F16","v":0},{"$f":"Front!G16","v":0},{"$f":"Front!H16","v":0},{"$f":"Front!I16","v":0},{"$f":"Front!J16","v":0},{"$f":"Front!K16","v":0},{"$f":"Front!L16","v":0},{"$f":"Front!M16","v":0}]
["",{"$f":"Front!B17","v":0},{"$f":"Front!C17","v":0},{"$f":"Front!D17","v":0},{"$f":"Front!E17","v":0},{"$f":"Front!F17","v":0},{"$f":"Front!G17","v":0},{"$f":"Front!H17","v":0},{"$f":"Front!I17","v":0},{"$f":"Front!J17","v":0},{"$f":"Front!K17","v":0},{"$f":"Front!L17","v":0},{"$f":"Front!M17","v":0}]

{"sheet":"R4","index":19,"n_rows":300,"n_cols":29,"rows_kept":300,"cut":false,"hidden":false,"merged":[]}
[{"$f":"'R1'!A1","v":0},"← TYPE STUDENT NAME IN GREEN BOX",null,null,null,null,null,null,null,null,null,null,null,null,"%prog","total","tot round","%pr rnd","goal"]
["↓ HIGHLIGHT & COPY WHITE CELLS; PASTE IN WORD DOCUMENT AS \"KEEP TEXT ONLY\" OR \"UNFORMATTED\"",null,null,null,null,null,null,null,null,null,null,null,null,null,{"$f":"Front!B20","v":0},{"$f":"Front!B18","v":0},{"$f":"ROUND(P2,2)","v":0},{"$f":"ROUND(O2,2)","v":0},{"$f":"Front!B19","v":1}]
[{"$f":"CONCATENATE(A150,\" \",K3,\"%\")","v":"NMSBVI O&M INVENTORY TOTAL SCORE:  0%"},null,null,null,null,null,null,null,null,{"$f":"Front!E18","v":0},{"$f":"ROUND(J3,2)","v":0},null,null,null,{"$f":"Front!C20","v":0},{"$f":"Front!C18","v":0},0,0,{"$f":"Front!C19","v":1}]
[null,null,null,null,null,null,null,null,null,null,null,null,null,null,{"$f":"Front!D20","v":0},{"$f":"Front!D18","v":0},0,0,{"$f":"Front!D19","v":1}]
[{"$f":"CONCATENATE(A151,\" \",H5,\"%\")","v":"Concepts Score: 0%"},null,null,null,null,null,{"$f":"Front!E3","v":0},{"$f":"ROUND(G5,1)","v":0},"← Don't worry about these 2 numbers",null,null,null,null,null,{"$f":"Front!E20","v":0},{"$f":"Front!E18","v":0},0,0,{"$f":"Front!E19","v":1}]
[{"$f":"CONCATENATE($A1,\" \",G152,\" \",N152,\", \",O152,\", \",P152,\", \",Q152)","v":"0 did well with the skills that made up the area(s) of , , , "},null,null,null,null,null,null,null,null,null,null,null,null,null,{"$f":"Front!F20","v":0},{"$f":"Front!F18","v":0},0,0,{"$f":"Front!F19","v":1}]
[{"$f":"CONCATENATE($A1,\" \",G153,\" \",N153,\", \",O153,\", \",P153,\", \",Q153)","v":"0 had room for improvement with the skills that made up the area(s) of , , , "},null,null,null,null,null,null,null,null,null,null,null,null,null,{"$f":"Front!G20","v":0},{"$f":"Front!H18","v":0},0,0,{"$f":"Front!G19","v":1}]
[{"$f":"CONCATENATE($A1,\" \",G154,\" \",N154,\", \",O154,\", \",P154,\", \",Q154)","v":"0 hadn't had the opportunity to work on the skills in the area(s) of , , , "},null,null,null,null,null,null,null,null,null,null,null,null,null,{"$f":"Front!H20","v":0},{"$f":"Front!H18","v":0},0,0,{"$f":"Front!H19","v":1}]
[{"$f":"CONCATENATE($A1,\" \",G155,\" \",N155,\", \",O155,\", \",P155,\", \",Q155)","v":"0 didn't need the skills in the area(s) of Vocabulary, Laterality, Parallel/Perpendicular, Time And Distance"},null,null,null,null,null,null,null,null,null,null,null,null,null,{"$f":"Front!I20","v":0},{"$f":"Front!I18","v":0},0,0,{"$f":"Front!I19","v":1}]
[null,null,null,null,null,null,null,null,null,null,null,null,null,null,{"$f":"Front!J20","v":0},{"$f":"Front!J18","v":0},0,0,{"$f":"Front!J19","v":1}]
[{"$f":"CONCATENATE(A156,\" \",H11,\"%\")","v":"Movement Score: 0%"},null,null,null,null,null,{"$f":"Front!E4","v":0},{"$f":"ROUND(G11,1)","v":0},null,null,null,null,null,null,{"$f":"Front!K20","v":0},{"$f":"Front!K18","v":0},0,0,{"$f":"Front!K19","v":1}]
[{"$f":"CONCATENATE($A1,\" \",G157,\" \",N157,\", \",O157,\", \",P157,\", \",Q157)","v":"0 did well with the skills that made up the area(s) of , , , "},null,null,null,null,null,null,null,null,null,null,null,null,null,{"$f":"Front!L20","v":0},{"$f":"Front!L18","v":0},0,0,{"$f":"Front!L19","v":1}]
[{"$f":"CONCATENATE($A1,\" \",G158,\" \",N158,\", \",O158,\", \",P158,\", \",Q158)","v":"0 had room for improvement with the skills that made up the area(s) of , , , "},null,null,null,null,null,null,null,null,null,null,null,null,null,{"$f":"Front!M20","v":0},{"$f":"Front!M18","v":0},0,0,{"$f":"Front!M19","v":1}]
[{"$f":"CONCATENATE($A1,\" \",G159,\" \",N159,\", \",O159,\", \",P159,\", \",Q159)","v":"0 hadn't had the opportunity to work on the skills in the area(s) of , , , "},null,null,null,null,null,null,null,null,null,null,null,null,null,"↑ Don't worry about this chart"]
[{"$f":"CONCATENATE($A1,\" \",G160,\" \",N160,\", \",O160,\", \",P160,\", \",Q160)","v":"0 didn't need the skills in the area(s) of Walking, Maintaining Body Alignment While Walking, Balance, Turns"}]
[null,null,null,null,null,null,"DO NOT HIGHLIGHT & COPY ANY OF THE GREY CELLS; ALL THE TEXT YOU NEED IS IN WHITE CELLS"]
[{"$f":"CONCATENATE(A161,\" \",H17,\"%\")","v":"Single Room O&M Score: 0%"},null,null,null,null,null,{"$f":"Front!E5","v":0},{"$f":"ROUND(G17,1)","v":0}]
[{"$f":"CONCATENATE($A1,\" \",G162,\" \",N162,\", \",O162,\", \",P162,\", \",Q162,\", \",R162)","v":"0 did well with the skills that made up the area(s) of , , , , "}]
[{"$f":"CONCATENATE($A1,\" \",G163,\" \",N163,\", \",O163,\", \",P163,\", \",Q163,\", \",R163)","v":"0 had room for improvement with the skills that made up the area(s) of , , , , "}]
[{"$f":"CONCATENATE($A1,\" \",G164,\" \",N164,\", \",O164,\", \",P164,\", \",Q164,\", \",R164)","v":"0 hadn't had the opportunity to work on the skills in the area(s) of , , , , "}]
[{"$f":"CONCATENATE($A1,\" \",G165,\" \",N165,\", \",O165,\", \",P165,\", \",Q165,\", \",R165)","v":"0 didn't need the skills in the area(s) of Familiar Rooms, Unfamiliar Rooms, Seating (Rows), Seating (Tables), Locating Dropped Objects"}]
[null,null,null,null,null,null,"COPYING THE GREY CELLS WILL JUST MAKE A MESS OF YOUR WORD DOCUMENT. I KNOW IT LOOKS"]
[{"$f":"CONCATENATE(A167,\" \",H23,\"%\")","v":"Indoor O&M Score: 0%"},null,null,null,null,null,{"$f":"Front!E6","v":0},{"$f":"ROUND(G23,1)","v":0}]
[{"$f":"CONCATENATE($A1,\" \",G168,\" \",N168,\", \",O168,\", \",P168,\", \",Q168,\", \",R168,\", \",S168,\", \",T168,\", \",U168)","v":"0 did well with the skills that made up the area(s) of , , , , , , , "}]
[{"$f":"CONCATENATE($A1,\" \",G169,\" \",N169,\", \",O169,\", \",P169,\", \",Q169,\", \",R169,\", \",S169,\", \",T169,\", \",U169)","v":"0 had room for improvement with the skills that made up the area(s) of , , , , , , , "}]
[{"$f":"CONCATENATE($A1,\" \",G170,\" \",N170,\", \",O170,\", \",P170,\", \",Q170,\", \",R170,\", \",S170,\", \",T170,\", \",U170)","v":"0 hadn't had the opportunity to work on the skills in the area(s) of , , , , , , , "}]
[{"$f":"CONCATENATE($A1,\" \",G171,\" \",N171,\", \",O171,\", \",P171,\", \",Q171,\", \",R171,\", \",S171,\", \",T171,\", \",U171)","v":"0 didn't need the skills in the area(s) of Hand Trailing, Navigating Open Spaces, Doors, Ascending/Descending Stairs, Escalators, Elevators, Moving Sidewalks, Turnstiles"}]
[null,null,null,null,null,null,"LIKE THERE IS TEXT IN THE GREY CELLS BUT THERE REALLY ISN'T. TRUST ME; I'M AN EXCEL NERD."]
[{"$f":"CONCATENATE(A176,\" \",H29,\"%\")","v":"Self Protection Score: 0%"},null,null,null,null,null,{"$f":"Front!E7","v":0},{"$f":"ROUND(G29,1)","v":0}]
[{"$f":"CONCATENATE($A1,\" \",G176,\" \",N176,\", \",O176,\", \",P176)","v":"0 did well with the skills that made up the area(s) of , , "}]
[{"$f":"CONCATENATE($A1,\" \",G177,\" \",N177,\", \",O177,\", \",P177)","v":"0 had room for improvement with the skills that made up the area(s) of , , "}]
[{"$f":"CONCATENATE($A1,\" \",G178,\" \",N178,\", \",O178,\", \",P178)","v":"0 hadn't had the opportunity to work on the skills in the area(s) of , , "}]
[{"$f":"CONCATENATE($A1,\" \",G179,\" \",N179,\", \",O179,\", \",P179)","v":"0 didn't need the skills in the area(s) of Upper Hand Protective Technique, Lower Forearm Protective Technique, Protective Clothing"}]
[]
[{"$f":"CONCATENATE(A180,\" \",H35,\"%\")","v":"Guided Travel Score: 0%"},null,null,null,null,null,{"$f":"Front!E8","v":0},{"$f":"ROUND(G35,1)","v":0}]
[{"$f":"CONCATENATE($A1,\" \",G181,\" \",N181,\", \",O181,\", \",P181,\", \",Q181)","v":"0 did well with the skills that made up the area(s) of , , , "}]
[{"$f":"CONCATENATE($A1,\" \",G182,\" \",N182,\", \",O182,\", \",P182,\", \",Q182)","v":"0 had room for improvement with the skills that made up the area(s) of , , , "}]
[{"$f":"CONCATENATE($A1,\" \",G183,\" \",N183,\", \",O183,\", \",P183,\", \",Q183)","v":"0 hadn't had the opportunity to work on the skills in the area(s) of , , , "}]
[{"$f":"CONCATENATE($A1,\" \",G184,\" \",N184,\", \",O184,\", \",P184,\", \",Q184)","v":"0 didn't need the skills in the area(s) of Human Guide, Walking With Another (No Direct Contact), Menus, Getting Rides"}]
[]
[{"$f":"CONCATENATE(A185,\" \",H41,\"%\")","v":"Cane Skills Score: 0%"},null,null,null,null,null,{"$f":"Front!E9","v":0},{"$f":"ROUND(G41,1)","v":0}]
[{"$f":"CONCATENATE($A1,\" \",G186,\" \",N186,\", \",O186,\", \",P186,\", \",Q186,\", \",R186,\", \",S186,\", \",T186)","v":"0 did well with the skills that made up the area(s) of , , , , , , "}]
[{"$f":"CONCATENATE($A1,\" \",G187,\" \",N187,\", \",O187,\", \",P187,\", \",Q187,\", \",R187,\", \",S187,\", \",T187)","v":"0 had room for improvement with the skills that made up the area(s) of , , , , , , "}]
[{"$f":"CONCATENATE($A1,\" \",G188,\" \",N188,\", \",O188,\", \",P188,\", \",Q188,\", \",R188,\", \",S188,\", \",T188)","v":"0 hadn't had the opportunity to work on the skills in the area(s) of , , , , , , "}]
[{"$f":"CONCATENATE($A1,\" \",G189,\" \",N189,\", \",O189,\", \",P189,\", \",Q189,\", \",R189,\", \",S189,\", \",T189)","v":"0 didn't need the skills in the area(s) of Basic Skills, Types Of Grips, Constant Contact, Diagonal/Diagonal Trail, Two Point Touch/Touch Trail, Touch And Drag, Three Point Touch"}]
[]
[{"$f":"CONCATENATE(A193,\" \",H47,\"%\")","v":"Sidewalk Travel Score: 0%"},null,null,null,null,null,{"$f":"Front!E10","v":0},{"$f":"ROUND(G47,1)","v":0}]
[{"$f":"CONCATENATE($A1,\" \",G193,\" \",N193,\", \",O193,\", \",P193)","v":"0 did well with the skills that made up the area(s) of , , "}]
[{"$f":"CONCATENATE($A1,\" \",G194,\" \",N194,\", \",O194,\", \",P194)","v":"0 had room for improvement with the skills that made up the area(s) of , , "}]
[{"$f":"CONCATENATE($A1,\" \",G195,\" \",N195,\", \",O195,\", \",P195)","v":"0 hadn't had the opportunity to work on the skills in the area(s) of , , "}]
[{"$f":"CONCATENATE($A1,\" \",G196,\" \",N196,\", \",O196,\", \",P196)","v":"0 didn't need the skills in the area(s) of Walking On Sidewalks, Walking On Irregular Sidewalks, Correcting for Veering On Sidewalks"}]
[]
[{"$f":"CONCATENATE(A197,\" \",H53,\"%\")","v":"Street Crossings Score: 0%"},null,null,null,null,null,{"$f":"Front!E11","v":0},{"$f":"ROUND(G53,1)","v":0}]
[{"$f":"CONCATENATE($A1,\" \",G198,\" \",N198,\", \",O198,\", \",P198,\", \",Q198,\", \",R198,\", \",S198,\", \",T198,\", \",U198,\", \",V198,\", \",W198,\", \",X198,\", \",Y198,\", \",Z198,\", \",AA198,\", \",AB198,\", \",AC198)","v":"0 did well with the skills that made up the area(s) of , , , , , , , , , , , , , , , "}]
[{"$f":"CONCATENATE($A1,\" \",G199,\" \",N199,\", \",O199,\", \",P199,\", \",Q199,\", \",R199,\", \",S199,\", \",T199,\", \",U199,\", \",V199,\", \",W199,\", \",X199,\", \",Y199,\", \",Z199,\", \",AA199,\", \",AB199,\", \",AC199)","v":"0 had room for improvement with the skills that made up the area(s) of , , , , , , , , , , , , , , , "}]
[{"$f":"CONCATENATE($A1,\" \",G200,\" \",N200,\", \",O200,\", \",P200,\", \",Q200,\", \",R200,\", \",S200,\", \",T200,\", \",U200,\", \",V200,\", \",W200,\", \",X200,\", \",Y200,\", \",Z200,\", \",AA200,\", \",AB200,\", \",AC200)","v":"0 hadn't had the opportunity to work on the skills in the area(s) of , , , , , , , , , , , , , , , "}]
[{"$f":"CONCATENATE($A1,\" \",G201,\" \",N201,\", \",O201,\", \",P201,\", \",Q201,\", \",R201,\", \",S201,\", \",T201,\", \",U201,\", \",V201,\", \",W201,\", \",X201,\", \",Y201,\", \",Z201,\", \",AA201,\", \",AB201,\", \",AC201)","v":"0 didn't need the skills in the area(s) of Anticipating Street Crossings, Maintaining Line Of Travel, Maintaining Body Alignment, Re-establishing Body Alignment, Analyzing Intersections, Plus Intersections, T Intersections, Y Intersections, Roundabouts, Significantly Offset Intersections, Atypical Intersections, Newly Developed Intersections, Channelized Right Turn Lanes, Veering, Understanding Drivers’ Perspectives, Pedestrian Signals"}]
[]
[{"$f":"CONCATENATE(A214,\" \",H59,\"%\")","v":"Orientation Skills and GPS Score: 0%"},null,null,null,null,null,{"$f":"Front!E12","v":0},{"$f":"ROUND(G59,1)","v":0}]
[{"$f":"CONCATENATE($A1,\" \",G215,\" \",N215,\", \",O215,\", \",P215,\", \",Q215,\", \",R215,\", \",S215,\", \",T215,\", \",U215,\", \",V215,\", \",W215)","v":"0 did well with the skills that made up the area(s) of , , , , , , , , , "}]
[{"$f":"CONCATENATE($A1,\" \",G216,\" \",N216,\", \",O216,\", \",P216,\", \",Q216,\", \",R216,\", \",S216,\", \",T216,\", \",U216,\", \",V216,\", \",W216)","v":"0 had room for improvement with the skills that made up the area(s) of , , , , , , , , , "}]
[{"$f":"CONCATENATE($A1,\" \",G217,\" \",N217,\", \",O217,\", \",P217,\", \",Q217,\", \",R217,\", \",S217,\", \",T217,\", \",U217,\", \",V217,\", \",W217)","v":"0 hadn't had the opportunity to work on the skills in the area(s) of , , , , , , , , , "}]
[{"$f":"CONCATENATE($A1,\" \",G218,\" \",N218,\", \",O218,\", \",P218,\", \",Q218,\", \",R218,\", \",S218,\", \",T218,\", \",U218,\", \",V218,\", \",W218)","v":"0 didn't need the skills in the area(s) of Cardinality, Clues, Landmarks, Indoor Numbering Systems, Outdoor Numbering Systems, Grid System, Divisors And Block Numbering, Transferability, GPS, Maps"}]
[]
[{"$f":"CONCATENATE(A225,\" \",H65,\"%\")","v":"Public Transportation Score: 0%"},null,null,null,null,null,{"$f":"Front!E13","v":0},{"$f":"ROUND(G65,1)","v":0}]
[{"$f":"CONCATENATE($A1,\" \",G226,\" \",N226,\", \",O226,\", \",P226,\", \",Q226,\", \",R226,\", \",S226,\", \",T226)","v":"0 did well with the skills that made up the area(s) of , , , , , , "}]
[{"$f":"CONCATENATE($A1,\" \",G227,\" \",N227,\", \",O227,\", \",P227,\", \",Q227,\", \",R227,\", \",S227,\", \",T227)","v":"0 had room for improvement with the skills that made up the area(s) of , , , , , , "}]
[{"$f":"CONCATENATE($A1,\" \",G228,\" \",N228,\", \",O228,\", \",P228,\", \",Q228,\", \",R228,\", \",S228,\", \",T228)","v":"0 hadn't had the opportunity to work on the skills in the area(s) of , , , , , , "}]
[{"$f":"CONCATENATE($A1,\" \",G229,\" \",N229,\", \",O229,\", \",P229,\", \",Q229,\", \",R229,\", \",S229,\", \",T229)","v":"0 didn't need the skills in the area(s) of Identifying Common Public Transportation Options, Intra-City Bus Travel, Inter-City Bus Travel, Taxi/Ride Service, Handi-Ride/Para Transit, Air Travel, Subway/Light Rail"}]
[]
[{"$f":"CONCATENATE(A233,\" \",H71,\"%\")","v":"Atypical O&M Score: 0%"},null,null,null,null,null,{"$f":"Front!E14","v":0},{"$f":"ROUND(G71,1)","v":0}]
[{"$f":"CONCATENATE($A1,\" \",G234,\" \",N234,\", \",O234,\", \",P234,\", \",Q234)","v":"0 did well with the skills that made up the area(s) of , , , "}]
[{"$f":"CONCATENATE($A1,\" \",G235,\" \",N235,\", \",O235,\", \",P235,\", \",Q235)","v":"0 had room for improvement with the skills that made up the area(s) of , , , "}]
[{"$f":"CONCATENATE($A1,\" \",G236,\" \",N236,\", \",O236,\", \",P236,\", \",Q236)","v":"0 hadn't had the opportunity to work on the skills in the area(s) of , , , "}]
[{"$f":"CONCATENATE($A1,\" \",G237,\" \",N237,\", \",O237,\", \",P237,\", \",Q237)","v":"0 didn't need the skills in the area(s) of Fences, Fields (Urban), Parks/Playgrounds, Inclement Weather"}]
[]
[{"$f":"CONCATENATE(A238,\" \",H77,\"%\")","v":"Rural Travel Score: 0%"},null,null,null,null,null,{"$f":"Front!E15","v":0},{"$f":"ROUND(G77,1)","v":0}]
[{"$f":"CONCATENATE($A1,\" \",G239,\" \",N239,\", \",O239,\", \",P239,\", \",Q239,\", \",R239)","v":"0 did well with the skills that made up the area(s) of , , , , "}]
[{"$f":"CONCATENATE($A1,\" \",G240,\" \",N240,\", \",O240,\", \",P240,\", \",Q240,\", \",R240)","v":"0 had room for improvement with the skills that made up the area(s) of , , , , "}]
[{"$f":"CONCATENATE($A1,\" \",G241,\" \",N241,\", \",O241,\", \",P241,\", \",Q241,\", \",R241)","v":"0 hadn't had the opportunity to work on the skills in the area(s) of , , , , "}]
[{"$f":"CONCATENATE($A1,\" \",G242,\" \",N242,\", \",O242,\", \",P242,\", \",Q242,\", \",R242)","v":"0 didn't need the skills in the area(s) of Understanding Unique Dangers Related To Rural Travel, Walking Along Rural Roads, Ditches/Arroyos, Identifying And Going Around Items In Rural Areas, Rural Street Crossings"}]
[]
[{"$f":"CONCATENATE(A244,\" \",H83,\"%\")","v":"Vision Specific O&M Skills Score: 0%"},null,null,null,null,null,{"$f":"Front!E16","v":0},{"$f":"ROUND(G83,1)","v":0}]
[{"$f":"CONCATENATE($A1,\" \",G245,\" \",N245,\", \",O245,\", \",P245,\", \",Q245,\", \",R245)","v":"0 did well with the skills that made up the area(s) of , , , , "}]
[{"$f":"CONCATENATE($A1,\" \",G246,\" \",N246,\", \",O246,\", \",P246,\", \",Q246,\", \",R246)","v":"0 had room for improvement with the skills that made up the area(s) of , , , , "}]
[{"$f":"CONCATENATE($A1,\" \",G247,\" \",N247,\", \",O247,\", \",P247,\", \",Q247,\", \",R247)","v":"0 hadn't had the opportunity to work on the skills in the area(s) of , , , , "}]
[{"$f":"CONCATENATE($A1,\" \",G248,\" \",N248,\", \",O248,\", \",P248,\", \",Q248,\", \",R248)","v":"0 didn't need the skills in the area(s) of Scanning Materials, Scanning Environments, Magnifiers And CCTVs, Monoculars, Visual Traveling"}]
[]
[{"$f":"CONCATENATE(A250,\" \",H89,\"%\")","v":"Community Score: 0%"},null,null,null,null,null,{"$f":"Front!E17","v":0},{"$f":"ROUND(G89,1)","v":0}]
[{"$f":"CONCATENATE($A1,\" \",G251,\" \",N251,\", \",O251,\", \",P251,\", \",Q251,\", \",R251)","v":"0 did well with the skills that made up the area(s) of , , , , "}]
[{"$f":"CONCATENATE($A1,\" \",G252,\" \",N252,\", \",O252,\", \",P252,\", \",Q252,\", \",R252)","v":"0 had room for improvement with the skills that made up the area(s) of , , , , "}]
[{"$f":"CONCATENATE($A1,\" \",G253,\" \",N253,\", \",O253,\", \",P253,\", \",Q253,\", \",R253)","v":"0 hadn't had the opportunity to work on the skills in the area(s) of , , , , "}]
[{"$f":"CONCATENATE($A1,\" \",G254,\" \",N254,\", \",O254,\", \",P254,\", \",Q254,\", \",R254)","v":"0 didn't need the skills in the area(s) of Comparison Shopping From Home, Stores, Fast Food Restaurants, Cafeteria Restaurants, Sit Down Restaurants"}]
[]
["Summary"]
[{"$f":"CONCATENATE(A1,\" \",G259,\" \",K3,\" \",H259)","v":"0 demonstrated 0 of the skills needed to travel independently as an adult."}]
[{"$f":"CONCATENATE($A1,\" \",G260,\" \",N260,\", \",O260,\", \",P260,\", \",Q260,\", \",R260,\", \",S260,\", \",T260,\", \",U260,\", \",V260,\", \",W260,\", \",X260,\", \",Y260,\", \",Z260,\", \",AA260,\", \",AB260)","v":"0 did well with the skills that made up the domain(s) of , , , , , , , , , , , , , , "}]
[{"$f":"CONCATENATE($A1,\" \",G261,\" \",N261,\", \",O261,\", \",P261,\", \",Q261,\", \",R261,\", \",S261,\", \",T261,\", \",U261,\", \",V261,\", \",W261,\", \",X261,\", \",Y261,\", \",Z261,\", \",AA261,\", \",AB261)","v":"0 had room for improvement with the skills that made up the domain(s) of , , , , , , , , , , , , , , "}]
[{"$f":"CONCATENATE($A1,\" \",G262,\" \",N262,\", \",O262,\", \",P262,\", \",Q262,\", \",R262,\", \",S262,\", \",T262,\", \",U262,\", \",V262,\", \",W262,\", \",X262,\", \",Y262,\", \",Z262,\", \",AA262,\", \",AB262)","v":"0 hadn't had the opportunity to work on the skills that made up the domain(s) of , , , , , , , , , , , , , , "}]
[{"$f":"CONCATENATE($A1,\" \",G263,\" \",N263,\", \",O263,\", \",P263,\", \",Q263,\", \",R263,\", \",S263,\", \",T263,\", \",U263,\", \",V263,\", \",W263,\", \",X263,\", \",Y263,\", \",Z263,\", \",AA263,\", \",AB263)","v":"0 had no need for the skills that made up the domain(s) of Concepts, Movement, Single Room O&M, Indoor O&M, Self Protection, Guided Travel, Cane Skills, Sidewalk Travel, Street Crossings, Orientation Skills & GPS, Public Transportation, Atypical O&M, Rural Travel, Vision Specific O&M Skills, Community "}]
[]
[]
[]
[]
[]
[]
[]
[]
[]
["Present Level of Educational Performance"]
[{"$f":"CONCATENATE($A97,\" \",A98,\" \",A99,\", \",A100)","v":"0 did well with the skills that made up the domain(s) of , , , , , , , , , , , , , ,  0 had room for improvement with the skills that made up the domain(s) of , , , , , , , , , , , , , ,  0 hadn't had the opportunity to work on the skills that made up the domain(s) of , , , , , , , , , , , , , , , 0 had no need for the skills that made up the domain(s) of Concepts, Movement, Single Room O&M, Indoor O&M, Self Protection, Guided Travel, Cane Skills, Sidewalk Travel, Street Crossings, Orientation Skills & GPS, Public Transportation, Atypical O&M, Rural Travel, Vision Specific O&M Skills, Community "}]
[]
["Strengths"]
[{"$f":"A97","v":"0 did well with the skills that made up the domain(s) of , , , , , , , , , , , , , , "}]
[]
["Concerns"]
[{"$f":"A98","v":"0 had room for improvement with the skills that made up the domain(s) of , , , , , , , , , , , , , , "}]
[]
["Goal"]
[{"$f":"CONCATENATE($A1,\" \",A276,\" \",K3,\"% \",A277,\" \",(ROUNDUP(K3+5,0)),\"% \",A278)","v":"0 will demonstrate improved skills in Orientation & Mobility by increasing the score on the O&M Inventory from 0% to a minimum of 5% by the next annual IEP date."}]
[]
[]
[]
[]
["Progress Report"]
[{"$f":"CONCATENATE(A279,A280,\" \",$A1,\" \",A281,\" \",Q4,\"% \",A282,\" \",Q5,\"% \",A283,\" \",R5,\"% \",A284,\" \",S5,\"%. \",A1,\" \",A285,\" \",A286,\", \",A287,\", \",A288,\", \",A289,\", \",A290,\", \",A291,\", \",A292,\", \",A293,\", \",A294,\", \",A295,\", \",A296,\", \",A297,\", \",A298,\", \",A299,\", \",A300)","v":"Please see the attached chart. Over the previous grading period 0 increased the score on the O&M Inventory from 0% to 0% and is now 0% of the way to the goal of 1%. 0 made gains in the domain(s) of , , , , , , , , , , , , , , "}]
[]
[]
[]
[]
[]
[]
[]
[]
[]
[]
[]
[]
[]
[]
[]
[]
[]
[]
[]
[]
[]
[]
["↓Don't worry about any of this. It fills in automatically and is what creates the useful text "]
["NMSBVI O&M INVENTORY TOTAL SCORE: "]
["Concepts Score:"]
["Vocabulary",null,null,null,null,{"$f":"Concept!J3","v":0},"did well with the skills that made up the area(s) of",null,null,null,null,null,null,{"$f":"IF(F152>3.99,A152,\"\")","v":""},{"$f":"IF(F153>3.99,A153,\"\")","v":""},{"$f":"IF(F154>3.99,A154,\"\")","v":""},{"$f":"IF(F155>3.99,A155,\"\")","v":""},{"$f":"IF(F156>4,E156,\"\")","v":""}]
["Laterality",null,null,null,null,{"$f":"Concept!J9","v":0},"had room for improvement with the skills that made up the area(s) of",null,null,null,null,null,null,{"$f":"IF(AND($F152>1.01,$F152<3.99),$A152,\"\")","v":""},{"$f":"IF(AND($F153>1.01,$F153<3.99),$A153,\"\")","v":""},{"$f":"IF(AND($F154>1.01,$F154<3.99),$A154,\"\")","v":""},{"$f":"IF(AND($F155>1.01,$F155<3.99),$A155,\"\")","v":""}]
["Parallel/Perpendicular",null,null,null,null,{"$f":"Concept!J18","v":0},"hadn't had the opportunity to work on the skills in the area(s) of",null,null,null,null,null,null,{"$f":"IF(AND($F152>0.99,$F152<1.000001),$A152,\"\")","v":""},{"$f":"IF(AND($F153>0.99,$F153<1.000001),$A153,\"\")","v":""},{"$f":"IF(AND($F154>0.99,$F154<1.000001),$A154,\"\")","v":""},{"$f":"IF(AND($F155>0.99,$F155<1.000001),$A155,\"\")","v":""}]
["Time And Distance",null,null,null,null,{"$f":"Concept!J23","v":0},"didn't need the skills in the area(s) of",null,null,null,null,null,null,{"$f":"IF($F152=0,$A152,\"\")","v":"Vocabulary"},{"$f":"IF($F153=0,$A153,\"\")","v":"Laterality"},{"$f":"IF($F154=0,$A154,\"\")","v":"Parallel/Perpendicular"},{"$f":"IF($F155=0,$A155,\"\")","v":"Time And Distance"}]
["Movement Score:"]
["Walking",null,null,null,null,{"$f":"Move!J3","v":0},"did well with the skills that made up the area(s) of",null,null,null,null,null,null,{"$f":"IF(F157>3.99,A157,\"\")","v":""},{"$f":"IF(F158>3.99,A158,\"\")","v":""},{"$f":"IF(F159>3.99,A159,\"\")","v":""},{"$f":"IF(F160>3.99,A160,\"\")","v":""}]
["Maintaining Body Alignment While Walking",null,null,null,null,{"$f":"Move!J9","v":0},"had room for improvement with the skills that made up the area(s) of",null,null,null,null,null,null,{"$f":"IF(AND($F157>1.01,$F157<3.99),$A157,\"\")","v":""},{"$f":"IF(AND($F158>1.01,$F158<3.99),$A158,\"\")","v":""},{"$f":"IF(AND($F159>1.01,$F159<3.99),$A159,\"\")","v":""},{"$f":"IF(AND($F160>1.01,$F160<3.99),$A160,\"\")","v":""}]
["Balance",null,null,null,null,{"$f":"Move!J15","v":0},"hadn't had the opportunity to work on the skills in the area(s) of",null,null,null,null,null,null,{"$f":"IF(AND($F157>0.99,$F157<1.000001),$A157,\"\")","v":""},{"$f":"IF(AND($F158>0.99,$F158<1.000001),$A158,\"\")","v":""},{"$f":"IF(AND($F159>0.99,$F159<1.000001),$A159,\"\")","v":""},{"$f":"IF(AND($F160>0.99,$F160<1.000001),$A160,\"\")","v":""}]
["Turns",null,null,null,null,{"$f":"Move!J23","v":0},"didn't need the skills in the area(s) of",null,null,null,null,null,null,{"$f":"IF($F157=0,$A157,\"\")","v":"Walking"},{"$f":"IF($F158=0,$A158,\"\")","v":"Maintaining Body Alignment While Walking"},{"$f":"IF($F159=0,$A159,\"\")","v":"Balance"},{"$f":"IF($F160=0,$A160,\"\")","v":"Turns"}]
["Single Room O&M Score:"]
["Familiar Rooms",null,null,null,null,{"$f":"SingRm!J3","v":0},"did well with the skills that made up the area(s) of",null,null,null,null,null,null,{"$f":"IF(F162>3.99,A162,\"\")","v":""},{"$f":"IF(F163>3.99,A163,\"\")","v":""},{"$f":"IF(F164>3.99,A164,\"\")","v":""},{"$f":"IF(F165>3.99,A165,\"\")","v":""},{"$f":"IF(F166>3.99,A166,\"\")","v":""}]
["Unfamiliar Rooms",null,null,null,null,{"$f":"SingRm!J9","v":0},"had room for improvement with the skills that made up the area(s) of",null,null,null,null,null,null,{"$f":"IF(AND($F162>1.01,$F162<3.99),$A162,\"\")","v":""},{"$f":"IF(AND($F163>1.01,$F163<3.99),$A163,\"\")","v":""},{"$f":"IF(AND($F164>1.01,$F164<3.99),$A164,\"\")","v":""},{"$f":"IF(AND($F165>1.01,$F165<3.99),$A165,\"\")","v":""},{"$f":"IF(AND($F166>1.01,$F166<3.99),$A166,\"\")","v":""}]
["Seating (Rows)",null,null,null,null,{"$f":"SingRm!J16","v":0},"hadn't had the opportunity to work on the skills in the area(s) of",null,null,null,null,null,null,{"$f":"IF(AND($F162>0.99,$F162<1.000001),$A162,\"\")","v":""},{"$f":"IF(AND($F163>0.99,$F163<1.000001),$A163,\"\")","v":""},{"$f":"IF(AND($F164>0.99,$F164<1.000001),$A164,\"\")","v":""},{"$f":"IF(AND($F165>0.99,$F165<1.000001),$A165,\"\")","v":""},{"$f":"IF(AND($F166>0.99,$F166<1.000001),$A166,\"\")","v":""}]
["Seating (Tables)",null,null,null,null,{"$f":"SingRm!J23","v":0},"didn't need the skills in the area(s) of",null,null,null,null,null,null,{"$f":"IF($F162=0,$A162,\"\")","v":"Familiar Rooms"},{"$f":"IF($F163=0,$A163,\"\")","v":"Unfamiliar Rooms"},{"$f":"IF($F164=0,$A164,\"\")","v":"Seating (Rows)"},{"$f":"IF($F165=0,$A165,\"\")","v":"Seating (Tables)"},{"$f":"IF($F166=0,$A166,\"\")","v":"Locating Dropped Objects"}]
["Locating Dropped Objects",null,null,null,null,{"$f":"SingRm!J28","v":0}]
["Indoor O&M Score:"]
["Hand Trailing",null,null,null,null,{"$f":"Indoor!J3","v":0},"did well with the skills that made up the area(s) of",null,null,null,null,null,null,{"$f":"IF(F168>3.99,A168,\"\")","v":""},{"$f":"IF(F169>3.99,A169,\"\")","v":""},{"$f":"IF(F170>3.99,A170,\"\")","v":""},{"$f":"IF(F171>3.99,A171,\"\")","v":""},{"$f":"IF(F172>3.99,A172,\"\")","v":""},{"$f":"IF(F173>3.99,A173,\"\")","v":""},{"$f":"IF(F174>3.99,A174,\"\")","v":""},{"$f":"IF(F175>3.99,A175,\"\")","v":""}]
["Navigating Open Spaces",null,null,null,null,{"$f":"Indoor!J6","v":0},"had room for improvement with the skills that made up the area(s) of",null,null,null,null,null,null,{"$f":"IF(AND($F168>1.01,$F168<3.99),$A168,\"\")","v":""},{"$f":"IF(AND($F169>1.01,$F169<3.99),$A169,\"\")","v":""},{"$f":"IF(AND($F170>1.01,$F170<3.99),$A170,\"\")","v":""},{"$f":"IF(AND($F171>1.01,$F171<3.99),$A171,\"\")","v":""},{"$f":"IF(AND($F172>1.01,$F172<3.99),$A172,\"\")","v":""},{"$f":"IF(AND($F173>1.01,$F173<3.99),$A173,\"\")","v":""},{"$f":"IF(AND($F174>1.01,$F174<3.99),$A174,\"\")","v":""},{"$f":"IF(AND($F175>1.01,$F175<3.99),$A175,\"\")","v":""}]
["Doors",null,null,null,null,{"$f":"Indoor!J9","v":0},"hadn't had the opportunity to work on the skills in the area(s) of",null,null,null,null,null,null,{"$f":"IF(AND($F168>0.99,$F168<1.000001),$A168,\"\")","v":""},{"$f":"IF(AND($F169>0.99,$F169<1.000001),$A169,\"\")","v":""},{"$f":"IF(AND($F170>0.99,$F170<1.000001),$A170,\"\")","v":""},{"$f":"IF(AND($F171>0.99,$F171<1.000001),$A171,\"\")","v":""},{"$f":"IF(AND($F172>0.99,$F172<1.000001),$A172,\"\")","v":""},{"$f":"IF(AND($F173>0.99,$F173<1.000001),$A173,\"\")","v":""},{"$f":"IF(AND($F174>0.99,$F174<1.000001),$A174,\"\")","v":""},{"$f":"IF(AND($F175>0.99,$F175<1.000001),$A175,\"\")","v":""}]
["Ascending/Descending Stairs",null,null,null,null,{"$f":"Indoor!J15","v":0},"didn't need the skills in the area(s) of",null,null,null,null,null,null,{"$f":"IF($F168=0,$A168,\"\")","v":"Hand Trailing"},{"$f":"IF($F169=0,$A169,\"\")","v":"Navigating Open Spaces"},{"$f":"IF($F170=0,$A170,\"\")","v":"Doors"},{"$f":"IF($F171=0,$A171,\"\")","v":"Ascending/Descending Stairs"},{"$f":"IF($F172=0,$A172,\"\")","v":"Escalators"},{"$f":"IF($F173=0,$A173,\"\")","v":"Elevators"},{"$f":"IF($F174=0,$A174,\"\")","v":"Moving Sidewalks"},{"$f":"IF($F175=0,$A175,\"\")","v":"Turnstiles"}]
["Escalators",null,null,null,null,{"$f":"Indoor!J23","v":0}]
["Elevators",null,null,null,null,{"$f":"Indoor!J35","v":0}]
["Moving Sidewalks",null,null,null,null,{"$f":"Indoor!J44","v":0}]
["Turnstiles",null,null,null,null,{"$f":"Indoor!J54","v":0}]
["Self Protection Score:",null,null,null,null,null,"did well with the skills that made up the area(s) of",null,null,null,null,null,null,{"$f":"IF(F177>3.99,A177,\"\")","v":""},{"$f":"IF(F178>3.99,A178,\"\")","v":""},{"$f":"IF(F179>3.99,A179,\"\")","v":""}]
["Upper Hand Protective Technique",null,null,null,null,{"$f":"SelfPro!J3","v":0},"had room for improvement with the skills that made up the area(s) of",null,null,null,null,null,null,{"$f":"IF(AND($F177>1.01,$F177<3.99),$A177,\"\")","v":""},{"$f":"IF(AND($F178>1.01,$F178<3.99),$A178,\"\")","v":""},{"$f":"IF(AND($F179>1.01,$F179<3.99),$A179,\"\")","v":""}]
["Lower Forearm Protective Technique",null,null,null,null,{"$f":"SelfPro!J8","v":0},"hadn't had the opportunity to work on the skills in the area(s) of",null,null,null,null,null,null,{"$f":"IF(AND($F177>0.99,$F177<1.000001),$A177,\"\")","v":""},{"$f":"IF(AND($F178>0.99,$F178<1.000001),$A178,\"\")","v":""},{"$f":"IF(AND($F179>0.99,$F179<1.000001),$A179,\"\")","v":""}]
["Protective Clothing",null,null,null,null,{"$f":"SelfPro!J12","v":0},"didn't need the skills in the area(s) of",null,null,null,null,null,null,{"$f":"IF($F177=0,$A177,\"\")","v":"Upper Hand Protective Technique"},{"$f":"IF($F178=0,$A178,\"\")","v":"Lower Forearm Protective Technique"},{"$f":"IF($F179=0,$A179,\"\")","v":"Protective Clothing"}]
["Guided Travel Score:"]
["Human Guide",null,null,null,null,{"$f":"Guided!J3","v":0},"did well with the skills that made up the area(s) of",null,null,null,null,null,null,{"$f":"IF(F181>3.99,A181,\"\")","v":""},{"$f":"IF(F182>3.99,A182,\"\")","v":""},{"$f":"IF(F183>3.99,A183,\"\")","v":""},{"$f":"IF(F184>3.99,A184,\"\")","v":""}]
["Walking With Another (No Direct Contact)",null,null,null,null,{"$f":"Guided!J11","v":0},"had room for improvement with the skills that made up the area(s) of",null,null,null,null,null,null,{"$f":"IF(AND($F181>1.01,$F181<3.99),$A181,\"\")","v":""},{"$f":"IF(AND($F182>1.01,$F182<3.99),$A182,\"\")","v":""},{"$f":"IF(AND($F183>1.01,$F183<3.99),$A183,\"\")","v":""},{"$f":"IF(AND($F184>1.01,$F184<3.99),$A184,\"\")","v":""}]
["Menus",null,null,null,null,{"$f":"Guided!J16","v":0},"hadn't had the opportunity to work on the skills in the area(s) of",null,null,null,null,null,null,{"$f":"IF(AND($F181>0.99,$F181<1.000001),$A181,\"\")","v":""},{"$f":"IF(AND($F182>0.99,$F182<1.000001),$A182,\"\")","v":""},{"$f":"IF(AND($F183>0.99,$F183<1.000001),$A183,\"\")","v":""},{"$f":"IF(AND($F184>0.99,$F184<1.000001),$A184,\"\")","v":""}]
["Getting Rides",null,null,null,null,{"$f":"Guided!J20","v":0},"didn't need the skills in the area(s) of",null,null,null,null,null,null,{"$f":"IF($F181=0,$A181,\"\")","v":"Human Guide"},{"$f":"IF($F182=0,$A182,\"\")","v":"Walking With Another (No Direct Contact)"},{"$f":"IF($F183=0,$A183,\"\")","v":"Menus"},{"$f":"IF($F184=0,$A184,\"\")","v":"Getting Rides"}]
["Cane Skills Score:"]
["Basic Skills",null,null,null,null,{"$f":"Cane!J3","v":0},"did well with the skills that made up the area(s) of",null,null,null,null,null,null,{"$f":"IF(F186>3.99,A186,\"\")","v":""},{"$f":"IF(F187>3.99,A187,\"\")","v":""},{"$f":"IF(F188>3.99,A188,\"\")","v":""},{"$f":"IF(F189>3.99,A189,\"\")","v":""},{"$f":"IF(F190>3.99,A190,\"\")","v":""},{"$f":"IF(F191>3.99,A191,\"\")","v":""},{"$f":"IF(F192>3.99,A192,\"\")","v":""}]
["Types Of Grips",null,null,null,null,{"$f":"Cane!J10","v":0},"had room for improvement with the skills that made up the area(s) of",null,null,null,null,null,null,{"$f":"IF(AND($F186>1.01,$F186<3.99),$A186,\"\")","v":""},{"$f":"IF(AND($F187>1.01,$F187<3.99),$A187,\"\")","v":""},{"$f":"IF(AND($F188>1.01,$F188<3.99),$A188,\"\")","v":""},{"$f":"IF(AND($F189>1.01,$F189<3.99),$A189,\"\")","v":""},{"$f":"IF(AND($F190>1.01,$F190<3.99),$A190,\"\")","v":""},{"$f":"IF(AND($F191>1.01,$F191<3.99),$A191,\"\")","v":""},{"$f":"IF(AND($F192>1.01,$F192<3.99),$A192,\"\")","v":""}]
["Constant Contact",null,null,null,null,{"$f":"Cane!J16","v":0},"hadn't had the opportunity to work on the skills in the area(s) of",null,null,null,null,null,null,{"$f":"IF(AND($F186>0.99,$F186<1.000001),$A186,\"\")","v":""},{"$f":"IF(AND($F187>0.99,$F187<1.000001),$A187,\"\")","v":""},{"$f":"IF(AND($F188>0.99,$F188<1.000001),$A188,\"\")","v":""},{"$f":"IF(AND($F189>0.99,$F189<1.000001),$A189,\"\")","v":""},{"$f":"IF(AND($F190>0.99,$F190<1.000001),$A190,\"\")","v":""},{"$f":"IF(AND($F191>0.99,$F191<1.000001),$A191,\"\")","v":""},{"$f":"IF(AND($F192>0.99,$F192<1.000001),$A192,\"\")","v":""}]
["Diagonal/Diagonal Trail",null,null,null,null,{"$f":"Cane!J22","v":0},"didn't need the skills in the area(s) of",null,null,null,null,null,null,{"$f":"IF($F186=0,$A186,\"\")","v":"Basic Skills"},{"$f":"IF($F187=0,$A187,\"\")","v":"Types Of Grips"},{"$f":"IF($F188=0,$A188,\"\")","v":"Constant Contact"},{"$f":"IF($F189=0,$A189,\"\")","v":"Diagonal/Diagonal Trail"},{"$f":"IF($F190=0,$A190,\"\")","v":"Two Point Touch/Touch Trail"},{"$f":"IF($F191=0,$A191,\"\")","v":"Touch And Drag"},{"$f":"IF($F192=0,$A192,\"\")","v":"Three Point Touch"}]
["Two Point Touch/Touch Trail",null,null,null,null,{"$f":"Cane!J28","v":0}]
["Touch And Drag",null,null,null,null,{"$f":"Cane!J35","v":0}]
["Three Point Touch",null,null,null,null,{"$f":"Cane!J42","v":0}]
["Sidewalk Travel Score:",null,null,null,null,null,"did well with the skills that made up the area(s) of",null,null,null,null,null,null,{"$f":"IF(F194>3.99,A194,\"\")","v":""},{"$f":"IF(F195>3.99,A195,\"\")","v":""},{"$f":"IF(F196>3.99,A196,\"\")","v":""}]
["Walking On Sidewalks",null,null,null,null,{"$f":"Sidewalk!J3","v":0},"had room for improvement with the skills that made up the area(s) of",null,null,null,null,null,null,{"$f":"IF(AND($F194>1.01,$F194<3.99),$A194,\"\")","v":""},{"$f":"IF(AND($F195>1.01,$F195<3.99),$A195,\"\")","v":""},{"$f":"IF(AND($F196>1.01,$F196<3.99),$A196,\"\")","v":""}]
["Walking On Irregular Sidewalks",null,null,null,null,{"$f":"Sidewalk!J15","v":0},"hadn't had the opportunity to work on the skills in the area(s) of",null,null,null,null,null,null,{"$f":"IF(AND($F194>0.99,$F194<1.000001),$A194,\"\")","v":""},{"$f":"IF(AND($F195>0.99,$F195<1.000001),$A195,\"\")","v":""},{"$f":"IF(AND($F196>0.99,$F196<1.000001),$A196,\"\")","v":""}]
["Correcting for Veering On Sidewalks",null,null,null,null,{"$f":"Sidewalk!J21","v":0},"didn't need the skills in the area(s) of",null,null,null,null,null,null,{"$f":"IF($F194=0,$A194,\"\")","v":"Walking On Sidewalks"},{"$f":"IF($F195=0,$A195,\"\")","v":"Walking On Irregular Sidewalks"},{"$f":"IF($F196=0,$A196,\"\")","v":"Correcting for Veering On Sidewalks"}]
["Street Crossings Score:"]
["Anticipating Street Crossings",null,null,null,null,{"$f":"StCross!J3","v":0},"did well with the skills that made up the area(s) of",null,null,null,null,null,null,{"$f":"IF(F198>3.99,A198,\"\")","v":""},{"$f":"IF(F199>3.99,A199,\"\")","v":""},{"$f":"IF(F200>3.99,A200,\"\")","v":""},{"$f":"IF(F201>3.99,A201,\"\")","v":""},{"$f":"IF(F202>3.99,A202,\"\")","v":""},{"$f":"IF(F203>3.99,A203,\"\")","v":""},{"$f":"IF(F204>3.99,A204,\"\")","v":""},{"$f":"IF(F205>3.99,A205,\"\")","v":""},{"$f":"IF(F206>3.99,A206,\"\")","v":""},{"$f":"IF(F207>3.99,A207,\"\")","v":""},{"$f":"IF(F208>3.99,A208,\"\")","v":""},{"$f":"IF(F209>3.99,A209,\"\")","v":""},{"$f":"IF(F210>3.99,A210,\"\")","v":""},{"$f":"IF(F211>3.99,A211,\"\")","v":""},{"$f":"IF(F212>3.99,A212,\"\")","v":""},{"$f":"IF(F213>3.99,A213,\"\")","v":""}]
["Maintaining Line Of Travel",null,null,null,null,{"$f":"StCross!J9","v":0},"had room for improvement with the skills that made up the area(s) of",null,null,null,null,null,null,{"$f":"IF(AND($F198>1.01,$F198<3.99),$A198,\"\")","v":""},{"$f":"IF(AND($F199>1.01,$F199<3.99),$A199,\"\")","v":""},{"$f":"IF(AND($F200>1.01,$F200<3.99),$A200,\"\")","v":""},{"$f":"IF(AND($F201>1.01,$F201<3.99),$A201,\"\")","v":""},{"$f":"IF(AND($F202>1.01,$F202<3.99),$A202,\"\")","v":""},{"$f":"IF(AND($F203>1.01,$F203<3.99),$A203,\"\")","v":""},{"$f":"IF(AND($F204>1.01,$F204<3.99),$A204,\"\")","v":""},{"$f":"IF(AND($F205>1.01,$F205<3.99),$A205,\"\")","v":""},{"$f":"IF(AND($F206>1.01,$F206<3.99),$A206,\"\")","v":""},{"$f":"IF(AND($F207>1.01,$F207<3.99),$A207,\"\")","v":""},{"$f":"IF(AND($F208>1.01,$F208<3.99),$A208,\"\")","v":""},{"$f":"IF(AND($F209>1.01,$F209<3.99),$A209,\"\")","v":""},{"$f":"IF(AND($F210>1.01,$F210<3.99),$A210,\"\")","v":""},{"$f":"IF(AND($F211>1.01,$F211<3.99),$A211,\"\")","v":""},{"$f":"IF(AND($F212>1.01,$F212<3.99),$A212,\"\")","v":""},{"$f":"IF(AND($F213>1.01,$F213<3.99),$A213,\"\")","v":""}]
["Maintaining Body Alignment",null,null,null,null,{"$f":"StCross!J10","v":0},"hadn't had the opportunity to work on the skills in the area(s) of",null,null,null,null,null,null,{"$f":"IF(AND($F198>0.99,$F198<1.000001),$A198,\"\")","v":""},{"$f":"IF(AND($F199>0.99,$F199<1.000001),$A199,\"\")","v":""},{"$f":"IF(AND($F200>0.99,$F200<1.000001),$A200,\"\")","v":""},{"$f":"IF(AND($F201>0.99,$F201<1.000001),$A201,\"\")","v":""},{"$f":"IF(AND($F202>0.99,$F202<1.000001),$A202,\"\")","v":""},{"$f":"IF(AND($F203>0.99,$F203<1.000001),$A203,\"\")","v":""},{"$f":"IF(AND($F204>0.99,$F204<1.000001),$A204,\"\")","v":""},{"$f":"IF(AND($F205>0.99,$F205<1.000001),$A205,\"\")","v":""},{"$f":"IF(AND($F206>0.99,$F206<1.000001),$A206,\"\")","v":""},{"$f":"IF(AND($F207>0.99,$F207<1.000001),$A207,\"\")","v":""},{"$f":"IF(AND($F208>0.99,$F208<1.000001),$A208,\"\")","v":""},{"$f":"IF(AND($F209>0.99,$F209<1.000001),$A209,\"\")","v":""},{"$f":"IF(AND($F210>0.99,$F210<1.000001),$A210,\"\")","v":""},{"$f":"IF(AND($F211>0.99,$F211<1.000001),$A211,\"\")","v":""},{"$f":"IF(AND($F212>0.99,$F212<1.000001),$A212,\"\")","v":""},{"$f":"IF(AND($F213>0.99,$F213<1.000001),$A213,\"\")","v":""}]
["Re-establishing Body Alignment",null,null,null,null,{"$f":"StCross!J14","v":0},"didn't need the skills in the area(s) of",null,null,null,null,null,null,{"$f":"IF($F198=0,$A198,\"\")","v":"Anticipating Street Crossings"},{"$f":"IF($F199=0,$A199,\"\")","v":"Maintaining Line Of Travel"},{"$f":"IF($F200=0,$A200,\"\")","v":"Maintaining Body Alignment"},{"$f":"IF($F201=0,$A201,\"\")","v":"Re-establishing Body Alignment"},{"$f":"IF($F202=0,$A202,\"\")","v":"Analyzing Intersections"},{"$f":"IF($F203=0,$A203,\"\")","v":"Plus Intersections"},{"$f":"IF($F204=0,$A204,\"\")","v":"T Intersections"},{"$f":"IF($F205=0,$A205,\"\")","v":"Y Intersections"},{"$f":"IF($F206=0,$A206,\"\")","v":"Roundabouts"},{"$f":"IF($F207=0,$A207,\"\")","v":"Significantly Offset Intersections"},{"$f":"IF($F208=0,$A208,\"\")","v":"Atypical Intersections"},{"$f":"IF($F209=0,$A209,\"\")","v":"Newly Developed Intersections"},{"$f":"IF($F210=0,$A210,\"\")","v":"Channelized Right Turn Lanes"},{"$f":"IF($F211=0,$A211,\"\")","v":"Veering"},{"$f":"IF($F212=0,$A212,\"\")","v":"Understanding Drivers’ Perspectives"},{"$f":"IF($F213=0,$A213,\"\")","v":"Pedestrian Signals"}]
["Analyzing Intersections",null,null,null,null,{"$f":"StCross!J18","v":0}]
["Plus Intersections",null,null,null,null,{"$f":"StCross!J34","v":0}]
["T Intersections",null,null,null,null,{"$f":"StCross!J53","v":0}]
["Y Intersections",null,null,null,null,{"$f":"StCross!J75","v":0}]
["Roundabouts",null,null,null,null,{"$f":"StCross!J100","v":0}]
["Significantly Offset Intersections",null,null,null,null,{"$f":"StCross!J115","v":0}]
["Atypical Intersections",null,null,null,null,{"$f":"StCross!J120","v":0}]
["Newly Developed Intersections",null,null,null,null,{"$f":"StCross!J130","v":0}]
["Channelized Right Turn Lanes",null,null,null,null,{"$f":"StCross!J138","v":0}]
["Veering",null,null,null,null,{"$f":"StCross!J148","v":0}]
["Understanding Drivers’ Perspectives",null,null,null,null,{"$f":"StCross!J162","v":0}]
["Pedestrian Signals",null,null,null,null,{"$f":"StCross!J171","v":0}]
["Orientation Skills and GPS Score:"]
["Cardinality",null,null,null,null,{"$f":"Orient!J3","v":0},"did well with the skills that made up the area(s) of",null,null,null,null,null,null,{"$f":"IF(F215>3.99,A215,\"\")","v":""},{"$f":"IF(F216>3.99,A216,\"\")","v":""},{"$f":"IF(F217>3.99,A217,\"\")","v":""},{"$f":"IF(F218>3.99,A218,\"\")","v":""},{"$f":"IF(F219>3.99,A219,\"\")","v":""},{"$f":"IF(F220>3.99,A220,\"\")","v":""},{"$f":"IF(F221>3.99,A221,\"\")","v":""},{"$f":"IF(F222>3.99,A222,\"\")","v":""},{"$f":"IF(F223>3.99,A223,\"\")","v":""},{"$f":"IF(F224>3.99,A224,\"\")","v":""}]
["Clues",null,null,null,null,{"$f":"Orient!J18","v":0},"had room for improvement with the skills that made up the area(s) of",null,null,null,null,null,null,{"$f":"IF(AND($F215>1.01,$F215<3.99),$A215,\"\")","v":""},{"$f":"IF(AND($F216>1.01,$F216<3.99),$A216,\"\")","v":""},{"$f":"IF(AND($F217>1.01,$F217<3.99),$A217,\"\")","v":""},{"$f":"IF(AND($F218>1.01,$F218<3.99),$A218,\"\")","v":""},{"$f":"IF(AND($F219>1.01,$F219<3.99),$A219,\"\")","v":""},{"$f":"IF(AND($F220>1.01,$F220<3.99),$A220,\"\")","v":""},{"$f":"IF(AND($F221>1.01,$F221<3.99),$A221,\"\")","v":""},{"$f":"IF(AND($F222>1.01,$F222<3.99),$A222,\"\")","v":""},{"$f":"IF(AND($F223>1.01,$F223<3.99),$A223,\"\")","v":""},{"$f":"IF(AND($F224>1.01,$F224<3.99),$A224,\"\")","v":""}]
["Landmarks",null,null,null,null,{"$f":"Orient!J24","v":0},"hadn't had the opportunity to work on the skills in the area(s) of",null,null,null,null,null,null,{"$f":"IF(AND($F215>0.99,$F215<1.000001),$A215,\"\")","v":""},{"$f":"IF(AND($F216>0.99,$F216<1.000001),$A216,\"\")","v":""},{"$f":"IF(AND($F217>0.99,$F217<1.000001),$A217,\"\")","v":""},{"$f":"IF(AND($F218>0.99,$F218<1.000001),$A218,\"\")","v":""},{"$f":"IF(AND($F219>0.99,$F219<1.000001),$A219,\"\")","v":""},{"$f":"IF(AND($F220>0.99,$F220<1.000001),$A220,\"\")","v":""},{"$f":"IF(AND($F221>0.99,$F221<1.000001),$A221,\"\")","v":""},{"$f":"IF(AND($F222>0.99,$F222<1.000001),$A222,\"\")","v":""},{"$f":"IF(AND($F223>0.99,$F223<1.000001),$A223,\"\")","v":""},{"$f":"IF(AND($F224>0.99,$F224<1.000001),$A224,\"\")","v":""}]
["Indoor Numbering Systems",null,null,null,null,{"$f":"Orient!J30","v":0},"didn't need the skills in the area(s) of",null,null,null,null,null,null,{"$f":"IF($F215=0,$A215,\"\")","v":"Cardinality"},{"$f":"IF($F216=0,$A216,\"\")","v":"Clues"},{"$f":"IF($F217=0,$A217,\"\")","v":"Landmarks"},{"$f":"IF($F218=0,$A218,\"\")","v":"Indoor Numbering Systems"},{"$f":"IF($F219=0,$A219,\"\")","v":"Outdoor Numbering Systems"},{"$f":"IF($F220=0,$A220,\"\")","v":"Grid System"},{"$f":"IF($F221=0,$A221,\"\")","v":"Divisors And Block Numbering"},{"$f":"IF($F222=0,$A222,\"\")","v":"Transferability"},{"$f":"IF($F223=0,$A223,\"\")","v":"GPS"},{"$f":"IF($F224=0,$A224,\"\")","v":"Maps"}]
["Outdoor Numbering Systems",null,null,null,null,{"$f":"Orient!J36","v":0}]
["Grid System",null,null,null,null,{"$f":"Orient!J42","v":0}]
["Divisors And Block Numbering",null,null,null,null,{"$f":"Orient!J53","v":0}]
["Transferability",null,null,null,null,{"$f":"Orient!J60","v":0}]
["GPS",null,null,null,null,{"$f":"Orient!J64","v":0}]
["Maps",null,null,null,null,{"$f":"Orient!J72","v":0}]
["Public Transportation Score:"]
["Identifying Common Public Transportation Options",null,null,null,null,{"$f":"PubTran!J3","v":0},"did well with the skills that made up the area(s) of",null,null,null,null,null,null,{"$f":"IF(F226>3.99,A226,\"\")","v":""},{"$f":"IF(F227>3.99,A227,\"\")","v":""},{"$f":"IF(F228>3.99,A228,\"\")","v":""},{"$f":"IF(F229>3.99,A229,\"\")","v":""},{"$f":"IF(F230>3.99,A230,\"\")","v":""},{"$f":"IF(F231>3.99,A231,\"\")","v":""},{"$f":"IF(F232>3.99,A232,\"\")","v":""}]
["Intra-City Bus Travel",null,null,null,null,{"$f":"PubTran!J4","v":0},"had room for improvement with the skills that made up the area(s) of",null,null,null,null,null,null,{"$f":"IF(AND($F226>1.01,$F226<3.99),$A226,\"\")","v":""},{"$f":"IF(AND($F227>1.01,$F227<3.99),$A227,\"\")","v":""},{"$f":"IF(AND($F228>1.01,$F228<3.99),$A228,\"\")","v":""},{"$f":"IF(AND($F229>1.01,$F229<3.99),$A229,\"\")","v":""},{"$f":"IF(AND($F230>1.01,$F230<3.99),$A230,\"\")","v":""},{"$f":"IF(AND($F231>1.01,$F231<3.99),$A231,\"\")","v":""},{"$f":"IF(AND($F232>1.01,$F232<3.99),$A232,\"\")","v":""}]
["Inter-City Bus Travel",null,null,null,null,{"$f":"PubTran!J22","v":0},"hadn't had the opportunity to work on the skills in the area(s) of",null,null,null,null,null,null,{"$f":"IF(AND($F226>0.99,$F226<1.000001),$A226,\"\")","v":""},{"$f":"IF(AND($F227>0.99,$F227<1.000001),$A227,\"\")","v":""},{"$f":"IF(AND($F228>0.99,$F228<1.000001),$A228,\"\")","v":""},{"$f":"IF(AND($F229>0.99,$F229<1.000001),$A229,\"\")","v":""},{"$f":"IF(AND($F230>0.99,$F230<1.000001),$A230,\"\")","v":""},{"$f":"IF(AND($F231>0.99,$F231<1.000001),$A231,\"\")","v":""},{"$f":"IF(AND($F232>0.99,$F232<1.000001),$A232,\"\")","v":""}]
["Taxi/Ride Service",null,null,null,null,{"$f":"PubTran!J38","v":0},"didn't need the skills in the area(s) of",null,null,null,null,null,null,{"$f":"IF($F226=0,$A226,\"\")","v":"Identifying Common Public Transportation Options"},{"$f":"IF($F227=0,$A227,\"\")","v":"Intra-City Bus Travel"},{"$f":"IF($F228=0,$A228,\"\")","v":"Inter-City Bus Travel"},{"$f":"IF($F229=0,$A229,\"\")","v":"Taxi/Ride Service"},{"$f":"IF($F230=0,$A230,\"\")","v":"Handi-Ride/Para Transit"},{"$f":"IF($F231=0,$A231,\"\")","v":"Air Travel"},{"$f":"IF($F232=0,$A232,\"\")","v":"Subway/Light Rail"}]
["Handi-Ride/Para Transit",null,null,null,null,{"$f":"PubTran!J45","v":0}]
["Air Travel",null,null,null,null,{"$f":"PubTran!J49","v":0}]
["Subway/Light Rail",null,null,null,null,{"$f":"PubTran!J65","v":0}]
["Atypical O&M Score:"]
["Fences",null,null,null,null,{"$f":"Atyp!J3","v":0},"did well with the skills that made up the area(s) of",null,null,null,null,null,null,{"$f":"IF(F234>3.99,A234,\"\")","v":""},{"$f":"IF(F235>3.99,A235,\"\")","v":""},{"$f":"IF(F236>3.99,A236,\"\")","v":""},{"$f":"IF(F237>3.99,A237,\"\")","v":""}]
["Fields (Urban)",null,null,null,null,{"$f":"Atyp!J7","v":0},"had room for improvement with the skills that made up the area(s) of",null,null,null,null,null,null,{"$f":"IF(AND($F234>1.01,$F234<3.99),$A234,\"\")","v":""},{"$f":"IF(AND($F235>1.01,$F235<3.99),$A235,\"\")","v":""},{"$f":"IF(AND($F236>1.01,$F236<3.99),$A236,\"\")","v":""},{"$f":"IF(AND($F237>1.01,$F237<3.99),$A237,\"\")","v":""}]
["Parks/Playgrounds",null,null,null,null,{"$f":"Atyp!J13","v":0},"hadn't had the opportunity to work on the skills in the area(s) of",null,null,null,null,null,null,{"$f":"IF(AND($F234>0.99,$F234<1.000001),$A234,\"\")","v":""},{"$f":"IF(AND($F235>0.99,$F235<1.000001),$A235,\"\")","v":""},{"$f":"IF(AND($F236>0.99,$F236<1.000001),$A236,\"\")","v":""},{"$f":"IF(AND($F237>0.99,$F237<1.000001),$A237,\"\")","v":""}]
["Inclement Weather",null,null,null,null,{"$f":"Atyp!J21","v":0},"didn't need the skills in the area(s) of",null,null,null,null,null,null,{"$f":"IF($F234=0,$A234,\"\")","v":"Fences"},{"$f":"IF($F235=0,$A235,\"\")","v":"Fields (Urban)"},{"$f":"IF($F236=0,$A236,\"\")","v":"Parks/Playgrounds"},{"$f":"IF($F237=0,$A237,\"\")","v":"Inclement Weather"}]
["Rural Travel Score:"]
["Understanding Unique Dangers Related To Rural Travel",null,null,null,null,{"$f":"Rural!J3","v":0},"did well with the skills that made up the area(s) of",null,null,null,null,null,null,{"$f":"IF(F239>3.99,A239,\"\")","v":""},{"$f":"IF(F240>3.99,A240,\"\")","v":""},{"$f":"IF(F241>3.99,A241,\"\")","v":""},{"$f":"IF(F242>3.99,A242,\"\")","v":""},{"$f":"IF(F243>3.99,A243,\"\")","v":""}]
["Walking Along Rural Roads",null,null,null,null,{"$f":"Rural!J9","v":0},"had room for improvement with the skills that made up the area(s) of",null,null,null,null,null,null,{"$f":"IF(AND($F239>1.01,$F239<3.99),$A239,\"\")","v":""},{"$f":"IF(AND($F240>1.01,$F240<3.99),$A240,\"\")","v":""},{"$f":"IF(AND($F241>1.01,$F241<3.99),$A241,\"\")","v":""},{"$f":"IF(AND($F242>1.01,$F242<3.99),$A242,\"\")","v":""},{"$f":"IF(AND($F243>1.01,$F243<3.99),$A243,\"\")","v":""}]
["Ditches/Arroyos",null,null,null,null,{"$f":"Rural!J15","v":0},"hadn't had the opportunity to work on the skills in the area(s) of",null,null,null,null,null,null,{"$f":"IF(AND($F239>0.99,$F239<1.000001),$A239,\"\")","v":""},{"$f":"IF(AND($F240>0.99,$F240<1.000001),$A240,\"\")","v":""},{"$f":"IF(AND($F241>0.99,$F241<1.000001),$A241,\"\")","v":""},{"$f":"IF(AND($F242>0.99,$F242<1.000001),$A242,\"\")","v":""},{"$f":"IF(AND($F243>0.99,$F243<1.000001),$A243,\"\")","v":""}]
["Identifying And Going Around Items In Rural Areas",null,null,null,null,{"$f":"Rural!J22","v":0},"didn't need the skills in the area(s) of",null,null,null,null,null,null,{"$f":"IF($F239=0,$A239,\"\")","v":"Understanding Unique Dangers Related To Rural Travel"},{"$f":"IF($F240=0,$A240,\"\")","v":"Walking Along Rural Roads"},{"$f":"IF($F241=0,$A241,\"\")","v":"Ditches/Arroyos"},{"$f":"IF($F242=0,$A242,\"\")","v":"Identifying And Going Around Items In Rural Areas"},{"$f":"IF($F243=0,$A243,\"\")","v":"Rural Street Crossings"}]
["Rural Street Crossings",null,null,null,null,{"$f":"Rural!J28","v":0}]
["Vision Specific O&M Skills Score:"]
["Scanning Materials",null,null,null,null,{"$f":"VisSpec!J3","v":0},"did well with the skills that made up the area(s) of",null,null,null,null,null,null,{"$f":"IF(F245>3.99,A245,\"\")","v":""},{"$f":"IF(F246>3.99,A246,\"\")","v":""},{"$f":"IF(F247>3.99,A247,\"\")","v":""},{"$f":"IF(F248>3.99,A248,\"\")","v":""},{"$f":"IF(F249>3.99,A249,\"\")","v":""}]
["Scanning Environments",null,null,null,null,{"$f":"VisSpec!J10","v":0},"had room for improvement with the skills that made up the area(s) of",null,null,null,null,null,null,{"$f":"IF(AND($F245>1.01,$F245<3.99),$A245,\"\")","v":""},{"$f":"IF(AND($F246>1.01,$F246<3.99),$A246,\"\")","v":""},{"$f":"IF(AND($F247>1.01,$F247<3.99),$A247,\"\")","v":""},{"$f":"IF(AND($F248>1.01,$F248<3.99),$A248,\"\")","v":""},{"$f":"IF(AND($F249>1.01,$F249<3.99),$A249,\"\")","v":""}]
["Magnifiers And CCTVs",null,null,null,null,{"$f":"VisSpec!J17","v":0},"hadn't had the opportunity to work on the skills in the area(s) of",null,null,null,null,null,null,{"$f":"IF(AND($F245>0.99,$F245<1.000001),$A245,\"\")","v":""},{"$f":"IF(AND($F246>0.99,$F246<1.000001),$A246,\"\")","v":""},{"$f":"IF(AND($F247>0.99,$F247<1.000001),$A247,\"\")","v":""},{"$f":"IF(AND($F248>0.99,$F248<1.000001),$A248,\"\")","v":""},{"$f":"IF(AND($F249>0.99,$F249<1.000001),$A249,\"\")","v":""}]
["Monoculars",null,null,null,null,{"$f":"VisSpec!J21","v":0},"didn't need the skills in the area(s) of",null,null,null,null,null,null,{"$f":"IF($F245=0,$A245,\"\")","v":"Scanning Materials"},{"$f":"IF($F246=0,$A246,\"\")","v":"Scanning Environments"},{"$f":"IF($F247=0,$A247,\"\")","v":"Magnifiers And CCTVs"},{"$f":"IF($F248=0,$A248,\"\")","v":"Monoculars"},{"$f":"IF($F249=0,$A249,\"\")","v":"Visual Traveling"}]
["Visual Traveling",null,null,null,null,{"$f":"VisSpec!J27","v":0}]
["Community Score:"]
["Comparison Shopping From Home",null,null,null,null,{"$f":"Commun!J3","v":0},"did well with the skills that made up the area(s) of",null,null,null,null,null,null,{"$f":"IF(F251>3.99,A251,\"\")","v":""},{"$f":"IF(F252>3.99,A252,\"\")","v":""},{"$f":"IF(F253>3.99,A253,\"\")","v":""},{"$f":"IF(F254>3.99,A254,\"\")","v":""},{"$f":"IF(F255>3.99,A255,\"\")","v":""}]
["Stores",null,null,null,null,{"$f":"Commun!J7","v":0},"had room for improvement with the skills that made up the area(s) of",null,null,null,null,null,null,{"$f":"IF(AND($F251>1.01,$F251<3.99),$A251,\"\")","v":""},{"$f":"IF(AND($F252>1.01,$F252<3.99),$A252,\"\")","v":""},{"$f":"IF(AND($F253>1.01,$F253<3.99),$A253,\"\")","v":""},{"$f":"IF(AND($F254>1.01,$F254<3.99),$A254,\"\")","v":""},{"$f":"IF(AND($F255>1.01,$F255<3.99),$A255,\"\")","v":""}]
["Fast Food Restaurants",null,null,null,null,{"$f":"Commun!J19","v":0},"hadn't had the opportunity to work on the skills in the area(s) of",null,null,null,null,null,null,{"$f":"IF(AND($F251>0.99,$F251<1.000001),$A251,\"\")","v":""},{"$f":"IF(AND($F252>0.99,$F252<1.000001),$A252,\"\")","v":""},{"$f":"IF(AND($F253>0.99,$F253<1.000001),$A253,\"\")","v":""},{"$f":"IF(AND($F254>0.99,$F254<1.000001),$A254,\"\")","v":""},{"$f":"IF(AND($F255>0.99,$F255<1.000001),$A255,\"\")","v":""}]
["Cafeteria Restaurants",null,null,null,null,{"$f":"Commun!J30","v":0},"didn't need the skills in the area(s) of",null,null,null,null,null,null,{"$f":"IF($F251=0,$A251,\"\")","v":"Comparison Shopping From Home"},{"$f":"IF($F252=0,$A252,\"\")","v":"Stores"},{"$f":"IF($F253=0,$A253,\"\")","v":"Fast Food Restaurants"},{"$f":"IF($F254=0,$A254,\"\")","v":"Cafeteria Restaurants"},{"$f":"IF($F255=0,$A255,\"\")","v":"Sit Down Restaurants"}]
["Sit Down Restaurants",null,null,null,null,{"$f":"Commun!J41","v":0}]
[]
[]
[]
[null,null,null,null,null,null,"demonstrated","of the skills needed to travel independently as an adult."]
[{"$f":"G5","v":0},"Concepts",null,null,null,null,"did well with the skills that made up the domain(s) of",null,null,null,null,null,null,{"$f":"IF(A260>79.999999999,B260,\"\")","v":""},{"$f":"IF(A261>79.999999999,B261,\"\")","v":""},{"$f":"IF(A262>79.999999999,B262,\"\")","v":""},{"$f":"IF(A263>79.999999999,B263,\"\")","v":""},{"$f":"IF(A264>79.999999999,B264,\"\")","v":""},{"$f":"IF(A265>79.999999999,B265,\"\")","v":""},{"$f":"IF(A266>79.999999999,B266,\"\")","v":""},{"$f":"IF(A267>79.999999999,B267,\"\")","v":""},{"$f":"IF(A268>79.999999999,B268,\"\")","v":""},{"$f":"IF(A269>79.999999999,B269,\"\")","v":""},{"$f":"IF(A270>79.999999999,B270,\"\")","v":""},{"$f":"IF(A271>79.999999999,B271,\"\")","v":""},{"$f":"IF(A272>79.999999999,B272,\"\")","v":""},{"$f":"IF(A273>79.999999999,B273,\"\")","v":""},{"$f":"IF(A274>79.999999999,B274,\"\")","v":""}]
[{"$f":"G11","v":0},"Movement",null,null,null,null,"had room for improvement with the skills that made up the domain(s) of",null,null,null,null,null,null,{"$f":"IF(AND($A260>20.000001,$A260<79.999999998),$B260,\"\")","v":""},{"$f":"IF(AND($A261>20.000001,$A261<79.999999998),$B261,\"\")","v":""},{"$f":"IF(AND($A262>20.000001,$A262<79.999999998),$B262,\"\")","v":""},{"$f":"IF(AND($A263>20.000001,$A263<79.999999998),$B263,\"\")","v":""},{"$f":"IF(AND($A264>20.000001,$A264<79.999999998),$B264,\"\")","v":""},{"$f":"IF(AND($A265>20.000001,$A265<79.999999998),$B265,\"\")","v":""},{"$f":"IF(AND($A266>20.000001,$A266<79.999999998),$B266,\"\")","v":""},{"$f":"IF(AND($A267>20.000001,$A267<79.999999998),$B267,\"\")","v":""},{"$f":"IF(AND($A268>20.000001,$A268<79.999999998),$B268,\"\")","v":""},{"$f":"IF(AND($A269>20.000001,$A269<79.999999998),$B269,\"\")","v":""},{"$f":"IF(AND($A270>20.000001,$A270<79.999999998),$B270,\"\")","v":""},{"$f":"IF(AND($A271>20.000001,$A271<79.999999998),$B271,\"\")","v":""},{"$f":"IF(AND($A272>20.000001,$A272<79.999999998),$B272,\"\")","v":""},{"$f":"IF(AND($A273>20.000001,$A273<79.999999998),$B273,\"\")","v":""},{"$f":"IF(AND($A274>20.000001,$A274<79.999999998),$B274,\"\")","v":""}]
[{"$f":"G17","v":0},"Single Room O&M",null,null,null,null,"hadn't had the opportunity to work on the skills that made up the domain(s) of",null,null,null,null,null,null,{"$f":"IF(AND($A260>19.9,$A260<20.1),$B260,\"\")","v":""},{"$f":"IF(AND($A261>19.9,$A261<20.1),$B261,\"\")","v":""},{"$f":"IF(AND($A262>19.9,$A262<20.1),$B262,\"\")","v":""},{"$f":"IF(AND($A263>19.9,$A263<20.1),$B263,\"\")","v":""},{"$f":"IF(AND($A264>19.9,$A264<20.1),$B264,\"\")","v":""},{"$f":"IF(AND($A265>19.9,$A265<20.1),$B265,\"\")","v":""},{"$f":"IF(AND($A266>19.9,$A266<20.1),$B266,\"\")","v":""},{"$f":"IF(AND($A267>19.9,$A267<20.1),$B267,\"\")","v":""},{"$f":"IF(AND($A268>19.9,$A268<20.1),$B268,\"\")","v":""},{"$f":"IF(AND($A269>19.9,$A269<20.1),$B269,\"\")","v":""},{"$f":"IF(AND($A270>19.9,$A270<20.1),$B270,\"\")","v":""},{"$f":"IF(AND($A271>19.9,$A271<20.1),$B271,\"\")","v":""},{"$f":"IF(AND($A272>19.9,$A272<20.1),$B272,\"\")","v":""},{"$f":"IF(AND($A273>19.9,$A273<20.1),$B273,\"\")","v":""},{"$f":"IF(AND($A274>19.9,$A274<20.1),$B274,\"\")","v":""}]
[{"$f":"G23","v":0},"Indoor O&M",null,null,null,null,"had no need for the skills that made up the domain(s) of",null,null,null,null,null,null,{"$f":"IF($A260=0,$B260,\"\")","v":"Concepts"},{"$f":"IF($A261=0,$B261,\"\")","v":"Movement"},{"$f":"IF($A262=0,$B262,\"\")","v":"Single Room O&M"},{"$f":"IF($A263=0,$B263,\"\")","v":"Indoor O&M"},{"$f":"IF($A264=0,$B264,\"\")","v":"Self Protection"},{"$f":"IF($A265=0,$B265,\"\")","v":"Guided Travel"},{"$f":"IF($A266=0,$B266,\"\")","v":"Cane Skills"},{"$f":"IF($A267=0,$B267,\"\")","v":"Sidewalk Travel"},{"$f":"IF($A268=0,$B268,\"\")","v":"Street Crossings"},{"$f":"IF($A269=0,$B269,\"\")","v":"Orientation Skills & GPS"},{"$f":"IF($A270=0,$B270,\"\")","v":"Public Transportation"},{"$f":"IF($A271=0,$B271,\"\")","v":"Atypical O&M"},{"$f":"IF($A272=0,$B272,\"\")","v":"Rural Travel"},{"$f":"IF($A273=0,$B273,\"\")","v":"Vision Specific O&M Skills"},{"$f":"IF($A274=0,$B274,\"\")","v":"Community "}]
[{"$f":"G29","v":0},"Self Protection"]
[{"$f":"G35","v":0},"Guided Travel"]
[{"$f":"G41","v":0},"Cane Skills"]
[{"$f":"G47","v":0},"Sidewalk Travel"]
[{"$f":"G53","v":0},"Street Crossings"]
[{"$f":"G59","v":0},"Orientation Skills & GPS"]
[{"$f":"G65","v":0},"Public Transportation"]
[{"$f":"G71","v":0},"Atypical O&M"]
[{"$f":"G77","v":0},"Rural Travel"]
[{"$f":"G83","v":0},"Vision Specific O&M Skills"]
[{"$f":"G89","v":0},"Community "]
[]
["will demonstrate improved skills in Orientation & Mobility by increasing the score on the O&M Inventory from"]
["to a minimum of"]
["by the next annual IEP date."]
["Please see the attached chart. "]
["Over the previous grading period"]
["increased the score on the O&M Inventory from"]
["to"]
["and is now"]
["of the way to the goal of"]
["made gains in the domain(s) of"]
[{"$f":"IF($E286>$D286,$B260,\"\")","v":""},{"$f":"Front!B3","v":0},{"$f":"Front!C3","v":0},{"$f":"Front!D3","v":0},{"$f":"Front!E3","v":0},{"$f":"Front!F3","v":0},{"$f":"Front!G3","v":0},{"$f":"Front!H3","v":0},{"$f":"Front!I3","v":0},{"$f":"Front!J3","v":0},{"$f":"Front!K3","v":0},{"$f":"Front!L3","v":0},{"$f":"Front!M3","v":0}]
["",{"$f":"Front!B4","v":0},{"$f":"Front!C4","v":0},{"$f":"Front!D4","v":0},{"$f":"Front!E4","v":0},{"$f":"Front!F4","v":0},{"$f":"Front!G4","v":0},{"$f":"Front!H4","v":0},{"$f":"Front!I4","v":0},{"$f":"Front!J4","v":0},{"$f":"Front!K4","v":0},{"$f":"Front!L4","v":0},{"$f":"Front!M4","v":0}]
["",{"$f":"Front!B5","v":0},{"$f":"Front!C5","v":0},{"$f":"Front!D5","v":0},{"$f":"Front!E5","v":0},{"$f":"Front!F5","v":0},{"$f":"Front!G5","v":0},{"$f":"Front!H5","v":0},{"$f":"Front!I5","v":0},{"$f":"Front!J5","v":0},{"$f":"Front!K5","v":0},{"$f":"Front!L5","v":0},{"$f":"Front!M5","v":0}]
["",{"$f":"Front!B6","v":0},{"$f":"Front!C6","v":0},{"$f":"Front!D6","v":0},{"$f":"Front!E6","v":0},{"$f":"Front!F6","v":0},{"$f":"Front!G6","v":0},{"$f":"Front!H6","v":0},{"$f":"Front!I6","v":0},{"$f":"Front!J6","v":0},{"$f":"Front!K6","v":0},{"$f":"Front!L6","v":0},{"$f":"Front!M6","v":0}]
["",{"$f":"Front!B7","v":0},{"$f":"Front!C7","v":0},{"$f":"Front!D7","v":0},{"$f":"Front!E7","v":0},{"$f":"Front!F7","v":0},{"$f":"Front!G7","v":0},{"$f":"Front!H7","v":0},{"$f":"Front!I7","v":0},{"$f":"Front!J7","v":0},{"$f":"Front!K7","v":0},{"$f":"Front!L7","v":0},{"$f":"Front!M7","v":0}]
["",{"$f":"Front!B8","v":0},{"$f":"Front!C8","v":0},{"$f":"Front!D8","v":0},{"$f":"Front!E8","v":0},{"$f":"Front!F8","v":0},{"$f":"Front!G8","v":0},{"$f":"Front!H8","v":0},{"$f":"Front!I8","v":0},{"$f":"Front!J8","v":0},{"$f":"Front!K8","v":0},{"$f":"Front!L8","v":0},{"$f":"Front!M8","v":0}]
["",{"$f":"Front!B9","v":0},{"$f":"Front!C9","v":0},{"$f":"Front!D9","v":0},{"$f":"Front!E9","v":0},{"$f":"Front!F9","v":0},{"$f":"Front!G9","v":0},{"$f":"Front!H9","v":0},{"$f":"Front!I9","v":0},{"$f":"Front!J9","v":0},{"$f":"Front!K9","v":0},{"$f":"Front!L9","v":0},{"$f":"Front!M9","v":0}]
["",{"$f":"Front!B10","v":0},{"$f":"Front!C10","v":0},{"$f":"Front!D10","v":0},{"$f":"Front!E10","v":0},{"$f":"Front!F10","v":0},{"$f":"Front!G10","v":0},{"$f":"Front!H10","v":0},{"$f":"Front!I10","v":0},{"$f":"Front!J10","v":0},{"$f":"Front!K10","v":0},{"$f":"Front!L10","v":0},{"$f":"Front!M10","v":0}]
["",{"$f":"Front!B11","v":0},{"$f":"Front!C11","v":0},{"$f":"Front!D11","v":0},{"$f":"Front!E11","v":0},{"$f":"Front!F11","v":0},{"$f":"Front!G11","v":0},{"$f":"Front!H11","v":0},{"$f":"Front!I11","v":0},{"$f":"Front!J11","v":0},{"$f":"Front!K11","v":0},{"$f":"Front!L11","v":0},{"$f":"Front!M11","v":0}]
["",{"$f":"Front!B12","v":0},{"$f":"Front!C12","v":0},{"$f":"Front!D12","v":0},{"$f":"Front!E12","v":0},{"$f":"Front!F12","v":0},{"$f":"Front!G12","v":0},{"$f":"Front!H12","v":0},{"$f":"Front!I12","v":0},{"$f":"Front!J12","v":0},{"$f":"Front!K12","v":0},{"$f":"Front!L12","v":0},{"$f":"Front!M12","v":0}]
["",{"$f":"Front!B13","v":0},{"$f":"Front!C13","v":0},{"$f":"Front!D13","v":0},{"$f":"Front!E13","v":0},{"$f":"Front!F13","v":0},{"$f":"Front!G13","v":0},{"$f":"Front!H13","v":0},{"$f":"Front!I13","v":0},{"$f":"Front!J13","v":0},{"$f":"Front!K13","v":0},{"$f":"Front!L13","v":0},{"$f":"Front!M13","v":0}]
["",{"$f":"Front!B14","v":0},{"$f":"Front!C14","v":0},{"$f":"Front!D14","v":0},{"$f":"Front!E14","v":0},{"$f":"Front!F14","v":0},{"$f":"Front!G14","v":0},{"$f":"Front!H14","v":0},{"$f":"Front!I14","v":0},{"$f":"Front!J14","v":0},{"$f":"Front!K14","v":0},{"$f":"Front!L14","v":0},{"$f":"Front!M14","v":0}]
["",{"$f":"Front!B15","v":0},{"$f":"Front!C15","v":0},{"$f":"Front!D15","v":0},{"$f":"Front!E15","v":0},{"$f":"Front!F15","v":0},{"$f":"Front!G15","v":0},{"$f":"Front!H15","v":0},{"$f":"Front!I15","v":0},{"$f":"Front!J15","v":0},{"$f":"Front!K15","v":0},{"$f":"Front!L15","v":0},{"$f":"Front!M15","v":0}]
["",{"$f":"Front!B16","v":0},{"$f":"Front!C16","v":0},{"$f":"Front!D16","v":0},{"$f":"Front!E16","v":0},{"$f":"Front!F16","v":0},{"$f":"Front!G16","v":0},{"$f":"Front!H16","v":0},{"$f":"Front!I16","v":0},{"$f":"Front!J16","v":0},{"$f":"Front!K16","v":0},{"$f":"Front!L16","v":0},{"$f":"Front!M16","v":0}]
["",{"$f":"Front!B17","v":0},{"$f":"Front!C17","v":0},{"$f":"Front!D17","v":0},{"$f":"Front!E17","v":0},{"$f":"Front!F17","v":0},{"$f":"Front!G17","v":0},{"$f":"Front!H17","v":0},{"$f":"Front!I17","v":0},{"$f":"Front!J17","v":0},{"$f":"Front!K17","v":0},{"$f":"Front!L17","v":0},{"$f":"Front!M17","v":0}]

{"sheet":"R5","index":20,"n_rows":300,"n_cols":29,"rows_kept":300,"cut":false,"hidden":false,"merged":[]}
[{"$f":"'R1'!A1","v":0},"← TYPE STUDENT NAME IN GREEN BOX",null,null,null,null,null,null,null,null,null,null,null,null,"%prog","total","tot round","%pr rnd","goal"]
["↓ HIGHLIGHT & COPY WHITE CELLS; PASTE IN WORD DOCUMENT AS \"KEEP TEXT ONLY\" OR \"UNFORMATTED\"",null,null,null,null,null,null,null,null,null,null,null,null,null,{"$f":"Front!B20","v":0},{"$f":"Front!B18","v":0},{"$f":"ROUND(P2,2)","v":0},{"$f":"ROUND(O2,2)","v":0},{"$f":"Front!B19","v":1}]
[{"$f":"CONCATENATE(A150,\" \",K3,\"%\")","v":"NMSBVI O&M INVENTORY TOTAL SCORE:  0%"},null,null,null,null,null,null,null,null,{"$f":"Front!F18","v":0},{"$f":"ROUND(J3,2)","v":0},null,null,null,{"$f":"Front!C20","v":0},{"$f":"Front!C18","v":0},0,0,{"$f":"Front!C19","v":1}]
[null,null,null,null,null,null,null,null,null,null,null,null,null,null,{"$f":"Front!D20","v":0},{"$f":"Front!D18","v":0},0,0,{"$f":"Front!D19","v":1}]
[{"$f":"CONCATENATE(A151,\" \",H5,\"%\")","v":"Concepts Score: 0%"},null,null,null,null,null,{"$f":"Front!F3","v":0},{"$f":"ROUND(G5,1)","v":0},"← Don't worry about these 2 numbers",null,null,null,null,null,{"$f":"Front!E20","v":0},{"$f":"Front!E18","v":0},0,0,{"$f":"Front!E19","v":1}]
[{"$f":"CONCATENATE($A1,\" \",G152,\" \",N152,\", \",O152,\", \",P152,\", \",Q152)","v":"0 did well with the skills that made up the area(s) of , , , "},null,null,null,null,null,null,null,null,null,null,null,null,null,{"$f":"Front!F20","v":0},{"$f":"Front!F18","v":0},0,0,{"$f":"Front!F19","v":1}]
[{"$f":"CONCATENATE($A1,\" \",G153,\" \",N153,\", \",O153,\", \",P153,\", \",Q153)","v":"0 had room for improvement with the skills that made up the area(s) of , , , "},null,null,null,null,null,null,null,null,null,null,null,null,null,{"$f":"Front!G20","v":0},{"$f":"Front!G18","v":0},0,0,{"$f":"Front!G19","v":1}]
[{"$f":"CONCATENATE($A1,\" \",G154,\" \",N154,\", \",O154,\", \",P154,\", \",Q154)","v":"0 hadn't had the opportunity to work on the skills in the area(s) of , , , "},null,null,null,null,null,null,null,null,null,null,null,null,null,{"$f":"Front!H20","v":0},{"$f":"Front!H18","v":0},0,0,{"$f":"Front!H19","v":1}]
[{"$f":"CONCATENATE($A1,\" \",G155,\" \",N155,\", \",O155,\", \",P155,\", \",Q155)","v":"0 didn't need the skills in the area(s) of Vocabulary, Laterality, Parallel/Perpendicular, Time And Distance"},null,null,null,null,null,null,null,null,null,null,null,null,null,{"$f":"Front!I20","v":0},{"$f":"Front!I18","v":0},0,0,{"$f":"Front!I19","v":1}]
[null,null,null,null,null,null,null,null,null,null,null,null,null,null,{"$f":"Front!J20","v":0},{"$f":"Front!J18","v":0},0,0,{"$f":"Front!J19","v":1}]
[{"$f":"CONCATENATE(A156,\" \",H11,\"%\")","v":"Movement Score: 0%"},null,null,null,null,null,{"$f":"Front!F4","v":0},{"$f":"ROUND(G11,1)","v":0},null,null,null,null,null,null,{"$f":"Front!K20","v":0},{"$f":"Front!K18","v":0},0,0,{"$f":"Front!K19","v":1}]
[{"$f":"CONCATENATE($A1,\" \",G157,\" \",N157,\", \",O157,\", \",P157,\", \",Q157)","v":"0 did well with the skills that made up the area(s) of , , , "},null,null,null,null,null,null,null,null,null,null,null,null,null,{"$f":"Front!L20","v":0},{"$f":"Front!L18","v":0},0,0,{"$f":"Front!L19","v":1}]
[{"$f":"CONCATENATE($A1,\" \",G158,\" \",N158,\", \",O158,\", \",P158,\", \",Q158)","v":"0 had room for improvement with the skills that made up the area(s) of , , , "},null,null,null,null,null,null,null,null,null,null,null,null,null,{"$f":"Front!M20","v":0},{"$f":"Front!M18","v":0},0,0,{"$f":"Front!M19","v":1}]
[{"$f":"CONCATENATE($A1,\" \",G159,\" \",N159,\", \",O159,\", \",P159,\", \",Q159)","v":"0 hadn't had the opportunity to work on the skills in the area(s) of , , , "},null,null,null,null,null,null,null,null,null,null,null,null,null,"↑ Don't worry about this chart"]
[{"$f":"CONCATENATE($A1,\" \",G160,\" \",N160,\", \",O160,\", \",P160,\", \",Q160)","v":"0 didn't need the skills in the area(s) of Walking, Maintaining Body Alignment While Walking, Balance, Turns"}]
[null,null,null,null,null,null,"DO NOT HIGHLIGHT & COPY ANY OF THE GREY CELLS; ALL THE TEXT YOU NEED IS IN WHITE CELLS"]
[{"$f":"CONCATENATE(A161,\" \",H17,\"%\")","v":"Single Room O&M Score: 0%"},null,null,null,null,null,{"$f":"Front!F5","v":0},{"$f":"ROUND(G17,1)","v":0}]
[{"$f":"CONCATENATE($A1,\" \",G162,\" \",N162,\", \",O162,\", \",P162,\", \",Q162,\", \",R162)","v":"0 did well with the skills that made up the area(s) of , , , , "}]
[{"$f":"CONCATENATE($A1,\" \",G163,\" \",N163,\", \",O163,\", \",P163,\", \",Q163,\", \",R163)","v":"0 had room for improvement with the skills that made up the area(s) of , , , , "}]
[{"$f":"CONCATENATE($A1,\" \",G164,\" \",N164,\", \",O164,\", \",P164,\", \",Q164,\", \",R164)","v":"0 hadn't had the opportunity to work on the skills in the area(s) of , , , , "}]
[{"$f":"CONCATENATE($A1,\" \",G165,\" \",N165,\", \",O165,\", \",P165,\", \",Q165,\", \",R165)","v":"0 didn't need the skills in the area(s) of Familiar Rooms, Unfamiliar Rooms, Seating (Rows), Seating (Tables), Locating Dropped Objects"}]
[null,null,null,null,null,null,"COPYING THE GREY CELLS WILL JUST MAKE A MESS OF YOUR WORD DOCUMENT. I KNOW IT LOOKS"]
[{"$f":"CONCATENATE(A167,\" \",H23,\"%\")","v":"Indoor O&M Score: 0%"},null,null,null,null,null,{"$f":"Front!F6","v":0},{"$f":"ROUND(G23,1)","v":0}]
[{"$f":"CONCATENATE($A1,\" \",G168,\" \",N168,\", \",O168,\", \",P168,\", \",Q168,\", \",R168,\", \",S168,\", \",T168,\", \",U168)","v":"0 did well with the skills that made up the area(s) of , , , , , , , "}]
[{"$f":"CONCATENATE($A1,\" \",G169,\" \",N169,\", \",O169,\", \",P169,\", \",Q169,\", \",R169,\", \",S169,\", \",T169,\", \",U169)","v":"0 had room for improvement with the skills that made up the area(s) of , , , , , , , "}]
[{"$f":"CONCATENATE($A1,\" \",G170,\" \",N170,\", \",O170,\", \",P170,\", \",Q170,\", \",R170,\", \",S170,\", \",T170,\", \",U170)","v":"0 hadn't had the opportunity to work on the skills in the area(s) of , , , , , , , "}]
[{"$f":"CONCATENATE($A1,\" \",G171,\" \",N171,\", \",O171,\", \",P171,\", \",Q171,\", \",R171,\", \",S171,\", \",T171,\", \",U171)","v":"0 didn't need the skills in the area(s) of Hand Trailing, Navigating Open Spaces, Doors, Ascending/Descending Stairs, Escalators, Elevators, Moving Sidewalks, Turnstiles"}]
[null,null,null,null,null,null,"LIKE THERE IS TEXT IN THE GREY CELLS BUT THERE REALLY ISN'T. TRUST ME; I'M AN EXCEL NERD."]
[{"$f":"CONCATENATE(A176,\" \",H29,\"%\")","v":"Self Protection Score: 0%"},null,null,null,null,null,{"$f":"Front!F7","v":0},{"$f":"ROUND(G29,1)","v":0}]
[{"$f":"CONCATENATE($A1,\" \",G176,\" \",N176,\", \",O176,\", \",P176)","v":"0 did well with the skills that made up the area(s) of , , "}]
[{"$f":"CONCATENATE($A1,\" \",G177,\" \",N177,\", \",O177,\", \",P177)","v":"0 had room for improvement with the skills that made up the area(s) of , , "}]
[{"$f":"CONCATENATE($A1,\" \",G178,\" \",N178,\", \",O178,\", \",P178)","v":"0 hadn't had the opportunity to work on the skills in the area(s) of , , "}]
[{"$f":"CONCATENATE($A1,\" \",G179,\" \",N179,\", \",O179,\", \",P179)","v":"0 didn't need the skills in the area(s) of Upper Hand Protective Technique, Lower Forearm Protective Technique, Protective Clothing"}]
[]
[{"$f":"CONCATENATE(A180,\" \",H35,\"%\")","v":"Guided Travel Score: 0%"},null,null,null,null,null,{"$f":"Front!F8","v":0},{"$f":"ROUND(G35,1)","v":0}]
[{"$f":"CONCATENATE($A1,\" \",G181,\" \",N181,\", \",O181,\", \",P181,\", \",Q181)","v":"0 did well with the skills that made up the area(s) of , , , "}]
[{"$f":"CONCATENATE($A1,\" \",G182,\" \",N182,\", \",O182,\", \",P182,\", \",Q182)","v":"0 had room for improvement with the skills that made up the area(s) of , , , "}]
[{"$f":"CONCATENATE($A1,\" \",G183,\" \",N183,\", \",O183,\", \",P183,\", \",Q183)","v":"0 hadn't had the opportunity to work on the skills in the area(s) of , , , "}]
[{"$f":"CONCATENATE($A1,\" \",G184,\" \",N184,\", \",O184,\", \",P184,\", \",Q184)","v":"0 didn't need the skills in the area(s) of Human Guide, Walking With Another (No Direct Contact), Menus, Getting Rides"}]
[]
[{"$f":"CONCATENATE(A185,\" \",H41,\"%\")","v":"Cane Skills Score: 0%"},null,null,null,null,null,{"$f":"Front!F9","v":0},{"$f":"ROUND(G41,1)","v":0}]
[{"$f":"CONCATENATE($A1,\" \",G186,\" \",N186,\", \",O186,\", \",P186,\", \",Q186,\", \",R186,\", \",S186,\", \",T186)","v":"0 did well with the skills that made up the area(s) of , , , , , , "}]
[{"$f":"CONCATENATE($A1,\" \",G187,\" \",N187,\", \",O187,\", \",P187,\", \",Q187,\", \",R187,\", \",S187,\", \",T187)","v":"0 had room for improvement with the skills that made up the area(s) of , , , , , , "}]
[{"$f":"CONCATENATE($A1,\" \",G188,\" \",N188,\", \",O188,\", \",P188,\", \",Q188,\", \",R188,\", \",S188,\", \",T188)","v":"0 hadn't had the opportunity to work on the skills in the area(s) of , , , , , , "}]
[{"$f":"CONCATENATE($A1,\" \",G189,\" \",N189,\", \",O189,\", \",P189,\", \",Q189,\", \",R189,\", \",S189,\", \",T189)","v":"0 didn't need the skills in the area(s) of Basic Skills, Types Of Grips, Constant Contact, Diagonal/Diagonal Trail, Two Point Touch/Touch Trail, Touch And Drag, Three Point Touch"}]
[]
[{"$f":"CONCATENATE(A193,\" \",H47,\"%\")","v":"Sidewalk Travel Score: 0%"},null,null,null,null,null,{"$f":"Front!F10","v":0},{"$f":"ROUND(G47,1)","v":0}]
[{"$f":"CONCATENATE($A1,\" \",G193,\" \",N193,\", \",O193,\", \",P193)","v":"0 did well with the skills that made up the area(s) of , , "}]
[{"$f":"CONCATENATE($A1,\" \",G194,\" \",N194,\", \",O194,\", \",P194)","v":"0 had room for improvement with the skills that made up the area(s) of , , "}]
[{"$f":"CONCATENATE($A1,\" \",G195,\" \",N195,\", \",O195,\", \",P195)","v":"0 hadn't had the opportunity to work on the skills in the area(s) of , , "}]
[{"$f":"CONCATENATE($A1,\" \",G196,\" \",N196,\", \",O196,\", \",P196)","v":"0 didn't need the skills in the area(s) of Walking On Sidewalks, Walking On Irregular Sidewalks, Correcting for Veering On Sidewalks"}]
[]
[{"$f":"CONCATENATE(A197,\" \",H53,\"%\")","v":"Street Crossings Score: 0%"},null,null,null,null,null,{"$f":"Front!F11","v":0},{"$f":"ROUND(G53,1)","v":0}]
[{"$f":"CONCATENATE($A1,\" \",G198,\" \",N198,\", \",O198,\", \",P198,\", \",Q198,\", \",R198,\", \",S198,\", \",T198,\", \",U198,\", \",V198,\", \",W198,\", \",X198,\", \",Y198,\", \",Z198,\", \",AA198,\", \",AB198,\", \",AC198)","v":"0 did well with the skills that made up the area(s) of , , , , , , , , , , , , , , , "}]
[{"$f":"CONCATENATE($A1,\" \",G199,\" \",N199,\", \",O199,\", \",P199,\", \",Q199,\", \",R199,\", \",S199,\", \",T199,\", \",U199,\", \",V199,\", \",W199,\", \",X199,\", \",Y199,\", \",Z199,\", \",AA199,\", \",AB199,\", \",AC199)","v":"0 had room for improvement with the skills that made up the area(s) of , , , , , , , , , , , , , , , "}]
[{"$f":"CONCATENATE($A1,\" \",G200,\" \",N200,\", \",O200,\", \",P200,\", \",Q200,\", \",R200,\", \",S200,\", \",T200,\", \",U200,\", \",V200,\", \",W200,\", \",X200,\", \",Y200,\", \",Z200,\", \",AA200,\", \",AB200,\", \",AC200)","v":"0 hadn't had the opportunity to work on the skills in the area(s) of , , , , , , , , , , , , , , , "}]
[{"$f":"CONCATENATE($A1,\" \",G201,\" \",N201,\", \",O201,\", \",P201,\", \",Q201,\", \",R201,\", \",S201,\", \",T201,\", \",U201,\", \",V201,\", \",W201,\", \",X201,\", \",Y201,\", \",Z201,\", \",AA201,\", \",AB201,\", \",AC201)","v":"0 didn't need the skills in the area(s) of Anticipating Street Crossings, Maintaining Line Of Travel, Maintaining Body Alignment, Re-establishing Body Alignment, Analyzing Intersections, Plus Intersections, T Intersections, Y Intersections, Roundabouts, Significantly Offset Intersections, Atypical Intersections, Newly Developed Intersections, Channelized Right Turn Lanes, Veering, Understanding Drivers’ Perspectives, Pedestrian Signals"}]
[]
[{"$f":"CONCATENATE(A214,\" \",H59,\"%\")","v":"Orientation Skills and GPS Score: 0%"},null,null,null,null,null,{"$f":"Front!F12","v":0},{"$f":"ROUND(G59,1)","v":0}]
[{"$f":"CONCATENATE($A1,\" \",G215,\" \",N215,\", \",O215,\", \",P215,\", \",Q215,\", \",R215,\", \",S215,\", \",T215,\", \",U215,\", \",V215,\", \",W215)","v":"0 did well with the skills that made up the area(s) of , , , , , , , , , "}]
[{"$f":"CONCATENATE($A1,\" \",G216,\" \",N216,\", \",O216,\", \",P216,\", \",Q216,\", \",R216,\", \",S216,\", \",T216,\", \",U216,\", \",V216,\", \",W216)","v":"0 had room for improvement with the skills that made up the area(s) of , , , , , , , , , "}]
[{"$f":"CONCATENATE($A1,\" \",G217,\" \",N217,\", \",O217,\", \",P217,\", \",Q217,\", \",R217,\", \",S217,\", \",T217,\", \",U217,\", \",V217,\", \",W217)","v":"0 hadn't had the opportunity to work on the skills in the area(s) of , , , , , , , , , "}]
[{"$f":"CONCATENATE($A1,\" \",G218,\" \",N218,\", \",O218,\", \",P218,\", \",Q218,\", \",R218,\", \",S218,\", \",T218,\", \",U218,\", \",V218,\", \",W218)","v":"0 didn't need the skills in the area(s) of Cardinality, Clues, Landmarks, Indoor Numbering Systems, Outdoor Numbering Systems, Grid System, Divisors And Block Numbering, Transferability, GPS, Maps"}]
[]
[{"$f":"CONCATENATE(A225,\" \",H65,\"%\")","v":"Public Transportation Score: 0%"},null,null,null,null,null,{"$f":"Front!F13","v":0},{"$f":"ROUND(G65,1)","v":0}]
[{"$f":"CONCATENATE($A1,\" \",G226,\" \",N226,\", \",O226,\", \",P226,\", \",Q226,\", \",R226,\", \",S226,\", \",T226)","v":"0 did well with the skills that made up the area(s) of , , , , , , "}]
[{"$f":"CONCATENATE($A1,\" \",G227,\" \",N227,\", \",O227,\", \",P227,\", \",Q227,\", \",R227,\", \",S227,\", \",T227)","v":"0 had room for improvement with the skills that made up the area(s) of , , , , , , "}]
[{"$f":"CONCATENATE($A1,\" \",G228,\" \",N228,\", \",O228,\", \",P228,\", \",Q228,\", \",R228,\", \",S228,\", \",T228)","v":"0 hadn't had the opportunity to work on the skills in the area(s) of , , , , , , "}]
[{"$f":"CONCATENATE($A1,\" \",G229,\" \",N229,\", \",O229,\", \",P229,\", \",Q229,\", \",R229,\", \",S229,\", \",T229)","v":"0 didn't need the skills in the area(s) of Identifying Common Public Transportation Options, Intra-City Bus Travel, Inter-City Bus Travel, Taxi/Ride Service, Handi-Ride/Para Transit, Air Travel, Subway/Light Rail"}]
[]
[{"$f":"CONCATENATE(A233,\" \",H71,\"%\")","v":"Atypical O&M Score: 0%"},null,null,null,null,null,{"$f":"Front!F14","v":0},{"$f":"ROUND(G71,1)","v":0}]
[{"$f":"CONCATENATE($A1,\" \",G234,\" \",N234,\", \",O234,\", \",P234,\", \",Q234)","v":"0 did well with the skills that made up the area(s) of , , , "}]
[{"$f":"CONCATENATE($A1,\" \",G235,\" \",N235,\", \",O235,\", \",P235,\", \",Q235)","v":"0 had room for improvement with the skills that made up the area(s) of , , , "}]
[{"$f":"CONCATENATE($A1,\" \",G236,\" \",N236,\", \",O236,\", \",P236,\", \",Q236)","v":"0 hadn't had the opportunity to work on the skills in the area(s) of , , , "}]
[{"$f":"CONCATENATE($A1,\" \",G237,\" \",N237,\", \",O237,\", \",P237,\", \",Q237)","v":"0 didn't need the skills in the area(s) of Fences, Fields (Urban), Parks/Playgrounds, Inclement Weather"}]
[]
[{"$f":"CONCATENATE(A238,\" \",H77,\"%\")","v":"Rural Travel Score: 0%"},null,null,null,null,null,{"$f":"Front!F15","v":0},{"$f":"ROUND(G77,1)","v":0}]
[{"$f":"CONCATENATE($A1,\" \",G239,\" \",N239,\", \",O239,\", \",P239,\", \",Q239,\", \",R239)","v":"0 did well with the skills that made up the area(s) of , , , , "}]
[{"$f":"CONCATENATE($A1,\" \",G240,\" \",N240,\", \",O240,\", \",P240,\", \",Q240,\", \",R240)","v":"0 had room for improvement with the skills that made up the area(s) of , , , , "}]
[{"$f":"CONCATENATE($A1,\" \",G241,\" \",N241,\", \",O241,\", \",P241,\", \",Q241,\", \",R241)","v":"0 hadn't had the opportunity to work on the skills in the area(s) of , , , , "}]
[{"$f":"CONCATENATE($A1,\" \",G242,\" \",N242,\", \",O242,\", \",P242,\", \",Q242,\", \",R242)","v":"0 didn't need the skills in the area(s) of Understanding Unique Dangers Related To Rural Travel, Walking Along Rural Roads, Ditches/Arroyos, Identifying And Going Around Items In Rural Areas, Rural Street Crossings"}]
[]
[{"$f":"CONCATENATE(A244,\" \",H83,\"%\")","v":"Vision Specific O&M Skills Score: 0%"},null,null,null,null,null,{"$f":"Front!F16","v":0},{"$f":"ROUND(G83,1)","v":0}]
[{"$f":"CONCATENATE($A1,\" \",G245,\" \",N245,\", \",O245,\", \",P245,\", \",Q245,\", \",R245)","v":"0 did well with the skills that made up the area(s) of , , , , "}]
[{"$f":"CONCATENATE($A1,\" \",G246,\" \",N246,\", \",O246,\", \",P246,\", \",Q246,\", \",R246)","v":"0 had room for improvement with the skills that made up the area(s) of , , , , "}]
[{"$f":"CONCATENATE($A1,\" \",G247,\" \",N247,\", \",O247,\", \",P247,\", \",Q247,\", \",R247)","v":"0 hadn't had the opportunity to work on the skills in the area(s) of , , , , "}]
[{"$f":"CONCATENATE($A1,\" \",G248,\" \",N248,\", \",O248,\", \",P248,\", \",Q248,\", \",R248)","v":"0 didn't need the skills in the area(s) of Scanning Materials, Scanning Environments, Magnifiers And CCTVs, Monoculars, Visual Traveling"}]
[]
[{"$f":"CONCATENATE(A250,\" \",H89,\"%\")","v":"Community Score: 0%"},null,null,null,null,null,{"$f":"Front!F17","v":0},{"$f":"ROUND(G89,1)","v":0}]
[{"$f":"CONCATENATE($A1,\" \",G251,\" \",N251,\", \",O251,\", \",P251,\", \",Q251,\", \",R251)","v":"0 did well with the skills that made up the area(s) of , , , , "}]
[{"$f":"CONCATENATE($A1,\" \",G252,\" \",N252,\", \",O252,\", \",P252,\", \",Q252,\", \",R252)","v":"0 had room for improvement with the skills that made up the area(s) of , , , , "}]
[{"$f":"CONCATENATE($A1,\" \",G253,\" \",N253,\", \",O253,\", \",P253,\", \",Q253,\", \",R253)","v":"0 hadn't had the opportunity to work on the skills in the area(s) of , , , , "}]
[{"$f":"CONCATENATE($A1,\" \",G254,\" \",N254,\", \",O254,\", \",P254,\", \",Q254,\", \",R254)","v":"0 didn't need the skills in the area(s) of Comparison Shopping From Home, Stores, Fast Food Restaurants, Cafeteria Restaurants, Sit Down Restaurants"}]
[]
["Summary"]
[{"$f":"CONCATENATE(A1,\" \",G259,\" \",K3,\" \",H259)","v":"0 demonstrated 0 of the skills needed to travel independently as an adult."}]
[{"$f":"CONCATENATE($A1,\" \",G260,\" \",N260,\", \",O260,\", \",P260,\", \",Q260,\", \",R260,\", \",S260,\", \",T260,\", \",U260,\", \",V260,\", \",W260,\", \",X260,\", \",Y260,\", \",Z260,\", \",AA260,\", \",AB260)","v":"0 did well with the skills that made up the domain(s) of , , , , , , , , , , , , , , "}]
[{"$f":"CONCATENATE($A1,\" \",G261,\" \",N261,\", \",O261,\", \",P261,\", \",Q261,\", \",R261,\", \",S261,\", \",T261,\", \",U261,\", \",V261,\", \",W261,\", \",X261,\", \",Y261,\", \",Z261,\", \",AA261,\", \",AB261)","v":"0 had room for improvement with the skills that made up the domain(s) of , , , , , , , , , , , , , , "}]
[{"$f":"CONCATENATE($A1,\" \",G262,\" \",N262,\", \",O262,\", \",P262,\", \",Q262,\", \",R262,\", \",S262,\", \",T262,\", \",U262,\", \",V262,\", \",W262,\", \",X262,\", \",Y262,\", \",Z262,\", \",AA262,\", \",AB262)","v":"0 hadn't had the opportunity to work on the skills that made up the domain(s) of , , , , , , , , , , , , , , "}]
[{"$f":"CONCATENATE($A1,\" \",G263,\" \",N263,\", \",O263,\", \",P263,\", \",Q263,\", \",R263,\", \",S263,\", \",T263,\", \",U263,\", \",V263,\", \",W263,\", \",X263,\", \",Y263,\", \",Z263,\", \",AA263,\", \",AB263)","v":"0 had no need for the skills that made up the domain(s) of Concepts, Movement, Single Room O&M, Indoor O&M, Self Protection, Guided Travel, Cane Skills, Sidewalk Travel, Street Crossings, Orientation Skills & GPS, Public Transportation, Atypical O&M, Rural Travel, Vision Specific O&M Skills, Community "}]
[]
[]
[]
[]
[]
[]
[]
[]
[]
["Present Level of Educational Performance"]
[{"$f":"CONCATENATE($A97,\" \",A98,\" \",A99,\", \",A100)","v":"0 did well with the skills that made up the domain(s) of , , , , , , , , , , , , , ,  0 had room for improvement with the skills that made up the domain(s) of , , , , , , , , , , , , , ,  0 hadn't had the opportunity to work on the skills that made up the domain(s) of , , , , , , , , , , , , , , , 0 had no need for the skills that made up the domain(s) of Concepts, Movement, Single Room O&M, Indoor O&M, Self Protection, Guided Travel, Cane Skills, Sidewalk Travel, Street Crossings, Orientation Skills & GPS, Public Transportation, Atypical O&M, Rural Travel, Vision Specific O&M Skills, Community "}]
[]
["Strengths"]
[{"$f":"A97","v":"0 did well with the skills that made up the domain(s) of , , , , , , , , , , , , , , "}]
[]
["Concerns"]
[{"$f":"A98","v":"0 had room for improvement with the skills that made up the domain(s) of , , , , , , , , , , , , , , "}]
[]
["Goal"]
[{"$f":"CONCATENATE($A1,\" \",A276,\" \",K3,\"% \",A277,\" \",(ROUNDUP(K3+5,0)),\"% \",A278)","v":"0 will demonstrate improved skills in Orientation & Mobility by increasing the score on the O&M Inventory from 0% to a minimum of 5% by the next annual IEP date."}]
[]
[]
[]
[]
["Progress Report"]
[{"$f":"CONCATENATE(A279,A280,\" \",$A1,\" \",A281,\" \",Q5,\"% \",A282,\" \",Q6,\"% \",A283,\" \",R6,\"% \",A284,\" \",S6,\"%. \",A1,\" \",A285,\" \",A286,\", \",A287,\", \",A288,\", \",A289,\", \",A290,\", \",A291,\", \",A292,\", \",A293,\", \",A294,\", \",A295,\", \",A296,\", \",A297,\", \",A298,\", \",A299,\", \",A300)","v":"Please see the attached chart. Over the previous grading period 0 increased the score on the O&M Inventory from 0% to 0% and is now 0% of the way to the goal of 1%. 0 made gains in the domain(s) of , , , , , , , , , , , , , , "}]
[]
[]
[]
[]
[]
[]
[]
[]
[]
[]
[]
[]
[]
[]
[]
[]
[]
[]
[]
[]
[]
[]
["↓Don't worry about any of this. It fills in automatically and is what creates the useful text "]
["NMSBVI O&M INVENTORY TOTAL SCORE: "]
["Concepts Score:"]
["Vocabulary",null,null,null,null,{"$f":"Concept!L3","v":0},"did well with the skills that made up the area(s) of",null,null,null,null,null,null,{"$f":"IF(F152>3.99,A152,\"\")","v":""},{"$f":"IF(F153>3.99,A153,\"\")","v":""},{"$f":"IF(F154>3.99,A154,\"\")","v":""},{"$f":"IF(F155>3.99,A155,\"\")","v":""},{"$f":"IF(F156>4,E156,\"\")","v":""}]
["Laterality",null,null,null,null,{"$f":"Concept!L9","v":0},"had room for improvement with the skills that made up the area(s) of",null,null,null,null,null,null,{"$f":"IF(AND($F152>1.01,$F152<3.99),$A152,\"\")","v":""},{"$f":"IF(AND($F153>1.01,$F153<3.99),$A153,\"\")","v":""},{"$f":"IF(AND($F154>1.01,$F154<3.99),$A154,\"\")","v":""},{"$f":"IF(AND($F155>1.01,$F155<3.99),$A155,\"\")","v":""}]
["Parallel/Perpendicular",null,null,null,null,{"$f":"Concept!L18","v":0},"hadn't had the opportunity to work on the skills in the area(s) of",null,null,null,null,null,null,{"$f":"IF(AND($F152>0.99,$F152<1.000001),$A152,\"\")","v":""},{"$f":"IF(AND($F153>0.99,$F153<1.000001),$A153,\"\")","v":""},{"$f":"IF(AND($F154>0.99,$F154<1.000001),$A154,\"\")","v":""},{"$f":"IF(AND($F155>0.99,$F155<1.000001),$A155,\"\")","v":""}]
["Time And Distance",null,null,null,null,{"$f":"Concept!L23","v":0},"didn't need the skills in the area(s) of",null,null,null,null,null,null,{"$f":"IF($F152=0,$A152,\"\")","v":"Vocabulary"},{"$f":"IF($F153=0,$A153,\"\")","v":"Laterality"},{"$f":"IF($F154=0,$A154,\"\")","v":"Parallel/Perpendicular"},{"$f":"IF($F155=0,$A155,\"\")","v":"Time And Distance"}]
["Movement Score:"]
["Walking",null,null,null,null,{"$f":"Move!L3","v":0},"did well with the skills that made up the area(s) of",null,null,null,null,null,null,{"$f":"IF(F157>3.99,A157,\"\")","v":""},{"$f":"IF(F158>3.99,A158,\"\")","v":""},{"$f":"IF(F159>3.99,A159,\"\")","v":""},{"$f":"IF(F160>3.99,A160,\"\")","v":""}]
["Maintaining Body Alignment While Walking",null,null,null,null,{"$f":"Move!L9","v":0},"had room for improvement with the skills that made up the area(s) of",null,null,null,null,null,null,{"$f":"IF(AND($F157>1.01,$F157<3.99),$A157,\"\")","v":""},{"$f":"IF(AND($F158>1.01,$F158<3.99),$A158,\"\")","v":""},{"$f":"IF(AND($F159>1.01,$F159<3.99),$A159,\"\")","v":""},{"$f":"IF(AND($F160>1.01,$F160<3.99),$A160,\"\")","v":""}]
["Balance",null,null,null,null,{"$f":"Move!L15","v":0},"hadn't had the opportunity to work on the skills in the area(s) of",null,null,null,null,null,null,{"$f":"IF(AND($F157>0.99,$F157<1.000001),$A157,\"\")","v":""},{"$f":"IF(AND($F158>0.99,$F158<1.000001),$A158,\"\")","v":""},{"$f":"IF(AND($F159>0.99,$F159<1.000001),$A159,\"\")","v":""},{"$f":"IF(AND($F160>0.99,$F160<1.000001),$A160,\"\")","v":""}]
["Turns",null,null,null,null,{"$f":"Move!L23","v":0},"didn't need the skills in the area(s) of",null,null,null,null,null,null,{"$f":"IF($F157=0,$A157,\"\")","v":"Walking"},{"$f":"IF($F158=0,$A158,\"\")","v":"Maintaining Body Alignment While Walking"},{"$f":"IF($F159=0,$A159,\"\")","v":"Balance"},{"$f":"IF($F160=0,$A160,\"\")","v":"Turns"}]
["Single Room O&M Score:"]
["Familiar Rooms",null,null,null,null,{"$f":"SingRm!L3","v":0},"did well with the skills that made up the area(s) of",null,null,null,null,null,null,{"$f":"IF(F162>3.99,A162,\"\")","v":""},{"$f":"IF(F163>3.99,A163,\"\")","v":""},{"$f":"IF(F164>3.99,A164,\"\")","v":""},{"$f":"IF(F165>3.99,A165,\"\")","v":""},{"$f":"IF(F166>3.99,A166,\"\")","v":""}]
["Unfamiliar Rooms",null,null,null,null,{"$f":"SingRm!L9","v":0},"had room for improvement with the skills that made up the area(s) of",null,null,null,null,null,null,{"$f":"IF(AND($F162>1.01,$F162<3.99),$A162,\"\")","v":""},{"$f":"IF(AND($F163>1.01,$F163<3.99),$A163,\"\")","v":""},{"$f":"IF(AND($F164>1.01,$F164<3.99),$A164,\"\")","v":""},{"$f":"IF(AND($F165>1.01,$F165<3.99),$A165,\"\")","v":""},{"$f":"IF(AND($F166>1.01,$F166<3.99),$A166,\"\")","v":""}]
["Seating (Rows)",null,null,null,null,{"$f":"SingRm!L16","v":0},"hadn't had the opportunity to work on the skills in the area(s) of",null,null,null,null,null,null,{"$f":"IF(AND($F162>0.99,$F162<1.000001),$A162,\"\")","v":""},{"$f":"IF(AND($F163>0.99,$F163<1.000001),$A163,\"\")","v":""},{"$f":"IF(AND($F164>0.99,$F164<1.000001),$A164,\"\")","v":""},{"$f":"IF(AND($F165>0.99,$F165<1.000001),$A165,\"\")","v":""},{"$f":"IF(AND($F166>0.99,$F166<1.000001),$A166,\"\")","v":""}]
["Seating (Tables)",null,null,null,null,{"$f":"SingRm!L23","v":0},"didn't need the skills in the area(s) of",null,null,null,null,null,null,{"$f":"IF($F162=0,$A162,\"\")","v":"Familiar Rooms"},{"$f":"IF($F163=0,$A163,\"\")","v":"Unfamiliar Rooms"},{"$f":"IF($F164=0,$A164,\"\")","v":"Seating (Rows)"},{"$f":"IF($F165=0,$A165,\"\")","v":"Seating (Tables)"},{"$f":"IF($F166=0,$A166,\"\")","v":"Locating Dropped Objects"}]
["Locating Dropped Objects",null,null,null,null,{"$f":"SingRm!L28","v":0}]
["Indoor O&M Score:"]
["Hand Trailing",null,null,null,null,{"$f":"Indoor!L3","v":0},"did well with the skills that made up the area(s) of",null,null,null,null,null,null,{"$f":"IF(F168>3.99,A168,\"\")","v":""},{"$f":"IF(F169>3.99,A169,\"\")","v":""},{"$f":"IF(F170>3.99,A170,\"\")","v":""},{"$f":"IF(F171>3.99,A171,\"\")","v":""},{"$f":"IF(F172>3.99,A172,\"\")","v":""},{"$f":"IF(F173>3.99,A173,\"\")","v":""},{"$f":"IF(F174>3.99,A174,\"\")","v":""},{"$f":"IF(F175>3.99,A175,\"\")","v":""}]
["Navigating Open Spaces",null,null,null,null,{"$f":"Indoor!L6","v":0},"had room for improvement with the skills that made up the area(s) of",null,null,null,null,null,null,{"$f":"IF(AND($F168>1.01,$F168<3.99),$A168,\"\")","v":""},{"$f":"IF(AND($F169>1.01,$F169<3.99),$A169,\"\")","v":""},{"$f":"IF(AND($F170>1.01,$F170<3.99),$A170,\"\")","v":""},{"$f":"IF(AND($F171>1.01,$F171<3.99),$A171,\"\")","v":""},{"$f":"IF(AND($F172>1.01,$F172<3.99),$A172,\"\")","v":""},{"$f":"IF(AND($F173>1.01,$F173<3.99),$A173,\"\")","v":""},{"$f":"IF(AND($F174>1.01,$F174<3.99),$A174,\"\")","v":""},{"$f":"IF(AND($F175>1.01,$F175<3.99),$A175,\"\")","v":""}]
["Doors",null,null,null,null,{"$f":"Indoor!L9","v":0},"hadn't had the opportunity to work on the skills in the area(s) of",null,null,null,null,null,null,{"$f":"IF(AND($F168>0.99,$F168<1.000001),$A168,\"\")","v":""},{"$f":"IF(AND($F169>0.99,$F169<1.000001),$A169,\"\")","v":""},{"$f":"IF(AND($F170>0.99,$F170<1.000001),$A170,\"\")","v":""},{"$f":"IF(AND($F171>0.99,$F171<1.000001),$A171,\"\")","v":""},{"$f":"IF(AND($F172>0.99,$F172<1.000001),$A172,\"\")","v":""},{"$f":"IF(AND($F173>0.99,$F173<1.000001),$A173,\"\")","v":""},{"$f":"IF(AND($F174>0.99,$F174<1.000001),$A174,\"\")","v":""},{"$f":"IF(AND($F175>0.99,$F175<1.000001),$A175,\"\")","v":""}]
["Ascending/Descending Stairs",null,null,null,null,{"$f":"Indoor!L15","v":0},"didn't need the skills in the area(s) of",null,null,null,null,null,null,{"$f":"IF($F168=0,$A168,\"\")","v":"Hand Trailing"},{"$f":"IF($F169=0,$A169,\"\")","v":"Navigating Open Spaces"},{"$f":"IF($F170=0,$A170,\"\")","v":"Doors"},{"$f":"IF($F171=0,$A171,\"\")","v":"Ascending/Descending Stairs"},{"$f":"IF($F172=0,$A172,\"\")","v":"Escalators"},{"$f":"IF($F173=0,$A173,\"\")","v":"Elevators"},{"$f":"IF($F174=0,$A174,\"\")","v":"Moving Sidewalks"},{"$f":"IF($F175=0,$A175,\"\")","v":"Turnstiles"}]
["Escalators",null,null,null,null,{"$f":"Indoor!L23","v":0}]
["Elevators",null,null,null,null,{"$f":"Indoor!L35","v":0}]
["Moving Sidewalks",null,null,null,null,{"$f":"Indoor!L44","v":0}]
["Turnstiles",null,null,null,null,{"$f":"Indoor!L54","v":0}]
["Self Protection Score:",null,null,null,null,null,"did well with the skills that made up the area(s) of",null,null,null,null,null,null,{"$f":"IF(F177>3.99,A177,\"\")","v":""},{"$f":"IF(F178>3.99,A178,\"\")","v":""},{"$f":"IF(F179>3.99,A179,\"\")","v":""}]
["Upper Hand Protective Technique",null,null,null,null,{"$f":"SelfPro!L3","v":0},"had room for improvement with the skills that made up the area(s) of",null,null,null,null,null,null,{"$f":"IF(AND($F177>1.01,$F177<3.99),$A177,\"\")","v":""},{"$f":"IF(AND($F178>1.01,$F178<3.99),$A178,\"\")","v":""},{"$f":"IF(AND($F179>1.01,$F179<3.99),$A179,\"\")","v":""}]
["Lower Forearm Protective Technique",null,null,null,null,{"$f":"SelfPro!L8","v":0},"hadn't had the opportunity to work on the skills in the area(s) of",null,null,null,null,null,null,{"$f":"IF(AND($F177>0.99,$F177<1.000001),$A177,\"\")","v":""},{"$f":"IF(AND($F178>0.99,$F178<1.000001),$A178,\"\")","v":""},{"$f":"IF(AND($F179>0.99,$F179<1.000001),$A179,\"\")","v":""}]
["Protective Clothing",null,null,null,null,{"$f":"SelfPro!L12","v":0},"didn't need the skills in the area(s) of",null,null,null,null,null,null,{"$f":"IF($F177=0,$A177,\"\")","v":"Upper Hand Protective Technique"},{"$f":"IF($F178=0,$A178,\"\")","v":"Lower Forearm Protective Technique"},{"$f":"IF($F179=0,$A179,\"\")","v":"Protective Clothing"}]
["Guided Travel Score:"]
["Human Guide",null,null,null,null,{"$f":"Guided!L3","v":0},"did well with the skills that made up the area(s) of",null,null,null,null,null,null,{"$f":"IF(F181>3.99,A181,\"\")","v":""},{"$f":"IF(F182>3.99,A182,\"\")","v":""},{"$f":"IF(F183>3.99,A183,\"\")","v":""},{"$f":"IF(F184>3.99,A184,\"\")","v":""}]
["Walking With Another (No Direct Contact)",null,null,null,null,{"$f":"Guided!L11","v":0},"had room for improvement with the skills that made up the area(s) of",null,null,null,null,null,null,{"$f":"IF(AND($F181>1.01,$F181<3.99),$A181,\"\")","v":""},{"$f":"IF(AND($F182>1.01,$F182<3.99),$A182,\"\")","v":""},{"$f":"IF(AND($F183>1.01,$F183<3.99),$A183,\"\")","v":""},{"$f":"IF(AND($F184>1.01,$F184<3.99),$A184,\"\")","v":""}]
["Menus",null,null,null,null,{"$f":"Guided!L16","v":0},"hadn't had the opportunity to work on the skills in the area(s) of",null,null,null,null,null,null,{"$f":"IF(AND($F181>0.99,$F181<1.000001),$A181,\"\")","v":""},{"$f":"IF(AND($F182>0.99,$F182<1.000001),$A182,\"\")","v":""},{"$f":"IF(AND($F183>0.99,$F183<1.000001),$A183,\"\")","v":""},{"$f":"IF(AND($F184>0.99,$F184<1.000001),$A184,\"\")","v":""}]
["Getting Rides",null,null,null,null,{"$f":"Guided!L20","v":0},"didn't need the skills in the area(s) of",null,null,null,null,null,null,{"$f":"IF($F181=0,$A181,\"\")","v":"Human Guide"},{"$f":"IF($F182=0,$A182,\"\")","v":"Walking With Another (No Direct Contact)"},{"$f":"IF($F183=0,$A183,\"\")","v":"Menus"},{"$f":"IF($F184=0,$A184,\"\")","v":"Getting Rides"}]
["Cane Skills Score:"]
["Basic Skills",null,null,null,null,{"$f":"Cane!L3","v":0},"did well with the skills that made up the area(s) of",null,null,null,null,null,null,{"$f":"IF(F186>3.99,A186,\"\")","v":""},{"$f":"IF(F187>3.99,A187,\"\")","v":""},{"$f":"IF(F188>3.99,A188,\"\")","v":""},{"$f":"IF(F189>3.99,A189,\"\")","v":""},{"$f":"IF(F190>3.99,A190,\"\")","v":""},{"$f":"IF(F191>3.99,A191,\"\")","v":""},{"$f":"IF(F192>3.99,A192,\"\")","v":""}]
["Types Of Grips",null,null,null,null,{"$f":"Cane!L10","v":0},"had room for improvement with the skills that made up the area(s) of",null,null,null,null,null,null,{"$f":"IF(AND($F186>1.01,$F186<3.99),$A186,\"\")","v":""},{"$f":"IF(AND($F187>1.01,$F187<3.99),$A187,\"\")","v":""},{"$f":"IF(AND($F188>1.01,$F188<3.99),$A188,\"\")","v":""},{"$f":"IF(AND($F189>1.01,$F189<3.99),$A189,\"\")","v":""},{"$f":"IF(AND($F190>1.01,$F190<3.99),$A190,\"\")","v":""},{"$f":"IF(AND($F191>1.01,$F191<3.99),$A191,\"\")","v":""},{"$f":"IF(AND($F192>1.01,$F192<3.99),$A192,\"\")","v":""}]
["Constant Contact",null,null,null,null,{"$f":"Cane!L16","v":0},"hadn't had the opportunity to work on the skills in the area(s) of",null,null,null,null,null,null,{"$f":"IF(AND($F186>0.99,$F186<1.000001),$A186,\"\")","v":""},{"$f":"IF(AND($F187>0.99,$F187<1.000001),$A187,\"\")","v":""},{"$f":"IF(AND($F188>0.99,$F188<1.000001),$A188,\"\")","v":""},{"$f":"IF(AND($F189>0.99,$F189<1.000001),$A189,\"\")","v":""},{"$f":"IF(AND($F190>0.99,$F190<1.000001),$A190,\"\")","v":""},{"$f":"IF(AND($F191>0.99,$F191<1.000001),$A191,\"\")","v":""},{"$f":"IF(AND($F192>0.99,$F192<1.000001),$A192,\"\")","v":""}]
["Diagonal/Diagonal Trail",null,null,null,null,{"$f":"Cane!L22","v":0},"didn't need the skills in the area(s) of",null,null,null,null,null,null,{"$f":"IF($F186=0,$A186,\"\")","v":"Basic Skills"},{"$f":"IF($F187=0,$A187,\"\")","v":"Types Of Grips"},{"$f":"IF($F188=0,$A188,\"\")","v":"Constant Contact"},{"$f":"IF($F189=0,$A189,\"\")","v":"Diagonal/Diagonal Trail"},{"$f":"IF($F190=0,$A190,\"\")","v":"Two Point Touch/Touch Trail"},{"$f":"IF($F191=0,$A191,\"\")","v":"Touch And Drag"},{"$f":"IF($F192=0,$A192,\"\")","v":"Three Point Touch"}]
["Two Point Touch/Touch Trail",null,null,null,null,{"$f":"Cane!L28","v":0}]
["Touch And Drag",null,null,null,null,{"$f":"Cane!L35","v":0}]
["Three Point Touch",null,null,null,null,{"$f":"Cane!L42","v":0}]
["Sidewalk Travel Score:",null,null,null,null,null,"did well with the skills that made up the area(s) of",null,null,null,null,null,null,{"$f":"IF(F194>3.99,A194,\"\")","v":""},{"$f":"IF(F195>3.99,A195,\"\")","v":""},{"$f":"IF(F196>3.99,A196,\"\")","v":""}]
["Walking On Sidewalks",null,null,null,null,{"$f":"Sidewalk!L3","v":0},"had room for improvement with the skills that made up the area(s) of",null,null,null,null,null,null,{"$f":"IF(AND($F194>1.01,$F194<3.99),$A194,\"\")","v":""},{"$f":"IF(AND($F195>1.01,$F195<3.99),$A195,\"\")","v":""},{"$f":"IF(AND($F196>1.01,$F196<3.99),$A196,\"\")","v":""}]
["Walking On Irregular Sidewalks",null,null,null,null,{"$f":"Sidewalk!L15","v":0},"hadn't had the opportunity to work on the skills in the area(s) of",null,null,null,null,null,null,{"$f":"IF(AND($F194>0.99,$F194<1.000001),$A194,\"\")","v":""},{"$f":"IF(AND($F195>0.99,$F195<1.000001),$A195,\"\")","v":""},{"$f":"IF(AND($F196>0.99,$F196<1.000001),$A196,\"\")","v":""}]
["Correcting for Veering On Sidewalks",null,null,null,null,{"$f":"Sidewalk!L21","v":0},"didn't need the skills in the area(s) of",null,null,null,null,null,null,{"$f":"IF($F194=0,$A194,\"\")","v":"Walking On Sidewalks"},{"$f":"IF($F195=0,$A195,\"\")","v":"Walking On Irregular Sidewalks"},{"$f":"IF($F196=0,$A196,\"\")","v":"Correcting for Veering On Sidewalks"}]
["Street Crossings Score:"]
["Anticipating Street Crossings",null,null,null,null,{"$f":"StCross!L3","v":0},"did well with the skills that made up the area(s) of",null,null,null,null,null,null,{"$f":"IF(F198>3.99,A198,\"\")","v":""},{"$f":"IF(F199>3.99,A199,\"\")","v":""},{"$f":"IF(F200>3.99,A200,\"\")","v":""},{"$f":"IF(F201>3.99,A201,\"\")","v":""},{"$f":"IF(F202>3.99,A202,\"\")","v":""},{"$f":"IF(F203>3.99,A203,\"\")","v":""},{"$f":"IF(F204>3.99,A204,\"\")","v":""},{"$f":"IF(F205>3.99,A205,\"\")","v":""},{"$f":"IF(F206>3.99,A206,\"\")","v":""},{"$f":"IF(F207>3.99,A207,\"\")","v":""},{"$f":"IF(F208>3.99,A208,\"\")","v":""},{"$f":"IF(F209>3.99,A209,\"\")","v":""},{"$f":"IF(F210>3.99,A210,\"\")","v":""},{"$f":"IF(F211>3.99,A211,\"\")","v":""},{"$f":"IF(F212>3.99,A212,\"\")","v":""},{"$f":"IF(F213>3.99,A213,\"\")","v":""}]
["Maintaining Line Of Travel",null,null,null,null,{"$f":"StCross!L9","v":0},"had room for improvement with the skills that made up the area(s) of",null,null,null,null,null,null,{"$f":"IF(AND($F198>1.01,$F198<3.99),$A198,\"\")","v":""},{"$f":"IF(AND($F199>1.01,$F199<3.99),$A199,\"\")","v":""},{"$f":"IF(AND($F200>1.01,$F200<3.99),$A200,\"\")","v":""},{"$f":"IF(AND($F201>1.01,$F201<3.99),$A201,\"\")","v":""},{"$f":"IF(AND($F202>1.01,$F202<3.99),$A202,\"\")","v":""},{"$f":"IF(AND($F203>1.01,$F203<3.99),$A203,\"\")","v":""},{"$f":"IF(AND($F204>1.01,$F204<3.99),$A204,\"\")","v":""},{"$f":"IF(AND($F205>1.01,$F205<3.99),$A205,\"\")","v":""},{"$f":"IF(AND($F206>1.01,$F206<3.99),$A206,\"\")","v":""},{"$f":"IF(AND($F207>1.01,$F207<3.99),$A207,\"\")","v":""},{"$f":"IF(AND($F208>1.01,$F208<3.99),$A208,\"\")","v":""},{"$f":"IF(AND($F209>1.01,$F209<3.99),$A209,\"\")","v":""},{"$f":"IF(AND($F210>1.01,$F210<3.99),$A210,\"\")","v":""},{"$f":"IF(AND($F211>1.01,$F211<3.99),$A211,\"\")","v":""},{"$f":"IF(AND($F212>1.01,$F212<3.99),$A212,\"\")","v":""},{"$f":"IF(AND($F213>1.01,$F213<3.99),$A213,\"\")","v":""}]
["Maintaining Body Alignment",null,null,null,null,{"$f":"StCross!L10","v":0},"hadn't had the opportunity to work on the skills in the area(s) of",null,null,null,null,null,null,{"$f":"IF(AND($F198>0.99,$F198<1.000001),$A198,\"\")","v":""},{"$f":"IF(AND($F199>0.99,$F199<1.000001),$A199,\"\")","v":""},{"$f":"IF(AND($F200>0.99,$F200<1.000001),$A200,\"\")","v":""},{"$f":"IF(AND($F201>0.99,$F201<1.000001),$A201,\"\")","v":""},{"$f":"IF(AND($F202>0.99,$F202<1.000001),$A202,\"\")","v":""},{"$f":"IF(AND($F203>0.99,$F203<1.000001),$A203,\"\")","v":""},{"$f":"IF(AND($F204>0.99,$F204<1.000001),$A204,\"\")","v":""},{"$f":"IF(AND($F205>0.99,$F205<1.000001),$A205,\"\")","v":""},{"$f":"IF(AND($F206>0.99,$F206<1.000001),$A206,\"\")","v":""},{"$f":"IF(AND($F207>0.99,$F207<1.000001),$A207,\"\")","v":""},{"$f":"IF(AND($F208>0.99,$F208<1.000001),$A208,\"\")","v":""},{"$f":"IF(AND($F209>0.99,$F209<1.000001),$A209,\"\")","v":""},{"$f":"IF(AND($F210>0.99,$F210<1.000001),$A210,\"\")","v":""},{"$f":"IF(AND($F211>0.99,$F211<1.000001),$A211,\"\")","v":""},{"$f":"IF(AND($F212>0.99,$F212<1.000001),$A212,\"\")","v":""},{"$f":"IF(AND($F213>0.99,$F213<1.000001),$A213,\"\")","v":""}]
["Re-establishing Body Alignment",null,null,null,null,{"$f":"StCross!L14","v":0},"didn't need the skills in the area(s) of",null,null,null,null,null,null,{"$f":"IF($F198=0,$A198,\"\")","v":"Anticipating Street Crossings"},{"$f":"IF($F199=0,$A199,\"\")","v":"Maintaining Line Of Travel"},{"$f":"IF($F200=0,$A200,\"\")","v":"Maintaining Body Alignment"},{"$f":"IF($F201=0,$A201,\"\")","v":"Re-establishing Body Alignment"},{"$f":"IF($F202=0,$A202,\"\")","v":"Analyzing Intersections"},{"$f":"IF($F203=0,$A203,\"\")","v":"Plus Intersections"},{"$f":"IF($F204=0,$A204,\"\")","v":"T Intersections"},{"$f":"IF($F205=0,$A205,\"\")","v":"Y Intersections"},{"$f":"IF($F206=0,$A206,\"\")","v":"Roundabouts"},{"$f":"IF($F207=0,$A207,\"\")","v":"Significantly Offset Intersections"},{"$f":"IF($F208=0,$A208,\"\")","v":"Atypical Intersections"},{"$f":"IF($F209=0,$A209,\"\")","v":"Newly Developed Intersections"},{"$f":"IF($F210=0,$A210,\"\")","v":"Channelized Right Turn Lanes"},{"$f":"IF($F211=0,$A211,\"\")","v":"Veering"},{"$f":"IF($F212=0,$A212,\"\")","v":"Understanding Drivers’ Perspectives"},{"$f":"IF($F213=0,$A213,\"\")","v":"Pedestrian Signals"}]
["Analyzing Intersections",null,null,null,null,{"$f":"StCross!L18","v":0}]
["Plus Intersections",null,null,null,null,{"$f":"StCross!L34","v":0}]
["T Intersections",null,null,null,null,{"$f":"StCross!L53","v":0}]
["Y Intersections",null,null,null,null,{"$f":"StCross!L75","v":0}]
["Roundabouts",null,null,null,null,{"$f":"StCross!L100","v":0}]
["Significantly Offset Intersections",null,null,null,null,{"$f":"StCross!L115","v":0}]
["Atypical Intersections",null,null,null,null,{"$f":"StCross!L120","v":0}]
["Newly Developed Intersections",null,null,null,null,{"$f":"StCross!L130","v":0}]
["Channelized Right Turn Lanes",null,null,null,null,{"$f":"StCross!L138","v":0}]
["Veering",null,null,null,null,{"$f":"StCross!L148","v":0}]
["Understanding Drivers’ Perspectives",null,null,null,null,{"$f":"StCross!L162","v":0}]
["Pedestrian Signals",null,null,null,null,{"$f":"StCross!L171","v":0}]
["Orientation Skills and GPS Score:"]
["Cardinality",null,null,null,null,{"$f":"Orient!L3","v":0},"did well with the skills that made up the area(s) of",null,null,null,null,null,null,{"$f":"IF(F215>3.99,A215,\"\")","v":""},{"$f":"IF(F216>3.99,A216,\"\")","v":""},{"$f":"IF(F217>3.99,A217,\"\")","v":""},{"$f":"IF(F218>3.99,A218,\"\")","v":""},{"$f":"IF(F219>3.99,A219,\"\")","v":""},{"$f":"IF(F220>3.99,A220,\"\")","v":""},{"$f":"IF(F221>3.99,A221,\"\")","v":""},{"$f":"IF(F222>3.99,A222,\"\")","v":""},{"$f":"IF(F223>3.99,A223,\"\")","v":""},{"$f":"IF(F224>3.99,A224,\"\")","v":""}]
["Clues",null,null,null,null,{"$f":"Orient!L18","v":0},"had room for improvement with the skills that made up the area(s) of",null,null,null,null,null,null,{"$f":"IF(AND($F215>1.01,$F215<3.99),$A215,\"\")","v":""},{"$f":"IF(AND($F216>1.01,$F216<3.99),$A216,\"\")","v":""},{"$f":"IF(AND($F217>1.01,$F217<3.99),$A217,\"\")","v":""},{"$f":"IF(AND($F218>1.01,$F218<3.99),$A218,\"\")","v":""},{"$f":"IF(AND($F219>1.01,$F219<3.99),$A219,\"\")","v":""},{"$f":"IF(AND($F220>1.01,$F220<3.99),$A220,\"\")","v":""},{"$f":"IF(AND($F221>1.01,$F221<3.99),$A221,\"\")","v":""},{"$f":"IF(AND($F222>1.01,$F222<3.99),$A222,\"\")","v":""},{"$f":"IF(AND($F223>1.01,$F223<3.99),$A223,\"\")","v":""},{"$f":"IF(AND($F224>1.01,$F224<3.99),$A224,\"\")","v":""}]
["Landmarks",null,null,null,null,{"$f":"Orient!L24","v":0},"hadn't had the opportunity to work on the skills in the area(s) of",null,null,null,null,null,null,{"$f":"IF(AND($F215>0.99,$F215<1.000001),$A215,\"\")","v":""},{"$f":"IF(AND($F216>0.99,$F216<1.000001),$A216,\"\")","v":""},{"$f":"IF(AND($F217>0.99,$F217<1.000001),$A217,\"\")","v":""},{"$f":"IF(AND($F218>0.99,$F218<1.000001),$A218,\"\")","v":""},{"$f":"IF(AND($F219>0.99,$F219<1.000001),$A219,\"\")","v":""},{"$f":"IF(AND($F220>0.99,$F220<1.000001),$A220,\"\")","v":""},{"$f":"IF(AND($F221>0.99,$F221<1.000001),$A221,\"\")","v":""},{"$f":"IF(AND($F222>0.99,$F222<1.000001),$A222,\"\")","v":""},{"$f":"IF(AND($F223>0.99,$F223<1.000001),$A223,\"\")","v":""},{"$f":"IF(AND($F224>0.99,$F224<1.000001),$A224,\"\")","v":""}]
["Indoor Numbering Systems",null,null,null,null,{"$f":"Orient!L30","v":0},"didn't need the skills in the area(s) of",null,null,null,null,null,null,{"$f":"IF($F215=0,$A215,\"\")","v":"Cardinality"},{"$f":"IF($F216=0,$A216,\"\")","v":"Clues"},{"$f":"IF($F217=0,$A217,\"\")","v":"Landmarks"},{"$f":"IF($F218=0,$A218,\"\")","v":"Indoor Numbering Systems"},{"$f":"IF($F219=0,$A219,\"\")","v":"Outdoor Numbering Systems"},{"$f":"IF($F220=0,$A220,\"\")","v":"Grid System"},{"$f":"IF($F221=0,$A221,\"\")","v":"Divisors And Block Numbering"},{"$f":"IF($F222=0,$A222,\"\")","v":"Transferability"},{"$f":"IF($F223=0,$A223,\"\")","v":"GPS"},{"$f":"IF($F224=0,$A224,\"\")","v":"Maps"}]
["Outdoor Numbering Systems",null,null,null,null,{"$f":"Orient!L36","v":0}]
["Grid System",null,null,null,null,{"$f":"Orient!L42","v":0}]
["Divisors And Block Numbering",null,null,null,null,{"$f":"Orient!L53","v":0}]
["Transferability",null,null,null,null,{"$f":"Orient!L60","v":0}]
["GPS",null,null,null,null,{"$f":"Orient!L64","v":0}]
["Maps",null,null,null,null,{"$f":"Orient!L72","v":0}]
["Public Transportation Score:"]
["Identifying Common Public Transportation Options",null,null,null,null,{"$f":"PubTran!L3","v":0},"did well with the skills that made up the area(s) of",null,null,null,null,null,null,{"$f":"IF(F226>3.99,A226,\"\")","v":""},{"$f":"IF(F227>3.99,A227,\"\")","v":""},{"$f":"IF(F228>3.99,A228,\"\")","v":""},{"$f":"IF(F229>3.99,A229,\"\")","v":""},{"$f":"IF(F230>3.99,A230,\"\")","v":""},{"$f":"IF(F231>3.99,A231,\"\")","v":""},{"$f":"IF(F232>3.99,A232,\"\")","v":""}]
["Intra-City Bus Travel",null,null,null,null,{"$f":"PubTran!L4","v":0},"had room for improvement with the skills that made up the area(s) of",null,null,null,null,null,null,{"$f":"IF(AND($F226>1.01,$F226<3.99),$A226,\"\")","v":""},{"$f":"IF(AND($F227>1.01,$F227<3.99),$A227,\"\")","v":""},{"$f":"IF(AND($F228>1.01,$F228<3.99),$A228,\"\")","v":""},{"$f":"IF(AND($F229>1.01,$F229<3.99),$A229,\"\")","v":""},{"$f":"IF(AND($F230>1.01,$F230<3.99),$A230,\"\")","v":""},{"$f":"IF(AND($F231>1.01,$F231<3.99),$A231,\"\")","v":""},{"$f":"IF(AND($F232>1.01,$F232<3.99),$A232,\"\")","v":""}]
["Inter-City Bus Travel",null,null,null,null,{"$f":"PubTran!L22","v":0},"hadn't had the opportunity to work on the skills in the area(s) of",null,null,null,null,null,null,{"$f":"IF(AND($F226>0.99,$F226<1.000001),$A226,\"\")","v":""},{"$f":"IF(AND($F227>0.99,$F227<1.000001),$A227,\"\")","v":""},{"$f":"IF(AND($F228>0.99,$F228<1.000001),$A228,\"\")","v":""},{"$f":"IF(AND($F229>0.99,$F229<1.000001),$A229,\"\")","v":""},{"$f":"IF(AND($F230>0.99,$F230<1.000001),$A230,\"\")","v":""},{"$f":"IF(AND($F231>0.99,$F231<1.000001),$A231,\"\")","v":""},{"$f":"IF(AND($F232>0.99,$F232<1.000001),$A232,\"\")","v":""}]
["Taxi/Ride Service",null,null,null,null,{"$f":"PubTran!L38","v":0},"didn't need the skills in the area(s) of",null,null,null,null,null,null,{"$f":"IF($F226=0,$A226,\"\")","v":"Identifying Common Public Transportation Options"},{"$f":"IF($F227=0,$A227,\"\")","v":"Intra-City Bus Travel"},{"$f":"IF($F228=0,$A228,\"\")","v":"Inter-City Bus Travel"},{"$f":"IF($F229=0,$A229,\"\")","v":"Taxi/Ride Service"},{"$f":"IF($F230=0,$A230,\"\")","v":"Handi-Ride/Para Transit"},{"$f":"IF($F231=0,$A231,\"\")","v":"Air Travel"},{"$f":"IF($F232=0,$A232,\"\")","v":"Subway/Light Rail"}]
["Handi-Ride/Para Transit",null,null,null,null,{"$f":"PubTran!L45","v":0}]
["Air Travel",null,null,null,null,{"$f":"PubTran!L49","v":0}]
["Subway/Light Rail",null,null,null,null,{"$f":"PubTran!L65","v":0}]
["Atypical O&M Score:"]
["Fences",null,null,null,null,{"$f":"Atyp!L3","v":0},"did well with the skills that made up the area(s) of",null,null,null,null,null,null,{"$f":"IF(F234>3.99,A234,\"\")","v":""},{"$f":"IF(F235>3.99,A235,\"\")","v":""},{"$f":"IF(F236>3.99,A236,\"\")","v":""},{"$f":"IF(F237>3.99,A237,\"\")","v":""}]
["Fields (Urban)",null,null,null,null,{"$f":"Atyp!L7","v":0},"had room for improvement with the skills that made up the area(s) of",null,null,null,null,null,null,{"$f":"IF(AND($F234>1.01,$F234<3.99),$A234,\"\")","v":""},{"$f":"IF(AND($F235>1.01,$F235<3.99),$A235,\"\")","v":""},{"$f":"IF(AND($F236>1.01,$F236<3.99),$A236,\"\")","v":""},{"$f":"IF(AND($F237>1.01,$F237<3.99),$A237,\"\")","v":""}]
["Parks/Playgrounds",null,null,null,null,{"$f":"Atyp!L13","v":0},"hadn't had the opportunity to work on the skills in the area(s) of",null,null,null,null,null,null,{"$f":"IF(AND($F234>0.99,$F234<1.000001),$A234,\"\")","v":""},{"$f":"IF(AND($F235>0.99,$F235<1.000001),$A235,\"\")","v":""},{"$f":"IF(AND($F236>0.99,$F236<1.000001),$A236,\"\")","v":""},{"$f":"IF(AND($F237>0.99,$F237<1.000001),$A237,\"\")","v":""}]
["Inclement Weather",null,null,null,null,{"$f":"Atyp!L21","v":0},"didn't need the skills in the area(s) of",null,null,null,null,null,null,{"$f":"IF($F234=0,$A234,\"\")","v":"Fences"},{"$f":"IF($F235=0,$A235,\"\")","v":"Fields (Urban)"},{"$f":"IF($F236=0,$A236,\"\")","v":"Parks/Playgrounds"},{"$f":"IF($F237=0,$A237,\"\")","v":"Inclement Weather"}]
["Rural Travel Score:"]
["Understanding Unique Dangers Related To Rural Travel",null,null,null,null,{"$f":"Rural!L3","v":0},"did well with the skills that made up the area(s) of",null,null,null,null,null,null,{"$f":"IF(F239>3.99,A239,\"\")","v":""},{"$f":"IF(F240>3.99,A240,\"\")","v":""},{"$f":"IF(F241>3.99,A241,\"\")","v":""},{"$f":"IF(F242>3.99,A242,\"\")","v":""},{"$f":"IF(F243>3.99,A243,\"\")","v":""}]
["Walking Along Rural Roads",null,null,null,null,{"$f":"Rural!L9","v":0},"had room for improvement with the skills that made up the area(s) of",null,null,null,null,null,null,{"$f":"IF(AND($F239>1.01,$F239<3.99),$A239,\"\")","v":""},{"$f":"IF(AND($F240>1.01,$F240<3.99),$A240,\"\")","v":""},{"$f":"IF(AND($F241>1.01,$F241<3.99),$A241,\"\")","v":""},{"$f":"IF(AND($F242>1.01,$F242<3.99),$A242,\"\")","v":""},{"$f":"IF(AND($F243>1.01,$F243<3.99),$A243,\"\")","v":""}]
["Ditches/Arroyos",null,null,null,null,{"$f":"Rural!L15","v":0},"hadn't had the opportunity to work on the skills in the area(s) of",null,null,null,null,null,null,{"$f":"IF(AND($F239>0.99,$F239<1.000001),$A239,\"\")","v":""},{"$f":"IF(AND($F240>0.99,$F240<1.000001),$A240,\"\")","v":""},{"$f":"IF(AND($F241>0.99,$F241<1.000001),$A241,\"\")","v":""},{"$f":"IF(AND($F242>0.99,$F242<1.000001),$A242,\"\")","v":""},{"$f":"IF(AND($F243>0.99,$F243<1.000001),$A243,\"\")","v":""}]
["Identifying And Going Around Items In Rural Areas",null,null,null,null,{"$f":"Rural!L22","v":0},"didn't need the skills in the area(s) of",null,null,null,null,null,null,{"$f":"IF($F239=0,$A239,\"\")","v":"Understanding Unique Dangers Related To Rural Travel"},{"$f":"IF($F240=0,$A240,\"\")","v":"Walking Along Rural Roads"},{"$f":"IF($F241=0,$A241,\"\")","v":"Ditches/Arroyos"},{"$f":"IF($F242=0,$A242,\"\")","v":"Identifying And Going Around Items In Rural Areas"},{"$f":"IF($F243=0,$A243,\"\")","v":"Rural Street Crossings"}]
["Rural Street Crossings",null,null,null,null,{"$f":"Rural!L28","v":0}]
["Vision Specific O&M Skills Score:"]
["Scanning Materials",null,null,null,null,{"$f":"VisSpec!L3","v":0},"did well with the skills that made up the area(s) of",null,null,null,null,null,null,{"$f":"IF(F245>3.99,A245,\"\")","v":""},{"$f":"IF(F246>3.99,A246,\"\")","v":""},{"$f":"IF(F247>3.99,A247,\"\")","v":""},{"$f":"IF(F248>3.99,A248,\"\")","v":""},{"$f":"IF(F249>3.99,A249,\"\")","v":""}]
["Scanning Environments",null,null,null,null,{"$f":"VisSpec!L10","v":0},"had room for improvement with the skills that made up the area(s) of",null,null,null,null,null,null,{"$f":"IF(AND($F245>1.01,$F245<3.99),$A245,\"\")","v":""},{"$f":"IF(AND($F246>1.01,$F246<3.99),$A246,\"\")","v":""},{"$f":"IF(AND($F247>1.01,$F247<3.99),$A247,\"\")","v":""},{"$f":"IF(AND($F248>1.01,$F248<3.99),$A248,\"\")","v":""},{"$f":"IF(AND($F249>1.01,$F249<3.99),$A249,\"\")","v":""}]
["Magnifiers And CCTVs",null,null,null,null,{"$f":"VisSpec!L17","v":0},"hadn't had the opportunity to work on the skills in the area(s) of",null,null,null,null,null,null,{"$f":"IF(AND($F245>0.99,$F245<1.000001),$A245,\"\")","v":""},{"$f":"IF(AND($F246>0.99,$F246<1.000001),$A246,\"\")","v":""},{"$f":"IF(AND($F247>0.99,$F247<1.000001),$A247,\"\")","v":""},{"$f":"IF(AND($F248>0.99,$F248<1.000001),$A248,\"\")","v":""},{"$f":"IF(AND($F249>0.99,$F249<1.000001),$A249,\"\")","v":""}]
["Monoculars",null,null,null,null,{"$f":"VisSpec!L21","v":0},"didn't need the skills in the area(s) of",null,null,null,null,null,null,{"$f":"IF($F245=0,$A245,\"\")","v":"Scanning Materials"},{"$f":"IF($F246=0,$A246,\"\")","v":"Scanning Environments"},{"$f":"IF($F247=0,$A247,\"\")","v":"Magnifiers And CCTVs"},{"$f":"IF($F248=0,$A248,\"\")","v":"Monoculars"},{"$f":"IF($F249=0,$A249,\"\")","v":"Visual Traveling"}]
["Visual Traveling",null,null,null,null,{"$f":"VisSpec!L27","v":0}]
["Community Score:"]
["Comparison Shopping From Home",null,null,null,null,{"$f":"Commun!L3","v":0},"did well with the skills that made up the area(s) of",null,null,null,null,null,null,{"$f":"IF(F251>3.99,A251,\"\")","v":""},{"$f":"IF(F252>3.99,A252,\"\")","v":""},{"$f":"IF(F253>3.99,A253,\"\")","v":""},{"$f":"IF(F254>3.99,A254,\"\")","v":""},{"$f":"IF(F255>3.99,A255,\"\")","v":""}]
["Stores",null,null,null,null,{"$f":"Commun!L7","v":0},"had room for improvement with the skills that made up the area(s) of",null,null,null,null,null,null,{"$f":"IF(AND($F251>1.01,$F251<3.99),$A251,\"\")","v":""},{"$f":"IF(AND($F252>1.01,$F252<3.99),$A252,\"\")","v":""},{"$f":"IF(AND($F253>1.01,$F253<3.99),$A253,\"\")","v":""},{"$f":"IF(AND($F254>1.01,$F254<3.99),$A254,\"\")","v":""},{"$f":"IF(AND($F255>1.01,$F255<3.99),$A255,\"\")","v":""}]
["Fast Food Restaurants",null,null,null,null,{"$f":"Commun!L19","v":0},"hadn't had the opportunity to work on the skills in the area(s) of",null,null,null,null,null,null,{"$f":"IF(AND($F251>0.99,$F251<1.000001),$A251,\"\")","v":""},{"$f":"IF(AND($F252>0.99,$F252<1.000001),$A252,\"\")","v":""},{"$f":"IF(AND($F253>0.99,$F253<1.000001),$A253,\"\")","v":""},{"$f":"IF(AND($F254>0.99,$F254<1.000001),$A254,\"\")","v":""},{"$f":"IF(AND($F255>0.99,$F255<1.000001),$A255,\"\")","v":""}]
["Cafeteria Restaurants",null,null,null,null,{"$f":"Commun!L30","v":0},"didn't need the skills in the area(s) of",null,null,null,null,null,null,{"$f":"IF($F251=0,$A251,\"\")","v":"Comparison Shopping From Home"},{"$f":"IF($F252=0,$A252,\"\")","v":"Stores"},{"$f":"IF($F253=0,$A253,\"\")","v":"Fast Food Restaurants"},{"$f":"IF($F254=0,$A254,\"\")","v":"Cafeteria Restaurants"},{"$f":"IF($F255=0,$A255,\"\")","v":"Sit Down Restaurants"}]
["Sit Down Restaurants",null,null,null,null,{"$f":"Commun!L41","v":0}]
[]
[]
[]
[null,null,null,null,null,null,"demonstrated","of the skills needed to travel independently as an adult."]
[{"$f":"G5","v":0},"Concepts",null,null,null,null,"did well with the skills that made up the domain(s) of",null,null,null,null,null,null,{"$f":"IF(A260>79.999999999,B260,\"\")","v":""},{"$f":"IF(A261>79.999999999,B261,\"\")","v":""},{"$f":"IF(A262>79.999999999,B262,\"\")","v":""},{"$f":"IF(A263>79.999999999,B263,\"\")","v":""},{"$f":"IF(A264>79.999999999,B264,\"\")","v":""},{"$f":"IF(A265>79.999999999,B265,\"\")","v":""},{"$f":"IF(A266>79.999999999,B266,\"\")","v":""},{"$f":"IF(A267>79.999999999,B267,\"\")","v":""},{"$f":"IF(A268>79.999999999,B268,\"\")","v":""},{"$f":"IF(A269>79.999999999,B269,\"\")","v":""},{"$f":"IF(A270>79.999999999,B270,\"\")","v":""},{"$f":"IF(A271>79.999999999,B271,\"\")","v":""},{"$f":"IF(A272>79.999999999,B272,\"\")","v":""},{"$f":"IF(A273>79.999999999,B273,\"\")","v":""},{"$f":"IF(A274>79.999999999,B274,\"\")","v":""}]
[{"$f":"G11","v":0},"Movement",null,null,null,null,"had room for improvement with the skills that made up the domain(s) of",null,null,null,null,null,null,{"$f":"IF(AND($A260>20.000001,$A260<79.999999998),$B260,\"\")","v":""},{"$f":"IF(AND($A261>20.000001,$A261<79.999999998),$B261,\"\")","v":""},{"$f":"IF(AND($A262>20.000001,$A262<79.999999998),$B262,\"\")","v":""},{"$f":"IF(AND($A263>20.000001,$A263<79.999999998),$B263,\"\")","v":""},{"$f":"IF(AND($A264>20.000001,$A264<79.999999998),$B264,\"\")","v":""},{"$f":"IF(AND($A265>20.000001,$A265<79.999999998),$B265,\"\")","v":""},{"$f":"IF(AND($A266>20.000001,$A266<79.999999998),$B266,\"\")","v":""},{"$f":"IF(AND($A267>20.000001,$A267<79.999999998),$B267,\"\")","v":""},{"$f":"IF(AND($A268>20.000001,$A268<79.999999998),$B268,\"\")","v":""},{"$f":"IF(AND($A269>20.000001,$A269<79.999999998),$B269,\"\")","v":""},{"$f":"IF(AND($A270>20.000001,$A270<79.999999998),$B270,\"\")","v":""},{"$f":"IF(AND($A271>20.000001,$A271<79.999999998),$B271,\"\")","v":""},{"$f":"IF(AND($A272>20.000001,$A272<79.999999998),$B272,\"\")","v":""},{"$f":"IF(AND($A273>20.000001,$A273<79.999999998),$B273,\"\")","v":""},{"$f":"IF(AND($A274>20.000001,$A274<79.999999998),$B274,\"\")","v":""}]
[{"$f":"G17","v":0},"Single Room O&M",null,null,null,null,"hadn't had the opportunity to work on the skills that made up the domain(s) of",null,null,null,null,null,null,{"$f":"IF(AND($A260>19.9,$A260<20.1),$B260,\"\")","v":""},{"$f":"IF(AND($A261>19.9,$A261<20.1),$B261,\"\")","v":""},{"$f":"IF(AND($A262>19.9,$A262<20.1),$B262,\"\")","v":""},{"$f":"IF(AND($A263>19.9,$A263<20.1),$B263,\"\")","v":""},{"$f":"IF(AND($A264>19.9,$A264<20.1),$B264,\"\")","v":""},{"$f":"IF(AND($A265>19.9,$A265<20.1),$B265,\"\")","v":""},{"$f":"IF(AND($A266>19.9,$A266<20.1),$B266,\"\")","v":""},{"$f":"IF(AND($A267>19.9,$A267<20.1),$B267,\"\")","v":""},{"$f":"IF(AND($A268>19.9,$A268<20.1),$B268,\"\")","v":""},{"$f":"IF(AND($A269>19.9,$A269<20.1),$B269,\"\")","v":""},{"$f":"IF(AND($A270>19.9,$A270<20.1),$B270,\"\")","v":""},{"$f":"IF(AND($A271>19.9,$A271<20.1),$B271,\"\")","v":""},{"$f":"IF(AND($A272>19.9,$A272<20.1),$B272,\"\")","v":""},{"$f":"IF(AND($A273>19.9,$A273<20.1),$B273,\"\")","v":""},{"$f":"IF(AND($A274>19.9,$A274<20.1),$B274,\"\")","v":""}]
[{"$f":"G23","v":0},"Indoor O&M",null,null,null,null,"had no need for the skills that made up the domain(s) of",null,null,null,null,null,null,{"$f":"IF($A260=0,$B260,\"\")","v":"Concepts"},{"$f":"IF($A261=0,$B261,\"\")","v":"Movement"},{"$f":"IF($A262=0,$B262,\"\")","v":"Single Room O&M"},{"$f":"IF($A263=0,$B263,\"\")","v":"Indoor O&M"},{"$f":"IF($A264=0,$B264,\"\")","v":"Self Protection"},{"$f":"IF($A265=0,$B265,\"\")","v":"Guided Travel"},{"$f":"IF($A266=0,$B266,\"\")","v":"Cane Skills"},{"$f":"IF($A267=0,$B267,\"\")","v":"Sidewalk Travel"},{"$f":"IF($A268=0,$B268,\"\")","v":"Street Crossings"},{"$f":"IF($A269=0,$B269,\"\")","v":"Orientation Skills & GPS"},{"$f":"IF($A270=0,$B270,\"\")","v":"Public Transportation"},{"$f":"IF($A271=0,$B271,\"\")","v":"Atypical O&M"},{"$f":"IF($A272=0,$B272,\"\")","v":"Rural Travel"},{"$f":"IF($A273=0,$B273,\"\")","v":"Vision Specific O&M Skills"},{"$f":"IF($A274=0,$B274,\"\")","v":"Community "}]
[{"$f":"G29","v":0},"Self Protection"]
[{"$f":"G35","v":0},"Guided Travel"]
[{"$f":"G41","v":0},"Cane Skills"]
[{"$f":"G47","v":0},"Sidewalk Travel"]
[{"$f":"G53","v":0},"Street Crossings"]
[{"$f":"G59","v":0},"Orientation Skills & GPS"]
[{"$f":"G65","v":0},"Public Transportation"]
[{"$f":"G71","v":0},"Atypical O&M"]
[{"$f":"G77","v":0},"Rural Travel"]
[{"$f":"G83","v":0},"Vision Specific O&M Skills"]
[{"$f":"G89","v":0},"Community "]
[]
["will demonstrate improved skills in Orientation & Mobility by increasing the score on the O&M Inventory from"]
["to a minimum of"]
["by the next annual IEP date."]
["Please see the attached chart. "]
["Over the previous grading period"]
["increased the score on the O&M Inventory from"]
["to"]
["and is now"]
["of the way to the goal of"]
["made gains in the domain(s) of"]
[{"$f":"IF($F286>$E286,$B260,\"\")","v":""},{"$f":"Front!B3","v":0},{"$f":"Front!C3","v":0},{"$f":"Front!D3","v":0},{"$f":"Front!E3","v":0},{"$f":"Front!F3","v":0},{"$f":"Front!G3","v":0},{"$f":"Front!H3","v":0},{"$f":"Front!I3","v":0},{"$f":"Front!J3","v":0},{"$f":"Front!K3","v":0},{"$f":"Front!L3","v":0},{"$f":"Front!M3","v":0}]
["",{"$f":"Front!B4","v":0},{"$f":"Front!C4","v":0},{"$f":"Front!D4","v":0},{"$f":"Front!E4","v":0},{"$f":"Front!F4","v":0},{"$f":"Front!G4","v":0},{"$f":"Front!H4","v":0},{"$f":"Front!I4","v":0},{"$f":"Front!J4","v":0},{"$f":"Front!K4","v":0},{"$f":"Front!L4","v":0},{"$f":"Front!M4","v":0}]
["",{"$f":"Front!B5","v":0},{"$f":"Front!C5","v":0},{"$f":"Front!D5","v":0},{"$f":"Front!E5","v":0},{"$f":"Front!F5","v":0},{"$f":"Front!G5","v":0},{"$f":"Front!H5","v":0},{"$f":"Front!I5","v":0},{"$f":"Front!J5","v":0},{"$f":"Front!K5","v":0},{"$f":"Front!L5","v":0},{"$f":"Front!M5","v":0}]
["",{"$f":"Front!B6","v":0},{"$f":"Front!C6","v":0},{"$f":"Front!D6","v":0},{"$f":"Front!E6","v":0},{"$f":"Front!F6","v":0},{"$f":"Front!G6","v":0},{"$f":"Front!H6","v":0},{"$f":"Front!I6","v":0},{"$f":"Front!J6","v":0},{"$f":"Front!K6","v":0},{"$f":"Front!L6","v":0},{"$f":"Front!M6","v":0}]
["",{"$f":"Front!B7","v":0},{"$f":"Front!C7","v":0},{"$f":"Front!D7","v":0},{"$f":"Front!E7","v":0},{"$f":"Front!F7","v":0},{"$f":"Front!G7","v":0},{"$f":"Front!H7","v":0},{"$f":"Front!I7","v":0},{"$f":"Front!J7","v":0},{"$f":"Front!K7","v":0},{"$f":"Front!L7","v":0},{"$f":"Front!M7","v":0}]
["",{"$f":"Front!B8","v":0},{"$f":"Front!C8","v":0},{"$f":"Front!D8","v":0},{"$f":"Front!E8","v":0},{"$f":"Front!F8","v":0},{"$f":"Front!G8","v":0},{"$f":"Front!H8","v":0},{"$f":"Front!I8","v":0},{"$f":"Front!J8","v":0},{"$f":"Front!K8","v":0},{"$f":"Front!L8","v":0},{"$f":"Front!M8","v":0}]
["",{"$f":"Front!B9","v":0},{"$f":"Front!C9","v":0},{"$f":"Front!D9","v":0},{"$f":"Front!E9","v":0},{"$f":"Front!F9","v":0},{"$f":"Front!G9","v":0},{"$f":"Front!H9","v":0},{"$f":"Front!I9","v":0},{"$f":"Front!J9","v":0},{"$f":"Front!K9","v":0},{"$f":"Front!L9","v":0},{"$f":"Front!M9","v":0}]
["",{"$f":"Front!B10","v":0},{"$f":"Front!C10","v":0},{"$f":"Front!D10","v":0},{"$f":"Front!E10","v":0},{"$f":"Front!F10","v":0},{"$f":"Front!G10","v":0},{"$f":"Front!H10","v":0},{"$f":"Front!I10","v":0},{"$f":"Front!J10","v":0},{"$f":"Front!K10","v":0},{"$f":"Front!L10","v":0},{"$f":"Front!M10","v":0}]
["",{"$f":"Front!B11","v":0},{"$f":"Front!C11","v":0},{"$f":"Front!D11","v":0},{"$f":"Front!E11","v":0},{"$f":"Front!F11","v":0},{"$f":"Front!G11","v":0},{"$f":"Front!H11","v":0},{"$f":"Front!I11","v":0},{"$f":"Front!J11","v":0},{"$f":"Front!K11","v":0},{"$f":"Front!L11","v":0},{"$f":"Front!M11","v":0}]
["",{"$f":"Front!B12","v":0},{"$f":"Front!C12","v":0},{"$f":"Front!D12","v":0},{"$f":"Front!E12","v":0},{"$f":"Front!F12","v":0},{"$f":"Front!G12","v":0},{"$f":"Front!H12","v":0},{"$f":"Front!I12","v":0},{"$f":"Front!J12","v":0},{"$f":"Front!K12","v":0},{"$f":"Front!L12","v":0},{"$f":"Front!M12","v":0}]
["",{"$f":"Front!B13","v":0},{"$f":"Front!C13","v":0},{"$f":"Front!D13","v":0},{"$f":"Front!E13","v":0},{"$f":"Front!F13","v":0},{"$f":"Front!G13","v":0},{"$f":"Front!H13","v":0},{"$f":"Front!I13","v":0},{"$f":"Front!J13","v":0},{"$f":"Front!K13","v":0},{"$f":"Front!L13","v":0},{"$f":"Front!M13","v":0}]
["",{"$f":"Front!B14","v":0},{"$f":"Front!C14","v":0},{"$f":"Front!D14","v":0},{"$f":"Front!E14","v":0},{"$f":"Front!F14","v":0},{"$f":"Front!G14","v":0},{"$f":"Front!H14","v":0},{"$f":"Front!I14","v":0},{"$f":"Front!J14","v":0},{"$f":"Front!K14","v":0},{"$f":"Front!L14","v":0},{"$f":"Front!M14","v":0}]
["",{"$f":"Front!B15","v":0},{"$f":"Front!C15","v":0},{"$f":"Front!D15","v":0},{"$f":"Front!E15","v":0},{"$f":"Front!F15","v":0},{"$f":"Front!G15","v":0},{"$f":"Front!H15","v":0},{"$f":"Front!I15","v":0},{"$f":"Front!J15","v":0},{"$f":"Front!K15","v":0},{"$f":"Front!L15","v":0},{"$f":"Front!M15","v":0}]
["",{"$f":"Front!B16","v":0},{"$f":"Front!C16","v":0},{"$f":"Front!D16","v":0},{"$f":"Front!E16","v":0},{"$f":"Front!F16","v":0},{"$f":"Front!G16","v":0},{"$f":"Front!H16","v":0},{"$f":"Front!I16","v":0},{"$f":"Front!J16","v":0},{"$f":"Front!K16","v":0},{"$f":"Front!L16","v":0},{"$f":"Front!M16","v":0}]
["",{"$f":"Front!B17","v":0},{"$f":"Front!C17","v":0},{"$f":"Front!D17","v":0},{"$f":"Front!E17","v":0},{"$f":"Front!F17","v":0},{"$f":"Front!G17","v":0},{"$f":"Front!H17","v":0},{"$f":"Front!I17","v":0},{"$f":"Front!J17","v":0},{"$f":"Front!K17","v":0},{"$f":"Front!L17","v":0},{"$f":"Front!M17","v":0}]

{"sheet":"R6","index":21,"n_rows":300,"n_cols":29,"rows_kept":300,"cut":false,"hidden":false,"merged":[]}
[{"$f":"'R1'!A1","v":0},"← TYPE STUDENT NAME IN GREEN BOX",null,null,null,null,null,null,null,null,null,null,null,null,"%prog","total","tot round","%pr rnd","goal"]
["↓ HIGHLIGHT & COPY WHITE CELLS; PASTE IN WORD DOCUMENT AS \"KEEP TEXT ONLY\" OR \"UNFORMATTED\"",null,null,null,null,null,null,null,null,null,null,null,null,null,{"$f":"Front!B20","v":0},{"$f":"Front!B18","v":0},{"$f":"ROUND(P2,2)","v":0},{"$f":"ROUND(O2,2)","v":0},{"$f":"Front!B19","v":1}]
[{"$f":"CONCATENATE(A150,\" \",K3,\"%\")","v":"NMSBVI O&M INVENTORY TOTAL SCORE:  0%"},null,null,null,null,null,null,null,null,{"$f":"Front!G18","v":0},{"$f":"ROUND(J3,2)","v":0},null,null,null,{"$f":"Front!C20","v":0},{"$f":"Front!C18","v":0},0,0,{"$f":"Front!C19","v":1}]
[null,null,null,null,null,null,null,null,null,null,null,null,null,null,{"$f":"Front!D20","v":0},{"$f":"Front!D18","v":0},0,0,{"$f":"Front!D19","v":1}]
[{"$f":"CONCATENATE(A151,\" \",H5,\"%\")","v":"Concepts Score: 0%"},null,null,null,null,null,{"$f":"Front!G3","v":0},{"$f":"ROUND(G5,1)","v":0},"← Don't worry about these 2 numbers",null,null,null,null,null,{"$f":"Front!E20","v":0},{"$f":"Front!E18","v":0},0,0,{"$f":"Front!E19","v":1}]
[{"$f":"CONCATENATE($A1,\" \",G152,\" \",N152,\", \",O152,\", \",P152,\", \",Q152)","v":"0 did well with the skills that made up the area(s) of , , , "},null,null,null,null,null,null,null,null,null,null,null,null,null,{"$f":"Front!F20","v":0},{"$f":"Front!F18","v":0},0,0,{"$f":"Front!F19","v":1}]
[{"$f":"CONCATENATE($A1,\" \",G153,\" \",N153,\", \",O153,\", \",P153,\", \",Q153)","v":"0 had room for improvement with the skills that made up the area(s) of , , , "},null,null,null,null,null,null,null,null,null,null,null,null,null,{"$f":"Front!G20","v":0},{"$f":"Front!G18","v":0},0,0,{"$f":"Front!G19","v":1}]
[{"$f":"CONCATENATE($A1,\" \",G154,\" \",N154,\", \",O154,\", \",P154,\", \",Q154)","v":"0 hadn't had the opportunity to work on the skills in the area(s) of , , , "},null,null,null,null,null,null,null,null,null,null,null,null,null,{"$f":"Front!H20","v":0},{"$f":"Front!H18","v":0},0,0,{"$f":"Front!H19","v":1}]
[{"$f":"CONCATENATE($A1,\" \",G155,\" \",N155,\", \",O155,\", \",P155,\", \",Q155)","v":"0 didn't need the skills in the area(s) of Vocabulary, Laterality, Parallel/Perpendicular, Time And Distance"},null,null,null,null,null,null,null,null,null,null,null,null,null,{"$f":"Front!I20","v":0},{"$f":"Front!I18","v":0},0,0,{"$f":"Front!I19","v":1}]
[null,null,null,null,null,null,null,null,null,null,null,null,null,null,{"$f":"Front!J20","v":0},{"$f":"Front!J18","v":0},0,0,{"$f":"Front!J19","v":1}]
[{"$f":"CONCATENATE(A156,\" \",H11,\"%\")","v":"Movement Score: 0%"},null,null,null,null,null,{"$f":"Front!G4","v":0},{"$f":"ROUND(G11,1)","v":0},null,null,null,null,null,null,{"$f":"Front!K20","v":0},{"$f":"Front!K18","v":0},0,0,{"$f":"Front!K19","v":1}]
[{"$f":"CONCATENATE($A1,\" \",G157,\" \",N157,\", \",O157,\", \",P157,\", \",Q157)","v":"0 did well with the skills that made up the area(s) of , , , "},null,null,null,null,null,null,null,null,null,null,null,null,null,{"$f":"Front!L20","v":0},{"$f":"Front!L18","v":0},0,0,{"$f":"Front!L19","v":1}]
[{"$f":"CONCATENATE($A1,\" \",G158,\" \",N158,\", \",O158,\", \",P158,\", \",Q158)","v":"0 had room for improvement with the skills that made up the area(s) of , , , "},null,null,null,null,null,null,null,null,null,null,null,null,null,{"$f":"Front!M20","v":0},{"$f":"Front!M18","v":0},0,0,{"$f":"Front!M19","v":1}]
[{"$f":"CONCATENATE($A1,\" \",G159,\" \",N159,\", \",O159,\", \",P159,\", \",Q159)","v":"0 hadn't had the opportunity to work on the skills in the area(s) of , , , "},null,null,null,null,null,null,null,null,null,null,null,null,null,"↑ Don't worry about this chart"]
[{"$f":"CONCATENATE($A1,\" \",G160,\" \",N160,\", \",O160,\", \",P160,\", \",Q160)","v":"0 didn't need the skills in the area(s) of Walking, Maintaining Body Alignment While Walking, Balance, Turns"}]
[null,null,null,null,null,null,"DO NOT HIGHLIGHT & COPY ANY OF THE GREY CELLS; ALL THE TEXT YOU NEED IS IN WHITE CELLS"]
[{"$f":"CONCATENATE(A161,\" \",H17,\"%\")","v":"Single Room O&M Score: 0%"},null,null,null,null,null,{"$f":"Front!G5","v":0},{"$f":"ROUND(G17,1)","v":0}]
[{"$f":"CONCATENATE($A1,\" \",G162,\" \",N162,\", \",O162,\", \",P162,\", \",Q162,\", \",R162)","v":"0 did well with the skills that made up the area(s) of , , , , "}]
[{"$f":"CONCATENATE($A1,\" \",G163,\" \",N163,\", \",O163,\", \",P163,\", \",Q163,\", \",R163)","v":"0 had room for improvement with the skills that made up the area(s) of , , , , "}]
[{"$f":"CONCATENATE($A1,\" \",G164,\" \",N164,\", \",O164,\", \",P164,\", \",Q164,\", \",R164)","v":"0 hadn't had the opportunity to work on the skills in the area(s) of , , , , "}]
[{"$f":"CONCATENATE($A1,\" \",G165,\" \",N165,\", \",O165,\", \",P165,\", \",Q165,\", \",R165)","v":"0 didn't need the skills in the area(s) of Familiar Rooms, Unfamiliar Rooms, Seating (Rows), Seating (Tables), Locating Dropped Objects"}]
[null,null,null,null,null,null,"COPYING THE GREY CELLS WILL JUST MAKE A MESS OF YOUR WORD DOCUMENT. I KNOW IT LOOKS"]
[{"$f":"CONCATENATE(A167,\" \",H23,\"%\")","v":"Indoor O&M Score: 0%"},null,null,null,null,null,{"$f":"Front!G6","v":0},{"$f":"ROUND(G23,1)","v":0}]
[{"$f":"CONCATENATE($A1,\" \",G168,\" \",N168,\", \",O168,\", \",P168,\", \",Q168,\", \",R168,\", \",S168,\", \",T168,\", \",U168)","v":"0 did well with the skills that made up the area(s) of , , , , , , , "}]
[{"$f":"CONCATENATE($A1,\" \",G169,\" \",N169,\", \",O169,\", \",P169,\", \",Q169,\", \",R169,\", \",S169,\", \",T169,\", \",U169)","v":"0 had room for improvement with the skills that made up the area(s) of , , , , , , , "}]
[{"$f":"CONCATENATE($A1,\" \",G170,\" \",N170,\", \",O170,\", \",P170,\", \",Q170,\", \",R170,\", \",S170,\", \",T170,\", \",U170)","v":"0 hadn't had the opportunity to work on the skills in the area(s) of , , , , , , , "}]
[{"$f":"CONCATENATE($A1,\" \",G171,\" \",N171,\", \",O171,\", \",P171,\", \",Q171,\", \",R171,\", \",S171,\", \",T171,\", \",U171)","v":"0 didn't need the skills in the area(s) of Hand Trailing, Navigating Open Spaces, Doors, Ascending/Descending Stairs, Escalators, Elevators, Moving Sidewalks, Turnstiles"}]
[null,null,null,null,null,null,"LIKE THERE IS TEXT IN THE GREY CELLS BUT THERE REALLY ISN'T. TRUST ME; I'M AN EXCEL NERD."]
[{"$f":"CONCATENATE(A176,\" \",H29,\"%\")","v":"Self Protection Score: 0%"},null,null,null,null,null,{"$f":"Front!G7","v":0},{"$f":"ROUND(G29,1)","v":0}]
[{"$f":"CONCATENATE($A1,\" \",G176,\" \",N176,\", \",O176,\", \",P176)","v":"0 did well with the skills that made up the area(s) of , , "}]
[{"$f":"CONCATENATE($A1,\" \",G177,\" \",N177,\", \",O177,\", \",P177)","v":"0 had room for improvement with the skills that made up the area(s) of , , "}]
[{"$f":"CONCATENATE($A1,\" \",G178,\" \",N178,\", \",O178,\", \",P178)","v":"0 hadn't had the opportunity to work on the skills in the area(s) of , , "}]
[{"$f":"CONCATENATE($A1,\" \",G179,\" \",N179,\", \",O179,\", \",P179)","v":"0 didn't need the skills in the area(s) of Upper Hand Protective Technique, Lower Forearm Protective Technique, Protective Clothing"}]
[]
[{"$f":"CONCATENATE(A180,\" \",H35,\"%\")","v":"Guided Travel Score: 0%"},null,null,null,null,null,{"$f":"Front!G8","v":0},{"$f":"ROUND(G35,1)","v":0}]
[{"$f":"CONCATENATE($A1,\" \",G181,\" \",N181,\", \",O181,\", \",P181,\", \",Q181)","v":"0 did well with the skills that made up the area(s) of , , , "}]
[{"$f":"CONCATENATE($A1,\" \",G182,\" \",N182,\", \",O182,\", \",P182,\", \",Q182)","v":"0 had room for improvement with the skills that made up the area(s) of , , , "}]
[{"$f":"CONCATENATE($A1,\" \",G183,\" \",N183,\", \",O183,\", \",P183,\", \",Q183)","v":"0 hadn't had the opportunity to work on the skills in the area(s) of , , , "}]
[{"$f":"CONCATENATE($A1,\" \",G184,\" \",N184,\", \",O184,\", \",P184,\", \",Q184)","v":"0 didn't need the skills in the area(s) of Human Guide, Walking With Another (No Direct Contact), Menus, Getting Rides"}]
[]
[{"$f":"CONCATENATE(A185,\" \",H41,\"%\")","v":"Cane Skills Score: 0%"},null,null,null,null,null,{"$f":"Front!G9","v":0},{"$f":"ROUND(G41,1)","v":0}]
[{"$f":"CONCATENATE($A1,\" \",G186,\" \",N186,\", \",O186,\", \",P186,\", \",Q186,\", \",R186,\", \",S186,\", \",T186)","v":"0 did well with the skills that made up the area(s) of , , , , , , "}]
[{"$f":"CONCATENATE($A1,\" \",G187,\" \",N187,\", \",O187,\", \",P187,\", \",Q187,\", \",R187,\", \",S187,\", \",T187)","v":"0 had room for improvement with the skills that made up the area(s) of , , , , , , "}]
[{"$f":"CONCATENATE($A1,\" \",G188,\" \",N188,\", \",O188,\", \",P188,\", \",Q188,\", \",R188,\", \",S188,\", \",T188)","v":"0 hadn't had the opportunity to work on the skills in the area(s) of , , , , , , "}]
[{"$f":"CONCATENATE($A1,\" \",G189,\" \",N189,\", \",O189,\", \",P189,\", \",Q189,\", \",R189,\", \",S189,\", \",T189)","v":"0 didn't need the skills in the area(s) of Basic Skills, Types Of Grips, Constant Contact, Diagonal/Diagonal Trail, Two Point Touch/Touch Trail, Touch And Drag, Three Point Touch"}]
[]
[{"$f":"CONCATENATE(A193,\" \",H47,\"%\")","v":"Sidewalk Travel Score: 0%"},null,null,null,null,null,{"$f":"Front!G10","v":0},{"$f":"ROUND(G47,1)","v":0}]
[{"$f":"CONCATENATE($A1,\" \",G193,\" \",N193,\", \",O193,\", \",P193)","v":"0 did well with the skills that made up the area(s) of , , "}]
[{"$f":"CONCATENATE($A1,\" \",G194,\" \",N194,\", \",O194,\", \",P194)","v":"0 had room for improvement with the skills that made up the area(s) of , , "}]
[{"$f":"CONCATENATE($A1,\" \",G195,\" \",N195,\", \",O195,\", \",P195)","v":"0 hadn't had the opportunity to work on the skills in the area(s) of , , "}]
[{"$f":"CONCATENATE($A1,\" \",G196,\" \",N196,\", \",O196,\", \",P196)","v":"0 didn't need the skills in the area(s) of Walking On Sidewalks, Walking On Irregular Sidewalks, Correcting for Veering On Sidewalks"}]
[]
[{"$f":"CONCATENATE(A197,\" \",H53,\"%\")","v":"Street Crossings Score: 0%"},null,null,null,null,null,{"$f":"Front!G11","v":0},{"$f":"ROUND(G53,1)","v":0}]
[{"$f":"CONCATENATE($A1,\" \",G198,\" \",N198,\", \",O198,\", \",P198,\", \",Q198,\", \",R198,\", \",S198,\", \",T198,\", \",U198,\", \",V198,\", \",W198,\", \",X198,\", \",Y198,\", \",Z198,\", \",AA198,\", \",AB198,\", \",AC198)","v":"0 did well with the skills that made up the area(s) of , , , , , , , , , , , , , , , "}]
[{"$f":"CONCATENATE($A1,\" \",G199,\" \",N199,\", \",O199,\", \",P199,\", \",Q199,\", \",R199,\", \",S199,\", \",T199,\", \",U199,\", \",V199,\", \",W199,\", \",X199,\", \",Y199,\", \",Z199,\", \",AA199,\", \",AB199,\", \",AC199)","v":"0 had room for improvement with the skills that made up the area(s) of , , , , , , , , , , , , , , , "}]
[{"$f":"CONCATENATE($A1,\" \",G200,\" \",N200,\", \",O200,\", \",P200,\", \",Q200,\", \",R200,\", \",S200,\", \",T200,\", \",U200,\", \",V200,\", \",W200,\", \",X200,\", \",Y200,\", \",Z200,\", \",AA200,\", \",AB200,\", \",AC200)","v":"0 hadn't had the opportunity to work on the skills in the area(s) of , , , , , , , , , , , , , , , "}]
[{"$f":"CONCATENATE($A1,\" \",G201,\" \",N201,\", \",O201,\", \",P201,\", \",Q201,\", \",R201,\", \",S201,\", \",T201,\", \",U201,\", \",V201,\", \",W201,\", \",X201,\", \",Y201,\", \",Z201,\", \",AA201,\", \",AB201,\", \",AC201)","v":"0 didn't need the skills in the area(s) of Anticipating Street Crossings, Maintaining Line Of Travel, Maintaining Body Alignment, Re-establishing Body Alignment, Analyzing Intersections, Plus Intersections, T Intersections, Y Intersections, Roundabouts, Significantly Offset Intersections, Atypical Intersections, Newly Developed Intersections, Channelized Right Turn Lanes, Veering, Understanding Drivers’ Perspectives, Pedestrian Signals"}]
[]
[{"$f":"CONCATENATE(A214,\" \",H59,\"%\")","v":"Orientation Skills and GPS Score: 0%"},null,null,null,null,null,{"$f":"Front!G12","v":0},{"$f":"ROUND(G59,1)","v":0}]
[{"$f":"CONCATENATE($A1,\" \",G215,\" \",N215,\", \",O215,\", \",P215,\", \",Q215,\", \",R215,\", \",S215,\", \",T215,\", \",U215,\", \",V215,\", \",W215)","v":"0 did well with the skills that made up the area(s) of , , , , , , , , , "}]
[{"$f":"CONCATENATE($A1,\" \",G216,\" \",N216,\", \",O216,\", \",P216,\", \",Q216,\", \",R216,\", \",S216,\", \",T216,\", \",U216,\", \",V216,\", \",W216)","v":"0 had room for improvement with the skills that made up the area(s) of , , , , , , , , , "}]
[{"$f":"CONCATENATE($A1,\" \",G217,\" \",N217,\", \",O217,\", \",P217,\", \",Q217,\", \",R217,\", \",S217,\", \",T217,\", \",U217,\", \",V217,\", \",W217)","v":"0 hadn't had the opportunity to work on the skills in the area(s) of , , , , , , , , , "}]
[{"$f":"CONCATENATE($A1,\" \",G218,\" \",N218,\", \",O218,\", \",P218,\", \",Q218,\", \",R218,\", \",S218,\", \",T218,\", \",U218,\", \",V218,\", \",W218)","v":"0 didn't need the skills in the area(s) of Cardinality, Clues, Landmarks, Indoor Numbering Systems, Outdoor Numbering Systems, Grid System, Divisors And Block Numbering, Transferability, GPS, Maps"}]
[]
[{"$f":"CONCATENATE(A225,\" \",H65,\"%\")","v":"Public Transportation Score: 0%"},null,null,null,null,null,{"$f":"Front!G13","v":0},{"$f":"ROUND(G65,1)","v":0}]
[{"$f":"CONCATENATE($A1,\" \",G226,\" \",N226,\", \",O226,\", \",P226,\", \",Q226,\", \",R226,\", \",S226,\", \",T226)","v":"0 did well with the skills that made up the area(s) of , , , , , , "}]
[{"$f":"CONCATENATE($A1,\" \",G227,\" \",N227,\", \",O227,\", \",P227,\", \",Q227,\", \",R227,\", \",S227,\", \",T227)","v":"0 had room for improvement with the skills that made up the area(s) of , , , , , , "}]
[{"$f":"CONCATENATE($A1,\" \",G228,\" \",N228,\", \",O228,\", \",P228,\", \",Q228,\", \",R228,\", \",S228,\", \",T228)","v":"0 hadn't had the opportunity to work on the skills in the area(s) of , , , , , , "}]
[{"$f":"CONCATENATE($A1,\" \",G229,\" \",N229,\", \",O229,\", \",P229,\", \",Q229,\", \",R229,\", \",S229,\", \",T229)","v":"0 didn't need the skills in the area(s) of Identifying Common Public Transportation Options, Intra-City Bus Travel, Inter-City Bus Travel, Taxi/Ride Service, Handi-Ride/Para Transit, Air Travel, Subway/Light Rail"}]
[]
[{"$f":"CONCATENATE(A233,\" \",H71,\"%\")","v":"Atypical O&M Score: 0%"},null,null,null,null,null,{"$f":"Front!G14","v":0},{"$f":"ROUND(G71,1)","v":0}]
[{"$f":"CONCATENATE($A1,\" \",G234,\" \",N234,\", \",O234,\", \",P234,\", \",Q234)","v":"0 did well with the skills that made up the area(s) of , , , "}]
[{"$f":"CONCATENATE($A1,\" \",G235,\" \",N235,\", \",O235,\", \",P235,\", \",Q235)","v":"0 had room for improvement with the skills that made up the area(s) of , , , "}]
[{"$f":"CONCATENATE($A1,\" \",G236,\" \",N236,\", \",O236,\", \",P236,\", \",Q236)","v":"0 hadn't had the opportunity to work on the skills in the area(s) of , , , "}]
[{"$f":"CONCATENATE($A1,\" \",G237,\" \",N237,\", \",O237,\", \",P237,\", \",Q237)","v":"0 didn't need the skills in the area(s) of Fences, Fields (Urban), Parks/Playgrounds, Inclement Weather"}]
[]
[{"$f":"CONCATENATE(A238,\" \",H77,\"%\")","v":"Rural Travel Score: 0%"},null,null,null,null,null,{"$f":"Front!G15","v":0},{"$f":"ROUND(G77,1)","v":0}]
[{"$f":"CONCATENATE($A1,\" \",G239,\" \",N239,\", \",O239,\", \",P239,\", \",Q239,\", \",R239)","v":"0 did well with the skills that made up the area(s) of , , , , "}]
[{"$f":"CONCATENATE($A1,\" \",G240,\" \",N240,\", \",O240,\", \",P240,\", \",Q240,\", \",R240)","v":"0 had room for improvement with the skills that made up the area(s) of , , , , "}]
[{"$f":"CONCATENATE($A1,\" \",G241,\" \",N241,\", \",O241,\", \",P241,\", \",Q241,\", \",R241)","v":"0 hadn't had the opportunity to work on the skills in the area(s) of , , , , "}]
[{"$f":"CONCATENATE($A1,\" \",G242,\" \",N242,\", \",O242,\", \",P242,\", \",Q242,\", \",R242)","v":"0 didn't need the skills in the area(s) of Understanding Unique Dangers Related To Rural Travel, Walking Along Rural Roads, Ditches/Arroyos, Identifying And Going Around Items In Rural Areas, Rural Street Crossings"}]
[]
[{"$f":"CONCATENATE(A244,\" \",H83,\"%\")","v":"Vision Specific O&M Skills Score: 0%"},null,null,null,null,null,{"$f":"Front!G16","v":0},{"$f":"ROUND(G83,1)","v":0}]
[{"$f":"CONCATENATE($A1,\" \",G245,\" \",N245,\", \",O245,\", \",P245,\", \",Q245,\", \",R245)","v":"0 did well with the skills that made up the area(s) of , , , , "}]
[{"$f":"CONCATENATE($A1,\" \",G246,\" \",N246,\", \",O246,\", \",P246,\", \",Q246,\", \",R246)","v":"0 had room for improvement with the skills that made up the area(s) of , , , , "}]
[{"$f":"CONCATENATE($A1,\" \",G247,\" \",N247,\", \",O247,\", \",P247,\", \",Q247,\", \",R247)","v":"0 hadn't had the opportunity to work on the skills in the area(s) of , , , , "}]
[{"$f":"CONCATENATE($A1,\" \",G248,\" \",N248,\", \",O248,\", \",P248,\", \",Q248,\", \",R248)","v":"0 didn't need the skills in the area(s) of Scanning Materials, Scanning Environments, Magnifiers And CCTVs, Monoculars, Visual Traveling"}]
[]
[{"$f":"CONCATENATE(A250,\" \",H89,\"%\")","v":"Community Score: 0%"},null,null,null,null,null,{"$f":"Front!G17","v":0},{"$f":"ROUND(G89,1)","v":0}]
[{"$f":"CONCATENATE($A1,\" \",G251,\" \",N251,\", \",O251,\", \",P251,\", \",Q251,\", \",R251)","v":"0 did well with the skills that made up the area(s) of , , , , "}]
[{"$f":"CONCATENATE($A1,\" \",G252,\" \",N252,\", \",O252,\", \",P252,\", \",Q252,\", \",R252)","v":"0 had room for improvement with the skills that made up the area(s) of , , , , "}]
[{"$f":"CONCATENATE($A1,\" \",G253,\" \",N253,\", \",O253,\", \",P253,\", \",Q253,\", \",R253)","v":"0 hadn't had the opportunity to work on the skills in the area(s) of , , , , "}]
[{"$f":"CONCATENATE($A1,\" \",G254,\" \",N254,\", \",O254,\", \",P254,\", \",Q254,\", \",R254)","v":"0 didn't need the skills in the area(s) of Comparison Shopping From Home, Stores, Fast Food Restaurants, Cafeteria Restaurants, Sit Down Restaurants"}]
[]
["Summary"]
[{"$f":"CONCATENATE(A1,\" \",G259,\" \",K3,\" \",H259)","v":"0 demonstrated 0 of the skills needed to travel independently as an adult."}]
[{"$f":"CONCATENATE($A1,\" \",G260,\" \",N260,\", \",O260,\", \",P260,\", \",Q260,\", \",R260,\", \",S260,\", \",T260,\", \",U260,\", \",V260,\", \",W260,\", \",X260,\", \",Y260,\", \",Z260,\", \",AA260,\", \",AB260)","v":"0 did well with the skills that made up the domain(s) of , , , , , , , , , , , , , , "}]
[{"$f":"CONCATENATE($A1,\" \",G261,\" \",N261,\", \",O261,\", \",P261,\", \",Q261,\", \",R261,\", \",S261,\", \",T261,\", \",U261,\", \",V261,\", \",W261,\", \",X261,\", \",Y261,\", \",Z261,\", \",AA261,\", \",AB261)","v":"0 had room for improvement with the skills that made up the domain(s) of , , , , , , , , , , , , , , "}]
[{"$f":"CONCATENATE($A1,\" \",G262,\" \",N262,\", \",O262,\", \",P262,\", \",Q262,\", \",R262,\", \",S262,\", \",T262,\", \",U262,\", \",V262,\", \",W262,\", \",X262,\", \",Y262,\", \",Z262,\", \",AA262,\", \",AB262)","v":"0 hadn't had the opportunity to work on the skills that made up the domain(s) of , , , , , , , , , , , , , , "}]
[{"$f":"CONCATENATE($A1,\" \",G263,\" \",N263,\", \",O263,\", \",P263,\", \",Q263,\", \",R263,\", \",S263,\", \",T263,\", \",U263,\", \",V263,\", \",W263,\", \",X263,\", \",Y263,\", \",Z263,\", \",AA263,\", \",AB263)","v":"0 had no need for the skills that made up the domain(s) of Concepts, Movement, Single Room O&M, Indoor O&M, Self Protection, Guided Travel, Cane Skills, Sidewalk Travel, Street Crossings, Orientation Skills & GPS, Public Transportation, Atypical O&M, Rural Travel, Vision Specific O&M Skills, Community "}]
[]
[]
[]
[]
[]
[]
[]
[]
[]
["Present Level of Educational Performance"]
[{"$f":"CONCATENATE($A97,\" \",A98,\" \",A99,\", \",A100)","v":"0 did well with the skills that made up the domain(s) of , , , , , , , , , , , , , ,  0 had room for improvement with the skills that made up the domain(s) of , , , , , , , , , , , , , ,  0 hadn't had the opportunity to work on the skills that made up the domain(s) of , , , , , , , , , , , , , , , 0 had no need for the skills that made up the domain(s) of Concepts, Movement, Single Room O&M, Indoor O&M, Self Protection, Guided Travel, Cane Skills, Sidewalk Travel, Street Crossings, Orientation Skills & GPS, Public Transportation, Atypical O&M, Rural Travel, Vision Specific O&M Skills, Community "}]
[]
["Strengths"]
[{"$f":"A97","v":"0 did well with the skills that made up the domain(s) of , , , , , , , , , , , , , , "}]
[]
["Concerns"]
[{"$f":"A98","v":"0 had room for improvement with the skills that made up the domain(s) of , , , , , , , , , , , , , , "}]
[]
["Goal"]
[{"$f":"CONCATENATE($A1,\" \",A276,\" \",K3,\"% \",A277,\" \",(ROUNDUP(K3+5,0)),\"% \",A278)","v":"0 will demonstrate improved skills in Orientation & Mobility by increasing the score on the O&M Inventory from 0% to a minimum of 5% by the next annual IEP date."}]
[]
[]
[]
[]
["Progress Report"]
[{"$f":"CONCATENATE(A279,A280,\" \",$A1,\" \",A281,\" \",Q6,\"% \",A282,\" \",Q7,\"% \",A283,\" \",R7,\"% \",A284,\" \",S7,\"%. \",A1,\" \",A285,\" \",A286,\", \",A287,\", \",A288,\", \",A289,\", \",A290,\", \",A291,\", \",A292,\", \",A293,\", \",A294,\", \",A295,\", \",A296,\", \",A297,\", \",A298,\", \",A299,\", \",A300)","v":"Please see the attached chart. Over the previous grading period 0 increased the score on the O&M Inventory from 0% to 0% and is now 0% of the way to the goal of 1%. 0 made gains in the domain(s) of , , , , , , , , , , , , , , "}]
[]
[]
[]
[]
[]
[]
[]
[]
[]
[]
[]
[]
[]
[]
[]
[]
[]
[]
[]
[]
[]
[]
["↓Don't worry about any of this. It fills in automatically and is what creates the useful text "]
["NMSBVI O&M INVENTORY TOTAL SCORE: "]
["Concepts Score:"]
["Vocabulary",null,null,null,null,{"$f":"Concept!N3","v":0},"did well with the skills that made up the area(s) of",null,null,null,null,null,null,{"$f":"IF(F152>3.99,A152,\"\")","v":""},{"$f":"IF(F153>3.99,A153,\"\")","v":""},{"$f":"IF(F154>3.99,A154,\"\")","v":""},{"$f":"IF(F155>3.99,A155,\"\")","v":""},{"$f":"IF(F156>4,E156,\"\")","v":""}]
["Laterality",null,null,null,null,{"$f":"Concept!N9","v":0},"had room for improvement with the skills that made up the area(s) of",null,null,null,null,null,null,{"$f":"IF(AND($F152>1.01,$F152<3.99),$A152,\"\")","v":""},{"$f":"IF(AND($F153>1.01,$F153<3.99),$A153,\"\")","v":""},{"$f":"IF(AND($F154>1.01,$F154<3.99),$A154,\"\")","v":""},{"$f":"IF(AND($F155>1.01,$F155<3.99),$A155,\"\")","v":""}]
["Parallel/Perpendicular",null,null,null,null,{"$f":"Concept!N18","v":0},"hadn't had the opportunity to work on the skills in the area(s) of",null,null,null,null,null,null,{"$f":"IF(AND($F152>0.99,$F152<1.000001),$A152,\"\")","v":""},{"$f":"IF(AND($F153>0.99,$F153<1.000001),$A153,\"\")","v":""},{"$f":"IF(AND($F154>0.99,$F154<1.000001),$A154,\"\")","v":""},{"$f":"IF(AND($F155>0.99,$F155<1.000001),$A155,\"\")","v":""}]
["Time And Distance",null,null,null,null,{"$f":"Concept!N23","v":0},"didn't need the skills in the area(s) of",null,null,null,null,null,null,{"$f":"IF($F152=0,$A152,\"\")","v":"Vocabulary"},{"$f":"IF($F153=0,$A153,\"\")","v":"Laterality"},{"$f":"IF($F154=0,$A154,\"\")","v":"Parallel/Perpendicular"},{"$f":"IF($F155=0,$A155,\"\")","v":"Time And Distance"}]
["Movement Score:"]
["Walking",null,null,null,null,{"$f":"Move!N3","v":0},"did well with the skills that made up the area(s) of",null,null,null,null,null,null,{"$f":"IF(F157>3.99,A157,\"\")","v":""},{"$f":"IF(F158>3.99,A158,\"\")","v":""},{"$f":"IF(F159>3.99,A159,\"\")","v":""},{"$f":"IF(F160>3.99,A160,\"\")","v":""}]
["Maintaining Body Alignment While Walking",null,null,null,null,{"$f":"Move!N9","v":0},"had room for improvement with the skills that made up the area(s) of",null,null,null,null,null,null,{"$f":"IF(AND($F157>1.01,$F157<3.99),$A157,\"\")","v":""},{"$f":"IF(AND($F158>1.01,$F158<3.99),$A158,\"\")","v":""},{"$f":"IF(AND($F159>1.01,$F159<3.99),$A159,\"\")","v":""},{"$f":"IF(AND($F160>1.01,$F160<3.99),$A160,\"\")","v":""}]
["Balance",null,null,null,null,{"$f":"Move!N15","v":0},"hadn't had the opportunity to work on the skills in the area(s) of",null,null,null,null,null,null,{"$f":"IF(AND($F157>0.99,$F157<1.000001),$A157,\"\")","v":""},{"$f":"IF(AND($F158>0.99,$F158<1.000001),$A158,\"\")","v":""},{"$f":"IF(AND($F159>0.99,$F159<1.000001),$A159,\"\")","v":""},{"$f":"IF(AND($F160>0.99,$F160<1.000001),$A160,\"\")","v":""}]
["Turns",null,null,null,null,{"$f":"Move!N23","v":0},"didn't need the skills in the area(s) of",null,null,null,null,null,null,{"$f":"IF($F157=0,$A157,\"\")","v":"Walking"},{"$f":"IF($F158=0,$A158,\"\")","v":"Maintaining Body Alignment While Walking"},{"$f":"IF($F159=0,$A159,\"\")","v":"Balance"},{"$f":"IF($F160=0,$A160,\"\")","v":"Turns"}]
["Single Room O&M Score:"]
["Familiar Rooms",null,null,null,null,{"$f":"SingRm!N3","v":0},"did well with the skills that made up the area(s) of",null,null,null,null,null,null,{"$f":"IF(F162>3.99,A162,\"\")","v":""},{"$f":"IF(F163>3.99,A163,\"\")","v":""},{"$f":"IF(F164>3.99,A164,\"\")","v":""},{"$f":"IF(F165>3.99,A165,\"\")","v":""},{"$f":"IF(F166>3.99,A166,\"\")","v":""}]
["Unfamiliar Rooms",null,null,null,null,{"$f":"SingRm!N9","v":0},"had room for improvement with the skills that made up the area(s) of",null,null,null,null,null,null,{"$f":"IF(AND($F162>1.01,$F162<3.99),$A162,\"\")","v":""},{"$f":"IF(AND($F163>1.01,$F163<3.99),$A163,\"\")","v":""},{"$f":"IF(AND($F164>1.01,$F164<3.99),$A164,\"\")","v":""},{"$f":"IF(AND($F165>1.01,$F165<3.99),$A165,\"\")","v":""},{"$f":"IF(AND($F166>1.01,$F166<3.99),$A166,\"\")","v":""}]
["Seating (Rows)",null,null,null,null,{"$f":"SingRm!N16","v":0},"hadn't had the opportunity to work on the skills in the area(s) of",null,null,null,null,null,null,{"$f":"IF(AND($F162>0.99,$F162<1.000001),$A162,\"\")","v":""},{"$f":"IF(AND($F163>0.99,$F163<1.000001),$A163,\"\")","v":""},{"$f":"IF(AND($F164>0.99,$F164<1.000001),$A164,\"\")","v":""},{"$f":"IF(AND($F165>0.99,$F165<1.000001),$A165,\"\")","v":""},{"$f":"IF(AND($F166>0.99,$F166<1.000001),$A166,\"\")","v":""}]
["Seating (Tables)",null,null,null,null,{"$f":"SingRm!N23","v":0},"didn't need the skills in the area(s) of",null,null,null,null,null,null,{"$f":"IF($F162=0,$A162,\"\")","v":"Familiar Rooms"},{"$f":"IF($F163=0,$A163,\"\")","v":"Unfamiliar Rooms"},{"$f":"IF($F164=0,$A164,\"\")","v":"Seating (Rows)"},{"$f":"IF($F165=0,$A165,\"\")","v":"Seating (Tables)"},{"$f":"IF($F166=0,$A166,\"\")","v":"Locating Dropped Objects"}]
["Locating Dropped Objects",null,null,null,null,{"$f":"SingRm!N28","v":0}]
["Indoor O&M Score:"]
["Hand Trailing",null,null,null,null,{"$f":"Indoor!N3","v":0},"did well with the skills that made up the area(s) of",null,null,null,null,null,null,{"$f":"IF(F168>3.99,A168,\"\")","v":""},{"$f":"IF(F169>3.99,A169,\"\")","v":""},{"$f":"IF(F170>3.99,A170,\"\")","v":""},{"$f":"IF(F171>3.99,A171,\"\")","v":""},{"$f":"IF(F172>3.99,A172,\"\")","v":""},{"$f":"IF(F173>3.99,A173,\"\")","v":""},{"$f":"IF(F174>3.99,A174,\"\")","v":""},{"$f":"IF(F175>3.99,A175,\"\")","v":""}]
["Navigating Open Spaces",null,null,null,null,{"$f":"Indoor!N6","v":0},"had room for improvement with the skills that made up the area(s) of",null,null,null,null,null,null,{"$f":"IF(AND($F168>1.01,$F168<3.99),$A168,\"\")","v":""},{"$f":"IF(AND($F169>1.01,$F169<3.99),$A169,\"\")","v":""},{"$f":"IF(AND($F170>1.01,$F170<3.99),$A170,\"\")","v":""},{"$f":"IF(AND($F171>1.01,$F171<3.99),$A171,\"\")","v":""},{"$f":"IF(AND($F172>1.01,$F172<3.99),$A172,\"\")","v":""},{"$f":"IF(AND($F173>1.01,$F173<3.99),$A173,\"\")","v":""},{"$f":"IF(AND($F174>1.01,$F174<3.99),$A174,\"\")","v":""},{"$f":"IF(AND($F175>1.01,$F175<3.99),$A175,\"\")","v":""}]
["Doors",null,null,null,null,{"$f":"Indoor!N9","v":0},"hadn't had the opportunity to work on the skills in the area(s) of",null,null,null,null,null,null,{"$f":"IF(AND($F168>0.99,$F168<1.000001),$A168,\"\")","v":""},{"$f":"IF(AND($F169>0.99,$F169<1.000001),$A169,\"\")","v":""},{"$f":"IF(AND($F170>0.99,$F170<1.000001),$A170,\"\")","v":""},{"$f":"IF(AND($F171>0.99,$F171<1.000001),$A171,\"\")","v":""},{"$f":"IF(AND($F172>0.99,$F172<1.000001),$A172,\"\")","v":""},{"$f":"IF(AND($F173>0.99,$F173<1.000001),$A173,\"\")","v":""},{"$f":"IF(AND($F174>0.99,$F174<1.000001),$A174,\"\")","v":""},{"$f":"IF(AND($F175>0.99,$F175<1.000001),$A175,\"\")","v":""}]
["Ascending/Descending Stairs",null,null,null,null,{"$f":"Indoor!N15","v":0},"didn't need the skills in the area(s) of",null,null,null,null,null,null,{"$f":"IF($F168=0,$A168,\"\")","v":"Hand Trailing"},{"$f":"IF($F169=0,$A169,\"\")","v":"Navigating Open Spaces"},{"$f":"IF($F170=0,$A170,\"\")","v":"Doors"},{"$f":"IF($F171=0,$A171,\"\")","v":"Ascending/Descending Stairs"},{"$f":"IF($F172=0,$A172,\"\")","v":"Escalators"},{"$f":"IF($F173=0,$A173,\"\")","v":"Elevators"},{"$f":"IF($F174=0,$A174,\"\")","v":"Moving Sidewalks"},{"$f":"IF($F175=0,$A175,\"\")","v":"Turnstiles"}]
["Escalators",null,null,null,null,{"$f":"Indoor!N23","v":0}]
["Elevators",null,null,null,null,{"$f":"Indoor!N35","v":0}]
["Moving Sidewalks",null,null,null,null,{"$f":"Indoor!N44","v":0}]
["Turnstiles",null,null,null,null,{"$f":"Indoor!N54","v":0}]
["Self Protection Score:",null,null,null,null,null,"did well with the skills that made up the area(s) of",null,null,null,null,null,null,{"$f":"IF(F177>3.99,A177,\"\")","v":""},{"$f":"IF(F178>3.99,A178,\"\")","v":""},{"$f":"IF(F179>3.99,A179,\"\")","v":""}]
["Upper Hand Protective Technique",null,null,null,null,{"$f":"SelfPro!N3","v":0},"had room for improvement with the skills that made up the area(s) of",null,null,null,null,null,null,{"$f":"IF(AND($F177>1.01,$F177<3.99),$A177,\"\")","v":""},{"$f":"IF(AND($F178>1.01,$F178<3.99),$A178,\"\")","v":""},{"$f":"IF(AND($F179>1.01,$F179<3.99),$A179,\"\")","v":""}]
["Lower Forearm Protective Technique",null,null,null,null,{"$f":"SelfPro!N8","v":0},"hadn't had the opportunity to work on the skills in the area(s) of",null,null,null,null,null,null,{"$f":"IF(AND($F177>0.99,$F177<1.000001),$A177,\"\")","v":""},{"$f":"IF(AND($F178>0.99,$F178<1.000001),$A178,\"\")","v":""},{"$f":"IF(AND($F179>0.99,$F179<1.000001),$A179,\"\")","v":""}]
["Protective Clothing",null,null,null,null,{"$f":"SelfPro!N12","v":0},"didn't need the skills in the area(s) of",null,null,null,null,null,null,{"$f":"IF($F177=0,$A177,\"\")","v":"Upper Hand Protective Technique"},{"$f":"IF($F178=0,$A178,\"\")","v":"Lower Forearm Protective Technique"},{"$f":"IF($F179=0,$A179,\"\")","v":"Protective Clothing"}]
["Guided Travel Score:"]
["Human Guide",null,null,null,null,{"$f":"Guided!N3","v":0},"did well with the skills that made up the area(s) of",null,null,null,null,null,null,{"$f":"IF(F181>3.99,A181,\"\")","v":""},{"$f":"IF(F182>3.99,A182,\"\")","v":""},{"$f":"IF(F183>3.99,A183,\"\")","v":""},{"$f":"IF(F184>3.99,A184,\"\")","v":""}]
["Walking With Another (No Direct Contact)",null,null,null,null,{"$f":"Guided!N11","v":0},"had room for improvement with the skills that made up the area(s) of",null,null,null,null,null,null,{"$f":"IF(AND($F181>1.01,$F181<3.99),$A181,\"\")","v":""},{"$f":"IF(AND($F182>1.01,$F182<3.99),$A182,\"\")","v":""},{"$f":"IF(AND($F183>1.01,$F183<3.99),$A183,\"\")","v":""},{"$f":"IF(AND($F184>1.01,$F184<3.99),$A184,\"\")","v":""}]
["Menus",null,null,null,null,{"$f":"Guided!N16","v":0},"hadn't had the opportunity to work on the skills in the area(s) of",null,null,null,null,null,null,{"$f":"IF(AND($F181>0.99,$F181<1.000001),$A181,\"\")","v":""},{"$f":"IF(AND($F182>0.99,$F182<1.000001),$A182,\"\")","v":""},{"$f":"IF(AND($F183>0.99,$F183<1.000001),$A183,\"\")","v":""},{"$f":"IF(AND($F184>0.99,$F184<1.000001),$A184,\"\")","v":""}]
["Getting Rides",null,null,null,null,{"$f":"Guided!N20","v":0},"didn't need the skills in the area(s) of",null,null,null,null,null,null,{"$f":"IF($F181=0,$A181,\"\")","v":"Human Guide"},{"$f":"IF($F182=0,$A182,\"\")","v":"Walking With Another (No Direct Contact)"},{"$f":"IF($F183=0,$A183,\"\")","v":"Menus"},{"$f":"IF($F184=0,$A184,\"\")","v":"Getting Rides"}]
["Cane Skills Score:"]
["Basic Skills",null,null,null,null,{"$f":"Cane!N3","v":0},"did well with the skills that made up the area(s) of",null,null,null,null,null,null,{"$f":"IF(F186>3.99,A186,\"\")","v":""},{"$f":"IF(F187>3.99,A187,\"\")","v":""},{"$f":"IF(F188>3.99,A188,\"\")","v":""},{"$f":"IF(F189>3.99,A189,\"\")","v":""},{"$f":"IF(F190>3.99,A190,\"\")","v":""},{"$f":"IF(F191>3.99,A191,\"\")","v":""},{"$f":"IF(F192>3.99,A192,\"\")","v":""}]
["Types Of Grips",null,null,null,null,{"$f":"Cane!N10","v":0},"had room for improvement with the skills that made up the area(s) of",null,null,null,null,null,null,{"$f":"IF(AND($F186>1.01,$F186<3.99),$A186,\"\")","v":""},{"$f":"IF(AND($F187>1.01,$F187<3.99),$A187,\"\")","v":""},{"$f":"IF(AND($F188>1.01,$F188<3.99),$A188,\"\")","v":""},{"$f":"IF(AND($F189>1.01,$F189<3.99),$A189,\"\")","v":""},{"$f":"IF(AND($F190>1.01,$F190<3.99),$A190,\"\")","v":""},{"$f":"IF(AND($F191>1.01,$F191<3.99),$A191,\"\")","v":""},{"$f":"IF(AND($F192>1.01,$F192<3.99),$A192,\"\")","v":""}]
["Constant Contact",null,null,null,null,{"$f":"Cane!N16","v":0},"hadn't had the opportunity to work on the skills in the area(s) of",null,null,null,null,null,null,{"$f":"IF(AND($F186>0.99,$F186<1.000001),$A186,\"\")","v":""},{"$f":"IF(AND($F187>0.99,$F187<1.000001),$A187,\"\")","v":""},{"$f":"IF(AND($F188>0.99,$F188<1.000001),$A188,\"\")","v":""},{"$f":"IF(AND($F189>0.99,$F189<1.000001),$A189,\"\")","v":""},{"$f":"IF(AND($F190>0.99,$F190<1.000001),$A190,\"\")","v":""},{"$f":"IF(AND($F191>0.99,$F191<1.000001),$A191,\"\")","v":""},{"$f":"IF(AND($F192>0.99,$F192<1.000001),$A192,\"\")","v":""}]
["Diagonal/Diagonal Trail",null,null,null,null,{"$f":"Cane!N22","v":0},"didn't need the skills in the area(s) of",null,null,null,null,null,null,{"$f":"IF($F186=0,$A186,\"\")","v":"Basic Skills"},{"$f":"IF($F187=0,$A187,\"\")","v":"Types Of Grips"},{"$f":"IF($F188=0,$A188,\"\")","v":"Constant Contact"},{"$f":"IF($F189=0,$A189,\"\")","v":"Diagonal/Diagonal Trail"},{"$f":"IF($F190=0,$A190,\"\")","v":"Two Point Touch/Touch Trail"},{"$f":"IF($F191=0,$A191,\"\")","v":"Touch And Drag"},{"$f":"IF($F192=0,$A192,\"\")","v":"Three Point Touch"}]
["Two Point Touch/Touch Trail",null,null,null,null,{"$f":"Cane!N28","v":0}]
["Touch And Drag",null,null,null,null,{"$f":"Cane!N35","v":0}]
["Three Point Touch",null,null,null,null,{"$f":"Cane!N42","v":0}]
["Sidewalk Travel Score:",null,null,null,null,null,"did well with the skills that made up the area(s) of",null,null,null,null,null,null,{"$f":"IF(F194>3.99,A194,\"\")","v":""},{"$f":"IF(F195>3.99,A195,\"\")","v":""},{"$f":"IF(F196>3.99,A196,\"\")","v":""}]
["Walking On Sidewalks",null,null,null,null,{"$f":"Sidewalk!N3","v":0},"had room for improvement with the skills that made up the area(s) of",null,null,null,null,null,null,{"$f":"IF(AND($F194>1.01,$F194<3.99),$A194,\"\")","v":""},{"$f":"IF(AND($F195>1.01,$F195<3.99),$A195,\"\")","v":""},{"$f":"IF(AND($F196>1.01,$F196<3.99),$A196,\"\")","v":""}]
["Walking On Irregular Sidewalks",null,null,null,null,{"$f":"Sidewalk!N15","v":0},"hadn't had the opportunity to work on the skills in the area(s) of",null,null,null,null,null,null,{"$f":"IF(AND($F194>0.99,$F194<1.000001),$A194,\"\")","v":""},{"$f":"IF(AND($F195>0.99,$F195<1.000001),$A195,\"\")","v":""},{"$f":"IF(AND($F196>0.99,$F196<1.000001),$A196,\"\")","v":""}]
["Correcting for Veering On Sidewalks",null,null,null,null,{"$f":"Sidewalk!N21","v":0},"didn't need the skills in the area(s) of",null,null,null,null,null,null,{"$f":"IF($F194=0,$A194,\"\")","v":"Walking On Sidewalks"},{"$f":"IF($F195=0,$A195,\"\")","v":"Walking On Irregular Sidewalks"},{"$f":"IF($F196=0,$A196,\"\")","v":"Correcting for Veering On Sidewalks"}]
["Street Crossings Score:"]
["Anticipating Street Crossings",null,null,null,null,{"$f":"StCross!N3","v":0},"did well with the skills that made up the area(s) of",null,null,null,null,null,null,{"$f":"IF(F198>3.99,A198,\"\")","v":""},{"$f":"IF(F199>3.99,A199,\"\")","v":""},{"$f":"IF(F200>3.99,A200,\"\")","v":""},{"$f":"IF(F201>3.99,A201,\"\")","v":""},{"$f":"IF(F202>3.99,A202,\"\")","v":""},{"$f":"IF(F203>3.99,A203,\"\")","v":""},{"$f":"IF(F204>3.99,A204,\"\")","v":""},{"$f":"IF(F205>3.99,A205,\"\")","v":""},{"$f":"IF(F206>3.99,A206,\"\")","v":""},{"$f":"IF(F207>3.99,A207,\"\")","v":""},{"$f":"IF(F208>3.99,A208,\"\")","v":""},{"$f":"IF(F209>3.99,A209,\"\")","v":""},{"$f":"IF(F210>3.99,A210,\"\")","v":""},{"$f":"IF(F211>3.99,A211,\"\")","v":""},{"$f":"IF(F212>3.99,A212,\"\")","v":""},{"$f":"IF(F213>3.99,A213,\"\")","v":""}]
["Maintaining Line Of Travel",null,null,null,null,{"$f":"StCross!N9","v":0},"had room for improvement with the skills that made up the area(s) of",null,null,null,null,null,null,{"$f":"IF(AND($F198>1.01,$F198<3.99),$A198,\"\")","v":""},{"$f":"IF(AND($F199>1.01,$F199<3.99),$A199,\"\")","v":""},{"$f":"IF(AND($F200>1.01,$F200<3.99),$A200,\"\")","v":""},{"$f":"IF(AND($F201>1.01,$F201<3.99),$A201,\"\")","v":""},{"$f":"IF(AND($F202>1.01,$F202<3.99),$A202,\"\")","v":""},{"$f":"IF(AND($F203>1.01,$F203<3.99),$A203,\"\")","v":""},{"$f":"IF(AND($F204>1.01,$F204<3.99),$A204,\"\")","v":""},{"$f":"IF(AND($F205>1.01,$F205<3.99),$A205,\"\")","v":""},{"$f":"IF(AND($F206>1.01,$F206<3.99),$A206,\"\")","v":""},{"$f":"IF(AND($F207>1.01,$F207<3.99),$A207,\"\")","v":""},{"$f":"IF(AND($F208>1.01,$F208<3.99),$A208,\"\")","v":""},{"$f":"IF(AND($F209>1.01,$F209<3.99),$A209,\"\")","v":""},{"$f":"IF(AND($F210>1.01,$F210<3.99),$A210,\"\")","v":""},{"$f":"IF(AND($F211>1.01,$F211<3.99),$A211,\"\")","v":""},{"$f":"IF(AND($F212>1.01,$F212<3.99),$A212,\"\")","v":""},{"$f":"IF(AND($F213>1.01,$F213<3.99),$A213,\"\")","v":""}]
["Maintaining Body Alignment",null,null,null,null,{"$f":"StCross!N10","v":0},"hadn't had the opportunity to work on the skills in the area(s) of",null,null,null,null,null,null,{"$f":"IF(AND($F198>0.99,$F198<1.000001),$A198,\"\")","v":""},{"$f":"IF(AND($F199>0.99,$F199<1.000001),$A199,\"\")","v":""},{"$f":"IF(AND($F200>0.99,$F200<1.000001),$A200,\"\")","v":""},{"$f":"IF(AND($F201>0.99,$F201<1.000001),$A201,\"\")","v":""},{"$f":"IF(AND($F202>0.99,$F202<1.000001),$A202,\"\")","v":""},{"$f":"IF(AND($F203>0.99,$F203<1.000001),$A203,\"\")","v":""},{"$f":"IF(AND($F204>0.99,$F204<1.000001),$A204,\"\")","v":""},{"$f":"IF(AND($F205>0.99,$F205<1.000001),$A205,\"\")","v":""},{"$f":"IF(AND($F206>0.99,$F206<1.000001),$A206,\"\")","v":""},{"$f":"IF(AND($F207>0.99,$F207<1.000001),$A207,\"\")","v":""},{"$f":"IF(AND($F208>0.99,$F208<1.000001),$A208,\"\")","v":""},{"$f":"IF(AND($F209>0.99,$F209<1.000001),$A209,\"\")","v":""},{"$f":"IF(AND($F210>0.99,$F210<1.000001),$A210,\"\")","v":""},{"$f":"IF(AND($F211>0.99,$F211<1.000001),$A211,\"\")","v":""},{"$f":"IF(AND($F212>0.99,$F212<1.000001),$A212,\"\")","v":""},{"$f":"IF(AND($F213>0.99,$F213<1.000001),$A213,\"\")","v":""}]
["Re-establishing Body Alignment",null,null,null,null,{"$f":"StCross!N14","v":0},"didn't need the skills in the area(s) of",null,null,null,null,null,null,{"$f":"IF($F198=0,$A198,\"\")","v":"Anticipating Street Crossings"},{"$f":"IF($F199=0,$A199,\"\")","v":"Maintaining Line Of Travel"},{"$f":"IF($F200=0,$A200,\"\")","v":"Maintaining Body Alignment"},{"$f":"IF($F201=0,$A201,\"\")","v":"Re-establishing Body Alignment"},{"$f":"IF($F202=0,$A202,\"\")","v":"Analyzing Intersections"},{"$f":"IF($F203=0,$A203,\"\")","v":"Plus Intersections"},{"$f":"IF($F204=0,$A204,\"\")","v":"T Intersections"},{"$f":"IF($F205=0,$A205,\"\")","v":"Y Intersections"},{"$f":"IF($F206=0,$A206,\"\")","v":"Roundabouts"},{"$f":"IF($F207=0,$A207,\"\")","v":"Significantly Offset Intersections"},{"$f":"IF($F208=0,$A208,\"\")","v":"Atypical Intersections"},{"$f":"IF($F209=0,$A209,\"\")","v":"Newly Developed Intersections"},{"$f":"IF($F210=0,$A210,\"\")","v":"Channelized Right Turn Lanes"},{"$f":"IF($F211=0,$A211,\"\")","v":"Veering"},{"$f":"IF($F212=0,$A212,\"\")","v":"Understanding Drivers’ Perspectives"},{"$f":"IF($F213=0,$A213,\"\")","v":"Pedestrian Signals"}]
["Analyzing Intersections",null,null,null,null,{"$f":"StCross!N18","v":0}]
["Plus Intersections",null,null,null,null,{"$f":"StCross!N34","v":0}]
["T Intersections",null,null,null,null,{"$f":"StCross!N53","v":0}]
["Y Intersections",null,null,null,null,{"$f":"StCross!N75","v":0}]
["Roundabouts",null,null,null,null,{"$f":"StCross!N100","v":0}]
["Significantly Offset Intersections",null,null,null,null,{"$f":"StCross!N115","v":0}]
["Atypical Intersections",null,null,null,null,{"$f":"StCross!N120","v":0}]
["Newly Developed Intersections",null,null,null,null,{"$f":"StCross!N130","v":0}]
["Channelized Right Turn Lanes",null,null,null,null,{"$f":"StCross!N138","v":0}]
["Veering",null,null,null,null,{"$f":"StCross!N148","v":0}]
["Understanding Drivers’ Perspectives",null,null,null,null,{"$f":"StCross!N162","v":0}]
["Pedestrian Signals",null,null,null,null,{"$f":"StCross!N171","v":0}]
["Orientation Skills and GPS Score:"]
["Cardinality",null,null,null,null,{"$f":"Orient!N3","v":0},"did well with the skills that made up the area(s) of",null,null,null,null,null,null,{"$f":"IF(F215>3.99,A215,\"\")","v":""},{"$f":"IF(F216>3.99,A216,\"\")","v":""},{"$f":"IF(F217>3.99,A217,\"\")","v":""},{"$f":"IF(F218>3.99,A218,\"\")","v":""},{"$f":"IF(F219>3.99,A219,\"\")","v":""},{"$f":"IF(F220>3.99,A220,\"\")","v":""},{"$f":"IF(F221>3.99,A221,\"\")","v":""},{"$f":"IF(F222>3.99,A222,\"\")","v":""},{"$f":"IF(F223>3.99,A223,\"\")","v":""},{"$f":"IF(F224>3.99,A224,\"\")","v":""}]
["Clues",null,null,null,null,{"$f":"Orient!N18","v":0},"had room for improvement with the skills that made up the area(s) of",null,null,null,null,null,null,{"$f":"IF(AND($F215>1.01,$F215<3.99),$A215,\"\")","v":""},{"$f":"IF(AND($F216>1.01,$F216<3.99),$A216,\"\")","v":""},{"$f":"IF(AND($F217>1.01,$F217<3.99),$A217,\"\")","v":""},{"$f":"IF(AND($F218>1.01,$F218<3.99),$A218,\"\")","v":""},{"$f":"IF(AND($F219>1.01,$F219<3.99),$A219,\"\")","v":""},{"$f":"IF(AND($F220>1.01,$F220<3.99),$A220,\"\")","v":""},{"$f":"IF(AND($F221>1.01,$F221<3.99),$A221,\"\")","v":""},{"$f":"IF(AND($F222>1.01,$F222<3.99),$A222,\"\")","v":""},{"$f":"IF(AND($F223>1.01,$F223<3.99),$A223,\"\")","v":""},{"$f":"IF(AND($F224>1.01,$F224<3.99),$A224,\"\")","v":""}]
["Landmarks",null,null,null,null,{"$f":"Orient!N24","v":0},"hadn't had the opportunity to work on the skills in the area(s) of",null,null,null,null,null,null,{"$f":"IF(AND($F215>0.99,$F215<1.000001),$A215,\"\")","v":""},{"$f":"IF(AND($F216>0.99,$F216<1.000001),$A216,\"\")","v":""},{"$f":"IF(AND($F217>0.99,$F217<1.000001),$A217,\"\")","v":""},{"$f":"IF(AND($F218>0.99,$F218<1.000001),$A218,\"\")","v":""},{"$f":"IF(AND($F219>0.99,$F219<1.000001),$A219,\"\")","v":""},{"$f":"IF(AND($F220>0.99,$F220<1.000001),$A220,\"\")","v":""},{"$f":"IF(AND($F221>0.99,$F221<1.000001),$A221,\"\")","v":""},{"$f":"IF(AND($F222>0.99,$F222<1.000001),$A222,\"\")","v":""},{"$f":"IF(AND($F223>0.99,$F223<1.000001),$A223,\"\")","v":""},{"$f":"IF(AND($F224>0.99,$F224<1.000001),$A224,\"\")","v":""}]
["Indoor Numbering Systems",null,null,null,null,{"$f":"Orient!N30","v":0},"didn't need the skills in the area(s) of",null,null,null,null,null,null,{"$f":"IF($F215=0,$A215,\"\")","v":"Cardinality"},{"$f":"IF($F216=0,$A216,\"\")","v":"Clues"},{"$f":"IF($F217=0,$A217,\"\")","v":"Landmarks"},{"$f":"IF($F218=0,$A218,\"\")","v":"Indoor Numbering Systems"},{"$f":"IF($F219=0,$A219,\"\")","v":"Outdoor Numbering Systems"},{"$f":"IF($F220=0,$A220,\"\")","v":"Grid System"},{"$f":"IF($F221=0,$A221,\"\")","v":"Divisors And Block Numbering"},{"$f":"IF($F222=0,$A222,\"\")","v":"Transferability"},{"$f":"IF($F223=0,$A223,\"\")","v":"GPS"},{"$f":"IF($F224=0,$A224,\"\")","v":"Maps"}]
["Outdoor Numbering Systems",null,null,null,null,{"$f":"Orient!N36","v":0}]
["Grid System",null,null,null,null,{"$f":"Orient!N42","v":0}]
["Divisors And Block Numbering",null,null,null,null,{"$f":"Orient!N53","v":0}]
["Transferability",null,null,null,null,{"$f":"Orient!N60","v":0}]
["GPS",null,null,null,null,{"$f":"Orient!N64","v":0}]
["Maps",null,null,null,null,{"$f":"Orient!N72","v":0}]
["Public Transportation Score:"]
["Identifying Common Public Transportation Options",null,null,null,null,{"$f":"PubTran!N3","v":0},"did well with the skills that made up the area(s) of",null,null,null,null,null,null,{"$f":"IF(F226>3.99,A226,\"\")","v":""},{"$f":"IF(F227>3.99,A227,\"\")","v":""},{"$f":"IF(F228>3.99,A228,\"\")","v":""},{"$f":"IF(F229>3.99,A229,\"\")","v":""},{"$f":"IF(F230>3.99,A230,\"\")","v":""},{"$f":"IF(F231>3.99,A231,\"\")","v":""},{"$f":"IF(F232>3.99,A232,\"\")","v":""}]
["Intra-City Bus Travel",null,null,null,null,{"$f":"PubTran!N4","v":0},"had room for improvement with the skills that made up the area(s) of",null,null,null,null,null,null,{"$f":"IF(AND($F226>1.01,$F226<3.99),$A226,\"\")","v":""},{"$f":"IF(AND($F227>1.01,$F227<3.99),$A227,\"\")","v":""},{"$f":"IF(AND($F228>1.01,$F228<3.99),$A228,\"\")","v":""},{"$f":"IF(AND($F229>1.01,$F229<3.99),$A229,\"\")","v":""},{"$f":"IF(AND($F230>1.01,$F230<3.99),$A230,\"\")","v":""},{"$f":"IF(AND($F231>1.01,$F231<3.99),$A231,\"\")","v":""},{"$f":"IF(AND($F232>1.01,$F232<3.99),$A232,\"\")","v":""}]
["Inter-City Bus Travel",null,null,null,null,{"$f":"PubTran!N22","v":0},"hadn't had the opportunity to work on the skills in the area(s) of",null,null,null,null,null,null,{"$f":"IF(AND($F226>0.99,$F226<1.000001),$A226,\"\")","v":""},{"$f":"IF(AND($F227>0.99,$F227<1.000001),$A227,\"\")","v":""},{"$f":"IF(AND($F228>0.99,$F228<1.000001),$A228,\"\")","v":""},{"$f":"IF(AND($F229>0.99,$F229<1.000001),$A229,\"\")","v":""},{"$f":"IF(AND($F230>0.99,$F230<1.000001),$A230,\"\")","v":""},{"$f":"IF(AND($F231>0.99,$F231<1.000001),$A231,\"\")","v":""},{"$f":"IF(AND($F232>0.99,$F232<1.000001),$A232,\"\")","v":""}]
["Taxi/Ride Service",null,null,null,null,{"$f":"PubTran!N38","v":0},"didn't need the skills in the area(s) of",null,null,null,null,null,null,{"$f":"IF($F226=0,$A226,\"\")","v":"Identifying Common Public Transportation Options"},{"$f":"IF($F227=0,$A227,\"\")","v":"Intra-City Bus Travel"},{"$f":"IF($F228=0,$A228,\"\")","v":"Inter-City Bus Travel"},{"$f":"IF($F229=0,$A229,\"\")","v":"Taxi/Ride Service"},{"$f":"IF($F230=0,$A230,\"\")","v":"Handi-Ride/Para Transit"},{"$f":"IF($F231=0,$A231,\"\")","v":"Air Travel"},{"$f":"IF($F232=0,$A232,\"\")","v":"Subway/Light Rail"}]
["Handi-Ride/Para Transit",null,null,null,null,{"$f":"PubTran!N45","v":0}]
["Air Travel",null,null,null,null,{"$f":"PubTran!N49","v":0}]
["Subway/Light Rail",null,null,null,null,{"$f":"PubTran!N65","v":0}]
["Atypical O&M Score:"]
["Fences",null,null,null,null,{"$f":"Atyp!N3","v":0},"did well with the skills that made up the area(s) of",null,null,null,null,null,null,{"$f":"IF(F234>3.99,A234,\"\")","v":""},{"$f":"IF(F235>3.99,A235,\"\")","v":""},{"$f":"IF(F236>3.99,A236,\"\")","v":""},{"$f":"IF(F237>3.99,A237,\"\")","v":""}]
["Fields (Urban)",null,null,null,null,{"$f":"Atyp!N7","v":0},"had room for improvement with the skills that made up the area(s) of",null,null,null,null,null,null,{"$f":"IF(AND($F234>1.01,$F234<3.99),$A234,\"\")","v":""},{"$f":"IF(AND($F235>1.01,$F235<3.99),$A235,\"\")","v":""},{"$f":"IF(AND($F236>1.01,$F236<3.99),$A236,\"\")","v":""},{"$f":"IF(AND($F237>1.01,$F237<3.99),$A237,\"\")","v":""}]
["Parks/Playgrounds",null,null,null,null,{"$f":"Atyp!N13","v":0},"hadn't had the opportunity to work on the skills in the area(s) of",null,null,null,null,null,null,{"$f":"IF(AND($F234>0.99,$F234<1.000001),$A234,\"\")","v":""},{"$f":"IF(AND($F235>0.99,$F235<1.000001),$A235,\"\")","v":""},{"$f":"IF(AND($F236>0.99,$F236<1.000001),$A236,\"\")","v":""},{"$f":"IF(AND($F237>0.99,$F237<1.000001),$A237,\"\")","v":""}]
["Inclement Weather",null,null,null,null,{"$f":"Atyp!N21","v":0},"didn't need the skills in the area(s) of",null,null,null,null,null,null,{"$f":"IF($F234=0,$A234,\"\")","v":"Fences"},{"$f":"IF($F235=0,$A235,\"\")","v":"Fields (Urban)"},{"$f":"IF($F236=0,$A236,\"\")","v":"Parks/Playgrounds"},{"$f":"IF($F237=0,$A237,\"\")","v":"Inclement Weather"}]
["Rural Travel Score:"]
["Understanding Unique Dangers Related To Rural Travel",null,null,null,null,{"$f":"Rural!N3","v":0},"did well with the skills that made up the area(s) of",null,null,null,null,null,null,{"$f":"IF(F239>3.99,A239,\"\")","v":""},{"$f":"IF(F240>3.99,A240,\"\")","v":""},{"$f":"IF(F241>3.99,A241,\"\")","v":""},{"$f":"IF(F242>3.99,A242,\"\")","v":""},{"$f":"IF(F243>3.99,A243,\"\")","v":""}]
["Walking Along Rural Roads",null,null,null,null,{"$f":"Rural!N9","v":0},"had room for improvement with the skills that made up the area(s) of",null,null,null,null,null,null,{"$f":"IF(AND($F239>1.01,$F239<3.99),$A239,\"\")","v":""},{"$f":"IF(AND($F240>1.01,$F240<3.99),$A240,\"\")","v":""},{"$f":"IF(AND($F241>1.01,$F241<3.99),$A241,\"\")","v":""},{"$f":"IF(AND($F242>1.01,$F242<3.99),$A242,\"\")","v":""},{"$f":"IF(AND($F243>1.01,$F243<3.99),$A243,\"\")","v":""}]
["Ditches/Arroyos",null,null,null,null,{"$f":"Rural!N15","v":0},"hadn't had the opportunity to work on the skills in the area(s) of",null,null,null,null,null,null,{"$f":"IF(AND($F239>0.99,$F239<1.000001),$A239,\"\")","v":""},{"$f":"IF(AND($F240>0.99,$F240<1.000001),$A240,\"\")","v":""},{"$f":"IF(AND($F241>0.99,$F241<1.000001),$A241,\"\")","v":""},{"$f":"IF(AND($F242>0.99,$F242<1.000001),$A242,\"\")","v":""},{"$f":"IF(AND($F243>0.99,$F243<1.000001),$A243,\"\")","v":""}]
["Identifying And Going Around Items In Rural Areas",null,null,null,null,{"$f":"Rural!N22","v":0},"didn't need the skills in the area(s) of",null,null,null,null,null,null,{"$f":"IF($F239=0,$A239,\"\")","v":"Understanding Unique Dangers Related To Rural Travel"},{"$f":"IF($F240=0,$A240,\"\")","v":"Walking Along Rural Roads"},{"$f":"IF($F241=0,$A241,\"\")","v":"Ditches/Arroyos"},{"$f":"IF($F242=0,$A242,\"\")","v":"Identifying And Going Around Items In Rural Areas"},{"$f":"IF($F243=0,$A243,\"\")","v":"Rural Street Crossings"}]
["Rural Street Crossings",null,null,null,null,{"$f":"Rural!N28","v":0}]
["Vision Specific O&M Skills Score:"]
["Scanning Materials",null,null,null,null,{"$f":"VisSpec!N3","v":0},"did well with the skills that made up the area(s) of",null,null,null,null,null,null,{"$f":"IF(F245>3.99,A245,\"\")","v":""},{"$f":"IF(F246>3.99,A246,\"\")","v":""},{"$f":"IF(F247>3.99,A247,\"\")","v":""},{"$f":"IF(F248>3.99,A248,\"\")","v":""},{"$f":"IF(F249>3.99,A249,\"\")","v":""}]
["Scanning Environments",null,null,null,null,{"$f":"VisSpec!N10","v":0},"had room for improvement with the skills that made up the area(s) of",null,null,null,null,null,null,{"$f":"IF(AND($F245>1.01,$F245<3.99),$A245,\"\")","v":""},{"$f":"IF(AND($F246>1.01,$F246<3.99),$A246,\"\")","v":""},{"$f":"IF(AND($F247>1.01,$F247<3.99),$A247,\"\")","v":""},{"$f":"IF(AND($F248>1.01,$F248<3.99),$A248,\"\")","v":""},{"$f":"IF(AND($F249>1.01,$F249<3.99),$A249,\"\")","v":""}]
["Magnifiers And CCTVs",null,null,null,null,{"$f":"VisSpec!N17","v":0},"hadn't had the opportunity to work on the skills in the area(s) of",null,null,null,null,null,null,{"$f":"IF(AND($F245>0.99,$F245<1.000001),$A245,\"\")","v":""},{"$f":"IF(AND($F246>0.99,$F246<1.000001),$A246,\"\")","v":""},{"$f":"IF(AND($F247>0.99,$F247<1.000001),$A247,\"\")","v":""},{"$f":"IF(AND($F248>0.99,$F248<1.000001),$A248,\"\")","v":""},{"$f":"IF(AND($F249>0.99,$F249<1.000001),$A249,\"\")","v":""}]
["Monoculars",null,null,null,null,{"$f":"VisSpec!N21","v":0},"didn't need the skills in the area(s) of",null,null,null,null,null,null,{"$f":"IF($F245=0,$A245,\"\")","v":"Scanning Materials"},{"$f":"IF($F246=0,$A246,\"\")","v":"Scanning Environments"},{"$f":"IF($F247=0,$A247,\"\")","v":"Magnifiers And CCTVs"},{"$f":"IF($F248=0,$A248,\"\")","v":"Monoculars"},{"$f":"IF($F249=0,$A249,\"\")","v":"Visual Traveling"}]
["Visual Traveling",null,null,null,null,{"$f":"VisSpec!N27","v":0}]
["Community Score:"]
["Comparison Shopping From Home",null,null,null,null,{"$f":"Commun!N3","v":0},"did well with the skills that made up the area(s) of",null,null,null,null,null,null,{"$f":"IF(F251>3.99,A251,\"\")","v":""},{"$f":"IF(F252>3.99,A252,\"\")","v":""},{"$f":"IF(F253>3.99,A253,\"\")","v":""},{"$f":"IF(F254>3.99,A254,\"\")","v":""},{"$f":"IF(F255>3.99,A255,\"\")","v":""}]
["Stores",null,null,null,null,{"$f":"Commun!N7","v":0},"had room for improvement with the skills that made up the area(s) of",null,null,null,null,null,null,{"$f":"IF(AND($F251>1.01,$F251<3.99),$A251,\"\")","v":""},{"$f":"IF(AND($F252>1.01,$F252<3.99),$A252,\"\")","v":""},{"$f":"IF(AND($F253>1.01,$F253<3.99),$A253,\"\")","v":""},{"$f":"IF(AND($F254>1.01,$F254<3.99),$A254,\"\")","v":""},{"$f":"IF(AND($F255>1.01,$F255<3.99),$A255,\"\")","v":""}]
["Fast Food Restaurants",null,null,null,null,{"$f":"Commun!N19","v":0},"hadn't had the opportunity to work on the skills in the area(s) of",null,null,null,null,null,null,{"$f":"IF(AND($F251>0.99,$F251<1.000001),$A251,\"\")","v":""},{"$f":"IF(AND($F252>0.99,$F252<1.000001),$A252,\"\")","v":""},{"$f":"IF(AND($F253>0.99,$F253<1.000001),$A253,\"\")","v":""},{"$f":"IF(AND($F254>0.99,$F254<1.000001),$A254,\"\")","v":""},{"$f":"IF(AND($F255>0.99,$F255<1.000001),$A255,\"\")","v":""}]
["Cafeteria Restaurants",null,null,null,null,{"$f":"Commun!N30","v":0},"didn't need the skills in the area(s) of",null,null,null,null,null,null,{"$f":"IF($F251=0,$A251,\"\")","v":"Comparison Shopping From Home"},{"$f":"IF($F252=0,$A252,\"\")","v":"Stores"},{"$f":"IF($F253=0,$A253,\"\")","v":"Fast Food Restaurants"},{"$f":"IF($F254=0,$A254,\"\")","v":"Cafeteria Restaurants"},{"$f":"IF($F255=0,$A255,\"\")","v":"Sit Down Restaurants"}]
["Sit Down Restaurants",null,null,null,null,{"$f":"Commun!N41","v":0}]
[]
[]
[]
[null,null,null,null,null,null,"demonstrated","of the skills needed to travel independently as an adult."]
[{"$f":"G5","v":0},"Concepts",null,null,null,null,"did well with the skills that made up the domain(s) of",null,null,null,null,null,null,{"$f":"IF(A260>79.999999999,B260,\"\")","v":""},{"$f":"IF(A261>79.999999999,B261,\"\")","v":""},{"$f":"IF(A262>79.999999999,B262,\"\")","v":""},{"$f":"IF(A263>79.999999999,B263,\"\")","v":""},{"$f":"IF(A264>79.999999999,B264,\"\")","v":""},{"$f":"IF(A265>79.999999999,B265,\"\")","v":""},{"$f":"IF(A266>79.999999999,B266,\"\")","v":""},{"$f":"IF(A267>79.999999999,B267,\"\")","v":""},{"$f":"IF(A268>79.999999999,B268,\"\")","v":""},{"$f":"IF(A269>79.999999999,B269,\"\")","v":""},{"$f":"IF(A270>79.999999999,B270,\"\")","v":""},{"$f":"IF(A271>79.999999999,B271,\"\")","v":""},{"$f":"IF(A272>79.999999999,B272,\"\")","v":""},{"$f":"IF(A273>79.999999999,B273,\"\")","v":""},{"$f":"IF(A274>79.999999999,B274,\"\")","v":""}]
[{"$f":"G11","v":0},"Movement",null,null,null,null,"had room for improvement with the skills that made up the domain(s) of",null,null,null,null,null,null,{"$f":"IF(AND($A260>20.000001,$A260<79.999999998),$B260,\"\")","v":""},{"$f":"IF(AND($A261>20.000001,$A261<79.999999998),$B261,\"\")","v":""},{"$f":"IF(AND($A262>20.000001,$A262<79.999999998),$B262,\"\")","v":""},{"$f":"IF(AND($A263>20.000001,$A263<79.999999998),$B263,\"\")","v":""},{"$f":"IF(AND($A264>20.000001,$A264<79.999999998),$B264,\"\")","v":""},{"$f":"IF(AND($A265>20.000001,$A265<79.999999998),$B265,\"\")","v":""},{"$f":"IF(AND($A266>20.000001,$A266<79.999999998),$B266,\"\")","v":""},{"$f":"IF(AND($A267>20.000001,$A267<79.999999998),$B267,\"\")","v":""},{"$f":"IF(AND($A268>20.000001,$A268<79.999999998),$B268,\"\")","v":""},{"$f":"IF(AND($A269>20.000001,$A269<79.999999998),$B269,\"\")","v":""},{"$f":"IF(AND($A270>20.000001,$A270<79.999999998),$B270,\"\")","v":""},{"$f":"IF(AND($A271>20.000001,$A271<79.999999998),$B271,\"\")","v":""},{"$f":"IF(AND($A272>20.000001,$A272<79.999999998),$B272,\"\")","v":""},{"$f":"IF(AND($A273>20.000001,$A273<79.999999998),$B273,\"\")","v":""},{"$f":"IF(AND($A274>20.000001,$A274<79.999999998),$B274,\"\")","v":""}]
[{"$f":"G17","v":0},"Single Room O&M",null,null,null,null,"hadn't had the opportunity to work on the skills that made up the domain(s) of",null,null,null,null,null,null,{"$f":"IF(AND($A260>19.9,$A260<20.1),$B260,\"\")","v":""},{"$f":"IF(AND($A261>19.9,$A261<20.1),$B261,\"\")","v":""},{"$f":"IF(AND($A262>19.9,$A262<20.1),$B262,\"\")","v":""},{"$f":"IF(AND($A263>19.9,$A263<20.1),$B263,\"\")","v":""},{"$f":"IF(AND($A264>19.9,$A264<20.1),$B264,\"\")","v":""},{"$f":"IF(AND($A265>19.9,$A265<20.1),$B265,\"\")","v":""},{"$f":"IF(AND($A266>19.9,$A266<20.1),$B266,\"\")","v":""},{"$f":"IF(AND($A267>19.9,$A267<20.1),$B267,\"\")","v":""},{"$f":"IF(AND($A268>19.9,$A268<20.1),$B268,\"\")","v":""},{"$f":"IF(AND($A269>19.9,$A269<20.1),$B269,\"\")","v":""},{"$f":"IF(AND($A270>19.9,$A270<20.1),$B270,\"\")","v":""},{"$f":"IF(AND($A271>19.9,$A271<20.1),$B271,\"\")","v":""},{"$f":"IF(AND($A272>19.9,$A272<20.1),$B272,\"\")","v":""},{"$f":"IF(AND($A273>19.9,$A273<20.1),$B273,\"\")","v":""},{"$f":"IF(AND($A274>19.9,$A274<20.1),$B274,\"\")","v":""}]
[{"$f":"G23","v":0},"Indoor O&M",null,null,null,null,"had no need for the skills that made up the domain(s) of",null,null,null,null,null,null,{"$f":"IF($A260=0,$B260,\"\")","v":"Concepts"},{"$f":"IF($A261=0,$B261,\"\")","v":"Movement"},{"$f":"IF($A262=0,$B262,\"\")","v":"Single Room O&M"},{"$f":"IF($A263=0,$B263,\"\")","v":"Indoor O&M"},{"$f":"IF($A264=0,$B264,\"\")","v":"Self Protection"},{"$f":"IF($A265=0,$B265,\"\")","v":"Guided Travel"},{"$f":"IF($A266=0,$B266,\"\")","v":"Cane Skills"},{"$f":"IF($A267=0,$B267,\"\")","v":"Sidewalk Travel"},{"$f":"IF($A268=0,$B268,\"\")","v":"Street Crossings"},{"$f":"IF($A269=0,$B269,\"\")","v":"Orientation Skills & GPS"},{"$f":"IF($A270=0,$B270,\"\")","v":"Public Transportation"},{"$f":"IF($A271=0,$B271,\"\")","v":"Atypical O&M"},{"$f":"IF($A272=0,$B272,\"\")","v":"Rural Travel"},{"$f":"IF($A273=0,$B273,\"\")","v":"Vision Specific O&M Skills"},{"$f":"IF($A274=0,$B274,\"\")","v":"Community "}]
[{"$f":"G29","v":0},"Self Protection"]
[{"$f":"G35","v":0},"Guided Travel"]
[{"$f":"G41","v":0},"Cane Skills"]
[{"$f":"G47","v":0},"Sidewalk Travel"]
[{"$f":"G53","v":0},"Street Crossings"]
[{"$f":"G59","v":0},"Orientation Skills & GPS"]
[{"$f":"G65","v":0},"Public Transportation"]
[{"$f":"G71","v":0},"Atypical O&M"]
[{"$f":"G77","v":0},"Rural Travel"]
[{"$f":"G83","v":0},"Vision Specific O&M Skills"]
[{"$f":"G89","v":0},"Community "]
[]
["will demonstrate improved skills in Orientation & Mobility by increasing the score on the O&M Inventory from"]
["to a minimum of"]
["by the next annual IEP date."]
["Please see the attached chart. "]
["Over the previous grading period"]
["increased the score on the O&M Inventory from"]
["to"]
["and is now"]
["of the way to the goal of"]
["made gains in the domain(s) of"]
[{"$f":"IF($G286>$F286,$B260,\"\")","v":""},{"$f":"Front!B3","v":0},{"$f":"Front!C3","v":0},{"$f":"Front!D3","v":0},{"$f":"Front!E3","v":0},{"$f":"Front!F3","v":0},{"$f":"Front!G3","v":0},{"$f":"Front!H3","v":0},{"$f":"Front!I3","v":0},{"$f":"Front!J3","v":0},{"$f":"Front!K3","v":0},{"$f":"Front!L3","v":0},{"$f":"Front!M3","v":0}]
["",{"$f":"Front!B4","v":0},{"$f":"Front!C4","v":0},{"$f":"Front!D4","v":0},{"$f":"Front!E4","v":0},{"$f":"Front!F4","v":0},{"$f":"Front!G4","v":0},{"$f":"Front!H4","v":0},{"$f":"Front!I4","v":0},{"$f":"Front!J4","v":0},{"$f":"Front!K4","v":0},{"$f":"Front!L4","v":0},{"$f":"Front!M4","v":0}]
["",{"$f":"Front!B5","v":0},{"$f":"Front!C5","v":0},{"$f":"Front!D5","v":0},{"$f":"Front!E5","v":0},{"$f":"Front!F5","v":0},{"$f":"Front!G5","v":0},{"$f":"Front!H5","v":0},{"$f":"Front!I5","v":0},{"$f":"Front!J5","v":0},{"$f":"Front!K5","v":0},{"$f":"Front!L5","v":0},{"$f":"Front!M5","v":0}]
["",{"$f":"Front!B6","v":0},{"$f":"Front!C6","v":0},{"$f":"Front!D6","v":0},{"$f":"Front!E6","v":0},{"$f":"Front!F6","v":0},{"$f":"Front!G6","v":0},{"$f":"Front!H6","v":0},{"$f":"Front!I6","v":0},{"$f":"Front!J6","v":0},{"$f":"Front!K6","v":0},{"$f":"Front!L6","v":0},{"$f":"Front!M6","v":0}]
["",{"$f":"Front!B7","v":0},{"$f":"Front!C7","v":0},{"$f":"Front!D7","v":0},{"$f":"Front!E7","v":0},{"$f":"Front!F7","v":0},{"$f":"Front!G7","v":0},{"$f":"Front!H7","v":0},{"$f":"Front!I7","v":0},{"$f":"Front!J7","v":0},{"$f":"Front!K7","v":0},{"$f":"Front!L7","v":0},{"$f":"Front!M7","v":0}]
["",{"$f":"Front!B8","v":0},{"$f":"Front!C8","v":0},{"$f":"Front!D8","v":0},{"$f":"Front!E8","v":0},{"$f":"Front!F8","v":0},{"$f":"Front!G8","v":0},{"$f":"Front!H8","v":0},{"$f":"Front!I8","v":0},{"$f":"Front!J8","v":0},{"$f":"Front!K8","v":0},{"$f":"Front!L8","v":0},{"$f":"Front!M8","v":0}]
["",{"$f":"Front!B9","v":0},{"$f":"Front!C9","v":0},{"$f":"Front!D9","v":0},{"$f":"Front!E9","v":0},{"$f":"Front!F9","v":0},{"$f":"Front!G9","v":0},{"$f":"Front!H9","v":0},{"$f":"Front!I9","v":0},{"$f":"Front!J9","v":0},{"$f":"Front!K9","v":0},{"$f":"Front!L9","v":0},{"$f":"Front!M9","v":0}]
["",{"$f":"Front!B10","v":0},{"$f":"Front!C10","v":0},{"$f":"Front!D10","v":0},{"$f":"Front!E10","v":0},{"$f":"Front!F10","v":0},{"$f":"Front!G10","v":0},{"$f":"Front!H10","v":0},{"$f":"Front!I10","v":0},{"$f":"Front!J10","v":0},{"$f":"Front!K10","v":0},{"$f":"Front!L10","v":0},{"$f":"Front!M10","v":0}]
["",{"$f":"Front!B11","v":0},{"$f":"Front!C11","v":0},{"$f":"Front!D11","v":0},{"$f":"Front!E11","v":0},{"$f":"Front!F11","v":0},{"$f":"Front!G11","v":0},{"$f":"Front!H11","v":0},{"$f":"Front!I11","v":0},{"$f":"Front!J11","v":0},{"$f":"Front!K11","v":0},{"$f":"Front!L11","v":0},{"$f":"Front!M11","v":0}]
["",{"$f":"Front!B12","v":0},{"$f":"Front!C12","v":0},{"$f":"Front!D12","v":0},{"$f":"Front!E12","v":0},{"$f":"Front!F12","v":0},{"$f":"Front!G12","v":0},{"$f":"Front!H12","v":0},{"$f":"Front!I12","v":0},{"$f":"Front!J12","v":0},{"$f":"Front!K12","v":0},{"$f":"Front!L12","v":0},{"$f":"Front!M12","v":0}]
["",{"$f":"Front!B13","v":0},{"$f":"Front!C13","v":0},{"$f":"Front!D13","v":0},{"$f":"Front!E13","v":0},{"$f":"Front!F13","v":0},{"$f":"Front!G13","v":0},{"$f":"Front!H13","v":0},{"$f":"Front!I13","v":0},{"$f":"Front!J13","v":0},{"$f":"Front!K13","v":0},{"$f":"Front!L13","v":0},{"$f":"Front!M13","v":0}]
["",{"$f":"Front!B14","v":0},{"$f":"Front!C14","v":0},{"$f":"Front!D14","v":0},{"$f":"Front!E14","v":0},{"$f":"Front!F14","v":0},{"$f":"Front!G14","v":0},{"$f":"Front!H14","v":0},{"$f":"Front!I14","v":0},{"$f":"Front!J14","v":0},{"$f":"Front!K14","v":0},{"$f":"Front!L14","v":0},{"$f":"Front!M14","v":0}]
["",{"$f":"Front!B15","v":0},{"$f":"Front!C15","v":0},{"$f":"Front!D15","v":0},{"$f":"Front!E15","v":0},{"$f":"Front!F15","v":0},{"$f":"Front!G15","v":0},{"$f":"Front!H15","v":0},{"$f":"Front!I15","v":0},{"$f":"Front!J15","v":0},{"$f":"Front!K15","v":0},{"$f":"Front!L15","v":0},{"$f":"Front!M15","v":0}]
["",{"$f":"Front!B16","v":0},{"$f":"Front!C16","v":0},{"$f":"Front!D16","v":0},{"$f":"Front!E16","v":0},{"$f":"Front!F16","v":0},{"$f":"Front!G16","v":0},{"$f":"Front!H16","v":0},{"$f":"Front!I16","v":0},{"$f":"Front!J16","v":0},{"$f":"Front!K16","v":0},{"$f":"Front!L16","v":0},{"$f":"Front!M16","v":0}]
["",{"$f":"Front!B17","v":0},{"$f":"Front!C17","v":0},{"$f":"Front!D17","v":0},{"$f":"Front!E17","v":0},{"$f":"Front!F17","v":0},{"$f":"Front!G17","v":0},{"$f":"Front!H17","v":0},{"$f":"Front!I17","v":0},{"$f":"Front!J17","v":0},{"$f":"Front!K17","v":0},{"$f":"Front!L17","v":0},{"$f":"Front!M17","v":0}]

{"sheet":"R7","index":22,"n_rows":300,"n_cols":29,"rows_kept":300,"cut":false,"hidden":false,"merged":[]}
[{"$f":"'R1'!A1","v":0},"← TYPE STUDENT NAME IN GREEN BOX",null,null,null,null,null,null,null,null,null,null,null,null,"%prog","total","tot round","%pr rnd","goal"]
["↓ HIGHLIGHT & COPY WHITE CELLS; PASTE IN WORD DOCUMENT AS \"KEEP TEXT ONLY\" OR \"UNFORMATTED\"",null,null,null,null,null,null,null,null,null,null,null,null,null,{"$f":"Front!B20","v":0},{"$f":"Front!B18","v":0},{"$f":"ROUND(P2,2)","v":0},{"$f":"ROUND(O2,2)","v":0},{"$f":"Front!B19","v":1}]
[{"$f":"CONCATENATE(A150,\" \",K3,\"%\")","v":"NMSBVI O&M INVENTORY TOTAL SCORE:  0%"},null,null,null,null,null,null,null,null,{"$f":"Front!H18","v":0},{"$f":"ROUND(J3,2)","v":0},null,null,null,{"$f":"Front!C20","v":0},{"$f":"Front!C18","v":0},0,0,{"$f":"Front!C19","v":1}]
[null,null,null,null,null,null,null,null,null,null,null,null,null,null,{"$f":"Front!D20","v":0},{"$f":"Front!D18","v":0},0,0,{"$f":"Front!D19","v":1}]
[{"$f":"CONCATENATE(A151,\" \",H5,\"%\")","v":"Concepts Score: 0%"},null,null,null,null,null,{"$f":"Front!H3","v":0},{"$f":"ROUND(G5,1)","v":0},"← Don't worry about these 2 numbers",null,null,null,null,null,{"$f":"Front!E20","v":0},{"$f":"Front!E18","v":0},0,0,{"$f":"Front!E19","v":1}]
[{"$f":"CONCATENATE($A1,\" \",G152,\" \",N152,\", \",O152,\", \",P152,\", \",Q152)","v":"0 did well with the skills that made up the area(s) of , , , "},null,null,null,null,null,null,null,null,null,null,null,null,null,{"$f":"Front!F20","v":0},{"$f":"Front!F18","v":0},0,0,{"$f":"Front!F19","v":1}]
[{"$f":"CONCATENATE($A1,\" \",G153,\" \",N153,\", \",O153,\", \",P153,\", \",Q153)","v":"0 had room for improvement with the skills that made up the area(s) of , , , "},null,null,null,null,null,null,null,null,null,null,null,null,null,{"$f":"Front!G20","v":0},{"$f":"Front!G18","v":0},0,0,{"$f":"Front!G19","v":1}]
[{"$f":"CONCATENATE($A1,\" \",G154,\" \",N154,\", \",O154,\", \",P154,\", \",Q154)","v":"0 hadn't had the opportunity to work on the skills in the area(s) of , , , "},null,null,null,null,null,null,null,null,null,null,null,null,null,{"$f":"Front!H20","v":0},{"$f":"Front!H18","v":0},0,0,{"$f":"Front!H19","v":1}]
[{"$f":"CONCATENATE($A1,\" \",G155,\" \",N155,\", \",O155,\", \",P155,\", \",Q155)","v":"0 didn't need the skills in the area(s) of Vocabulary, Laterality, Parallel/Perpendicular, Time And Distance"},null,null,null,null,null,null,null,null,null,null,null,null,null,{"$f":"Front!I20","v":0},{"$f":"Front!I18","v":0},0,0,{"$f":"Front!I19","v":1}]
[null,null,null,null,null,null,null,null,null,null,null,null,null,null,{"$f":"Front!J20","v":0},{"$f":"Front!J18","v":0},0,0,{"$f":"Front!J19","v":1}]
[{"$f":"CONCATENATE(A156,\" \",H11,\"%\")","v":"Movement Score: 0%"},null,null,null,null,null,{"$f":"Front!H4","v":0},{"$f":"ROUND(G11,1)","v":0},null,null,null,null,null,null,{"$f":"Front!K20","v":0},{"$f":"Front!K18","v":0},0,0,{"$f":"Front!K19","v":1}]
[{"$f":"CONCATENATE($A1,\" \",G157,\" \",N157,\", \",O157,\", \",P157,\", \",Q157)","v":"0 did well with the skills that made up the area(s) of , , , "},null,null,null,null,null,null,null,null,null,null,null,null,null,{"$f":"Front!L20","v":0},{"$f":"Front!L18","v":0},0,0,{"$f":"Front!L19","v":1}]
[{"$f":"CONCATENATE($A1,\" \",G158,\" \",N158,\", \",O158,\", \",P158,\", \",Q158)","v":"0 had room for improvement with the skills that made up the area(s) of , , , "},null,null,null,null,null,null,null,null,null,null,null,null,null,{"$f":"Front!M20","v":0},{"$f":"Front!M18","v":0},0,0,{"$f":"Front!M19","v":1}]
[{"$f":"CONCATENATE($A1,\" \",G159,\" \",N159,\", \",O159,\", \",P159,\", \",Q159)","v":"0 hadn't had the opportunity to work on the skills in the area(s) of , , , "},null,null,null,null,null,null,null,null,null,null,null,null,null,"↑ Don't worry about this chart"]
[{"$f":"CONCATENATE($A1,\" \",G160,\" \",N160,\", \",O160,\", \",P160,\", \",Q160)","v":"0 didn't need the skills in the area(s) of Walking, Maintaining Body Alignment While Walking, Balance, Turns"}]
[null,null,null,null,null,null,"DO NOT HIGHLIGHT & COPY ANY OF THE GREY CELLS; ALL THE TEXT YOU NEED IS IN WHITE CELLS"]
[{"$f":"CONCATENATE(A161,\" \",H17,\"%\")","v":"Single Room O&M Score: 0%"},null,null,null,null,null,{"$f":"Front!H5","v":0},{"$f":"ROUND(G17,1)","v":0}]
[{"$f":"CONCATENATE($A1,\" \",G162,\" \",N162,\", \",O162,\", \",P162,\", \",Q162,\", \",R162)","v":"0 did well with the skills that made up the area(s) of , , , , "}]
[{"$f":"CONCATENATE($A1,\" \",G163,\" \",N163,\", \",O163,\", \",P163,\", \",Q163,\", \",R163)","v":"0 had room for improvement with the skills that made up the area(s) of , , , , "}]
[{"$f":"CONCATENATE($A1,\" \",G164,\" \",N164,\", \",O164,\", \",P164,\", \",Q164,\", \",R164)","v":"0 hadn't had the opportunity to work on the skills in the area(s) of , , , , "}]
[{"$f":"CONCATENATE($A1,\" \",G165,\" \",N165,\", \",O165,\", \",P165,\", \",Q165,\", \",R165)","v":"0 didn't need the skills in the area(s) of Familiar Rooms, Unfamiliar Rooms, Seating (Rows), Seating (Tables), Locating Dropped Objects"}]
[null,null,null,null,null,null,"COPYING THE GREY CELLS WILL JUST MAKE A MESS OF YOUR WORD DOCUMENT. I KNOW IT LOOKS"]
[{"$f":"CONCATENATE(A167,\" \",H23,\"%\")","v":"Indoor O&M Score: 0%"},null,null,null,null,null,{"$f":"Front!H6","v":0},{"$f":"ROUND(G23,1)","v":0}]
[{"$f":"CONCATENATE($A1,\" \",G168,\" \",N168,\", \",O168,\", \",P168,\", \",Q168,\", \",R168,\", \",S168,\", \",T168,\", \",U168)","v":"0 did well with the skills that made up the area(s) of , , , , , , , "}]
[{"$f":"CONCATENATE($A1,\" \",G169,\" \",N169,\", \",O169,\", \",P169,\", \",Q169,\", \",R169,\", \",S169,\", \",T169,\", \",U169)","v":"0 had room for improvement with the skills that made up the area(s) of , , , , , , , "}]
[{"$f":"CONCATENATE($A1,\" \",G170,\" \",N170,\", \",O170,\", \",P170,\", \",Q170,\", \",R170,\", \",S170,\", \",T170,\", \",U170)","v":"0 hadn't had the opportunity to work on the skills in the area(s) of , , , , , , , "}]
[{"$f":"CONCATENATE($A1,\" \",G171,\" \",N171,\", \",O171,\", \",P171,\", \",Q171,\", \",R171,\", \",S171,\", \",T171,\", \",U171)","v":"0 didn't need the skills in the area(s) of Hand Trailing, Navigating Open Spaces, Doors, Ascending/Descending Stairs, Escalators, Elevators, Moving Sidewalks, Turnstiles"}]
[null,null,null,null,null,null,"LIKE THERE IS TEXT IN THE GREY CELLS BUT THERE REALLY ISN'T. TRUST ME; I'M AN EXCEL NERD."]
[{"$f":"CONCATENATE(A176,\" \",H29,\"%\")","v":"Self Protection Score: 0%"},null,null,null,null,null,{"$f":"Front!H7","v":0},{"$f":"ROUND(G29,1)","v":0}]
[{"$f":"CONCATENATE($A1,\" \",G176,\" \",N176,\", \",O176,\", \",P176)","v":"0 did well with the skills that made up the area(s) of , , "}]
[{"$f":"CONCATENATE($A1,\" \",G177,\" \",N177,\", \",O177,\", \",P177)","v":"0 had room for improvement with the skills that made up the area(s) of , , "}]
[{"$f":"CONCATENATE($A1,\" \",G178,\" \",N178,\", \",O178,\", \",P178)","v":"0 hadn't had the opportunity to work on the skills in the area(s) of , , "}]
[{"$f":"CONCATENATE($A1,\" \",G179,\" \",N179,\", \",O179,\", \",P179)","v":"0 didn't need the skills in the area(s) of Upper Hand Protective Technique, Lower Forearm Protective Technique, Protective Clothing"}]
[]
[{"$f":"CONCATENATE(A180,\" \",H35,\"%\")","v":"Guided Travel Score: 0%"},null,null,null,null,null,{"$f":"Front!H8","v":0},{"$f":"ROUND(G35,1)","v":0}]
[{"$f":"CONCATENATE($A1,\" \",G181,\" \",N181,\", \",O181,\", \",P181,\", \",Q181)","v":"0 did well with the skills that made up the area(s) of , , , "}]
[{"$f":"CONCATENATE($A1,\" \",G182,\" \",N182,\", \",O182,\", \",P182,\", \",Q182)","v":"0 had room for improvement with the skills that made up the area(s) of , , , "}]
[{"$f":"CONCATENATE($A1,\" \",G183,\" \",N183,\", \",O183,\", \",P183,\", \",Q183)","v":"0 hadn't had the opportunity to work on the skills in the area(s) of , , , "}]
[{"$f":"CONCATENATE($A1,\" \",G184,\" \",N184,\", \",O184,\", \",P184,\", \",Q184)","v":"0 didn't need the skills in the area(s) of Human Guide, Walking With Another (No Direct Contact), Menus, Getting Rides"}]
[]
[{"$f":"CONCATENATE(A185,\" \",H41,\"%\")","v":"Cane Skills Score: 0%"},null,null,null,null,null,{"$f":"Front!H9","v":0},{"$f":"ROUND(G41,1)","v":0}]
[{"$f":"CONCATENATE($A1,\" \",G186,\" \",N186,\", \",O186,\", \",P186,\", \",Q186,\", \",R186,\", \",S186,\", \",T186)","v":"0 did well with the skills that made up the area(s) of , , , , , , "}]
[{"$f":"CONCATENATE($A1,\" \",G187,\" \",N187,\", \",O187,\", \",P187,\", \",Q187,\", \",R187,\", \",S187,\", \",T187)","v":"0 had room for improvement with the skills that made up the area(s) of , , , , , , "}]
[{"$f":"CONCATENATE($A1,\" \",G188,\" \",N188,\", \",O188,\", \",P188,\", \",Q188,\", \",R188,\", \",S188,\", \",T188)","v":"0 hadn't had the opportunity to work on the skills in the area(s) of , , , , , , "}]
[{"$f":"CONCATENATE($A1,\" \",G189,\" \",N189,\", \",O189,\", \",P189,\", \",Q189,\", \",R189,\", \",S189,\", \",T189)","v":"0 didn't need the skills in the area(s) of Basic Skills, Types Of Grips, Constant Contact, Diagonal/Diagonal Trail, Two Point Touch/Touch Trail, Touch And Drag, Three Point Touch"}]
[]
[{"$f":"CONCATENATE(A193,\" \",H47,\"%\")","v":"Sidewalk Travel Score: 0%"},null,null,null,null,null,{"$f":"Front!H10","v":0},{"$f":"ROUND(G47,1)","v":0}]
[{"$f":"CONCATENATE($A1,\" \",G193,\" \",N193,\", \",O193,\", \",P193)","v":"0 did well with the skills that made up the area(s) of , , "}]
[{"$f":"CONCATENATE($A1,\" \",G194,\" \",N194,\", \",O194,\", \",P194)","v":"0 had room for improvement with the skills that made up the area(s) of , , "}]
[{"$f":"CONCATENATE($A1,\" \",G195,\" \",N195,\", \",O195,\", \",P195)","v":"0 hadn't had the opportunity to work on the skills in the area(s) of , , "}]
[{"$f":"CONCATENATE($A1,\" \",G196,\" \",N196,\", \",O196,\", \",P196)","v":"0 didn't need the skills in the area(s) of Walking On Sidewalks, Walking On Irregular Sidewalks, Correcting for Veering On Sidewalks"}]
[]
[{"$f":"CONCATENATE(A197,\" \",H53,\"%\")","v":"Street Crossings Score: 0%"},null,null,null,null,null,{"$f":"Front!H11","v":0},{"$f":"ROUND(G53,1)","v":0}]
[{"$f":"CONCATENATE($A1,\" \",G198,\" \",N198,\", \",O198,\", \",P198,\", \",Q198,\", \",R198,\", \",S198,\", \",T198,\", \",U198,\", \",V198,\", \",W198,\", \",X198,\", \",Y198,\", \",Z198,\", \",AA198,\", \",AB198,\", \",AC198)","v":"0 did well with the skills that made up the area(s) of , , , , , , , , , , , , , , , "}]
[{"$f":"CONCATENATE($A1,\" \",G199,\" \",N199,\", \",O199,\", \",P199,\", \",Q199,\", \",R199,\", \",S199,\", \",T199,\", \",U199,\", \",V199,\", \",W199,\", \",X199,\", \",Y199,\", \",Z199,\", \",AA199,\", \",AB199,\", \",AC199)","v":"0 had room for improvement with the skills that made up the area(s) of , , , , , , , , , , , , , , , "}]
[{"$f":"CONCATENATE($A1,\" \",G200,\" \",N200,\", \",O200,\", \",P200,\", \",Q200,\", \",R200,\", \",S200,\", \",T200,\", \",U200,\", \",V200,\", \",W200,\", \",X200,\", \",Y200,\", \",Z200,\", \",AA200,\", \",AB200,\", \",AC200)","v":"0 hadn't had the opportunity to work on the skills in the area(s) of , , , , , , , , , , , , , , , "}]
[{"$f":"CONCATENATE($A1,\" \",G201,\" \",N201,\", \",O201,\", \",P201,\", \",Q201,\", \",R201,\", \",S201,\", \",T201,\", \",U201,\", \",V201,\", \",W201,\", \",X201,\", \",Y201,\", \",Z201,\", \",AA201,\", \",AB201,\", \",AC201)","v":"0 didn't need the skills in the area(s) of Anticipating Street Crossings, Maintaining Line Of Travel, Maintaining Body Alignment, Re-establishing Body Alignment, Analyzing Intersections, Plus Intersections, T Intersections, Y Intersections, Roundabouts, Significantly Offset Intersections, Atypical Intersections, Newly Developed Intersections, Channelized Right Turn Lanes, Veering, Understanding Drivers’ Perspectives, Pedestrian Signals"}]
[]
[{"$f":"CONCATENATE(A214,\" \",H59,\"%\")","v":"Orientation Skills and GPS Score: 0%"},null,null,null,null,null,{"$f":"Front!H12","v":0},{"$f":"ROUND(G59,1)","v":0}]
[{"$f":"CONCATENATE($A1,\" \",G215,\" \",N215,\", \",O215,\", \",P215,\", \",Q215,\", \",R215,\", \",S215,\", \",T215,\", \",U215,\", \",V215,\", \",W215)","v":"0 did well with the skills that made up the area(s) of , , , , , , , , , "}]
[{"$f":"CONCATENATE($A1,\" \",G216,\" \",N216,\", \",O216,\", \",P216,\", \",Q216,\", \",R216,\", \",S216,\", \",T216,\", \",U216,\", \",V216,\", \",W216)","v":"0 had room for improvement with the skills that made up the area(s) of , , , , , , , , , "}]
[{"$f":"CONCATENATE($A1,\" \",G217,\" \",N217,\", \",O217,\", \",P217,\", \",Q217,\", \",R217,\", \",S217,\", \",T217,\", \",U217,\", \",V217,\", \",W217)","v":"0 hadn't had the opportunity to work on the skills in the area(s) of , , , , , , , , , "}]
[{"$f":"CONCATENATE($A1,\" \",G218,\" \",N218,\", \",O218,\", \",P218,\", \",Q218,\", \",R218,\", \",S218,\", \",T218,\", \",U218,\", \",V218,\", \",W218)","v":"0 didn't need the skills in the area(s) of Cardinality, Clues, Landmarks, Indoor Numbering Systems, Outdoor Numbering Systems, Grid System, Divisors And Block Numbering, Transferability, GPS, Maps"}]
[]
[{"$f":"CONCATENATE(A225,\" \",H65,\"%\")","v":"Public Transportation Score: 0%"},null,null,null,null,null,{"$f":"Front!H13","v":0},{"$f":"ROUND(G65,1)","v":0}]
[{"$f":"CONCATENATE($A1,\" \",G226,\" \",N226,\", \",O226,\", \",P226,\", \",Q226,\", \",R226,\", \",S226,\", \",T226)","v":"0 did well with the skills that made up the area(s) of , , , , , , "}]
[{"$f":"CONCATENATE($A1,\" \",G227,\" \",N227,\", \",O227,\", \",P227,\", \",Q227,\", \",R227,\", \",S227,\", \",T227)","v":"0 had room for improvement with the skills that made up the area(s) of , , , , , , "}]
[{"$f":"CONCATENATE($A1,\" \",G228,\" \",N228,\", \",O228,\", \",P228,\", \",Q228,\", \",R228,\", \",S228,\", \",T228)","v":"0 hadn't had the opportunity to work on the skills in the area(s) of , , , , , , "}]
[{"$f":"CONCATENATE($A1,\" \",G229,\" \",N229,\", \",O229,\", \",P229,\", \",Q229,\", \",R229,\", \",S229,\", \",T229)","v":"0 didn't need the skills in the area(s) of Identifying Common Public Transportation Options, Intra-City Bus Travel, Inter-City Bus Travel, Taxi/Ride Service, Handi-Ride/Para Transit, Air Travel, Subway/Light Rail"}]
[]
[{"$f":"CONCATENATE(A233,\" \",H71,\"%\")","v":"Atypical O&M Score: 0%"},null,null,null,null,null,{"$f":"Front!H14","v":0},{"$f":"ROUND(G71,1)","v":0}]
[{"$f":"CONCATENATE($A1,\" \",G234,\" \",N234,\", \",O234,\", \",P234,\", \",Q234)","v":"0 did well with the skills that made up the area(s) of , , , "}]
[{"$f":"CONCATENATE($A1,\" \",G235,\" \",N235,\", \",O235,\", \",P235,\", \",Q235)","v":"0 had room for improvement with the skills that made up the area(s) of , , , "}]
[{"$f":"CONCATENATE($A1,\" \",G236,\" \",N236,\", \",O236,\", \",P236,\", \",Q236)","v":"0 hadn't had the opportunity to work on the skills in the area(s) of , , , "}]
[{"$f":"CONCATENATE($A1,\" \",G237,\" \",N237,\", \",O237,\", \",P237,\", \",Q237)","v":"0 didn't need the skills in the area(s) of Fences, Fields (Urban), Parks/Playgrounds, Inclement Weather"}]
[]
[{"$f":"CONCATENATE(A238,\" \",H77,\"%\")","v":"Rural Travel Score: 0%"},null,null,null,null,null,{"$f":"Front!H15","v":0},{"$f":"ROUND(G77,1)","v":0}]
[{"$f":"CONCATENATE($A1,\" \",G239,\" \",N239,\", \",O239,\", \",P239,\", \",Q239,\", \",R239)","v":"0 did well with the skills that made up the area(s) of , , , , "}]
[{"$f":"CONCATENATE($A1,\" \",G240,\" \",N240,\", \",O240,\", \",P240,\", \",Q240,\", \",R240)","v":"0 had room for improvement with the skills that made up the area(s) of , , , , "}]
[{"$f":"CONCATENATE($A1,\" \",G241,\" \",N241,\", \",O241,\", \",P241,\", \",Q241,\", \",R241)","v":"0 hadn't had the opportunity to work on the skills in the area(s) of , , , , "}]
[{"$f":"CONCATENATE($A1,\" \",G242,\" \",N242,\", \",O242,\", \",P242,\", \",Q242,\", \",R242)","v":"0 didn't need the skills in the area(s) of Understanding Unique Dangers Related To Rural Travel, Walking Along Rural Roads, Ditches/Arroyos, Identifying And Going Around Items In Rural Areas, Rural Street Crossings"}]
[]
[{"$f":"CONCATENATE(A244,\" \",H83,\"%\")","v":"Vision Specific O&M Skills Score: 0%"},null,null,null,null,null,{"$f":"Front!H16","v":0},{"$f":"ROUND(G83,1)","v":0}]
[{"$f":"CONCATENATE($A1,\" \",G245,\" \",N245,\", \",O245,\", \",P245,\", \",Q245,\", \",R245)","v":"0 did well with the skills that made up the area(s) of , , , , "}]
[{"$f":"CONCATENATE($A1,\" \",G246,\" \",N246,\", \",O246,\", \",P246,\", \",Q246,\", \",R246)","v":"0 had room for improvement with the skills that made up the area(s) of , , , , "}]
[{"$f":"CONCATENATE($A1,\" \",G247,\" \",N247,\", \",O247,\", \",P247,\", \",Q247,\", \",R247)","v":"0 hadn't had the opportunity to work on the skills in the area(s) of , , , , "}]
[{"$f":"CONCATENATE($A1,\" \",G248,\" \",N248,\", \",O248,\", \",P248,\", \",Q248,\", \",R248)","v":"0 didn't need the skills in the area(s) of Scanning Materials, Scanning Environments, Magnifiers And CCTVs, Monoculars, Visual Traveling"}]
[]
[{"$f":"CONCATENATE(A250,\" \",H89,\"%\")","v":"Community Score: 0%"},null,null,null,null,null,{"$f":"Front!H17","v":0},{"$f":"ROUND(G89,1)","v":0}]
[{"$f":"CONCATENATE($A1,\" \",G251,\" \",N251,\", \",O251,\", \",P251,\", \",Q251,\", \",R251)","v":"0 did well with the skills that made up the area(s) of , , , , "}]
[{"$f":"CONCATENATE($A1,\" \",G252,\" \",N252,\", \",O252,\", \",P252,\", \",Q252,\", \",R252)","v":"0 had room for improvement with the skills that made up the area(s) of , , , , "}]
[{"$f":"CONCATENATE($A1,\" \",G253,\" \",N253,\", \",O253,\", \",P253,\", \",Q253,\", \",R253)","v":"0 hadn't had the opportunity to work on the skills in the area(s) of , , , , "}]
[{"$f":"CONCATENATE($A1,\" \",G254,\" \",N254,\", \",O254,\", \",P254,\", \",Q254,\", \",R254)","v":"0 didn't need the skills in the area(s) of Comparison Shopping From Home, Stores, Fast Food Restaurants, Cafeteria Restaurants, Sit Down Restaurants"}]
[]
["Summary"]
[{"$f":"CONCATENATE(A1,\" \",G259,\" \",K3,\" \",H259)","v":"0 demonstrated 0 of the skills needed to travel independently as an adult."}]
[{"$f":"CONCATENATE($A1,\" \",G260,\" \",N260,\", \",O260,\", \",P260,\", \",Q260,\", \",R260,\", \",S260,\", \",T260,\", \",U260,\", \",V260,\", \",W260,\", \",X260,\", \",Y260,\", \",Z260,\", \",AA260,\", \",AB260)","v":"0 did well with the skills that made up the domain(s) of , , , , , , , , , , , , , , "}]
[{"$f":"CONCATENATE($A1,\" \",G261,\" \",N261,\", \",O261,\", \",P261,\", \",Q261,\", \",R261,\", \",S261,\", \",T261,\", \",U261,\", \",V261,\", \",W261,\", \",X261,\", \",Y261,\", \",Z261,\", \",AA261,\", \",AB261)","v":"0 had room for improvement with the skills that made up the domain(s) of , , , , , , , , , , , , , , "}]
[{"$f":"CONCATENATE($A1,\" \",G262,\" \",N262,\", \",O262,\", \",P262,\", \",Q262,\", \",R262,\", \",S262,\", \",T262,\", \",U262,\", \",V262,\", \",W262,\", \",X262,\", \",Y262,\", \",Z262,\", \",AA262,\", \",AB262)","v":"0 hadn't had the opportunity to work on the skills that made up the domain(s) of , , , , , , , , , , , , , , "}]
[{"$f":"CONCATENATE($A1,\" \",G263,\" \",N263,\", \",O263,\", \",P263,\", \",Q263,\", \",R263,\", \",S263,\", \",T263,\", \",U263,\", \",V263,\", \",W263,\", \",X263,\", \",Y263,\", \",Z263,\", \",AA263,\", \",AB263)","v":"0 had no need for the skills that made up the domain(s) of Concepts, Movement, Single Room O&M, Indoor O&M, Self Protection, Guided Travel, Cane Skills, Sidewalk Travel, Street Crossings, Orientation Skills & GPS, Public Transportation, Atypical O&M, Rural Travel, Vision Specific O&M Skills, Community "}]
[]
[]
[]
[]
[]
[]
[]
[]
[]
["Present Level of Educational Performance"]
[{"$f":"CONCATENATE($A97,\" \",A98,\" \",A99,\", \",A100)","v":"0 did well with the skills that made up the domain(s) of , , , , , , , , , , , , , ,  0 had room for improvement with the skills that made up the domain(s) of , , , , , , , , , , , , , ,  0 hadn't had the opportunity to work on the skills that made up the domain(s) of , , , , , , , , , , , , , , , 0 had no need for the skills that made up the domain(s) of Concepts, Movement, Single Room O&M, Indoor O&M, Self Protection, Guided Travel, Cane Skills, Sidewalk Travel, Street Crossings, Orientation Skills & GPS, Public Transportation, Atypical O&M, Rural Travel, Vision Specific O&M Skills, Community "}]
[]
["Strengths"]
[{"$f":"A97","v":"0 did well with the skills that made up the domain(s) of , , , , , , , , , , , , , , "}]
[]
["Concerns"]
[{"$f":"A98","v":"0 had room for improvement with the skills that made up the domain(s) of , , , , , , , , , , , , , , "}]
[]
["Goal"]
[{"$f":"CONCATENATE($A1,\" \",A276,\" \",K3,\"% \",A277,\" \",(ROUNDUP(K3+5,0)),\"% \",A278)","v":"0 will demonstrate improved skills in Orientation & Mobility by increasing the score on the O&M Inventory from 0% to a minimum of 5% by the next annual IEP date."}]
[]
[]
[]
[]
["Progress Report"]
[{"$f":"CONCATENATE(A279,A280,\" \",$A1,\" \",A281,\" \",Q7,\"% \",A282,\" \",Q8,\"% \",A283,\" \",R8,\"% \",A284,\" \",S8,\"%. \",A1,\" \",A285,\" \",A286,\", \",A287,\", \",A288,\", \",A289,\", \",A290,\", \",A291,\", \",A292,\", \",A293,\", \",A294,\", \",A295,\", \",A296,\", \",A297,\", \",A298,\", \",A299,\", \",A300)","v":"Please see the attached chart. Over the previous grading period 0 increased the score on the O&M Inventory from 0% to 0% and is now 0% of the way to the goal of 1%. 0 made gains in the domain(s) of , , , , , , , , , , , , , , "}]
[]
[]
[]
[]
[]
[]
[]
[]
[]
[]
[]
[]
[]
[]
[]
[]
[]
[]
[]
[]
[]
[]
["↓Don't worry about any of this. It fills in automatically and is what creates the useful text "]
["NMSBVI O&M INVENTORY TOTAL SCORE: "]
["Concepts Score:"]
["Vocabulary",null,null,null,null,{"$f":"Concept!D42","v":0},"did well with the skills that made up the area(s) of",null,null,null,null,null,null,{"$f":"IF(F152>3.99,A152,\"\")","v":""},{"$f":"IF(F153>3.99,A153,\"\")","v":""},{"$f":"IF(F154>3.99,A154,\"\")","v":""},{"$f":"IF(F155>3.99,A155,\"\")","v":""},{"$f":"IF(F156>4,E156,\"\")","v":""}]
["Laterality",null,null,null,null,{"$f":"Concept!D48","v":0},"had room for improvement with the skills that made up the area(s) of",null,null,null,null,null,null,{"$f":"IF(AND($F152>1.01,$F152<3.99),$A152,\"\")","v":""},{"$f":"IF(AND($F153>1.01,$F153<3.99),$A153,\"\")","v":""},{"$f":"IF(AND($F154>1.01,$F154<3.99),$A154,\"\")","v":""},{"$f":"IF(AND($F155>1.01,$F155<3.99),$A155,\"\")","v":""}]
["Parallel/Perpendicular",null,null,null,null,{"$f":"Concept!D57","v":0},"hadn't had the opportunity to work on the skills in the area(s) of",null,null,null,null,null,null,{"$f":"IF(AND($F152>0.99,$F152<1.000001),$A152,\"\")","v":""},{"$f":"IF(AND($F153>0.99,$F153<1.000001),$A153,\"\")","v":""},{"$f":"IF(AND($F154>0.99,$F154<1.000001),$A154,\"\")","v":""},{"$f":"IF(AND($F155>0.99,$F155<1.000001),$A155,\"\")","v":""}]
["Time And Distance",null,null,null,null,{"$f":"Concept!D62","v":0},"didn't need the skills in the area(s) of",null,null,null,null,null,null,{"$f":"IF($F152=0,$A152,\"\")","v":"Vocabulary"},{"$f":"IF($F153=0,$A153,\"\")","v":"Laterality"},{"$f":"IF($F154=0,$A154,\"\")","v":"Parallel/Perpendicular"},{"$f":"IF($F155=0,$A155,\"\")","v":"Time And Distance"}]
["Movement Score:"]
["Walking",null,null,null,null,{"$f":"Move!D41","v":0},"did well with the skills that made up the area(s) of",null,null,null,null,null,null,{"$f":"IF(F157>3.99,A157,\"\")","v":""},{"$f":"IF(F158>3.99,A158,\"\")","v":""},{"$f":"IF(F159>3.99,A159,\"\")","v":""},{"$f":"IF(F160>3.99,A160,\"\")","v":""}]
["Maintaining Body Alignment While Walking",null,null,null,null,{"$f":"Move!D47","v":0},"had room for improvement with the skills that made up the area(s) of",null,null,null,null,null,null,{"$f":"IF(AND($F157>1.01,$F157<3.99),$A157,\"\")","v":""},{"$f":"IF(AND($F158>1.01,$F158<3.99),$A158,\"\")","v":""},{"$f":"IF(AND($F159>1.01,$F159<3.99),$A159,\"\")","v":""},{"$f":"IF(AND($F160>1.01,$F160<3.99),$A160,\"\")","v":""}]
["Balance",null,null,null,null,{"$f":"Move!D53","v":0},"hadn't had the opportunity to work on the skills in the area(s) of",null,null,null,null,null,null,{"$f":"IF(AND($F157>0.99,$F157<1.000001),$A157,\"\")","v":""},{"$f":"IF(AND($F158>0.99,$F158<1.000001),$A158,\"\")","v":""},{"$f":"IF(AND($F159>0.99,$F159<1.000001),$A159,\"\")","v":""},{"$f":"IF(AND($F160>0.99,$F160<1.000001),$A160,\"\")","v":""}]
["Turns",null,null,null,null,{"$f":"Move!D61","v":0},"didn't need the skills in the area(s) of",null,null,null,null,null,null,{"$f":"IF($F157=0,$A157,\"\")","v":"Walking"},{"$f":"IF($F158=0,$A158,\"\")","v":"Maintaining Body Alignment While Walking"},{"$f":"IF($F159=0,$A159,\"\")","v":"Balance"},{"$f":"IF($F160=0,$A160,\"\")","v":"Turns"}]
["Single Room O&M Score:"]
["Familiar Rooms",null,null,null,null,{"$f":"SingRm!D45","v":0},"did well with the skills that made up the area(s) of",null,null,null,null,null,null,{"$f":"IF(F162>3.99,A162,\"\")","v":""},{"$f":"IF(F163>3.99,A163,\"\")","v":""},{"$f":"IF(F164>3.99,A164,\"\")","v":""},{"$f":"IF(F165>3.99,A165,\"\")","v":""},{"$f":"IF(F166>3.99,A166,\"\")","v":""}]
["Unfamiliar Rooms",null,null,null,null,{"$f":"SingRm!D51","v":0},"had room for improvement with the skills that made up the area(s) of",null,null,null,null,null,null,{"$f":"IF(AND($F162>1.01,$F162<3.99),$A162,\"\")","v":""},{"$f":"IF(AND($F163>1.01,$F163<3.99),$A163,\"\")","v":""},{"$f":"IF(AND($F164>1.01,$F164<3.99),$A164,\"\")","v":""},{"$f":"IF(AND($F165>1.01,$F165<3.99),$A165,\"\")","v":""},{"$f":"IF(AND($F166>1.01,$F166<3.99),$A166,\"\")","v":""}]
["Seating (Rows)",null,null,null,null,{"$f":"SingRm!D58","v":0},"hadn't had the opportunity to work on the skills in the area(s) of",null,null,null,null,null,null,{"$f":"IF(AND($F162>0.99,$F162<1.000001),$A162,\"\")","v":""},{"$f":"IF(AND($F163>0.99,$F163<1.000001),$A163,\"\")","v":""},{"$f":"IF(AND($F164>0.99,$F164<1.000001),$A164,\"\")","v":""},{"$f":"IF(AND($F165>0.99,$F165<1.000001),$A165,\"\")","v":""},{"$f":"IF(AND($F166>0.99,$F166<1.000001),$A166,\"\")","v":""}]
["Seating (Tables)",null,null,null,null,{"$f":"SingRm!D65","v":0},"didn't need the skills in the area(s) of",null,null,null,null,null,null,{"$f":"IF($F162=0,$A162,\"\")","v":"Familiar Rooms"},{"$f":"IF($F163=0,$A163,\"\")","v":"Unfamiliar Rooms"},{"$f":"IF($F164=0,$A164,\"\")","v":"Seating (Rows)"},{"$f":"IF($F165=0,$A165,\"\")","v":"Seating (Tables)"},{"$f":"IF($F166=0,$A166,\"\")","v":"Locating Dropped Objects"}]
["Locating Dropped Objects",null,null,null,null,{"$f":"SingRm!D70","v":0}]
["Indoor O&M Score:"]
["Hand Trailing",null,null,null,null,{"$f":"Indoor!D72","v":0},"did well with the skills that made up the area(s) of",null,null,null,null,null,null,{"$f":"IF(F168>3.99,A168,\"\")","v":""},{"$f":"IF(F169>3.99,A169,\"\")","v":""},{"$f":"IF(F170>3.99,A170,\"\")","v":""},{"$f":"IF(F171>3.99,A171,\"\")","v":""},{"$f":"IF(F172>3.99,A172,\"\")","v":""},{"$f":"IF(F173>3.99,A173,\"\")","v":""},{"$f":"IF(F174>3.99,A174,\"\")","v":""},{"$f":"IF(F175>3.99,A175,\"\")","v":""}]
["Navigating Open Spaces",null,null,null,null,{"$f":"Indoor!D75","v":0},"had room for improvement with the skills that made up the area(s) of",null,null,null,null,null,null,{"$f":"IF(AND($F168>1.01,$F168<3.99),$A168,\"\")","v":""},{"$f":"IF(AND($F169>1.01,$F169<3.99),$A169,\"\")","v":""},{"$f":"IF(AND($F170>1.01,$F170<3.99),$A170,\"\")","v":""},{"$f":"IF(AND($F171>1.01,$F171<3.99),$A171,\"\")","v":""},{"$f":"IF(AND($F172>1.01,$F172<3.99),$A172,\"\")","v":""},{"$f":"IF(AND($F173>1.01,$F173<3.99),$A173,\"\")","v":""},{"$f":"IF(AND($F174>1.01,$F174<3.99),$A174,\"\")","v":""},{"$f":"IF(AND($F175>1.01,$F175<3.99),$A175,\"\")","v":""}]
["Doors",null,null,null,null,{"$f":"Indoor!D78","v":0},"hadn't had the opportunity to work on the skills in the area(s) of",null,null,null,null,null,null,{"$f":"IF(AND($F168>0.99,$F168<1.000001),$A168,\"\")","v":""},{"$f":"IF(AND($F169>0.99,$F169<1.000001),$A169,\"\")","v":""},{"$f":"IF(AND($F170>0.99,$F170<1.000001),$A170,\"\")","v":""},{"$f":"IF(AND($F171>0.99,$F171<1.000001),$A171,\"\")","v":""},{"$f":"IF(AND($F172>0.99,$F172<1.000001),$A172,\"\")","v":""},{"$f":"IF(AND($F173>0.99,$F173<1.000001),$A173,\"\")","v":""},{"$f":"IF(AND($F174>0.99,$F174<1.000001),$A174,\"\")","v":""},{"$f":"IF(AND($F175>0.99,$F175<1.000001),$A175,\"\")","v":""}]
["Ascending/Descending Stairs",null,null,null,null,{"$f":"Indoor!D84","v":0},"didn't need the skills in the area(s) of",null,null,null,null,null,null,{"$f":"IF($F168=0,$A168,\"\")","v":"Hand Trailing"},{"$f":"IF($F169=0,$A169,\"\")","v":"Navigating Open Spaces"},{"$f":"IF($F170=0,$A170,\"\")","v":"Doors"},{"$f":"IF($F171=0,$A171,\"\")","v":"Ascending/Descending Stairs"},{"$f":"IF($F172=0,$A172,\"\")","v":"Escalators"},{"$f":"IF($F173=0,$A173,\"\")","v":"Elevators"},{"$f":"IF($F174=0,$A174,\"\")","v":"Moving Sidewalks"},{"$f":"IF($F175=0,$A175,\"\")","v":"Turnstiles"}]
["Escalators",null,null,null,null,{"$f":"Indoor!D92","v":0}]
["Elevators",null,null,null,null,{"$f":"Indoor!D104","v":0}]
["Moving Sidewalks",null,null,null,null,{"$f":"Indoor!D113","v":0}]
["Turnstiles",null,null,null,null,{"$f":"Indoor!D123","v":0}]
["Self Protection Score:",null,null,null,null,null,"did well with the skills that made up the area(s) of",null,null,null,null,null,null,{"$f":"IF(F177>3.99,A177,\"\")","v":""},{"$f":"IF(F178>3.99,A178,\"\")","v":""},{"$f":"IF(F179>3.99,A179,\"\")","v":""}]
["Upper Hand Protective Technique",null,null,null,null,{"$f":"SelfPro!D29","v":0},"had room for improvement with the skills that made up the area(s) of",null,null,null,null,null,null,{"$f":"IF(AND($F177>1.01,$F177<3.99),$A177,\"\")","v":""},{"$f":"IF(AND($F178>1.01,$F178<3.99),$A178,\"\")","v":""},{"$f":"IF(AND($F179>1.01,$F179<3.99),$A179,\"\")","v":""}]
["Lower Forearm Protective Technique",null,null,null,null,{"$f":"SelfPro!D34","v":0},"hadn't had the opportunity to work on the skills in the area(s) of",null,null,null,null,null,null,{"$f":"IF(AND($F177>0.99,$F177<1.000001),$A177,\"\")","v":""},{"$f":"IF(AND($F178>0.99,$F178<1.000001),$A178,\"\")","v":""},{"$f":"IF(AND($F179>0.99,$F179<1.000001),$A179,\"\")","v":""}]
["Protective Clothing",null,null,null,null,{"$f":"SelfPro!D38","v":0},"didn't need the skills in the area(s) of",null,null,null,null,null,null,{"$f":"IF($F177=0,$A177,\"\")","v":"Upper Hand Protective Technique"},{"$f":"IF($F178=0,$A178,\"\")","v":"Lower Forearm Protective Technique"},{"$f":"IF($F179=0,$A179,\"\")","v":"Protective Clothing"}]
["Guided Travel Score:"]
["Human Guide",null,null,null,null,{"$f":"Guided!D39","v":0},"did well with the skills that made up the area(s) of",null,null,null,null,null,null,{"$f":"IF(F181>3.99,A181,\"\")","v":""},{"$f":"IF(F182>3.99,A182,\"\")","v":""},{"$f":"IF(F183>3.99,A183,\"\")","v":""},{"$f":"IF(F184>3.99,A184,\"\")","v":""}]
["Walking With Another (No Direct Contact)",null,null,null,null,{"$f":"Guided!D47","v":0},"had room for improvement with the skills that made up the area(s) of",null,null,null,null,null,null,{"$f":"IF(AND($F181>1.01,$F181<3.99),$A181,\"\")","v":""},{"$f":"IF(AND($F182>1.01,$F182<3.99),$A182,\"\")","v":""},{"$f":"IF(AND($F183>1.01,$F183<3.99),$A183,\"\")","v":""},{"$f":"IF(AND($F184>1.01,$F184<3.99),$A184,\"\")","v":""}]
["Menus",null,null,null,null,{"$f":"Guided!D52","v":0},"hadn't had the opportunity to work on the skills in the area(s) of",null,null,null,null,null,null,{"$f":"IF(AND($F181>0.99,$F181<1.000001),$A181,\"\")","v":""},{"$f":"IF(AND($F182>0.99,$F182<1.000001),$A182,\"\")","v":""},{"$f":"IF(AND($F183>0.99,$F183<1.000001),$A183,\"\")","v":""},{"$f":"IF(AND($F184>0.99,$F184<1.000001),$A184,\"\")","v":""}]
["Getting Rides",null,null,null,null,{"$f":"Guided!D56","v":0},"didn't need the skills in the area(s) of",null,null,null,null,null,null,{"$f":"IF($F181=0,$A181,\"\")","v":"Human Guide"},{"$f":"IF($F182=0,$A182,\"\")","v":"Walking With Another (No Direct Contact)"},{"$f":"IF($F183=0,$A183,\"\")","v":"Menus"},{"$f":"IF($F184=0,$A184,\"\")","v":"Getting Rides"}]
["Cane Skills Score:"]
["Basic Skills",null,null,null,null,{"$f":"Cane!D61","v":0},"did well with the skills that made up the area(s) of",null,null,null,null,null,null,{"$f":"IF(F186>3.99,A186,\"\")","v":""},{"$f":"IF(F187>3.99,A187,\"\")","v":""},{"$f":"IF(F188>3.99,A188,\"\")","v":""},{"$f":"IF(F189>3.99,A189,\"\")","v":""},{"$f":"IF(F190>3.99,A190,\"\")","v":""},{"$f":"IF(F191>3.99,A191,\"\")","v":""},{"$f":"IF(F192>3.99,A192,\"\")","v":""}]
["Types Of Grips",null,null,null,null,{"$f":"Cane!D68","v":0},"had room for improvement with the skills that made up the area(s) of",null,null,null,null,null,null,{"$f":"IF(AND($F186>1.01,$F186<3.99),$A186,\"\")","v":""},{"$f":"IF(AND($F187>1.01,$F187<3.99),$A187,\"\")","v":""},{"$f":"IF(AND($F188>1.01,$F188<3.99),$A188,\"\")","v":""},{"$f":"IF(AND($F189>1.01,$F189<3.99),$A189,\"\")","v":""},{"$f":"IF(AND($F190>1.01,$F190<3.99),$A190,\"\")","v":""},{"$f":"IF(AND($F191>1.01,$F191<3.99),$A191,\"\")","v":""},{"$f":"IF(AND($F192>1.01,$F192<3.99),$A192,\"\")","v":""}]
["Constant Contact",null,null,null,null,{"$f":"Cane!D74","v":0},"hadn't had the opportunity to work on the skills in the area(s) of",null,null,null,null,null,null,{"$f":"IF(AND($F186>0.99,$F186<1.000001),$A186,\"\")","v":""},{"$f":"IF(AND($F187>0.99,$F187<1.000001),$A187,\"\")","v":""},{"$f":"IF(AND($F188>0.99,$F188<1.000001),$A188,\"\")","v":""},{"$f":"IF(AND($F189>0.99,$F189<1.000001),$A189,\"\")","v":""},{"$f":"IF(AND($F190>0.99,$F190<1.000001),$A190,\"\")","v":""},{"$f":"IF(AND($F191>0.99,$F191<1.000001),$A191,\"\")","v":""},{"$f":"IF(AND($F192>0.99,$F192<1.000001),$A192,\"\")","v":""}]
["Diagonal/Diagonal Trail",null,null,null,null,{"$f":"Cane!D80","v":0},"didn't need the skills in the area(s) of",null,null,null,null,null,null,{"$f":"IF($F186=0,$A186,\"\")","v":"Basic Skills"},{"$f":"IF($F187=0,$A187,\"\")","v":"Types Of Grips"},{"$f":"IF($F188=0,$A188,\"\")","v":"Constant Contact"},{"$f":"IF($F189=0,$A189,\"\")","v":"Diagonal/Diagonal Trail"},{"$f":"IF($F190=0,$A190,\"\")","v":"Two Point Touch/Touch Trail"},{"$f":"IF($F191=0,$A191,\"\")","v":"Touch And Drag"},{"$f":"IF($F192=0,$A192,\"\")","v":"Three Point Touch"}]
["Two Point Touch/Touch Trail",null,null,null,null,{"$f":"Cane!D86","v":0}]
["Touch And Drag",null,null,null,null,{"$f":"Cane!D93","v":0}]
["Three Point Touch",null,null,null,null,{"$f":"Cane!D100","v":0}]
["Sidewalk Travel Score:",null,null,null,null,null,"did well with the skills that made up the area(s) of",null,null,null,null,null,null,{"$f":"IF(F194>3.99,A194,\"\")","v":""},{"$f":"IF(F195>3.99,A195,\"\")","v":""},{"$f":"IF(F196>3.99,A196,\"\")","v":""}]
["Walking On Sidewalks",null,null,null,null,{"$f":"Sidewalk!D40","v":0},"had room for improvement with the skills that made up the area(s) of",null,null,null,null,null,null,{"$f":"IF(AND($F194>1.01,$F194<3.99),$A194,\"\")","v":""},{"$f":"IF(AND($F195>1.01,$F195<3.99),$A195,\"\")","v":""},{"$f":"IF(AND($F196>1.01,$F196<3.99),$A196,\"\")","v":""}]
["Walking On Irregular Sidewalks",null,null,null,null,{"$f":"Sidewalk!D52","v":0},"hadn't had the opportunity to work on the skills in the area(s) of",null,null,null,null,null,null,{"$f":"IF(AND($F194>0.99,$F194<1.000001),$A194,\"\")","v":""},{"$f":"IF(AND($F195>0.99,$F195<1.000001),$A195,\"\")","v":""},{"$f":"IF(AND($F196>0.99,$F196<1.000001),$A196,\"\")","v":""}]
["Correcting for Veering On Sidewalks",null,null,null,null,{"$f":"Sidewalk!D58","v":0},"didn't need the skills in the area(s) of",null,null,null,null,null,null,{"$f":"IF($F194=0,$A194,\"\")","v":"Walking On Sidewalks"},{"$f":"IF($F195=0,$A195,\"\")","v":"Walking On Irregular Sidewalks"},{"$f":"IF($F196=0,$A196,\"\")","v":"Correcting for Veering On Sidewalks"}]
["Street Crossings Score:"]
["Anticipating Street Crossings",null,null,null,null,{"$f":"StCross!D188","v":0},"did well with the skills that made up the area(s) of",null,null,null,null,null,null,{"$f":"IF(F198>3.99,A198,\"\")","v":""},{"$f":"IF(F199>3.99,A199,\"\")","v":""},{"$f":"IF(F200>3.99,A200,\"\")","v":""},{"$f":"IF(F201>3.99,A201,\"\")","v":""},{"$f":"IF(F202>3.99,A202,\"\")","v":""},{"$f":"IF(F203>3.99,A203,\"\")","v":""},{"$f":"IF(F204>3.99,A204,\"\")","v":""},{"$f":"IF(F205>3.99,A205,\"\")","v":""},{"$f":"IF(F206>3.99,A206,\"\")","v":""},{"$f":"IF(F207>3.99,A207,\"\")","v":""},{"$f":"IF(F208>3.99,A208,\"\")","v":""},{"$f":"IF(F209>3.99,A209,\"\")","v":""},{"$f":"IF(F210>3.99,A210,\"\")","v":""},{"$f":"IF(F211>3.99,A211,\"\")","v":""},{"$f":"IF(F212>3.99,A212,\"\")","v":""},{"$f":"IF(F213>3.99,A213,\"\")","v":""}]
["Maintaining Line Of Travel",null,null,null,null,{"$f":"StCross!D194","v":0},"had room for improvement with the skills that made up the area(s) of",null,null,null,null,null,null,{"$f":"IF(AND($F198>1.01,$F198<3.99),$A198,\"\")","v":""},{"$f":"IF(AND($F199>1.01,$F199<3.99),$A199,\"\")","v":""},{"$f":"IF(AND($F200>1.01,$F200<3.99),$A200,\"\")","v":""},{"$f":"IF(AND($F201>1.01,$F201<3.99),$A201,\"\")","v":""},{"$f":"IF(AND($F202>1.01,$F202<3.99),$A202,\"\")","v":""},{"$f":"IF(AND($F203>1.01,$F203<3.99),$A203,\"\")","v":""},{"$f":"IF(AND($F204>1.01,$F204<3.99),$A204,\"\")","v":""},{"$f":"IF(AND($F205>1.01,$F205<3.99),$A205,\"\")","v":""},{"$f":"IF(AND($F206>1.01,$F206<3.99),$A206,\"\")","v":""},{"$f":"IF(AND($F207>1.01,$F207<3.99),$A207,\"\")","v":""},{"$f":"IF(AND($F208>1.01,$F208<3.99),$A208,\"\")","v":""},{"$f":"IF(AND($F209>1.01,$F209<3.99),$A209,\"\")","v":""},{"$f":"IF(AND($F210>1.01,$F210<3.99),$A210,\"\")","v":""},{"$f":"IF(AND($F211>1.01,$F211<3.99),$A211,\"\")","v":""},{"$f":"IF(AND($F212>1.01,$F212<3.99),$A212,\"\")","v":""},{"$f":"IF(AND($F213>1.01,$F213<3.99),$A213,\"\")","v":""}]
["Maintaining Body Alignment",null,null,null,null,{"$f":"StCross!D195","v":0},"hadn't had the opportunity to work on the skills in the area(s) of",null,null,null,null,null,null,{"$f":"IF(AND($F198>0.99,$F198<1.000001),$A198,\"\")","v":""},{"$f":"IF(AND($F199>0.99,$F199<1.000001),$A199,\"\")","v":""},{"$f":"IF(AND($F200>0.99,$F200<1.000001),$A200,\"\")","v":""},{"$f":"IF(AND($F201>0.99,$F201<1.000001),$A201,\"\")","v":""},{"$f":"IF(AND($F202>0.99,$F202<1.000001),$A202,\"\")","v":""},{"$f":"IF(AND($F203>0.99,$F203<1.000001),$A203,\"\")","v":""},{"$f":"IF(AND($F204>0.99,$F204<1.000001),$A204,\"\")","v":""},{"$f":"IF(AND($F205>0.99,$F205<1.000001),$A205,\"\")","v":""},{"$f":"IF(AND($F206>0.99,$F206<1.000001),$A206,\"\")","v":""},{"$f":"IF(AND($F207>0.99,$F207<1.000001),$A207,\"\")","v":""},{"$f":"IF(AND($F208>0.99,$F208<1.000001),$A208,\"\")","v":""},{"$f":"IF(AND($F209>0.99,$F209<1.000001),$A209,\"\")","v":""},{"$f":"IF(AND($F210>0.99,$F210<1.000001),$A210,\"\")","v":""},{"$f":"IF(AND($F211>0.99,$F211<1.000001),$A211,\"\")","v":""},{"$f":"IF(AND($F212>0.99,$F212<1.000001),$A212,\"\")","v":""},{"$f":"IF(AND($F213>0.99,$F213<1.000001),$A213,\"\")","v":""}]
["Re-establishing Body Alignment",null,null,null,null,{"$f":"StCross!D199","v":0},"didn't need the skills in the area(s) of",null,null,null,null,null,null,{"$f":"IF($F198=0,$A198,\"\")","v":"Anticipating Street Crossings"},{"$f":"IF($F199=0,$A199,\"\")","v":"Maintaining Line Of Travel"},{"$f":"IF($F200=0,$A200,\"\")","v":"Maintaining Body Alignment"},{"$f":"IF($F201=0,$A201,\"\")","v":"Re-establishing Body Alignment"},{"$f":"IF($F202=0,$A202,\"\")","v":"Analyzing Intersections"},{"$f":"IF($F203=0,$A203,\"\")","v":"Plus Intersections"},{"$f":"IF($F204=0,$A204,\"\")","v":"T Intersections"},{"$f":"IF($F205=0,$A205,\"\")","v":"Y Intersections"},{"$f":"IF($F206=0,$A206,\"\")","v":"Roundabouts"},{"$f":"IF($F207=0,$A207,\"\")","v":"Significantly Offset Intersections"},{"$f":"IF($F208=0,$A208,\"\")","v":"Atypical Intersections"},{"$f":"IF($F209=0,$A209,\"\")","v":"Newly Developed Intersections"},{"$f":"IF($F210=0,$A210,\"\")","v":"Channelized Right Turn Lanes"},{"$f":"IF($F211=0,$A211,\"\")","v":"Veering"},{"$f":"IF($F212=0,$A212,\"\")","v":"Understanding Drivers’ Perspectives"},{"$f":"IF($F213=0,$A213,\"\")","v":"Pedestrian Signals"}]
["Analyzing Intersections",null,null,null,null,{"$f":"StCross!D203","v":0}]
["Plus Intersections",null,null,null,null,{"$f":"StCross!D219","v":0}]
["T Intersections",null,null,null,null,{"$f":"StCross!D238","v":0}]
["Y Intersections",null,null,null,null,{"$f":"StCross!D260","v":0}]
["Roundabouts",null,null,null,null,{"$f":"StCross!D285","v":0}]
["Significantly Offset Intersections",null,null,null,null,{"$f":"StCross!D300","v":0}]
["Atypical Intersections",null,null,null,null,{"$f":"StCross!D305","v":0}]
["Newly Developed Intersections",null,null,null,null,{"$f":"StCross!D315","v":0}]
["Channelized Right Turn Lanes",null,null,null,null,{"$f":"StCross!D323","v":0}]
["Veering",null,null,null,null,{"$f":"StCross!D333","v":0}]
["Understanding Drivers’ Perspectives",null,null,null,null,{"$f":"StCross!D347","v":0}]
["Pedestrian Signals",null,null,null,null,{"$f":"StCross!D356","v":0}]
["Orientation Skills and GPS Score:"]
["Cardinality",null,null,null,null,{"$f":"Orient!D93","v":0},"did well with the skills that made up the area(s) of",null,null,null,null,null,null,{"$f":"IF(F215>3.99,A215,\"\")","v":""},{"$f":"IF(F216>3.99,A216,\"\")","v":""},{"$f":"IF(F217>3.99,A217,\"\")","v":""},{"$f":"IF(F218>3.99,A218,\"\")","v":""},{"$f":"IF(F219>3.99,A219,\"\")","v":""},{"$f":"IF(F220>3.99,A220,\"\")","v":""},{"$f":"IF(F221>3.99,A221,\"\")","v":""},{"$f":"IF(F222>3.99,A222,\"\")","v":""},{"$f":"IF(F223>3.99,A223,\"\")","v":""},{"$f":"IF(F224>3.99,A224,\"\")","v":""}]
["Clues",null,null,null,null,{"$f":"Orient!D108","v":0},"had room for improvement with the skills that made up the area(s) of",null,null,null,null,null,null,{"$f":"IF(AND($F215>1.01,$F215<3.99),$A215,\"\")","v":""},{"$f":"IF(AND($F216>1.01,$F216<3.99),$A216,\"\")","v":""},{"$f":"IF(AND($F217>1.01,$F217<3.99),$A217,\"\")","v":""},{"$f":"IF(AND($F218>1.01,$F218<3.99),$A218,\"\")","v":""},{"$f":"IF(AND($F219>1.01,$F219<3.99),$A219,\"\")","v":""},{"$f":"IF(AND($F220>1.01,$F220<3.99),$A220,\"\")","v":""},{"$f":"IF(AND($F221>1.01,$F221<3.99),$A221,\"\")","v":""},{"$f":"IF(AND($F222>1.01,$F222<3.99),$A222,\"\")","v":""},{"$f":"IF(AND($F223>1.01,$F223<3.99),$A223,\"\")","v":""},{"$f":"IF(AND($F224>1.01,$F224<3.99),$A224,\"\")","v":""}]
["Landmarks",null,null,null,null,{"$f":"Orient!D114","v":0},"hadn't had the opportunity to work on the skills in the area(s) of",null,null,null,null,null,null,{"$f":"IF(AND($F215>0.99,$F215<1.000001),$A215,\"\")","v":""},{"$f":"IF(AND($F216>0.99,$F216<1.000001),$A216,\"\")","v":""},{"$f":"IF(AND($F217>0.99,$F217<1.000001),$A217,\"\")","v":""},{"$f":"IF(AND($F218>0.99,$F218<1.000001),$A218,\"\")","v":""},{"$f":"IF(AND($F219>0.99,$F219<1.000001),$A219,\"\")","v":""},{"$f":"IF(AND($F220>0.99,$F220<1.000001),$A220,\"\")","v":""},{"$f":"IF(AND($F221>0.99,$F221<1.000001),$A221,\"\")","v":""},{"$f":"IF(AND($F222>0.99,$F222<1.000001),$A222,\"\")","v":""},{"$f":"IF(AND($F223>0.99,$F223<1.000001),$A223,\"\")","v":""},{"$f":"IF(AND($F224>0.99,$F224<1.000001),$A224,\"\")","v":""}]
["Indoor Numbering Systems",null,null,null,null,{"$f":"Orient!D120","v":0},"didn't need the skills in the area(s) of",null,null,null,null,null,null,{"$f":"IF($F215=0,$A215,\"\")","v":"Cardinality"},{"$f":"IF($F216=0,$A216,\"\")","v":"Clues"},{"$f":"IF($F217=0,$A217,\"\")","v":"Landmarks"},{"$f":"IF($F218=0,$A218,\"\")","v":"Indoor Numbering Systems"},{"$f":"IF($F219=0,$A219,\"\")","v":"Outdoor Numbering Systems"},{"$f":"IF($F220=0,$A220,\"\")","v":"Grid System"},{"$f":"IF($F221=0,$A221,\"\")","v":"Divisors And Block Numbering"},{"$f":"IF($F222=0,$A222,\"\")","v":"Transferability"},{"$f":"IF($F223=0,$A223,\"\")","v":"GPS"},{"$f":"IF($F224=0,$A224,\"\")","v":"Maps"}]
["Outdoor Numbering Systems",null,null,null,null,{"$f":"Orient!D126","v":0}]
["Grid System",null,null,null,null,{"$f":"Orient!D132","v":0}]
["Divisors And Block Numbering",null,null,null,null,{"$f":"Orient!D143","v":0}]
["Transferability",null,null,null,null,{"$f":"Orient!D150","v":0}]
["GPS",null,null,null,null,{"$f":"Orient!D154","v":0}]
["Maps",null,null,null,null,{"$f":"Orient!D162","v":0}]
["Public Transportation Score:"]
["Identifying Common Public Transportation Options",null,null,null,null,{"$f":"PubTran!D92","v":0},"did well with the skills that made up the area(s) of",null,null,null,null,null,null,{"$f":"IF(F226>3.99,A226,\"\")","v":""},{"$f":"IF(F227>3.99,A227,\"\")","v":""},{"$f":"IF(F228>3.99,A228,\"\")","v":""},{"$f":"IF(F229>3.99,A229,\"\")","v":""},{"$f":"IF(F230>3.99,A230,\"\")","v":""},{"$f":"IF(F231>3.99,A231,\"\")","v":""},{"$f":"IF(F232>3.99,A232,\"\")","v":""}]
["Intra-City Bus Travel",null,null,null,null,{"$f":"PubTran!D93","v":0},"had room for improvement with the skills that made up the area(s) of",null,null,null,null,null,null,{"$f":"IF(AND($F226>1.01,$F226<3.99),$A226,\"\")","v":""},{"$f":"IF(AND($F227>1.01,$F227<3.99),$A227,\"\")","v":""},{"$f":"IF(AND($F228>1.01,$F228<3.99),$A228,\"\")","v":""},{"$f":"IF(AND($F229>1.01,$F229<3.99),$A229,\"\")","v":""},{"$f":"IF(AND($F230>1.01,$F230<3.99),$A230,\"\")","v":""},{"$f":"IF(AND($F231>1.01,$F231<3.99),$A231,\"\")","v":""},{"$f":"IF(AND($F232>1.01,$F232<3.99),$A232,\"\")","v":""}]
["Inter-City Bus Travel",null,null,null,null,{"$f":"PubTran!D111","v":0},"hadn't had the opportunity to work on the skills in the area(s) of",null,null,null,null,null,null,{"$f":"IF(AND($F226>0.99,$F226<1.000001),$A226,\"\")","v":""},{"$f":"IF(AND($F227>0.99,$F227<1.000001),$A227,\"\")","v":""},{"$f":"IF(AND($F228>0.99,$F228<1.000001),$A228,\"\")","v":""},{"$f":"IF(AND($F229>0.99,$F229<1.000001),$A229,\"\")","v":""},{"$f":"IF(AND($F230>0.99,$F230<1.000001),$A230,\"\")","v":""},{"$f":"IF(AND($F231>0.99,$F231<1.000001),$A231,\"\")","v":""},{"$f":"IF(AND($F232>0.99,$F232<1.000001),$A232,\"\")","v":""}]
["Taxi/Ride Service",null,null,null,null,{"$f":"PubTran!D127","v":0},"didn't need the skills in the area(s) of",null,null,null,null,null,null,{"$f":"IF($F226=0,$A226,\"\")","v":"Identifying Common Public Transportation Options"},{"$f":"IF($F227=0,$A227,\"\")","v":"Intra-City Bus Travel"},{"$f":"IF($F228=0,$A228,\"\")","v":"Inter-City Bus Travel"},{"$f":"IF($F229=0,$A229,\"\")","v":"Taxi/Ride Service"},{"$f":"IF($F230=0,$A230,\"\")","v":"Handi-Ride/Para Transit"},{"$f":"IF($F231=0,$A231,\"\")","v":"Air Travel"},{"$f":"IF($F232=0,$A232,\"\")","v":"Subway/Light Rail"}]
["Handi-Ride/Para Transit",null,null,null,null,{"$f":"PubTran!D134","v":0}]
["Air Travel",null,null,null,null,{"$f":"PubTran!D138","v":0}]
["Subway/Light Rail",null,null,null,null,{"$f":"PubTran!D154","v":0}]
["Atypical O&M Score:"]
["Fences",null,null,null,null,{"$f":"Atyp!D40","v":0},"did well with the skills that made up the area(s) of",null,null,null,null,null,null,{"$f":"IF(F234>3.99,A234,\"\")","v":""},{"$f":"IF(F235>3.99,A235,\"\")","v":""},{"$f":"IF(F236>3.99,A236,\"\")","v":""},{"$f":"IF(F237>3.99,A237,\"\")","v":""}]
["Fields (Urban)",null,null,null,null,{"$f":"Atyp!D44","v":0},"had room for improvement with the skills that made up the area(s) of",null,null,null,null,null,null,{"$f":"IF(AND($F234>1.01,$F234<3.99),$A234,\"\")","v":""},{"$f":"IF(AND($F235>1.01,$F235<3.99),$A235,\"\")","v":""},{"$f":"IF(AND($F236>1.01,$F236<3.99),$A236,\"\")","v":""},{"$f":"IF(AND($F237>1.01,$F237<3.99),$A237,\"\")","v":""}]
["Parks/Playgrounds",null,null,null,null,{"$f":"Atyp!D50","v":0},"hadn't had the opportunity to work on the skills in the area(s) of",null,null,null,null,null,null,{"$f":"IF(AND($F234>0.99,$F234<1.000001),$A234,\"\")","v":""},{"$f":"IF(AND($F235>0.99,$F235<1.000001),$A235,\"\")","v":""},{"$f":"IF(AND($F236>0.99,$F236<1.000001),$A236,\"\")","v":""},{"$f":"IF(AND($F237>0.99,$F237<1.000001),$A237,\"\")","v":""}]
["Inclement Weather",null,null,null,null,{"$f":"Atyp!D58","v":0},"didn't need the skills in the area(s) of",null,null,null,null,null,null,{"$f":"IF($F234=0,$A234,\"\")","v":"Fences"},{"$f":"IF($F235=0,$A235,\"\")","v":"Fields (Urban)"},{"$f":"IF($F236=0,$A236,\"\")","v":"Parks/Playgrounds"},{"$f":"IF($F237=0,$A237,\"\")","v":"Inclement Weather"}]
["Rural Travel Score:"]
["Understanding Unique Dangers Related To Rural Travel",null,null,null,null,{"$f":"Rural!D46","v":0},"did well with the skills that made up the area(s) of",null,null,null,null,null,null,{"$f":"IF(F239>3.99,A239,\"\")","v":""},{"$f":"IF(F240>3.99,A240,\"\")","v":""},{"$f":"IF(F241>3.99,A241,\"\")","v":""},{"$f":"IF(F242>3.99,A242,\"\")","v":""},{"$f":"IF(F243>3.99,A243,\"\")","v":""}]
["Walking Along Rural Roads",null,null,null,null,{"$f":"Rural!D52","v":0},"had room for improvement with the skills that made up the area(s) of",null,null,null,null,null,null,{"$f":"IF(AND($F239>1.01,$F239<3.99),$A239,\"\")","v":""},{"$f":"IF(AND($F240>1.01,$F240<3.99),$A240,\"\")","v":""},{"$f":"IF(AND($F241>1.01,$F241<3.99),$A241,\"\")","v":""},{"$f":"IF(AND($F242>1.01,$F242<3.99),$A242,\"\")","v":""},{"$f":"IF(AND($F243>1.01,$F243<3.99),$A243,\"\")","v":""}]
["Ditches/Arroyos",null,null,null,null,{"$f":"Rural!D58","v":0},"hadn't had the opportunity to work on the skills in the area(s) of",null,null,null,null,null,null,{"$f":"IF(AND($F239>0.99,$F239<1.000001),$A239,\"\")","v":""},{"$f":"IF(AND($F240>0.99,$F240<1.000001),$A240,\"\")","v":""},{"$f":"IF(AND($F241>0.99,$F241<1.000001),$A241,\"\")","v":""},{"$f":"IF(AND($F242>0.99,$F242<1.000001),$A242,\"\")","v":""},{"$f":"IF(AND($F243>0.99,$F243<1.000001),$A243,\"\")","v":""}]
["Identifying And Going Around Items In Rural Areas",null,null,null,null,{"$f":"Rural!D65","v":0},"didn't need the skills in the area(s) of",null,null,null,null,null,null,{"$f":"IF($F239=0,$A239,\"\")","v":"Understanding Unique Dangers Related To Rural Travel"},{"$f":"IF($F240=0,$A240,\"\")","v":"Walking Along Rural Roads"},{"$f":"IF($F241=0,$A241,\"\")","v":"Ditches/Arroyos"},{"$f":"IF($F242=0,$A242,\"\")","v":"Identifying And Going Around Items In Rural Areas"},{"$f":"IF($F243=0,$A243,\"\")","v":"Rural Street Crossings"}]
["Rural Street Crossings",null,null,null,null,{"$f":"Rural!D71","v":0}]
["Vision Specific O&M Skills Score:"]
["Scanning Materials",null,null,null,null,{"$f":"VisSpec!D48","v":0},"did well with the skills that made up the area(s) of",null,null,null,null,null,null,{"$f":"IF(F245>3.99,A245,\"\")","v":""},{"$f":"IF(F246>3.99,A246,\"\")","v":""},{"$f":"IF(F247>3.99,A247,\"\")","v":""},{"$f":"IF(F248>3.99,A248,\"\")","v":""},{"$f":"IF(F249>3.99,A249,\"\")","v":""}]
["Scanning Environments",null,null,null,null,{"$f":"VisSpec!D55","v":0},"had room for improvement with the skills that made up the area(s) of",null,null,null,null,null,null,{"$f":"IF(AND($F245>1.01,$F245<3.99),$A245,\"\")","v":""},{"$f":"IF(AND($F246>1.01,$F246<3.99),$A246,\"\")","v":""},{"$f":"IF(AND($F247>1.01,$F247<3.99),$A247,\"\")","v":""},{"$f":"IF(AND($F248>1.01,$F248<3.99),$A248,\"\")","v":""},{"$f":"IF(AND($F249>1.01,$F249<3.99),$A249,\"\")","v":""}]
["Magnifiers And CCTVs",null,null,null,null,{"$f":"VisSpec!D62","v":0},"hadn't had the opportunity to work on the skills in the area(s) of",null,null,null,null,null,null,{"$f":"IF(AND($F245>0.99,$F245<1.000001),$A245,\"\")","v":""},{"$f":"IF(AND($F246>0.99,$F246<1.000001),$A246,\"\")","v":""},{"$f":"IF(AND($F247>0.99,$F247<1.000001),$A247,\"\")","v":""},{"$f":"IF(AND($F248>0.99,$F248<1.000001),$A248,\"\")","v":""},{"$f":"IF(AND($F249>0.99,$F249<1.000001),$A249,\"\")","v":""}]
["Monoculars",null,null,null,null,{"$f":"VisSpec!D66","v":0},"didn't need the skills in the area(s) of",null,null,null,null,null,null,{"$f":"IF($F245=0,$A245,\"\")","v":"Scanning Materials"},{"$f":"IF($F246=0,$A246,\"\")","v":"Scanning Environments"},{"$f":"IF($F247=0,$A247,\"\")","v":"Magnifiers And CCTVs"},{"$f":"IF($F248=0,$A248,\"\")","v":"Monoculars"},{"$f":"IF($F249=0,$A249,\"\")","v":"Visual Traveling"}]
["Visual Traveling",null,null,null,null,{"$f":"VisSpec!D72","v":0}]
["Community Score:"]
["Comparison Shopping From Home",null,null,null,null,{"$f":"Commun!D59","v":0},"did well with the skills that made up the area(s) of",null,null,null,null,null,null,{"$f":"IF(F251>3.99,A251,\"\")","v":""},{"$f":"IF(F252>3.99,A252,\"\")","v":""},{"$f":"IF(F253>3.99,A253,\"\")","v":""},{"$f":"IF(F254>3.99,A254,\"\")","v":""},{"$f":"IF(F255>3.99,A255,\"\")","v":""}]
["Stores",null,null,null,null,{"$f":"Commun!D63","v":0},"had room for improvement with the skills that made up the area(s) of",null,null,null,null,null,null,{"$f":"IF(AND($F251>1.01,$F251<3.99),$A251,\"\")","v":""},{"$f":"IF(AND($F252>1.01,$F252<3.99),$A252,\"\")","v":""},{"$f":"IF(AND($F253>1.01,$F253<3.99),$A253,\"\")","v":""},{"$f":"IF(AND($F254>1.01,$F254<3.99),$A254,\"\")","v":""},{"$f":"IF(AND($F255>1.01,$F255<3.99),$A255,\"\")","v":""}]
["Fast Food Restaurants",null,null,null,null,{"$f":"Commun!D75","v":0},"hadn't had the opportunity to work on the skills in the area(s) of",null,null,null,null,null,null,{"$f":"IF(AND($F251>0.99,$F251<1.000001),$A251,\"\")","v":""},{"$f":"IF(AND($F252>0.99,$F252<1.000001),$A252,\"\")","v":""},{"$f":"IF(AND($F253>0.99,$F253<1.000001),$A253,\"\")","v":""},{"$f":"IF(AND($F254>0.99,$F254<1.000001),$A254,\"\")","v":""},{"$f":"IF(AND($F255>0.99,$F255<1.000001),$A255,\"\")","v":""}]
["Cafeteria Restaurants",null,null,null,null,{"$f":"Commun!D86","v":0},"didn't need the skills in the area(s) of",null,null,null,null,null,null,{"$f":"IF($F251=0,$A251,\"\")","v":"Comparison Shopping From Home"},{"$f":"IF($F252=0,$A252,\"\")","v":"Stores"},{"$f":"IF($F253=0,$A253,\"\")","v":"Fast Food Restaurants"},{"$f":"IF($F254=0,$A254,\"\")","v":"Cafeteria Restaurants"},{"$f":"IF($F255=0,$A255,\"\")","v":"Sit Down Restaurants"}]
["Sit Down Restaurants",null,null,null,null,{"$f":"Commun!D97","v":0}]
[]
[]
[]
[null,null,null,null,null,null,"demonstrated","of the skills needed to travel independently as an adult."]
[{"$f":"G5","v":0},"Concepts",null,null,null,null,"did well with the skills that made up the domain(s) of",null,null,null,null,null,null,{"$f":"IF(A260>79.999999999,B260,\"\")","v":""},{"$f":"IF(A261>79.999999999,B261,\"\")","v":""},{"$f":"IF(A262>79.999999999,B262,\"\")","v":""},{"$f":"IF(A263>79.999999999,B263,\"\")","v":""},{"$f":"IF(A264>79.999999999,B264,\"\")","v":""},{"$f":"IF(A265>79.999999999,B265,\"\")","v":""},{"$f":"IF(A266>79.999999999,B266,\"\")","v":""},{"$f":"IF(A267>79.999999999,B267,\"\")","v":""},{"$f":"IF(A268>79.999999999,B268,\"\")","v":""},{"$f":"IF(A269>79.999999999,B269,\"\")","v":""},{"$f":"IF(A270>79.999999999,B270,\"\")","v":""},{"$f":"IF(A271>79.999999999,B271,\"\")","v":""},{"$f":"IF(A272>79.999999999,B272,\"\")","v":""},{"$f":"IF(A273>79.999999999,B273,\"\")","v":""},{"$f":"IF(A274>79.999999999,B274,\"\")","v":""}]
[{"$f":"G11","v":0},"Movement",null,null,null,null,"had room for improvement with the skills that made up the domain(s) of",null,null,null,null,null,null,{"$f":"IF(AND($A260>20.000001,$A260<79.999999998),$B260,\"\")","v":""},{"$f":"IF(AND($A261>20.000001,$A261<79.999999998),$B261,\"\")","v":""},{"$f":"IF(AND($A262>20.000001,$A262<79.999999998),$B262,\"\")","v":""},{"$f":"IF(AND($A263>20.000001,$A263<79.999999998),$B263,\"\")","v":""},{"$f":"IF(AND($A264>20.000001,$A264<79.999999998),$B264,\"\")","v":""},{"$f":"IF(AND($A265>20.000001,$A265<79.999999998),$B265,\"\")","v":""},{"$f":"IF(AND($A266>20.000001,$A266<79.999999998),$B266,\"\")","v":""},{"$f":"IF(AND($A267>20.000001,$A267<79.999999998),$B267,\"\")","v":""},{"$f":"IF(AND($A268>20.000001,$A268<79.999999998),$B268,\"\")","v":""},{"$f":"IF(AND($A269>20.000001,$A269<79.999999998),$B269,\"\")","v":""},{"$f":"IF(AND($A270>20.000001,$A270<79.999999998),$B270,\"\")","v":""},{"$f":"IF(AND($A271>20.000001,$A271<79.999999998),$B271,\"\")","v":""},{"$f":"IF(AND($A272>20.000001,$A272<79.999999998),$B272,\"\")","v":""},{"$f":"IF(AND($A273>20.000001,$A273<79.999999998),$B273,\"\")","v":""},{"$f":"IF(AND($A274>20.000001,$A274<79.999999998),$B274,\"\")","v":""}]
[{"$f":"G17","v":0},"Single Room O&M",null,null,null,null,"hadn't had the opportunity to work on the skills that made up the domain(s) of",null,null,null,null,null,null,{"$f":"IF(AND($A260>19.9,$A260<20.1),$B260,\"\")","v":""},{"$f":"IF(AND($A261>19.9,$A261<20.1),$B261,\"\")","v":""},{"$f":"IF(AND($A262>19.9,$A262<20.1),$B262,\"\")","v":""},{"$f":"IF(AND($A263>19.9,$A263<20.1),$B263,\"\")","v":""},{"$f":"IF(AND($A264>19.9,$A264<20.1),$B264,\"\")","v":""},{"$f":"IF(AND($A265>19.9,$A265<20.1),$B265,\"\")","v":""},{"$f":"IF(AND($A266>19.9,$A266<20.1),$B266,\"\")","v":""},{"$f":"IF(AND($A267>19.9,$A267<20.1),$B267,\"\")","v":""},{"$f":"IF(AND($A268>19.9,$A268<20.1),$B268,\"\")","v":""},{"$f":"IF(AND($A269>19.9,$A269<20.1),$B269,\"\")","v":""},{"$f":"IF(AND($A270>19.9,$A270<20.1),$B270,\"\")","v":""},{"$f":"IF(AND($A271>19.9,$A271<20.1),$B271,\"\")","v":""},{"$f":"IF(AND($A272>19.9,$A272<20.1),$B272,\"\")","v":""},{"$f":"IF(AND($A273>19.9,$A273<20.1),$B273,\"\")","v":""},{"$f":"IF(AND($A274>19.9,$A274<20.1),$B274,\"\")","v":""}]
[{"$f":"G23","v":0},"Indoor O&M",null,null,null,null,"had no need for the skills that made up the domain(s) of",null,null,null,null,null,null,{"$f":"IF($A260=0,$B260,\"\")","v":"Concepts"},{"$f":"IF($A261=0,$B261,\"\")","v":"Movement"},{"$f":"IF($A262=0,$B262,\"\")","v":"Single Room O&M"},{"$f":"IF($A263=0,$B263,\"\")","v":"Indoor O&M"},{"$f":"IF($A264=0,$B264,\"\")","v":"Self Protection"},{"$f":"IF($A265=0,$B265,\"\")","v":"Guided Travel"},{"$f":"IF($A266=0,$B266,\"\")","v":"Cane Skills"},{"$f":"IF($A267=0,$B267,\"\")","v":"Sidewalk Travel"},{"$f":"IF($A268=0,$B268,\"\")","v":"Street Crossings"},{"$f":"IF($A269=0,$B269,\"\")","v":"Orientation Skills & GPS"},{"$f":"IF($A270=0,$B270,\"\")","v":"Public Transportation"},{"$f":"IF($A271=0,$B271,\"\")","v":"Atypical O&M"},{"$f":"IF($A272=0,$B272,\"\")","v":"Rural Travel"},{"$f":"IF($A273=0,$B273,\"\")","v":"Vision Specific O&M Skills"},{"$f":"IF($A274=0,$B274,\"\")","v":"Community "}]
[{"$f":"G29","v":0},"Self Protection"]
[{"$f":"G35","v":0},"Guided Travel"]
[{"$f":"G41","v":0},"Cane Skills"]
[{"$f":"G47","v":0},"Sidewalk Travel"]
[{"$f":"G53","v":0},"Street Crossings"]
[{"$f":"G59","v":0},"Orientation Skills & GPS"]
[{"$f":"G65","v":0},"Public Transportation"]
[{"$f":"G71","v":0},"Atypical O&M"]
[{"$f":"G77","v":0},"Rural Travel"]
[{"$f":"G83","v":0},"Vision Specific O&M Skills"]
[{"$f":"G89","v":0},"Community "]
[]
["will demonstrate improved skills in Orientation & Mobility by increasing the score on the O&M Inventory from"]
["to a minimum of"]
["by the next annual IEP date."]
["Please see the attached chart. "]
["Over the previous grading period"]
["increased the score on the O&M Inventory from"]
["to"]
["and is now"]
["of the way to the goal of"]
["made gains in the domain(s) of"]
[{"$f":"IF($H286>$G286,$B260,\"\")","v":""},{"$f":"Front!B3","v":0},{"$f":"Front!C3","v":0},{"$f":"Front!D3","v":0},{"$f":"Front!E3","v":0},{"$f":"Front!F3","v":0},{"$f":"Front!G3","v":0},{"$f":"Front!H3","v":0},{"$f":"Front!I3","v":0},{"$f":"Front!J3","v":0},{"$f":"Front!K3","v":0},{"$f":"Front!L3","v":0},{"$f":"Front!M3","v":0}]
["",{"$f":"Front!B4","v":0},{"$f":"Front!C4","v":0},{"$f":"Front!D4","v":0},{"$f":"Front!E4","v":0},{"$f":"Front!F4","v":0},{"$f":"Front!G4","v":0},{"$f":"Front!H4","v":0},{"$f":"Front!I4","v":0},{"$f":"Front!J4","v":0},{"$f":"Front!K4","v":0},{"$f":"Front!L4","v":0},{"$f":"Front!M4","v":0}]
["",{"$f":"Front!B5","v":0},{"$f":"Front!C5","v":0},{"$f":"Front!D5","v":0},{"$f":"Front!E5","v":0},{"$f":"Front!F5","v":0},{"$f":"Front!G5","v":0},{"$f":"Front!H5","v":0},{"$f":"Front!I5","v":0},{"$f":"Front!J5","v":0},{"$f":"Front!K5","v":0},{"$f":"Front!L5","v":0},{"$f":"Front!M5","v":0}]
["",{"$f":"Front!B6","v":0},{"$f":"Front!C6","v":0},{"$f":"Front!D6","v":0},{"$f":"Front!E6","v":0},{"$f":"Front!F6","v":0},{"$f":"Front!G6","v":0},{"$f":"Front!H6","v":0},{"$f":"Front!I6","v":0},{"$f":"Front!J6","v":0},{"$f":"Front!K6","v":0},{"$f":"Front!L6","v":0},{"$f":"Front!M6","v":0}]
["",{"$f":"Front!B7","v":0},{"$f":"Front!C7","v":0},{"$f":"Front!D7","v":0},{"$f":"Front!E7","v":0},{"$f":"Front!F7","v":0},{"$f":"Front!G7","v":0},{"$f":"Front!H7","v":0},{"$f":"Front!I7","v":0},{"$f":"Front!J7","v":0},{"$f":"Front!K7","v":0},{"$f":"Front!L7","v":0},{"$f":"Front!M7","v":0}]
["",{"$f":"Front!B8","v":0},{"$f":"Front!C8","v":0},{"$f":"Front!D8","v":0},{"$f":"Front!E8","v":0},{"$f":"Front!F8","v":0},{"$f":"Front!G8","v":0},{"$f":"Front!H8","v":0},{"$f":"Front!I8","v":0},{"$f":"Front!J8","v":0},{"$f":"Front!K8","v":0},{"$f":"Front!L8","v":0},{"$f":"Front!M8","v":0}]
["",{"$f":"Front!B9","v":0},{"$f":"Front!C9","v":0},{"$f":"Front!D9","v":0},{"$f":"Front!E9","v":0},{"$f":"Front!F9","v":0},{"$f":"Front!G9","v":0},{"$f":"Front!H9","v":0},{"$f":"Front!I9","v":0},{"$f":"Front!J9","v":0},{"$f":"Front!K9","v":0},{"$f":"Front!L9","v":0},{"$f":"Front!M9","v":0}]
["",{"$f":"Front!B10","v":0},{"$f":"Front!C10","v":0},{"$f":"Front!D10","v":0},{"$f":"Front!E10","v":0},{"$f":"Front!F10","v":0},{"$f":"Front!G10","v":0},{"$f":"Front!H10","v":0},{"$f":"Front!I10","v":0},{"$f":"Front!J10","v":0},{"$f":"Front!K10","v":0},{"$f":"Front!L10","v":0},{"$f":"Front!M10","v":0}]
["",{"$f":"Front!B11","v":0},{"$f":"Front!C11","v":0},{"$f":"Front!D11","v":0},{"$f":"Front!E11","v":0},{"$f":"Front!F11","v":0},{"$f":"Front!G11","v":0},{"$f":"Front!H11","v":0},{"$f":"Front!I11","v":0},{"$f":"Front!J11","v":0},{"$f":"Front!K11","v":0},{"$f":"Front!L11","v":0},{"$f":"Front!M11","v":0}]
["",{"$f":"Front!B12","v":0},{"$f":"Front!C12","v":0},{"$f":"Front!D12","v":0},{"$f":"Front!E12","v":0},{"$f":"Front!F12","v":0},{"$f":"Front!G12","v":0},{"$f":"Front!H12","v":0},{"$f":"Front!I12","v":0},{"$f":"Front!J12","v":0},{"$f":"Front!K12","v":0},{"$f":"Front!L12","v":0},{"$f":"Front!M12","v":0}]
["",{"$f":"Front!B13","v":0},{"$f":"Front!C13","v":0},{"$f":"Front!D13","v":0},{"$f":"Front!E13","v":0},{"$f":"Front!F13","v":0},{"$f":"Front!G13","v":0},{"$f":"Front!H13","v":0},{"$f":"Front!I13","v":0},{"$f":"Front!J13","v":0},{"$f":"Front!K13","v":0},{"$f":"Front!L13","v":0},{"$f":"Front!M13","v":0}]
["",{"$f":"Front!B14","v":0},{"$f":"Front!C14","v":0},{"$f":"Front!D14","v":0},{"$f":"Front!E14","v":0},{"$f":"Front!F14","v":0},{"$f":"Front!G14","v":0},{"$f":"Front!H14","v":0},{"$f":"Front!I14","v":0},{"$f":"Front!J14","v":0},{"$f":"Front!K14","v":0},{"$f":"Front!L14","v":0},{"$f":"Front!M14","v":0}]
["",{"$f":"Front!B15","v":0},{"$f":"Front!C15","v":0},{"$f":"Front!D15","v":0},{"$f":"Front!E15","v":0},{"$f":"Front!F15","v":0},{"$f":"Front!G15","v":0},{"$f":"Front!H15","v":0},{"$f":"Front!I15","v":0},{"$f":"Front!J15","v":0},{"$f":"Front!K15","v":0},{"$f":"Front!L15","v":0},{"$f":"Front!M15","v":0}]
["",{"$f":"Front!B16","v":0},{"$f":"Front!C16","v":0},{"$f":"Front!D16","v":0},{"$f":"Front!E16","v":0},{"$f":"Front!F16","v":0},{"$f":"Front!G16","v":0},{"$f":"Front!H16","v":0},{"$f":"Front!I16","v":0},{"$f":"Front!J16","v":0},{"$f":"Front!K16","v":0},{"$f":"Front!L16","v":0},{"$f":"Front!M16","v":0}]
["",{"$f":"Front!B17","v":0},{"$f":"Front!C17","v":0},{"$f":"Front!D17","v":0},{"$f":"Front!E17","v":0},{"$f":"Front!F17","v":0},{"$f":"Front!G17","v":0},{"$f":"Front!H17","v":0},{"$f":"Front!I17","v":0},{"$f":"Front!J17","v":0},{"$f":"Front!K17","v":0},{"$f":"Front!L17","v":0},{"$f":"Front!M17","v":0}]

{"sheet":"R8","index":23,"n_rows":300,"n_cols":29,"rows_kept":300,"cut":false,"hidden":false,"merged":[]}
[{"$f":"'R1'!A1","v":0},"← TYPE STUDENT NAME IN GREEN BOX",null,null,null,null,null,null,null,null,null,null,null,null,"%prog","total","tot round","%pr rnd","goal"]
["↓ HIGHLIGHT & COPY WHITE CELLS; PASTE IN WORD DOCUMENT AS \"KEEP TEXT ONLY\" OR \"UNFORMATTED\"",null,null,null,null,null,null,null,null,null,null,null,null,null,{"$f":"Front!B20","v":0},{"$f":"Front!B18","v":0},{"$f":"ROUND(P2,2)","v":0},{"$f":"ROUND(O2,2)","v":0},{"$f":"Front!B19","v":1}]
[{"$f":"CONCATENATE(A150,\" \",K3,\"%\")","v":"NMSBVI O&M INVENTORY TOTAL SCORE:  0%"},null,null,null,null,null,null,null,null,{"$f":"Front!I18","v":0},{"$f":"ROUND(J3,2)","v":0},null,null,null,{"$f":"Front!C20","v":0},{"$f":"Front!C18","v":0},0,0,{"$f":"Front!C19","v":1}]
[null,null,null,null,null,null,null,null,null,null,null,null,null,null,{"$f":"Front!D20","v":0},{"$f":"Front!D18","v":0},0,0,{"$f":"Front!D19","v":1}]
[{"$f":"CONCATENATE(A151,\" \",H5,\"%\")","v":"Concepts Score: 0%"},null,null,null,null,null,{"$f":"Front!I3","v":0},{"$f":"ROUND(G5,1)","v":0},"← Don't worry about these 2 numbers",null,null,null,null,null,{"$f":"Front!E20","v":0},{"$f":"Front!E18","v":0},0,0,{"$f":"Front!E19","v":1}]
[{"$f":"CONCATENATE($A1,\" \",G152,\" \",N152,\", \",O152,\", \",P152,\", \",Q152)","v":"0 did well with the skills that made up the area(s) of , , , "},null,null,null,null,null,null,null,null,null,null,null,null,null,{"$f":"Front!F20","v":0},{"$f":"Front!F18","v":0},0,0,{"$f":"Front!F19","v":1}]
[{"$f":"CONCATENATE($A1,\" \",G153,\" \",N153,\", \",O153,\", \",P153,\", \",Q153)","v":"0 had room for improvement with the skills that made up the area(s) of , , , "},null,null,null,null,null,null,null,null,null,null,null,null,null,{"$f":"Front!G20","v":0},{"$f":"Front!G18","v":0},0,0,{"$f":"Front!G19","v":1}]
[{"$f":"CONCATENATE($A1,\" \",G154,\" \",N154,\", \",O154,\", \",P154,\", \",Q154)","v":"0 hadn't had the opportunity to work on the skills in the area(s) of , , , "},null,null,null,null,null,null,null,null,null,null,null,null,null,{"$f":"Front!H20","v":0},{"$f":"Front!H18","v":0},0,0,{"$f":"Front!H19","v":1}]
[{"$f":"CONCATENATE($A1,\" \",G155,\" \",N155,\", \",O155,\", \",P155,\", \",Q155)","v":"0 didn't need the skills in the area(s) of Vocabulary, Laterality, Parallel/Perpendicular, Time And Distance"},null,null,null,null,null,null,null,null,null,null,null,null,null,{"$f":"Front!I20","v":0},{"$f":"Front!I18","v":0},0,0,{"$f":"Front!I19","v":1}]
[null,null,null,null,null,null,null,null,null,null,null,null,null,null,{"$f":"Front!J20","v":0},{"$f":"Front!J18","v":0},0,0,{"$f":"Front!J19","v":1}]
[{"$f":"CONCATENATE(A156,\" \",H11,\"%\")","v":"Movement Score: 0%"},null,null,null,null,null,{"$f":"Front!I4","v":0},{"$f":"ROUND(G11,1)","v":0},null,null,null,null,null,null,{"$f":"Front!K20","v":0},{"$f":"Front!K18","v":0},0,0,{"$f":"Front!K19","v":1}]
[{"$f":"CONCATENATE($A1,\" \",G157,\" \",N157,\", \",O157,\", \",P157,\", \",Q157)","v":"0 did well with the skills that made up the area(s) of , , , "},null,null,null,null,null,null,null,null,null,null,null,null,null,{"$f":"Front!L20","v":0},{"$f":"Front!L18","v":0},0,0,{"$f":"Front!L19","v":1}]
[{"$f":"CONCATENATE($A1,\" \",G158,\" \",N158,\", \",O158,\", \",P158,\", \",Q158)","v":"0 had room for improvement with the skills that made up the area(s) of , , , "},null,null,null,null,null,null,null,null,null,null,null,null,null,{"$f":"Front!M20","v":0},{"$f":"Front!M18","v":0},0,0,{"$f":"Front!M19","v":1}]
[{"$f":"CONCATENATE($A1,\" \",G159,\" \",N159,\", \",O159,\", \",P159,\", \",Q159)","v":"0 hadn't had the opportunity to work on the skills in the area(s) of , , , "},null,null,null,null,null,null,null,null,null,null,null,null,null,"↑ Don't worry about this chart"]
[{"$f":"CONCATENATE($A1,\" \",G160,\" \",N160,\", \",O160,\", \",P160,\", \",Q160)","v":"0 didn't need the skills in the area(s) of Walking, Maintaining Body Alignment While Walking, Balance, Turns"}]
[null,null,null,null,null,null,"DO NOT HIGHLIGHT & COPY ANY OF THE GREY CELLS; ALL THE TEXT YOU NEED IS IN WHITE CELLS"]
[{"$f":"CONCATENATE(A161,\" \",H17,\"%\")","v":"Single Room O&M Score: 0%"},null,null,null,null,null,{"$f":"Front!I5","v":0},{"$f":"ROUND(G17,1)","v":0}]
[{"$f":"CONCATENATE($A1,\" \",G162,\" \",N162,\", \",O162,\", \",P162,\", \",Q162,\", \",R162)","v":"0 did well with the skills that made up the area(s) of , , , , "}]
[{"$f":"CONCATENATE($A1,\" \",G163,\" \",N163,\", \",O163,\", \",P163,\", \",Q163,\", \",R163)","v":"0 had room for improvement with the skills that made up the area(s) of , , , , "}]
[{"$f":"CONCATENATE($A1,\" \",G164,\" \",N164,\", \",O164,\", \",P164,\", \",Q164,\", \",R164)","v":"0 hadn't had the opportunity to work on the skills in the area(s) of , , , , "}]
[{"$f":"CONCATENATE($A1,\" \",G165,\" \",N165,\", \",O165,\", \",P165,\", \",Q165,\", \",R165)","v":"0 didn't need the skills in the area(s) of Familiar Rooms, Unfamiliar Rooms, Seating (Rows), Seating (Tables), Locating Dropped Objects"}]
[null,null,null,null,null,null,"COPYING THE GREY CELLS WILL JUST MAKE A MESS OF YOUR WORD DOCUMENT. I KNOW IT LOOKS"]
[{"$f":"CONCATENATE(A167,\" \",H23,\"%\")","v":"Indoor O&M Score: 0%"},null,null,null,null,null,{"$f":"Front!I6","v":0},{"$f":"ROUND(G23,1)","v":0}]
[{"$f":"CONCATENATE($A1,\" \",G168,\" \",N168,\", \",O168,\", \",P168,\", \",Q168,\", \",R168,\", \",S168,\", \",T168,\", \",U168)","v":"0 did well with the skills that made up the area(s) of , , , , , , , "}]
[{"$f":"CONCATENATE($A1,\" \",G169,\" \",N169,\", \",O169,\", \",P169,\", \",Q169,\", \",R169,\", \",S169,\", \",T169,\", \",U169)","v":"0 had room for improvement with the skills that made up the area(s) of , , , , , , , "}]
[{"$f":"CONCATENATE($A1,\" \",G170,\" \",N170,\", \",O170,\", \",P170,\", \",Q170,\", \",R170,\", \",S170,\", \",T170,\", \",U170)","v":"0 hadn't had the opportunity to work on the skills in the area(s) of , , , , , , , "}]
[{"$f":"CONCATENATE($A1,\" \",G171,\" \",N171,\", \",O171,\", \",P171,\", \",Q171,\", \",R171,\", \",S171,\", \",T171,\", \",U171)","v":"0 didn't need the skills in the area(s) of Hand Trailing, Navigating Open Spaces, Doors, Ascending/Descending Stairs, Escalators, Elevators, Moving Sidewalks, Turnstiles"}]
[null,null,null,null,null,null,"LIKE THERE IS TEXT IN THE GREY CELLS BUT THERE REALLY ISN'T. TRUST ME; I'M AN EXCEL NERD."]
[{"$f":"CONCATENATE(A176,\" \",H29,\"%\")","v":"Self Protection Score: 0%"},null,null,null,null,null,{"$f":"Front!I7","v":0},{"$f":"ROUND(G29,1)","v":0}]
[{"$f":"CONCATENATE($A1,\" \",G176,\" \",N176,\", \",O176,\", \",P176)","v":"0 did well with the skills that made up the area(s) of , , "}]
[{"$f":"CONCATENATE($A1,\" \",G177,\" \",N177,\", \",O177,\", \",P177)","v":"0 had room for improvement with the skills that made up the area(s) of , , "}]
[{"$f":"CONCATENATE($A1,\" \",G178,\" \",N178,\", \",O178,\", \",P178)","v":"0 hadn't had the opportunity to work on the skills in the area(s) of , , "}]
[{"$f":"CONCATENATE($A1,\" \",G179,\" \",N179,\", \",O179,\", \",P179)","v":"0 didn't need the skills in the area(s) of Upper Hand Protective Technique, Lower Forearm Protective Technique, Protective Clothing"}]
[]
[{"$f":"CONCATENATE(A180,\" \",H35,\"%\")","v":"Guided Travel Score: 0%"},null,null,null,null,null,{"$f":"Front!I8","v":0},{"$f":"ROUND(G35,1)","v":0}]
[{"$f":"CONCATENATE($A1,\" \",G181,\" \",N181,\", \",O181,\", \",P181,\", \",Q181)","v":"0 did well with the skills that made up the area(s) of , , , "}]
[{"$f":"CONCATENATE($A1,\" \",G182,\" \",N182,\", \",O182,\", \",P182,\", \",Q182)","v":"0 had room for improvement with the skills that made up the area(s) of , , , "}]
[{"$f":"CONCATENATE($A1,\" \",G183,\" \",N183,\", \",O183,\", \",P183,\", \",Q183)","v":"0 hadn't had the opportunity to work on the skills in the area(s) of , , , "}]
[{"$f":"CONCATENATE($A1,\" \",G184,\" \",N184,\", \",O184,\", \",P184,\", \",Q184)","v":"0 didn't need the skills in the area(s) of Human Guide, Walking With Another (No Direct Contact), Menus, Getting Rides"}]
[]
[{"$f":"CONCATENATE(A185,\" \",H41,\"%\")","v":"Cane Skills Score: 0%"},null,null,null,null,null,{"$f":"Front!I9","v":0},{"$f":"ROUND(G41,1)","v":0}]
[{"$f":"CONCATENATE($A1,\" \",G186,\" \",N186,\", \",O186,\", \",P186,\", \",Q186,\", \",R186,\", \",S186,\", \",T186)","v":"0 did well with the skills that made up the area(s) of , , , , , , "}]
[{"$f":"CONCATENATE($A1,\" \",G187,\" \",N187,\", \",O187,\", \",P187,\", \",Q187,\", \",R187,\", \",S187,\", \",T187)","v":"0 had room for improvement with the skills that made up the area(s) of , , , , , , "}]
[{"$f":"CONCATENATE($A1,\" \",G188,\" \",N188,\", \",O188,\", \",P188,\", \",Q188,\", \",R188,\", \",S188,\", \",T188)","v":"0 hadn't had the opportunity to work on the skills in the area(s) of , , , , , , "}]
[{"$f":"CONCATENATE($A1,\" \",G189,\" \",N189,\", \",O189,\", \",P189,\", \",Q189,\", \",R189,\", \",S189,\", \",T189)","v":"0 didn't need the skills in the area(s) of Basic Skills, Types Of Grips, Constant Contact, Diagonal/Diagonal Trail, Two Point Touch/Touch Trail, Touch And Drag, Three Point Touch"}]
[]
[{"$f":"CONCATENATE(A193,\" \",H47,\"%\")","v":"Sidewalk Travel Score: 0%"},null,null,null,null,null,{"$f":"Front!I10","v":0},{"$f":"ROUND(G47,1)","v":0}]
[{"$f":"CONCATENATE($A1,\" \",G193,\" \",N193,\", \",O193,\", \",P193)","v":"0 did well with the skills that made up the area(s) of , , "}]
[{"$f":"CONCATENATE($A1,\" \",G194,\" \",N194,\", \",O194,\", \",P194)","v":"0 had room for improvement with the skills that made up the area(s) of , , "}]
[{"$f":"CONCATENATE($A1,\" \",G195,\" \",N195,\", \",O195,\", \",P195)","v":"0 hadn't had the opportunity to work on the skills in the area(s) of , , "}]
[{"$f":"CONCATENATE($A1,\" \",G196,\" \",N196,\", \",O196,\", \",P196)","v":"0 didn't need the skills in the area(s) of Walking On Sidewalks, Walking On Irregular Sidewalks, Correcting for Veering On Sidewalks"}]
[]
[{"$f":"CONCATENATE(A197,\" \",H53,\"%\")","v":"Street Crossings Score: 0%"},null,null,null,null,null,{"$f":"Front!I11","v":0},{"$f":"ROUND(G53,1)","v":0}]
[{"$f":"CONCATENATE($A1,\" \",G198,\" \",N198,\", \",O198,\", \",P198,\", \",Q198,\", \",R198,\", \",S198,\", \",T198,\", \",U198,\", \",V198,\", \",W198,\", \",X198,\", \",Y198,\", \",Z198,\", \",AA198,\", \",AB198,\", \",AC198)","v":"0 did well with the skills that made up the area(s) of , , , , , , , , , , , , , , , "}]
[{"$f":"CONCATENATE($A1,\" \",G199,\" \",N199,\", \",O199,\", \",P199,\", \",Q199,\", \",R199,\", \",S199,\", \",T199,\", \",U199,\", \",V199,\", \",W199,\", \",X199,\", \",Y199,\", \",Z199,\", \",AA199,\", \",AB199,\", \",AC199)","v":"0 had room for improvement with the skills that made up the area(s) of , , , , , , , , , , , , , , , "}]
[{"$f":"CONCATENATE($A1,\" \",G200,\" \",N200,\", \",O200,\", \",P200,\", \",Q200,\", \",R200,\", \",S200,\", \",T200,\", \",U200,\", \",V200,\", \",W200,\", \",X200,\", \",Y200,\", \",Z200,\", \",AA200,\", \",AB200,\", \",AC200)","v":"0 hadn't had the opportunity to work on the skills in the area(s) of , , , , , , , , , , , , , , , "}]
[{"$f":"CONCATENATE($A1,\" \",G201,\" \",N201,\", \",O201,\", \",P201,\", \",Q201,\", \",R201,\", \",S201,\", \",T201,\", \",U201,\", \",V201,\", \",W201,\", \",X201,\", \",Y201,\", \",Z201,\", \",AA201,\", \",AB201,\", \",AC201)","v":"0 didn't need the skills in the area(s) of Anticipating Street Crossings, Maintaining Line Of Travel, Maintaining Body Alignment, Re-establishing Body Alignment, Analyzing Intersections, Plus Intersections, T Intersections, Y Intersections, Roundabouts, Significantly Offset Intersections, Atypical Intersections, Newly Developed Intersections, Channelized Right Turn Lanes, Veering, Understanding Drivers’ Perspectives, Pedestrian Signals"}]
[]
[{"$f":"CONCATENATE(A214,\" \",H59,\"%\")","v":"Orientation Skills and GPS Score: 0%"},null,null,null,null,null,{"$f":"Front!I12","v":0},{"$f":"ROUND(G59,1)","v":0}]
[{"$f":"CONCATENATE($A1,\" \",G215,\" \",N215,\", \",O215,\", \",P215,\", \",Q215,\", \",R215,\", \",S215,\", \",T215,\", \",U215,\", \",V215,\", \",W215)","v":"0 did well with the skills that made up the area(s) of , , , , , , , , , "}]
[{"$f":"CONCATENATE($A1,\" \",G216,\" \",N216,\", \",O216,\", \",P216,\", \",Q216,\", \",R216,\", \",S216,\", \",T216,\", \",U216,\", \",V216,\", \",W216)","v":"0 had room for improvement with the skills that made up the area(s) of , , , , , , , , , "}]
[{"$f":"CONCATENATE($A1,\" \",G217,\" \",N217,\", \",O217,\", \",P217,\", \",Q217,\", \",R217,\", \",S217,\", \",T217,\", \",U217,\", \",V217,\", \",W217)","v":"0 hadn't had the opportunity to work on the skills in the area(s) of , , , , , , , , , "}]
[{"$f":"CONCATENATE($A1,\" \",G218,\" \",N218,\", \",O218,\", \",P218,\", \",Q218,\", \",R218,\", \",S218,\", \",T218,\", \",U218,\", \",V218,\", \",W218)","v":"0 didn't need the skills in the area(s) of Cardinality, Clues, Landmarks, Indoor Numbering Systems, Outdoor Numbering Systems, Grid System, Divisors And Block Numbering, Transferability, GPS, Maps"}]
[]
[{"$f":"CONCATENATE(A225,\" \",H65,\"%\")","v":"Public Transportation Score: 0%"},null,null,null,null,null,{"$f":"Front!I13","v":0},{"$f":"ROUND(G65,1)","v":0}]
[{"$f":"CONCATENATE($A1,\" \",G226,\" \",N226,\", \",O226,\", \",P226,\", \",Q226,\", \",R226,\", \",S226,\", \",T226)","v":"0 did well with the skills that made up the area(s) of , , , , , , "}]
[{"$f":"CONCATENATE($A1,\" \",G227,\" \",N227,\", \",O227,\", \",P227,\", \",Q227,\", \",R227,\", \",S227,\", \",T227)","v":"0 had room for improvement with the skills that made up the area(s) of , , , , , , "}]
[{"$f":"CONCATENATE($A1,\" \",G228,\" \",N228,\", \",O228,\", \",P228,\", \",Q228,\", \",R228,\", \",S228,\", \",T228)","v":"0 hadn't had the opportunity to work on the skills in the area(s) of , , , , , , "}]
[{"$f":"CONCATENATE($A1,\" \",G229,\" \",N229,\", \",O229,\", \",P229,\", \",Q229,\", \",R229,\", \",S229,\", \",T229)","v":"0 didn't need the skills in the area(s) of Identifying Common Public Transportation Options, Intra-City Bus Travel, Inter-City Bus Travel, Taxi/Ride Service, Handi-Ride/Para Transit, Air Travel, Subway/Light Rail"}]
[]
[{"$f":"CONCATENATE(A233,\" \",H71,\"%\")","v":"Atypical O&M Score: 0%"},null,null,null,null,null,{"$f":"Front!I14","v":0},{"$f":"ROUND(G71,1)","v":0}]
[{"$f":"CONCATENATE($A1,\" \",G234,\" \",N234,\", \",O234,\", \",P234,\", \",Q234)","v":"0 did well with the skills that made up the area(s) of , , , "}]
[{"$f":"CONCATENATE($A1,\" \",G235,\" \",N235,\", \",O235,\", \",P235,\", \",Q235)","v":"0 had room for improvement with the skills that made up the area(s) of , , , "}]
[{"$f":"CONCATENATE($A1,\" \",G236,\" \",N236,\", \",O236,\", \",P236,\", \",Q236)","v":"0 hadn't had the opportunity to work on the skills in the area(s) of , , , "}]
[{"$f":"CONCATENATE($A1,\" \",G237,\" \",N237,\", \",O237,\", \",P237,\", \",Q237)","v":"0 didn't need the skills in the area(s) of Fences, Fields (Urban), Parks/Playgrounds, Inclement Weather"}]
[]
[{"$f":"CONCATENATE(A238,\" \",H77,\"%\")","v":"Rural Travel Score: 0%"},null,null,null,null,null,{"$f":"Front!I15","v":0},{"$f":"ROUND(G77,1)","v":0}]
[{"$f":"CONCATENATE($A1,\" \",G239,\" \",N239,\", \",O239,\", \",P239,\", \",Q239,\", \",R239)","v":"0 did well with the skills that made up the area(s) of , , , , "}]
[{"$f":"CONCATENATE($A1,\" \",G240,\" \",N240,\", \",O240,\", \",P240,\", \",Q240,\", \",R240)","v":"0 had room for improvement with the skills that made up the area(s) of , , , , "}]
[{"$f":"CONCATENATE($A1,\" \",G241,\" \",N241,\", \",O241,\", \",P241,\", \",Q241,\", \",R241)","v":"0 hadn't had the opportunity to work on the skills in the area(s) of , , , , "}]
[{"$f":"CONCATENATE($A1,\" \",G242,\" \",N242,\", \",O242,\", \",P242,\", \",Q242,\", \",R242)","v":"0 didn't need the skills in the area(s) of Understanding Unique Dangers Related To Rural Travel, Walking Along Rural Roads, Ditches/Arroyos, Identifying And Going Around Items In Rural Areas, Rural Street Crossings"}]
[]
[{"$f":"CONCATENATE(A244,\" \",H83,\"%\")","v":"Vision Specific O&M Skills Score: 0%"},null,null,null,null,null,{"$f":"Front!I16","v":0},{"$f":"ROUND(G83,1)","v":0}]
[{"$f":"CONCATENATE($A1,\" \",G245,\" \",N245,\", \",O245,\", \",P245,\", \",Q245,\", \",R245)","v":"0 did well with the skills that made up the area(s) of , , , , "}]
[{"$f":"CONCATENATE($A1,\" \",G246,\" \",N246,\", \",O246,\", \",P246,\", \",Q246,\", \",R246)","v":"0 had room for improvement with the skills that made up the area(s) of , , , , "}]
[{"$f":"CONCATENATE($A1,\" \",G247,\" \",N247,\", \",O247,\", \",P247,\", \",Q247,\", \",R247)","v":"0 hadn't had the opportunity to work on the skills in the area(s) of , , , , "}]
[{"$f":"CONCATENATE($A1,\" \",G248,\" \",N248,\", \",O248,\", \",P248,\", \",Q248,\", \",R248)","v":"0 didn't need the skills in the area(s) of Scanning Materials, Scanning Environments, Magnifiers And CCTVs, Monoculars, Visual Traveling"}]
[]
[{"$f":"CONCATENATE(A250,\" \",H89,\"%\")","v":"Community Score: 0%"},null,null,null,null,null,{"$f":"Front!I17","v":0},{"$f":"ROUND(G89,1)","v":0}]
[{"$f":"CONCATENATE($A1,\" \",G251,\" \",N251,\", \",O251,\", \",P251,\", \",Q251,\", \",R251)","v":"0 did well with the skills that made up the area(s) of , , , , "}]
[{"$f":"CONCATENATE($A1,\" \",G252,\" \",N252,\", \",O252,\", \",P252,\", \",Q252,\", \",R252)","v":"0 had room for improvement with the skills that made up the area(s) of , , , , "}]
[{"$f":"CONCATENATE($A1,\" \",G253,\" \",N253,\", \",O253,\", \",P253,\", \",Q253,\", \",R253)","v":"0 hadn't had the opportunity to work on the skills in the area(s) of , , , , "}]
[{"$f":"CONCATENATE($A1,\" \",G254,\" \",N254,\", \",O254,\", \",P254,\", \",Q254,\", \",R254)","v":"0 didn't need the skills in the area(s) of Comparison Shopping From Home, Stores, Fast Food Restaurants, Cafeteria Restaurants, Sit Down Restaurants"}]
[]
["Summary"]
[{"$f":"CONCATENATE(A1,\" \",G259,\" \",K3,\" \",H259)","v":"0 demonstrated 0 of the skills needed to travel independently as an adult."}]
[{"$f":"CONCATENATE($A1,\" \",G260,\" \",N260,\", \",O260,\", \",P260,\", \",Q260,\", \",R260,\", \",S260,\", \",T260,\", \",U260,\", \",V260,\", \",W260,\", \",X260,\", \",Y260,\", \",Z260,\", \",AA260,\", \",AB260)","v":"0 did well with the skills that made up the domain(s) of , , , , , , , , , , , , , , "}]
[{"$f":"CONCATENATE($A1,\" \",G261,\" \",N261,\", \",O261,\", \",P261,\", \",Q261,\", \",R261,\", \",S261,\", \",T261,\", \",U261,\", \",V261,\", \",W261,\", \",X261,\", \",Y261,\", \",Z261,\", \",AA261,\", \",AB261)","v":"0 had room for improvement with the skills that made up the domain(s) of , , , , , , , , , , , , , , "}]
[{"$f":"CONCATENATE($A1,\" \",G262,\" \",N262,\", \",O262,\", \",P262,\", \",Q262,\", \",R262,\", \",S262,\", \",T262,\", \",U262,\", \",V262,\", \",W262,\", \",X262,\", \",Y262,\", \",Z262,\", \",AA262,\", \",AB262)","v":"0 hadn't had the opportunity to work on the skills that made up the domain(s) of , , , , , , , , , , , , , , "}]
[{"$f":"CONCATENATE($A1,\" \",G263,\" \",N263,\", \",O263,\", \",P263,\", \",Q263,\", \",R263,\", \",S263,\", \",T263,\", \",U263,\", \",V263,\", \",W263,\", \",X263,\", \",Y263,\", \",Z263,\", \",AA263,\", \",AB263)","v":"0 had no need for the skills that made up the domain(s) of Concepts, Movement, Single Room O&M, Indoor O&M, Self Protection, Guided Travel, Cane Skills, Sidewalk Travel, Street Crossings, Orientation Skills & GPS, Public Transportation, Atypical O&M, Rural Travel, Vision Specific O&M Skills, Community "}]
[]
[]
[]
[]
[]
[]
[]
[]
[]
["Present Level of Educational Performance"]
[{"$f":"CONCATENATE($A97,\" \",A98,\" \",A99,\", \",A100)","v":"0 did well with the skills that made up the domain(s) of , , , , , , , , , , , , , ,  0 had room for improvement with the skills that made up the domain(s) of , , , , , , , , , , , , , ,  0 hadn't had the opportunity to work on the skills that made up the domain(s) of , , , , , , , , , , , , , , , 0 had no need for the skills that made up the domain(s) of Concepts, Movement, Single Room O&M, Indoor O&M, Self Protection, Guided Travel, Cane Skills, Sidewalk Travel, Street Crossings, Orientation Skills & GPS, Public Transportation, Atypical O&M, Rural Travel, Vision Specific O&M Skills, Community "}]
[]
["Strengths"]
[{"$f":"A97","v":"0 did well with the skills that made up the domain(s) of , , , , , , , , , , , , , , "}]
[]
["Concerns"]
[{"$f":"A98","v":"0 had room for improvement with the skills that made up the domain(s) of , , , , , , , , , , , , , , "}]
[]
["Goal"]
[{"$f":"CONCATENATE($A1,\" \",A276,\" \",K3,\"% \",A277,\" \",(ROUNDUP(K3+5,0)),\"% \",A278)","v":"0 will demonstrate improved skills in Orientation & Mobility by increasing the score on the O&M Inventory from 0% to a minimum of 5% by the next annual IEP date."}]
[]
[]
[]
[]
["Progress Report"]
[{"$f":"CONCATENATE(A279,A280,\" \",$A1,\" \",A281,\" \",Q8,\"% \",A282,\" \",Q9,\"% \",A283,\" \",R9,\"% \",A284,\" \",S9,\"%. \",A1,\" \",A285,\" \",A286,\", \",A287,\", \",A288,\", \",A289,\", \",A290,\", \",A291,\", \",A292,\", \",A293,\", \",A294,\", \",A295,\", \",A296,\", \",A297,\", \",A298,\", \",A299,\", \",A300)","v":"Please see the attached chart. Over the previous grading period 0 increased the score on the O&M Inventory from 0% to 0% and is now 0% of the way to the goal of 1%. 0 made gains in the domain(s) of , , , , , , , , , , , , , , "}]
[]
[]
[]
[]
[]
[]
[]
[]
[]
[]
[]
[]
[]
[]
[]
[]
[]
[]
[]
[]
[]
[]
["↓Don't worry about any of this. It fills in automatically and is what creates the useful text "]
["NMSBVI O&M INVENTORY TOTAL SCORE: "]
["Concepts Score:"]
["Vocabulary",null,null,null,null,{"$f":"Concept!F42","v":0},"did well with the skills that made up the area(s) of",null,null,null,null,null,null,{"$f":"IF(F152>3.99,A152,\"\")","v":""},{"$f":"IF(F153>3.99,A153,\"\")","v":""},{"$f":"IF(F154>3.99,A154,\"\")","v":""},{"$f":"IF(F155>3.99,A155,\"\")","v":""},{"$f":"IF(F156>4,E156,\"\")","v":""}]
["Laterality",null,null,null,null,{"$f":"Concept!F48","v":0},"had room for improvement with the skills that made up the area(s) of",null,null,null,null,null,null,{"$f":"IF(AND($F152>1.01,$F152<3.99),$A152,\"\")","v":""},{"$f":"IF(AND($F153>1.01,$F153<3.99),$A153,\"\")","v":""},{"$f":"IF(AND($F154>1.01,$F154<3.99),$A154,\"\")","v":""},{"$f":"IF(AND($F155>1.01,$F155<3.99),$A155,\"\")","v":""}]
["Parallel/Perpendicular",null,null,null,null,{"$f":"Concept!F57","v":0},"hadn't had the opportunity to work on the skills in the area(s) of",null,null,null,null,null,null,{"$f":"IF(AND($F152>0.99,$F152<1.000001),$A152,\"\")","v":""},{"$f":"IF(AND($F153>0.99,$F153<1.000001),$A153,\"\")","v":""},{"$f":"IF(AND($F154>0.99,$F154<1.000001),$A154,\"\")","v":""},{"$f":"IF(AND($F155>0.99,$F155<1.000001),$A155,\"\")","v":""}]
["Time And Distance",null,null,null,null,{"$f":"Concept!F62","v":0},"didn't need the skills in the area(s) of",null,null,null,null,null,null,{"$f":"IF($F152=0,$A152,\"\")","v":"Vocabulary"},{"$f":"IF($F153=0,$A153,\"\")","v":"Laterality"},{"$f":"IF($F154=0,$A154,\"\")","v":"Parallel/Perpendicular"},{"$f":"IF($F155=0,$A155,\"\")","v":"Time And Distance"}]
["Movement Score:"]
["Walking",null,null,null,null,{"$f":"Move!F41","v":0},"did well with the skills that made up the area(s) of",null,null,null,null,null,null,{"$f":"IF(F157>3.99,A157,\"\")","v":""},{"$f":"IF(F158>3.99,A158,\"\")","v":""},{"$f":"IF(F159>3.99,A159,\"\")","v":""},{"$f":"IF(F160>3.99,A160,\"\")","v":""}]
["Maintaining Body Alignment While Walking",null,null,null,null,{"$f":"Move!F47","v":0},"had room for improvement with the skills that made up the area(s) of",null,null,null,null,null,null,{"$f":"IF(AND($F157>1.01,$F157<3.99),$A157,\"\")","v":""},{"$f":"IF(AND($F158>1.01,$F158<3.99),$A158,\"\")","v":""},{"$f":"IF(AND($F159>1.01,$F159<3.99),$A159,\"\")","v":""},{"$f":"IF(AND($F160>1.01,$F160<3.99),$A160,\"\")","v":""}]
["Balance",null,null,null,null,{"$f":"Move!F53","v":0},"hadn't had the opportunity to work on the skills in the area(s) of",null,null,null,null,null,null,{"$f":"IF(AND($F157>0.99,$F157<1.000001),$A157,\"\")","v":""},{"$f":"IF(AND($F158>0.99,$F158<1.000001),$A158,\"\")","v":""},{"$f":"IF(AND($F159>0.99,$F159<1.000001),$A159,\"\")","v":""},{"$f":"IF(AND($F160>0.99,$F160<1.000001),$A160,\"\")","v":""}]
["Turns",null,null,null,null,{"$f":"Move!F61","v":0},"didn't need the skills in the area(s) of",null,null,null,null,null,null,{"$f":"IF($F157=0,$A157,\"\")","v":"Walking"},{"$f":"IF($F158=0,$A158,\"\")","v":"Maintaining Body Alignment While Walking"},{"$f":"IF($F159=0,$A159,\"\")","v":"Balance"},{"$f":"IF($F160=0,$A160,\"\")","v":"Turns"}]
["Single Room O&M Score:"]
["Familiar Rooms",null,null,null,null,{"$f":"SingRm!F45","v":0},"did well with the skills that made up the area(s) of",null,null,null,null,null,null,{"$f":"IF(F162>3.99,A162,\"\")","v":""},{"$f":"IF(F163>3.99,A163,\"\")","v":""},{"$f":"IF(F164>3.99,A164,\"\")","v":""},{"$f":"IF(F165>3.99,A165,\"\")","v":""},{"$f":"IF(F166>3.99,A166,\"\")","v":""}]
["Unfamiliar Rooms",null,null,null,null,{"$f":"SingRm!F51","v":0},"had room for improvement with the skills that made up the area(s) of",null,null,null,null,null,null,{"$f":"IF(AND($F162>1.01,$F162<3.99),$A162,\"\")","v":""},{"$f":"IF(AND($F163>1.01,$F163<3.99),$A163,\"\")","v":""},{"$f":"IF(AND($F164>1.01,$F164<3.99),$A164,\"\")","v":""},{"$f":"IF(AND($F165>1.01,$F165<3.99),$A165,\"\")","v":""},{"$f":"IF(AND($F166>1.01,$F166<3.99),$A166,\"\")","v":""}]
["Seating (Rows)",null,null,null,null,{"$f":"SingRm!F58","v":0},"hadn't had the opportunity to work on the skills in the area(s) of",null,null,null,null,null,null,{"$f":"IF(AND($F162>0.99,$F162<1.000001),$A162,\"\")","v":""},{"$f":"IF(AND($F163>0.99,$F163<1.000001),$A163,\"\")","v":""},{"$f":"IF(AND($F164>0.99,$F164<1.000001),$A164,\"\")","v":""},{"$f":"IF(AND($F165>0.99,$F165<1.000001),$A165,\"\")","v":""},{"$f":"IF(AND($F166>0.99,$F166<1.000001),$A166,\"\")","v":""}]
["Seating (Tables)",null,null,null,null,{"$f":"SingRm!F65","v":0},"didn't need the skills in the area(s) of",null,null,null,null,null,null,{"$f":"IF($F162=0,$A162,\"\")","v":"Familiar Rooms"},{"$f":"IF($F163=0,$A163,\"\")","v":"Unfamiliar Rooms"},{"$f":"IF($F164=0,$A164,\"\")","v":"Seating (Rows)"},{"$f":"IF($F165=0,$A165,\"\")","v":"Seating (Tables)"},{"$f":"IF($F166=0,$A166,\"\")","v":"Locating Dropped Objects"}]
["Locating Dropped Objects",null,null,null,null,{"$f":"SingRm!F70","v":0}]
["Indoor O&M Score:"]
["Hand Trailing",null,null,null,null,{"$f":"Indoor!F72","v":0},"did well with the skills that made up the area(s) of",null,null,null,null,null,null,{"$f":"IF(F168>3.99,A168,\"\")","v":""},{"$f":"IF(F169>3.99,A169,\"\")","v":""},{"$f":"IF(F170>3.99,A170,\"\")","v":""},{"$f":"IF(F171>3.99,A171,\"\")","v":""},{"$f":"IF(F172>3.99,A172,\"\")","v":""},{"$f":"IF(F173>3.99,A173,\"\")","v":""},{"$f":"IF(F174>3.99,A174,\"\")","v":""},{"$f":"IF(F175>3.99,A175,\"\")","v":""}]
["Navigating Open Spaces",null,null,null,null,{"$f":"Indoor!F75","v":0},"had room for improvement with the skills that made up the area(s) of",null,null,null,null,null,null,{"$f":"IF(AND($F168>1.01,$F168<3.99),$A168,\"\")","v":""},{"$f":"IF(AND($F169>1.01,$F169<3.99),$A169,\"\")","v":""},{"$f":"IF(AND($F170>1.01,$F170<3.99),$A170,\"\")","v":""},{"$f":"IF(AND($F171>1.01,$F171<3.99),$A171,\"\")","v":""},{"$f":"IF(AND($F172>1.01,$F172<3.99),$A172,\"\")","v":""},{"$f":"IF(AND($F173>1.01,$F173<3.99),$A173,\"\")","v":""},{"$f":"IF(AND($F174>1.01,$F174<3.99),$A174,\"\")","v":""},{"$f":"IF(AND($F175>1.01,$F175<3.99),$A175,\"\")","v":""}]
["Doors",null,null,null,null,{"$f":"Indoor!F78","v":0},"hadn't had the opportunity to work on the skills in the area(s) of",null,null,null,null,null,null,{"$f":"IF(AND($F168>0.99,$F168<1.000001),$A168,\"\")","v":""},{"$f":"IF(AND($F169>0.99,$F169<1.000001),$A169,\"\")","v":""},{"$f":"IF(AND($F170>0.99,$F170<1.000001),$A170,\"\")","v":""},{"$f":"IF(AND($F171>0.99,$F171<1.000001),$A171,\"\")","v":""},{"$f":"IF(AND($F172>0.99,$F172<1.000001),$A172,\"\")","v":""},{"$f":"IF(AND($F173>0.99,$F173<1.000001),$A173,\"\")","v":""},{"$f":"IF(AND($F174>0.99,$F174<1.000001),$A174,\"\")","v":""},{"$f":"IF(AND($F175>0.99,$F175<1.000001),$A175,\"\")","v":""}]
["Ascending/Descending Stairs",null,null,null,null,{"$f":"Indoor!F84","v":0},"didn't need the skills in the area(s) of",null,null,null,null,null,null,{"$f":"IF($F168=0,$A168,\"\")","v":"Hand Trailing"},{"$f":"IF($F169=0,$A169,\"\")","v":"Navigating Open Spaces"},{"$f":"IF($F170=0,$A170,\"\")","v":"Doors"},{"$f":"IF($F171=0,$A171,\"\")","v":"Ascending/Descending Stairs"},{"$f":"IF($F172=0,$A172,\"\")","v":"Escalators"},{"$f":"IF($F173=0,$A173,\"\")","v":"Elevators"},{"$f":"IF($F174=0,$A174,\"\")","v":"Moving Sidewalks"},{"$f":"IF($F175=0,$A175,\"\")","v":"Turnstiles"}]
["Escalators",null,null,null,null,{"$f":"Indoor!F92","v":0}]
["Elevators",null,null,null,null,{"$f":"Indoor!F104","v":0}]
["Moving Sidewalks",null,null,null,null,{"$f":"Indoor!F113","v":0}]
["Turnstiles",null,null,null,null,{"$f":"Indoor!F123","v":0}]
["Self Protection Score:",null,null,null,null,null,"did well with the skills that made up the area(s) of",null,null,null,null,null,null,{"$f":"IF(F177>3.99,A177,\"\")","v":""},{"$f":"IF(F178>3.99,A178,\"\")","v":""},{"$f":"IF(F179>3.99,A179,\"\")","v":""}]
["Upper Hand Protective Technique",null,null,null,null,{"$f":"SelfPro!F29","v":0},"had room for improvement with the skills that made up the area(s) of",null,null,null,null,null,null,{"$f":"IF(AND($F177>1.01,$F177<3.99),$A177,\"\")","v":""},{"$f":"IF(AND($F178>1.01,$F178<3.99),$A178,\"\")","v":""},{"$f":"IF(AND($F179>1.01,$F179<3.99),$A179,\"\")","v":""}]
["Lower Forearm Protective Technique",null,null,null,null,{"$f":"SelfPro!F34","v":0},"hadn't had the opportunity to work on the skills in the area(s) of",null,null,null,null,null,null,{"$f":"IF(AND($F177>0.99,$F177<1.000001),$A177,\"\")","v":""},{"$f":"IF(AND($F178>0.99,$F178<1.000001),$A178,\"\")","v":""},{"$f":"IF(AND($F179>0.99,$F179<1.000001),$A179,\"\")","v":""}]
["Protective Clothing",null,null,null,null,{"$f":"SelfPro!F38","v":0},"didn't need the skills in the area(s) of",null,null,null,null,null,null,{"$f":"IF($F177=0,$A177,\"\")","v":"Upper Hand Protective Technique"},{"$f":"IF($F178=0,$A178,\"\")","v":"Lower Forearm Protective Technique"},{"$f":"IF($F179=0,$A179,\"\")","v":"Protective Clothing"}]
["Guided Travel Score:"]
["Human Guide",null,null,null,null,{"$f":"Guided!F39","v":0},"did well with the skills that made up the area(s) of",null,null,null,null,null,null,{"$f":"IF(F181>3.99,A181,\"\")","v":""},{"$f":"IF(F182>3.99,A182,\"\")","v":""},{"$f":"IF(F183>3.99,A183,\"\")","v":""},{"$f":"IF(F184>3.99,A184,\"\")","v":""}]
["Walking With Another (No Direct Contact)",null,null,null,null,{"$f":"Guided!F47","v":0},"had room for improvement with the skills that made up the area(s) of",null,null,null,null,null,null,{"$f":"IF(AND($F181>1.01,$F181<3.99),$A181,\"\")","v":""},{"$f":"IF(AND($F182>1.01,$F182<3.99),$A182,\"\")","v":""},{"$f":"IF(AND($F183>1.01,$F183<3.99),$A183,\"\")","v":""},{"$f":"IF(AND($F184>1.01,$F184<3.99),$A184,\"\")","v":""}]
["Menus",null,null,null,null,{"$f":"Guided!F52","v":0},"hadn't had the opportunity to work on the skills in the area(s) of",null,null,null,null,null,null,{"$f":"IF(AND($F181>0.99,$F181<1.000001),$A181,\"\")","v":""},{"$f":"IF(AND($F182>0.99,$F182<1.000001),$A182,\"\")","v":""},{"$f":"IF(AND($F183>0.99,$F183<1.000001),$A183,\"\")","v":""},{"$f":"IF(AND($F184>0.99,$F184<1.000001),$A184,\"\")","v":""}]
["Getting Rides",null,null,null,null,{"$f":"Guided!F56","v":0},"didn't need the skills in the area(s) of",null,null,null,null,null,null,{"$f":"IF($F181=0,$A181,\"\")","v":"Human Guide"},{"$f":"IF($F182=0,$A182,\"\")","v":"Walking With Another (No Direct Contact)"},{"$f":"IF($F183=0,$A183,\"\")","v":"Menus"},{"$f":"IF($F184=0,$A184,\"\")","v":"Getting Rides"}]
["Cane Skills Score:"]
["Basic Skills",null,null,null,null,{"$f":"Cane!F61","v":0},"did well with the skills that made up the area(s) of",null,null,null,null,null,null,{"$f":"IF(F186>3.99,A186,\"\")","v":""},{"$f":"IF(F187>3.99,A187,\"\")","v":""},{"$f":"IF(F188>3.99,A188,\"\")","v":""},{"$f":"IF(F189>3.99,A189,\"\")","v":""},{"$f":"IF(F190>3.99,A190,\"\")","v":""},{"$f":"IF(F191>3.99,A191,\"\")","v":""},{"$f":"IF(F192>3.99,A192,\"\")","v":""}]
["Types Of Grips",null,null,null,null,{"$f":"Cane!F68","v":0},"had room for improvement with the skills that made up the area(s) of",null,null,null,null,null,null,{"$f":"IF(AND($F186>1.01,$F186<3.99),$A186,\"\")","v":""},{"$f":"IF(AND($F187>1.01,$F187<3.99),$A187,\"\")","v":""},{"$f":"IF(AND($F188>1.01,$F188<3.99),$A188,\"\")","v":""},{"$f":"IF(AND($F189>1.01,$F189<3.99),$A189,\"\")","v":""},{"$f":"IF(AND($F190>1.01,$F190<3.99),$A190,\"\")","v":""},{"$f":"IF(AND($F191>1.01,$F191<3.99),$A191,\"\")","v":""},{"$f":"IF(AND($F192>1.01,$F192<3.99),$A192,\"\")","v":""}]
["Constant Contact",null,null,null,null,{"$f":"Cane!F74","v":0},"hadn't had the opportunity to work on the skills in the area(s) of",null,null,null,null,null,null,{"$f":"IF(AND($F186>0.99,$F186<1.000001),$A186,\"\")","v":""},{"$f":"IF(AND($F187>0.99,$F187<1.000001),$A187,\"\")","v":""},{"$f":"IF(AND($F188>0.99,$F188<1.000001),$A188,\"\")","v":""},{"$f":"IF(AND($F189>0.99,$F189<1.000001),$A189,\"\")","v":""},{"$f":"IF(AND($F190>0.99,$F190<1.000001),$A190,\"\")","v":""},{"$f":"IF(AND($F191>0.99,$F191<1.000001),$A191,\"\")","v":""},{"$f":"IF(AND($F192>0.99,$F192<1.000001),$A192,\"\")","v":""}]
["Diagonal/Diagonal Trail",null,null,null,null,{"$f":"Cane!F80","v":0},"didn't need the skills in the area(s) of",null,null,null,null,null,null,{"$f":"IF($F186=0,$A186,\"\")","v":"Basic Skills"},{"$f":"IF($F187=0,$A187,\"\")","v":"Types Of Grips"},{"$f":"IF($F188=0,$A188,\"\")","v":"Constant Contact"},{"$f":"IF($F189=0,$A189,\"\")","v":"Diagonal/Diagonal Trail"},{"$f":"IF($F190=0,$A190,\"\")","v":"Two Point Touch/Touch Trail"},{"$f":"IF($F191=0,$A191,\"\")","v":"Touch And Drag"},{"$f":"IF($F192=0,$A192,\"\")","v":"Three Point Touch"}]
["Two Point Touch/Touch Trail",null,null,null,null,{"$f":"Cane!F86","v":0}]
["Touch And Drag",null,null,null,null,{"$f":"Cane!F93","v":0}]
["Three Point Touch",null,null,null,null,{"$f":"Cane!F100","v":0}]
["Sidewalk Travel Score:",null,null,null,null,null,"did well with the skills that made up the area(s) of",null,null,null,null,null,null,{"$f":"IF(F194>3.99,A194,\"\")","v":""},{"$f":"IF(F195>3.99,A195,\"\")","v":""},{"$f":"IF(F196>3.99,A196,\"\")","v":""}]
["Walking On Sidewalks",null,null,null,null,{"$f":"Sidewalk!F40","v":0},"had room for improvement with the skills that made up the area(s) of",null,null,null,null,null,null,{"$f":"IF(AND($F194>1.01,$F194<3.99),$A194,\"\")","v":""},{"$f":"IF(AND($F195>1.01,$F195<3.99),$A195,\"\")","v":""},{"$f":"IF(AND($F196>1.01,$F196<3.99),$A196,\"\")","v":""}]
["Walking On Irregular Sidewalks",null,null,null,null,{"$f":"Sidewalk!F52","v":0},"hadn't had the opportunity to work on the skills in the area(s) of",null,null,null,null,null,null,{"$f":"IF(AND($F194>0.99,$F194<1.000001),$A194,\"\")","v":""},{"$f":"IF(AND($F195>0.99,$F195<1.000001),$A195,\"\")","v":""},{"$f":"IF(AND($F196>0.99,$F196<1.000001),$A196,\"\")","v":""}]
["Correcting for Veering On Sidewalks",null,null,null,null,{"$f":"Sidewalk!F58","v":0},"didn't need the skills in the area(s) of",null,null,null,null,null,null,{"$f":"IF($F194=0,$A194,\"\")","v":"Walking On Sidewalks"},{"$f":"IF($F195=0,$A195,\"\")","v":"Walking On Irregular Sidewalks"},{"$f":"IF($F196=0,$A196,\"\")","v":"Correcting for Veering On Sidewalks"}]
["Street Crossings Score:"]
["Anticipating Street Crossings",null,null,null,null,{"$f":"StCross!F188","v":0},"did well with the skills that made up the area(s) of",null,null,null,null,null,null,{"$f":"IF(F198>3.99,A198,\"\")","v":""},{"$f":"IF(F199>3.99,A199,\"\")","v":""},{"$f":"IF(F200>3.99,A200,\"\")","v":""},{"$f":"IF(F201>3.99,A201,\"\")","v":""},{"$f":"IF(F202>3.99,A202,\"\")","v":""},{"$f":"IF(F203>3.99,A203,\"\")","v":""},{"$f":"IF(F204>3.99,A204,\"\")","v":""},{"$f":"IF(F205>3.99,A205,\"\")","v":""},{"$f":"IF(F206>3.99,A206,\"\")","v":""},{"$f":"IF(F207>3.99,A207,\"\")","v":""},{"$f":"IF(F208>3.99,A208,\"\")","v":""},{"$f":"IF(F209>3.99,A209,\"\")","v":""},{"$f":"IF(F210>3.99,A210,\"\")","v":""},{"$f":"IF(F211>3.99,A211,\"\")","v":""},{"$f":"IF(F212>3.99,A212,\"\")","v":""},{"$f":"IF(F213>3.99,A213,\"\")","v":""}]
["Maintaining Line Of Travel",null,null,null,null,{"$f":"StCross!F194","v":0},"had room for improvement with the skills that made up the area(s) of",null,null,null,null,null,null,{"$f":"IF(AND($F198>1.01,$F198<3.99),$A198,\"\")","v":""},{"$f":"IF(AND($F199>1.01,$F199<3.99),$A199,\"\")","v":""},{"$f":"IF(AND($F200>1.01,$F200<3.99),$A200,\"\")","v":""},{"$f":"IF(AND($F201>1.01,$F201<3.99),$A201,\"\")","v":""},{"$f":"IF(AND($F202>1.01,$F202<3.99),$A202,\"\")","v":""},{"$f":"IF(AND($F203>1.01,$F203<3.99),$A203,\"\")","v":""},{"$f":"IF(AND($F204>1.01,$F204<3.99),$A204,\"\")","v":""},{"$f":"IF(AND($F205>1.01,$F205<3.99),$A205,\"\")","v":""},{"$f":"IF(AND($F206>1.01,$F206<3.99),$A206,\"\")","v":""},{"$f":"IF(AND($F207>1.01,$F207<3.99),$A207,\"\")","v":""},{"$f":"IF(AND($F208>1.01,$F208<3.99),$A208,\"\")","v":""},{"$f":"IF(AND($F209>1.01,$F209<3.99),$A209,\"\")","v":""},{"$f":"IF(AND($F210>1.01,$F210<3.99),$A210,\"\")","v":""},{"$f":"IF(AND($F211>1.01,$F211<3.99),$A211,\"\")","v":""},{"$f":"IF(AND($F212>1.01,$F212<3.99),$A212,\"\")","v":""},{"$f":"IF(AND($F213>1.01,$F213<3.99),$A213,\"\")","v":""}]
["Maintaining Body Alignment",null,null,null,null,{"$f":"StCross!F195","v":0},"hadn't had the opportunity to work on the skills in the area(s) of",null,null,null,null,null,null,{"$f":"IF(AND($F198>0.99,$F198<1.000001),$A198,\"\")","v":""},{"$f":"IF(AND($F199>0.99,$F199<1.000001),$A199,\"\")","v":""},{"$f":"IF(AND($F200>0.99,$F200<1.000001),$A200,\"\")","v":""},{"$f":"IF(AND($F201>0.99,$F201<1.000001),$A201,\"\")","v":""},{"$f":"IF(AND($F202>0.99,$F202<1.000001),$A202,\"\")","v":""},{"$f":"IF(AND($F203>0.99,$F203<1.000001),$A203,\"\")","v":""},{"$f":"IF(AND($F204>0.99,$F204<1.000001),$A204,\"\")","v":""},{"$f":"IF(AND($F205>0.99,$F205<1.000001),$A205,\"\")","v":""},{"$f":"IF(AND($F206>0.99,$F206<1.000001),$A206,\"\")","v":""},{"$f":"IF(AND($F207>0.99,$F207<1.000001),$A207,\"\")","v":""},{"$f":"IF(AND($F208>0.99,$F208<1.000001),$A208,\"\")","v":""},{"$f":"IF(AND($F209>0.99,$F209<1.000001),$A209,\"\")","v":""},{"$f":"IF(AND($F210>0.99,$F210<1.000001),$A210,\"\")","v":""},{"$f":"IF(AND($F211>0.99,$F211<1.000001),$A211,\"\")","v":""},{"$f":"IF(AND($F212>0.99,$F212<1.000001),$A212,\"\")","v":""},{"$f":"IF(AND($F213>0.99,$F213<1.000001),$A213,\"\")","v":""}]
["Re-establishing Body Alignment",null,null,null,null,{"$f":"StCross!F199","v":0},"didn't need the skills in the area(s) of",null,null,null,null,null,null,{"$f":"IF($F198=0,$A198,\"\")","v":"Anticipating Street Crossings"},{"$f":"IF($F199=0,$A199,\"\")","v":"Maintaining Line Of Travel"},{"$f":"IF($F200=0,$A200,\"\")","v":"Maintaining Body Alignment"},{"$f":"IF($F201=0,$A201,\"\")","v":"Re-establishing Body Alignment"},{"$f":"IF($F202=0,$A202,\"\")","v":"Analyzing Intersections"},{"$f":"IF($F203=0,$A203,\"\")","v":"Plus Intersections"},{"$f":"IF($F204=0,$A204,\"\")","v":"T Intersections"},{"$f":"IF($F205=0,$A205,\"\")","v":"Y Intersections"},{"$f":"IF($F206=0,$A206,\"\")","v":"Roundabouts"},{"$f":"IF($F207=0,$A207,\"\")","v":"Significantly Offset Intersections"},{"$f":"IF($F208=0,$A208,\"\")","v":"Atypical Intersections"},{"$f":"IF($F209=0,$A209,\"\")","v":"Newly Developed Intersections"},{"$f":"IF($F210=0,$A210,\"\")","v":"Channelized Right Turn Lanes"},{"$f":"IF($F211=0,$A211,\"\")","v":"Veering"},{"$f":"IF($F212=0,$A212,\"\")","v":"Understanding Drivers’ Perspectives"},{"$f":"IF($F213=0,$A213,\"\")","v":"Pedestrian Signals"}]
["Analyzing Intersections",null,null,null,null,{"$f":"StCross!F203","v":0}]
["Plus Intersections",null,null,null,null,{"$f":"StCross!F219","v":0}]
["T Intersections",null,null,null,null,{"$f":"StCross!F238","v":0}]
["Y Intersections",null,null,null,null,{"$f":"StCross!F260","v":0}]
["Roundabouts",null,null,null,null,{"$f":"StCross!F285","v":0}]
["Significantly Offset Intersections",null,null,null,null,{"$f":"StCross!F300","v":0}]
["Atypical Intersections",null,null,null,null,{"$f":"StCross!F305","v":0}]
["Newly Developed Intersections",null,null,null,null,{"$f":"StCross!F315","v":0}]
["Channelized Right Turn Lanes",null,null,null,null,{"$f":"StCross!F323","v":0}]
["Veering",null,null,null,null,{"$f":"StCross!F333","v":0}]
["Understanding Drivers’ Perspectives",null,null,null,null,{"$f":"StCross!F347","v":0}]
["Pedestrian Signals",null,null,null,null,{"$f":"StCross!F356","v":0}]
["Orientation Skills and GPS Score:"]
["Cardinality",null,null,null,null,{"$f":"Orient!F93","v":0},"did well with the skills that made up the area(s) of",null,null,null,null,null,null,{"$f":"IF(F215>3.99,A215,\"\")","v":""},{"$f":"IF(F216>3.99,A216,\"\")","v":""},{"$f":"IF(F217>3.99,A217,\"\")","v":""},{"$f":"IF(F218>3.99,A218,\"\")","v":""},{"$f":"IF(F219>3.99,A219,\"\")","v":""},{"$f":"IF(F220>3.99,A220,\"\")","v":""},{"$f":"IF(F221>3.99,A221,\"\")","v":""},{"$f":"IF(F222>3.99,A222,\"\")","v":""},{"$f":"IF(F223>3.99,A223,\"\")","v":""},{"$f":"IF(F224>3.99,A224,\"\")","v":""}]
["Clues",null,null,null,null,{"$f":"Orient!F108","v":0},"had room for improvement with the skills that made up the area(s) of",null,null,null,null,null,null,{"$f":"IF(AND($F215>1.01,$F215<3.99),$A215,\"\")","v":""},{"$f":"IF(AND($F216>1.01,$F216<3.99),$A216,\"\")","v":""},{"$f":"IF(AND($F217>1.01,$F217<3.99),$A217,\"\")","v":""},{"$f":"IF(AND($F218>1.01,$F218<3.99),$A218,\"\")","v":""},{"$f":"IF(AND($F219>1.01,$F219<3.99),$A219,\"\")","v":""},{"$f":"IF(AND($F220>1.01,$F220<3.99),$A220,\"\")","v":""},{"$f":"IF(AND($F221>1.01,$F221<3.99),$A221,\"\")","v":""},{"$f":"IF(AND($F222>1.01,$F222<3.99),$A222,\"\")","v":""},{"$f":"IF(AND($F223>1.01,$F223<3.99),$A223,\"\")","v":""},{"$f":"IF(AND($F224>1.01,$F224<3.99),$A224,\"\")","v":""}]
["Landmarks",null,null,null,null,{"$f":"Orient!F114","v":0},"hadn't had the opportunity to work on the skills in the area(s) of",null,null,null,null,null,null,{"$f":"IF(AND($F215>0.99,$F215<1.000001),$A215,\"\")","v":""},{"$f":"IF(AND($F216>0.99,$F216<1.000001),$A216,\"\")","v":""},{"$f":"IF(AND($F217>0.99,$F217<1.000001),$A217,\"\")","v":""},{"$f":"IF(AND($F218>0.99,$F218<1.000001),$A218,\"\")","v":""},{"$f":"IF(AND($F219>0.99,$F219<1.000001),$A219,\"\")","v":""},{"$f":"IF(AND($F220>0.99,$F220<1.000001),$A220,\"\")","v":""},{"$f":"IF(AND($F221>0.99,$F221<1.000001),$A221,\"\")","v":""},{"$f":"IF(AND($F222>0.99,$F222<1.000001),$A222,\"\")","v":""},{"$f":"IF(AND($F223>0.99,$F223<1.000001),$A223,\"\")","v":""},{"$f":"IF(AND($F224>0.99,$F224<1.000001),$A224,\"\")","v":""}]
["Indoor Numbering Systems",null,null,null,null,{"$f":"Orient!F120","v":0},"didn't need the skills in the area(s) of",null,null,null,null,null,null,{"$f":"IF($F215=0,$A215,\"\")","v":"Cardinality"},{"$f":"IF($F216=0,$A216,\"\")","v":"Clues"},{"$f":"IF($F217=0,$A217,\"\")","v":"Landmarks"},{"$f":"IF($F218=0,$A218,\"\")","v":"Indoor Numbering Systems"},{"$f":"IF($F219=0,$A219,\"\")","v":"Outdoor Numbering Systems"},{"$f":"IF($F220=0,$A220,\"\")","v":"Grid System"},{"$f":"IF($F221=0,$A221,\"\")","v":"Divisors And Block Numbering"},{"$f":"IF($F222=0,$A222,\"\")","v":"Transferability"},{"$f":"IF($F223=0,$A223,\"\")","v":"GPS"},{"$f":"IF($F224=0,$A224,\"\")","v":"Maps"}]
["Outdoor Numbering Systems",null,null,null,null,{"$f":"Orient!F126","v":0}]
["Grid System",null,null,null,null,{"$f":"Orient!F132","v":0}]
["Divisors And Block Numbering",null,null,null,null,{"$f":"Orient!F143","v":0}]
["Transferability",null,null,null,null,{"$f":"Orient!F150","v":0}]
["GPS",null,null,null,null,{"$f":"Orient!F154","v":0}]
["Maps",null,null,null,null,{"$f":"Orient!F162","v":0}]
["Public Transportation Score:"]
["Identifying Common Public Transportation Options",null,null,null,null,{"$f":"PubTran!F92","v":0},"did well with the skills that made up the area(s) of",null,null,null,null,null,null,{"$f":"IF(F226>3.99,A226,\"\")","v":""},{"$f":"IF(F227>3.99,A227,\"\")","v":""},{"$f":"IF(F228>3.99,A228,\"\")","v":""},{"$f":"IF(F229>3.99,A229,\"\")","v":""},{"$f":"IF(F230>3.99,A230,\"\")","v":""},{"$f":"IF(F231>3.99,A231,\"\")","v":""},{"$f":"IF(F232>3.99,A232,\"\")","v":""}]
["Intra-City Bus Travel",null,null,null,null,{"$f":"PubTran!F93","v":0},"had room for improvement with the skills that made up the area(s) of",null,null,null,null,null,null,{"$f":"IF(AND($F226>1.01,$F226<3.99),$A226,\"\")","v":""},{"$f":"IF(AND($F227>1.01,$F227<3.99),$A227,\"\")","v":""},{"$f":"IF(AND($F228>1.01,$F228<3.99),$A228,\"\")","v":""},{"$f":"IF(AND($F229>1.01,$F229<3.99),$A229,\"\")","v":""},{"$f":"IF(AND($F230>1.01,$F230<3.99),$A230,\"\")","v":""},{"$f":"IF(AND($F231>1.01,$F231<3.99),$A231,\"\")","v":""},{"$f":"IF(AND($F232>1.01,$F232<3.99),$A232,\"\")","v":""}]
["Inter-City Bus Travel",null,null,null,null,{"$f":"PubTran!F111","v":0},"hadn't had the opportunity to work on the skills in the area(s) of",null,null,null,null,null,null,{"$f":"IF(AND($F226>0.99,$F226<1.000001),$A226,\"\")","v":""},{"$f":"IF(AND($F227>0.99,$F227<1.000001),$A227,\"\")","v":""},{"$f":"IF(AND($F228>0.99,$F228<1.000001),$A228,\"\")","v":""},{"$f":"IF(AND($F229>0.99,$F229<1.000001),$A229,\"\")","v":""},{"$f":"IF(AND($F230>0.99,$F230<1.000001),$A230,\"\")","v":""},{"$f":"IF(AND($F231>0.99,$F231<1.000001),$A231,\"\")","v":""},{"$f":"IF(AND($F232>0.99,$F232<1.000001),$A232,\"\")","v":""}]
["Taxi/Ride Service",null,null,null,null,{"$f":"PubTran!F17","v":0},"didn't need the skills in the area(s) of",null,null,null,null,null,null,{"$f":"IF($F226=0,$A226,\"\")","v":"Identifying Common Public Transportation Options"},{"$f":"IF($F227=0,$A227,\"\")","v":"Intra-City Bus Travel"},{"$f":"IF($F228=0,$A228,\"\")","v":"Inter-City Bus Travel"},{"$f":"IF($F229=0,$A229,\"\")","v":"Taxi/Ride Service"},{"$f":"IF($F230=0,$A230,\"\")","v":"Handi-Ride/Para Transit"},{"$f":"IF($F231=0,$A231,\"\")","v":"Air Travel"},{"$f":"IF($F232=0,$A232,\"\")","v":"Subway/Light Rail"}]
["Handi-Ride/Para Transit",null,null,null,null,{"$f":"PubTran!F134","v":0}]
["Air Travel",null,null,null,null,{"$f":"PubTran!F138","v":0}]
["Subway/Light Rail",null,null,null,null,{"$f":"PubTran!F154","v":0}]
["Atypical O&M Score:"]
["Fences",null,null,null,null,{"$f":"Atyp!F40","v":0},"did well with the skills that made up the area(s) of",null,null,null,null,null,null,{"$f":"IF(F234>3.99,A234,\"\")","v":""},{"$f":"IF(F235>3.99,A235,\"\")","v":""},{"$f":"IF(F236>3.99,A236,\"\")","v":""},{"$f":"IF(F237>3.99,A237,\"\")","v":""}]
["Fields (Urban)",null,null,null,null,{"$f":"Atyp!F44","v":0},"had room for improvement with the skills that made up the area(s) of",null,null,null,null,null,null,{"$f":"IF(AND($F234>1.01,$F234<3.99),$A234,\"\")","v":""},{"$f":"IF(AND($F235>1.01,$F235<3.99),$A235,\"\")","v":""},{"$f":"IF(AND($F236>1.01,$F236<3.99),$A236,\"\")","v":""},{"$f":"IF(AND($F237>1.01,$F237<3.99),$A237,\"\")","v":""}]
["Parks/Playgrounds",null,null,null,null,{"$f":"Atyp!F50","v":0},"hadn't had the opportunity to work on the skills in the area(s) of",null,null,null,null,null,null,{"$f":"IF(AND($F234>0.99,$F234<1.000001),$A234,\"\")","v":""},{"$f":"IF(AND($F235>0.99,$F235<1.000001),$A235,\"\")","v":""},{"$f":"IF(AND($F236>0.99,$F236<1.000001),$A236,\"\")","v":""},{"$f":"IF(AND($F237>0.99,$F237<1.000001),$A237,\"\")","v":""}]
["Inclement Weather",null,null,null,null,{"$f":"Atyp!F58","v":0},"didn't need the skills in the area(s) of",null,null,null,null,null,null,{"$f":"IF($F234=0,$A234,\"\")","v":"Fences"},{"$f":"IF($F235=0,$A235,\"\")","v":"Fields (Urban)"},{"$f":"IF($F236=0,$A236,\"\")","v":"Parks/Playgrounds"},{"$f":"IF($F237=0,$A237,\"\")","v":"Inclement Weather"}]
["Rural Travel Score:"]
["Understanding Unique Dangers Related To Rural Travel",null,null,null,null,{"$f":"Rural!F46","v":0},"did well with the skills that made up the area(s) of",null,null,null,null,null,null,{"$f":"IF(F239>3.99,A239,\"\")","v":""},{"$f":"IF(F240>3.99,A240,\"\")","v":""},{"$f":"IF(F241>3.99,A241,\"\")","v":""},{"$f":"IF(F242>3.99,A242,\"\")","v":""},{"$f":"IF(F243>3.99,A243,\"\")","v":""}]
["Walking Along Rural Roads",null,null,null,null,{"$f":"Rural!F52","v":0},"had room for improvement with the skills that made up the area(s) of",null,null,null,null,null,null,{"$f":"IF(AND($F239>1.01,$F239<3.99),$A239,\"\")","v":""},{"$f":"IF(AND($F240>1.01,$F240<3.99),$A240,\"\")","v":""},{"$f":"IF(AND($F241>1.01,$F241<3.99),$A241,\"\")","v":""},{"$f":"IF(AND($F242>1.01,$F242<3.99),$A242,\"\")","v":""},{"$f":"IF(AND($F243>1.01,$F243<3.99),$A243,\"\")","v":""}]
["Ditches/Arroyos",null,null,null,null,{"$f":"Rural!F58","v":0},"hadn't had the opportunity to work on the skills in the area(s) of",null,null,null,null,null,null,{"$f":"IF(AND($F239>0.99,$F239<1.000001),$A239,\"\")","v":""},{"$f":"IF(AND($F240>0.99,$F240<1.000001),$A240,\"\")","v":""},{"$f":"IF(AND($F241>0.99,$F241<1.000001),$A241,\"\")","v":""},{"$f":"IF(AND($F242>0.99,$F242<1.000001),$A242,\"\")","v":""},{"$f":"IF(AND($F243>0.99,$F243<1.000001),$A243,\"\")","v":""}]
["Identifying And Going Around Items In Rural Areas",null,null,null,null,{"$f":"Rural!F65","v":0},"didn't need the skills in the area(s) of",null,null,null,null,null,null,{"$f":"IF($F239=0,$A239,\"\")","v":"Understanding Unique Dangers Related To Rural Travel"},{"$f":"IF($F240=0,$A240,\"\")","v":"Walking Along Rural Roads"},{"$f":"IF($F241=0,$A241,\"\")","v":"Ditches/Arroyos"},{"$f":"IF($F242=0,$A242,\"\")","v":"Identifying And Going Around Items In Rural Areas"},{"$f":"IF($F243=0,$A243,\"\")","v":"Rural Street Crossings"}]
["Rural Street Crossings",null,null,null,null,{"$f":"Rural!F71","v":0}]
["Vision Specific O&M Skills Score:"]
["Scanning Materials",null,null,null,null,{"$f":"VisSpec!F48","v":0},"did well with the skills that made up the area(s) of",null,null,null,null,null,null,{"$f":"IF(F245>3.99,A245,\"\")","v":""},{"$f":"IF(F246>3.99,A246,\"\")","v":""},{"$f":"IF(F247>3.99,A247,\"\")","v":""},{"$f":"IF(F248>3.99,A248,\"\")","v":""},{"$f":"IF(F249>3.99,A249,\"\")","v":""}]
["Scanning Environments",null,null,null,null,{"$f":"VisSpec!F55","v":0},"had room for improvement with the skills that made up the area(s) of",null,null,null,null,null,null,{"$f":"IF(AND($F245>1.01,$F245<3.99),$A245,\"\")","v":""},{"$f":"IF(AND($F246>1.01,$F246<3.99),$A246,\"\")","v":""},{"$f":"IF(AND($F247>1.01,$F247<3.99),$A247,\"\")","v":""},{"$f":"IF(AND($F248>1.01,$F248<3.99),$A248,\"\")","v":""},{"$f":"IF(AND($F249>1.01,$F249<3.99),$A249,\"\")","v":""}]
["Magnifiers And CCTVs",null,null,null,null,{"$f":"VisSpec!F62","v":0},"hadn't had the opportunity to work on the skills in the area(s) of",null,null,null,null,null,null,{"$f":"IF(AND($F245>0.99,$F245<1.000001),$A245,\"\")","v":""},{"$f":"IF(AND($F246>0.99,$F246<1.000001),$A246,\"\")","v":""},{"$f":"IF(AND($F247>0.99,$F247<1.000001),$A247,\"\")","v":""},{"$f":"IF(AND($F248>0.99,$F248<1.000001),$A248,\"\")","v":""},{"$f":"IF(AND($F249>0.99,$F249<1.000001),$A249,\"\")","v":""}]
["Monoculars",null,null,null,null,{"$f":"VisSpec!F66","v":0},"didn't need the skills in the area(s) of",null,null,null,null,null,null,{"$f":"IF($F245=0,$A245,\"\")","v":"Scanning Materials"},{"$f":"IF($F246=0,$A246,\"\")","v":"Scanning Environments"},{"$f":"IF($F247=0,$A247,\"\")","v":"Magnifiers And CCTVs"},{"$f":"IF($F248=0,$A248,\"\")","v":"Monoculars"},{"$f":"IF($F249=0,$A249,\"\")","v":"Visual Traveling"}]
["Visual Traveling",null,null,null,null,{"$f":"VisSpec!F72","v":0}]
["Community Score:"]
["Comparison Shopping From Home",null,null,null,null,{"$f":"Commun!F59","v":0},"did well with the skills that made up the area(s) of",null,null,null,null,null,null,{"$f":"IF(F251>3.99,A251,\"\")","v":""},{"$f":"IF(F252>3.99,A252,\"\")","v":""},{"$f":"IF(F253>3.99,A253,\"\")","v":""},{"$f":"IF(F254>3.99,A254,\"\")","v":""},{"$f":"IF(F255>3.99,A255,\"\")","v":""}]
["Stores",null,null,null,null,{"$f":"Commun!F63","v":0},"had room for improvement with the skills that made up the area(s) of",null,null,null,null,null,null,{"$f":"IF(AND($F251>1.01,$F251<3.99),$A251,\"\")","v":""},{"$f":"IF(AND($F252>1.01,$F252<3.99),$A252,\"\")","v":""},{"$f":"IF(AND($F253>1.01,$F253<3.99),$A253,\"\")","v":""},{"$f":"IF(AND($F254>1.01,$F254<3.99),$A254,\"\")","v":""},{"$f":"IF(AND($F255>1.01,$F255<3.99),$A255,\"\")","v":""}]
["Fast Food Restaurants",null,null,null,null,{"$f":"Commun!F75","v":0},"hadn't had the opportunity to work on the skills in the area(s) of",null,null,null,null,null,null,{"$f":"IF(AND($F251>0.99,$F251<1.000001),$A251,\"\")","v":""},{"$f":"IF(AND($F252>0.99,$F252<1.000001),$A252,\"\")","v":""},{"$f":"IF(AND($F253>0.99,$F253<1.000001),$A253,\"\")","v":""},{"$f":"IF(AND($F254>0.99,$F254<1.000001),$A254,\"\")","v":""},{"$f":"IF(AND($F255>0.99,$F255<1.000001),$A255,\"\")","v":""}]
["Cafeteria Restaurants",null,null,null,null,{"$f":"Commun!F86","v":0},"didn't need the skills in the area(s) of",null,null,null,null,null,null,{"$f":"IF($F251=0,$A251,\"\")","v":"Comparison Shopping From Home"},{"$f":"IF($F252=0,$A252,\"\")","v":"Stores"},{"$f":"IF($F253=0,$A253,\"\")","v":"Fast Food Restaurants"},{"$f":"IF($F254=0,$A254,\"\")","v":"Cafeteria Restaurants"},{"$f":"IF($F255=0,$A255,\"\")","v":"Sit Down Restaurants"}]
["Sit Down Restaurants",null,null,null,null,{"$f":"Commun!F97","v":0}]
[]
[]
[]
[null,null,null,null,null,null,"demonstrated","of the skills needed to travel independently as an adult."]
[{"$f":"G5","v":0},"Concepts",null,null,null,null,"did well with the skills that made up the domain(s) of",null,null,null,null,null,null,{"$f":"IF(A260>79.999999999,B260,\"\")","v":""},{"$f":"IF(A261>79.999999999,B261,\"\")","v":""},{"$f":"IF(A262>79.999999999,B262,\"\")","v":""},{"$f":"IF(A263>79.999999999,B263,\"\")","v":""},{"$f":"IF(A264>79.999999999,B264,\"\")","v":""},{"$f":"IF(A265>79.999999999,B265,\"\")","v":""},{"$f":"IF(A266>79.999999999,B266,\"\")","v":""},{"$f":"IF(A267>79.999999999,B267,\"\")","v":""},{"$f":"IF(A268>79.999999999,B268,\"\")","v":""},{"$f":"IF(A269>79.999999999,B269,\"\")","v":""},{"$f":"IF(A270>79.999999999,B270,\"\")","v":""},{"$f":"IF(A271>79.999999999,B271,\"\")","v":""},{"$f":"IF(A272>79.999999999,B272,\"\")","v":""},{"$f":"IF(A273>79.999999999,B273,\"\")","v":""},{"$f":"IF(A274>79.999999999,B274,\"\")","v":""}]
[{"$f":"G11","v":0},"Movement",null,null,null,null,"had room for improvement with the skills that made up the domain(s) of",null,null,null,null,null,null,{"$f":"IF(AND($A260>20.000001,$A260<79.999999998),$B260,\"\")","v":""},{"$f":"IF(AND($A261>20.000001,$A261<79.999999998),$B261,\"\")","v":""},{"$f":"IF(AND($A262>20.000001,$A262<79.999999998),$B262,\"\")","v":""},{"$f":"IF(AND($A263>20.000001,$A263<79.999999998),$B263,\"\")","v":""},{"$f":"IF(AND($A264>20.000001,$A264<79.999999998),$B264,\"\")","v":""},{"$f":"IF(AND($A265>20.000001,$A265<79.999999998),$B265,\"\")","v":""},{"$f":"IF(AND($A266>20.000001,$A266<79.999999998),$B266,\"\")","v":""},{"$f":"IF(AND($A267>20.000001,$A267<79.999999998),$B267,\"\")","v":""},{"$f":"IF(AND($A268>20.000001,$A268<79.999999998),$B268,\"\")","v":""},{"$f":"IF(AND($A269>20.000001,$A269<79.999999998),$B269,\"\")","v":""},{"$f":"IF(AND($A270>20.000001,$A270<79.999999998),$B270,\"\")","v":""},{"$f":"IF(AND($A271>20.000001,$A271<79.999999998),$B271,\"\")","v":""},{"$f":"IF(AND($A272>20.000001,$A272<79.999999998),$B272,\"\")","v":""},{"$f":"IF(AND($A273>20.000001,$A273<79.999999998),$B273,\"\")","v":""},{"$f":"IF(AND($A274>20.000001,$A274<79.999999998),$B274,\"\")","v":""}]
[{"$f":"G17","v":0},"Single Room O&M",null,null,null,null,"hadn't had the opportunity to work on the skills that made up the domain(s) of",null,null,null,null,null,null,{"$f":"IF(AND($A260>19.9,$A260<20.1),$B260,\"\")","v":""},{"$f":"IF(AND($A261>19.9,$A261<20.1),$B261,\"\")","v":""},{"$f":"IF(AND($A262>19.9,$A262<20.1),$B262,\"\")","v":""},{"$f":"IF(AND($A263>19.9,$A263<20.1),$B263,\"\")","v":""},{"$f":"IF(AND($A264>19.9,$A264<20.1),$B264,\"\")","v":""},{"$f":"IF(AND($A265>19.9,$A265<20.1),$B265,\"\")","v":""},{"$f":"IF(AND($A266>19.9,$A266<20.1),$B266,\"\")","v":""},{"$f":"IF(AND($A267>19.9,$A267<20.1),$B267,\"\")","v":""},{"$f":"IF(AND($A268>19.9,$A268<20.1),$B268,\"\")","v":""},{"$f":"IF(AND($A269>19.9,$A269<20.1),$B269,\"\")","v":""},{"$f":"IF(AND($A270>19.9,$A270<20.1),$B270,\"\")","v":""},{"$f":"IF(AND($A271>19.9,$A271<20.1),$B271,\"\")","v":""},{"$f":"IF(AND($A272>19.9,$A272<20.1),$B272,\"\")","v":""},{"$f":"IF(AND($A273>19.9,$A273<20.1),$B273,\"\")","v":""},{"$f":"IF(AND($A274>19.9,$A274<20.1),$B274,\"\")","v":""}]
[{"$f":"G23","v":0},"Indoor O&M",null,null,null,null,"had no need for the skills that made up the domain(s) of",null,null,null,null,null,null,{"$f":"IF($A260=0,$B260,\"\")","v":"Concepts"},{"$f":"IF($A261=0,$B261,\"\")","v":"Movement"},{"$f":"IF($A262=0,$B262,\"\")","v":"Single Room O&M"},{"$f":"IF($A263=0,$B263,\"\")","v":"Indoor O&M"},{"$f":"IF($A264=0,$B264,\"\")","v":"Self Protection"},{"$f":"IF($A265=0,$B265,\"\")","v":"Guided Travel"},{"$f":"IF($A266=0,$B266,\"\")","v":"Cane Skills"},{"$f":"IF($A267=0,$B267,\"\")","v":"Sidewalk Travel"},{"$f":"IF($A268=0,$B268,\"\")","v":"Street Crossings"},{"$f":"IF($A269=0,$B269,\"\")","v":"Orientation Skills & GPS"},{"$f":"IF($A270=0,$B270,\"\")","v":"Public Transportation"},{"$f":"IF($A271=0,$B271,\"\")","v":"Atypical O&M"},{"$f":"IF($A272=0,$B272,\"\")","v":"Rural Travel"},{"$f":"IF($A273=0,$B273,\"\")","v":"Vision Specific O&M Skills"},{"$f":"IF($A274=0,$B274,\"\")","v":"Community "}]
[{"$f":"G29","v":0},"Self Protection"]
[{"$f":"G35","v":0},"Guided Travel"]
[{"$f":"G41","v":0},"Cane Skills"]
[{"$f":"G47","v":0},"Sidewalk Travel"]
[{"$f":"G53","v":0},"Street Crossings"]
[{"$f":"G59","v":0},"Orientation Skills & GPS"]
[{"$f":"G65","v":0},"Public Transportation"]
[{"$f":"G71","v":0},"Atypical O&M"]
[{"$f":"G77","v":0},"Rural Travel"]
[{"$f":"G83","v":0},"Vision Specific O&M Skills"]
[{"$f":"G89","v":0},"Community "]
[]
["will demonstrate improved skills in Orientation & Mobility by increasing the score on the O&M Inventory from"]
["to a minimum of"]
["by the next annual IEP date."]
["Please see the attached chart. "]
["Over the previous grading period"]
["increased the score on the O&M Inventory from"]
["to"]
["and is now"]
["of the way to the goal of"]
["made gains in the domain(s) of"]
[{"$f":"IF($I286>$H286,$B260,\"\")","v":""},{"$f":"Front!B3","v":0},{"$f":"Front!C3","v":0},{"$f":"Front!D3","v":0},{"$f":"Front!E3","v":0},{"$f":"Front!F3","v":0},{"$f":"Front!G3","v":0},{"$f":"Front!H3","v":0},{"$f":"Front!I3","v":0},{"$f":"Front!J3","v":0},{"$f":"Front!K3","v":0},{"$f":"Front!L3","v":0},{"$f":"Front!M3","v":0}]
["",{"$f":"Front!B4","v":0},{"$f":"Front!C4","v":0},{"$f":"Front!D4","v":0},{"$f":"Front!E4","v":0},{"$f":"Front!F4","v":0},{"$f":"Front!G4","v":0},{"$f":"Front!H4","v":0},{"$f":"Front!I4","v":0},{"$f":"Front!J4","v":0},{"$f":"Front!K4","v":0},{"$f":"Front!L4","v":0},{"$f":"Front!M4","v":0}]
["",{"$f":"Front!B5","v":0},{"$f":"Front!C5","v":0},{"$f":"Front!D5","v":0},{"$f":"Front!E5","v":0},{"$f":"Front!F5","v":0},{"$f":"Front!G5","v":0},{"$f":"Front!H5","v":0},{"$f":"Front!I5","v":0},{"$f":"Front!J5","v":0},{"$f":"Front!K5","v":0},{"$f":"Front!L5","v":0},{"$f":"Front!M5","v":0}]
["",{"$f":"Front!B6","v":0},{"$f":"Front!C6","v":0},{"$f":"Front!D6","v":0},{"$f":"Front!E6","v":0},{"$f":"Front!F6","v":0},{"$f":"Front!G6","v":0},{"$f":"Front!H6","v":0},{"$f":"Front!I6","v":0},{"$f":"Front!J6","v":0},{"$f":"Front!K6","v":0},{"$f":"Front!L6","v":0},{"$f":"Front!M6","v":0}]
["",{"$f":"Front!B7","v":0},{"$f":"Front!C7","v":0},{"$f":"Front!D7","v":0},{"$f":"Front!E7","v":0},{"$f":"Front!F7","v":0},{"$f":"Front!G7","v":0},{"$f":"Front!H7","v":0},{"$f":"Front!I7","v":0},{"$f":"Front!J7","v":0},{"$f":"Front!K7","v":0},{"$f":"Front!L7","v":0},{"$f":"Front!M7","v":0}]
["",{"$f":"Front!B8","v":0},{"$f":"Front!C8","v":0},{"$f":"Front!D8","v":0},{"$f":"Front!E8","v":0},{"$f":"Front!F8","v":0},{"$f":"Front!G8","v":0},{"$f":"Front!H8","v":0},{"$f":"Front!I8","v":0},{"$f":"Front!J8","v":0},{"$f":"Front!K8","v":0},{"$f":"Front!L8","v":0},{"$f":"Front!M8","v":0}]
["",{"$f":"Front!B9","v":0},{"$f":"Front!C9","v":0},{"$f":"Front!D9","v":0},{"$f":"Front!E9","v":0},{"$f":"Front!F9","v":0},{"$f":"Front!G9","v":0},{"$f":"Front!H9","v":0},{"$f":"Front!I9","v":0},{"$f":"Front!J9","v":0},{"$f":"Front!K9","v":0},{"$f":"Front!L9","v":0},{"$f":"Front!M9","v":0}]
["",{"$f":"Front!B10","v":0},{"$f":"Front!C10","v":0},{"$f":"Front!D10","v":0},{"$f":"Front!E10","v":0},{"$f":"Front!F10","v":0},{"$f":"Front!G10","v":0},{"$f":"Front!H10","v":0},{"$f":"Front!I10","v":0},{"$f":"Front!J10","v":0},{"$f":"Front!K10","v":0},{"$f":"Front!L10","v":0},{"$f":"Front!M10","v":0}]
["",{"$f":"Front!B11","v":0},{"$f":"Front!C11","v":0},{"$f":"Front!D11","v":0},{"$f":"Front!E11","v":0},{"$f":"Front!F11","v":0},{"$f":"Front!G11","v":0},{"$f":"Front!H11","v":0},{"$f":"Front!I11","v":0},{"$f":"Front!J11","v":0},{"$f":"Front!K11","v":0},{"$f":"Front!L11","v":0},{"$f":"Front!M11","v":0}]
["",{"$f":"Front!B12","v":0},{"$f":"Front!C12","v":0},{"$f":"Front!D12","v":0},{"$f":"Front!E12","v":0},{"$f":"Front!F12","v":0},{"$f":"Front!G12","v":0},{"$f":"Front!H12","v":0},{"$f":"Front!I12","v":0},{"$f":"Front!J12","v":0},{"$f":"Front!K12","v":0},{"$f":"Front!L12","v":0},{"$f":"Front!M12","v":0}]
["",{"$f":"Front!B13","v":0},{"$f":"Front!C13","v":0},{"$f":"Front!D13","v":0},{"$f":"Front!E13","v":0},{"$f":"Front!F13","v":0},{"$f":"Front!G13","v":0},{"$f":"Front!H13","v":0},{"$f":"Front!I13","v":0},{"$f":"Front!J13","v":0},{"$f":"Front!K13","v":0},{"$f":"Front!L13","v":0},{"$f":"Front!M13","v":0}]
["",{"$f":"Front!B14","v":0},{"$f":"Front!C14","v":0},{"$f":"Front!D14","v":0},{"$f":"Front!E14","v":0},{"$f":"Front!F14","v":0},{"$f":"Front!G14","v":0},{"$f":"Front!H14","v":0},{"$f":"Front!I14","v":0},{"$f":"Front!J14","v":0},{"$f":"Front!K14","v":0},{"$f":"Front!L14","v":0},{"$f":"Front!M14","v":0}]
["",{"$f":"Front!B15","v":0},{"$f":"Front!C15","v":0},{"$f":"Front!D15","v":0},{"$f":"Front!E15","v":0},{"$f":"Front!F15","v":0},{"$f":"Front!G15","v":0},{"$f":"Front!H15","v":0},{"$f":"Front!I15","v":0},{"$f":"Front!J15","v":0},{"$f":"Front!K15","v":0},{"$f":"Front!L15","v":0},{"$f":"Front!M15","v":0}]
["",{"$f":"Front!B16","v":0},{"$f":"Front!C16","v":0},{"$f":"Front!D16","v":0},{"$f":"Front!E16","v":0},{"$f":"Front!F16","v":0},{"$f":"Front!G16","v":0},{"$f":"Front!H16","v":0},{"$f":"Front!I16","v":0},{"$f":"Front!J16","v":0},{"$f":"Front!K16","v":0},{"$f":"Front!L16","v":0},{"$f":"Front!M16","v":0}]
["",{"$f":"Front!B17","v":0},{"$f":"Front!C17","v":0},{"$f":"Front!D17","v":0},{"$f":"Front!E17","v":0},{"$f":"Front!F17","v":0},{"$f":"Front!G17","v":0},{"$f":"Front!H17","v":0},{"$f":"Front!I17","v":0},{"$f":"Front!J17","v":0},{"$f":"Front!K17","v":0},{"$f":"Front!L17","v":0},{"$f":"Front!M17","v":0}]

{"sheet":"R9","index":24,"n_rows":300,"n_cols":29,"rows_kept":300,"cut":false,"hidden":false,"merged":[]}
[{"$f":"'R1'!A1","v":0},"← TYPE STUDENT NAME IN GREEN BOX",null,null,null,null,null,null,null,null,null,null,null,null,"%prog","total","tot round","%pr rnd","goal"]
["↓ HIGHLIGHT & COPY WHITE CELLS; PASTE IN WORD DOCUMENT AS \"KEEP TEXT ONLY\" OR \"UNFORMATTED\"",null,null,null,null,null,null,null,null,null,null,null,null,null,{"$f":"Front!B20","v":0},{"$f":"Front!B18","v":0},{"$f":"ROUND(P2,2)","v":0},{"$f":"ROUND(O2,2)","v":0},{"$f":"Front!B19","v":1}]
[{"$f":"CONCATENATE(A150,\" \",K3,\"%\")","v":"NMSBVI O&M INVENTORY TOTAL SCORE:  0%"},null,null,null,null,null,null,null,null,{"$f":"Front!J18","v":0},{"$f":"ROUND(J3,2)","v":0},null,null,null,{"$f":"Front!C20","v":0},{"$f":"Front!C18","v":0},0,0,{"$f":"Front!C19","v":1}]
[null,null,null,null,null,null,null,null,null,null,null,null,null,null,{"$f":"Front!D20","v":0},{"$f":"Front!D18","v":0},0,0,{"$f":"Front!D19","v":1}]
[{"$f":"CONCATENATE(A151,\" \",H5,\"%\")","v":"Concepts Score: 0%"},null,null,null,null,null,{"$f":"Front!J3","v":0},{"$f":"ROUND(G5,1)","v":0},"← Don't worry about these 2 numbers",null,null,null,null,null,{"$f":"Front!E20","v":0},{"$f":"Front!E18","v":0},0,0,{"$f":"Front!E19","v":1}]
[{"$f":"CONCATENATE($A1,\" \",G152,\" \",N152,\", \",O152,\", \",P152,\", \",Q152)","v":"0 did well with the skills that made up the area(s) of , , , "},null,null,null,null,null,null,null,null,null,null,null,null,null,{"$f":"Front!F20","v":0},{"$f":"Front!F18","v":0},0,0,{"$f":"Front!F19","v":1}]
[{"$f":"CONCATENATE($A1,\" \",G153,\" \",N153,\", \",O153,\", \",P153,\", \",Q153)","v":"0 had room for improvement with the skills that made up the area(s) of , , , "},null,null,null,null,null,null,null,null,null,null,null,null,null,{"$f":"Front!G20","v":0},{"$f":"Front!G18","v":0},0,0,{"$f":"Front!G19","v":1}]
[{"$f":"CONCATENATE($A1,\" \",G154,\" \",N154,\", \",O154,\", \",P154,\", \",Q154)","v":"0 hadn't had the opportunity to work on the skills in the area(s) of , , , "},null,null,null,null,null,null,null,null,null,null,null,null,null,{"$f":"Front!H20","v":0},{"$f":"Front!H18","v":0},0,0,{"$f":"Front!H19","v":1}]
[{"$f":"CONCATENATE($A1,\" \",G155,\" \",N155,\", \",O155,\", \",P155,\", \",Q155)","v":"0 didn't need the skills in the area(s) of Vocabulary, Laterality, Parallel/Perpendicular, Time And Distance"},null,null,null,null,null,null,null,null,null,null,null,null,null,{"$f":"Front!I20","v":0},{"$f":"Front!I18","v":0},0,0,{"$f":"Front!I19","v":1}]
[null,null,null,null,null,null,null,null,null,null,null,null,null,null,{"$f":"Front!J20","v":0},{"$f":"Front!J18","v":0},0,0,{"$f":"Front!J19","v":1}]
[{"$f":"CONCATENATE(A156,\" \",H11,\"%\")","v":"Movement Score: 0%"},null,null,null,null,null,{"$f":"Front!J4","v":0},{"$f":"ROUND(G11,1)","v":0},null,null,null,null,null,null,{"$f":"Front!K20","v":0},{"$f":"Front!K18","v":0},0,0,{"$f":"Front!K19","v":1}]
[{"$f":"CONCATENATE($A1,\" \",G157,\" \",N157,\", \",O157,\", \",P157,\", \",Q157)","v":"0 did well with the skills that made up the area(s) of , , , "},null,null,null,null,null,null,null,null,null,null,null,null,null,{"$f":"Front!L20","v":0},{"$f":"Front!L18","v":0},0,0,{"$f":"Front!L19","v":1}]
[{"$f":"CONCATENATE($A1,\" \",G158,\" \",N158,\", \",O158,\", \",P158,\", \",Q158)","v":"0 had room for improvement with the skills that made up the area(s) of , , , "},null,null,null,null,null,null,null,null,null,null,null,null,null,{"$f":"Front!M20","v":0},{"$f":"Front!M18","v":0},0,0,{"$f":"Front!M19","v":1}]
[{"$f":"CONCATENATE($A1,\" \",G159,\" \",N159,\", \",O159,\", \",P159,\", \",Q159)","v":"0 hadn't had the opportunity to work on the skills in the area(s) of , , , "},null,null,null,null,null,null,null,null,null,null,null,null,null,"↑ Don't worry about this chart"]
[{"$f":"CONCATENATE($A1,\" \",G160,\" \",N160,\", \",O160,\", \",P160,\", \",Q160)","v":"0 didn't need the skills in the area(s) of Walking, Maintaining Body Alignment While Walking, Balance, Turns"}]
[null,null,null,null,null,null,"DO NOT HIGHLIGHT & COPY ANY OF THE GREY CELLS; ALL THE TEXT YOU NEED IS IN WHITE CELLS"]
[{"$f":"CONCATENATE(A161,\" \",H17,\"%\")","v":"Single Room O&M Score: 0%"},null,null,null,null,null,{"$f":"Front!J5","v":0},{"$f":"ROUND(G17,1)","v":0}]
[{"$f":"CONCATENATE($A1,\" \",G162,\" \",N162,\", \",O162,\", \",P162,\", \",Q162,\", \",R162)","v":"0 did well with the skills that made up the area(s) of , , , , "}]
[{"$f":"CONCATENATE($A1,\" \",G163,\" \",N163,\", \",O163,\", \",P163,\", \",Q163,\", \",R163)","v":"0 had room for improvement with the skills that made up the area(s) of , , , , "}]
[{"$f":"CONCATENATE($A1,\" \",G164,\" \",N164,\", \",O164,\", \",P164,\", \",Q164,\", \",R164)","v":"0 hadn't had the opportunity to work on the skills in the area(s) of , , , , "}]
[{"$f":"CONCATENATE($A1,\" \",G165,\" \",N165,\", \",O165,\", \",P165,\", \",Q165,\", \",R165)","v":"0 didn't need the skills in the area(s) of Familiar Rooms, Unfamiliar Rooms, Seating (Rows), Seating (Tables), Locating Dropped Objects"}]
[null,null,null,null,null,null,"COPYING THE GREY CELLS WILL JUST MAKE A MESS OF YOUR WORD DOCUMENT. I KNOW IT LOOKS"]
[{"$f":"CONCATENATE(A167,\" \",H23,\"%\")","v":"Indoor O&M Score: 0%"},null,null,null,null,null,{"$f":"Front!J6","v":0},{"$f":"ROUND(G23,1)","v":0}]
[{"$f":"CONCATENATE($A1,\" \",G168,\" \",N168,\", \",O168,\", \",P168,\", \",Q168,\", \",R168,\", \",S168,\", \",T168,\", \",U168)","v":"0 did well with the skills that made up the area(s) of , , , , , , , "}]
[{"$f":"CONCATENATE($A1,\" \",G169,\" \",N169,\", \",O169,\", \",P169,\", \",Q169,\", \",R169,\", \",S169,\", \",T169,\", \",U169)","v":"0 had room for improvement with the skills that made up the area(s) of , , , , , , , "}]
[{"$f":"CONCATENATE($A1,\" \",G170,\" \",N170,\", \",O170,\", \",P170,\", \",Q170,\", \",R170,\", \",S170,\", \",T170,\", \",U170)","v":"0 hadn't had the opportunity to work on the skills in the area(s) of , , , , , , , "}]
[{"$f":"CONCATENATE($A1,\" \",G171,\" \",N171,\", \",O171,\", \",P171,\", \",Q171,\", \",R171,\", \",S171,\", \",T171,\", \",U171)","v":"0 didn't need the skills in the area(s) of Hand Trailing, Navigating Open Spaces, Doors, Ascending/Descending Stairs, Escalators, Elevators, Moving Sidewalks, Turnstiles"}]
[null,null,null,null,null,null,"LIKE THERE IS TEXT IN THE GREY CELLS BUT THERE REALLY ISN'T. TRUST ME; I'M AN EXCEL NERD."]
[{"$f":"CONCATENATE(A176,\" \",H29,\"%\")","v":"Self Protection Score: 0%"},null,null,null,null,null,{"$f":"Front!J7","v":0},{"$f":"ROUND(G29,1)","v":0}]
[{"$f":"CONCATENATE($A1,\" \",G176,\" \",N176,\", \",O176,\", \",P176)","v":"0 did well with the skills that made up the area(s) of , , "}]
[{"$f":"CONCATENATE($A1,\" \",G177,\" \",N177,\", \",O177,\", \",P177)","v":"0 had room for improvement with the skills that made up the area(s) of , , "}]
[{"$f":"CONCATENATE($A1,\" \",G178,\" \",N178,\", \",O178,\", \",P178)","v":"0 hadn't had the opportunity to work on the skills in the area(s) of , , "}]
[{"$f":"CONCATENATE($A1,\" \",G179,\" \",N179,\", \",O179,\", \",P179)","v":"0 didn't need the skills in the area(s) of Upper Hand Protective Technique, Lower Forearm Protective Technique, Protective Clothing"}]
[]
[{"$f":"CONCATENATE(A180,\" \",H35,\"%\")","v":"Guided Travel Score: 0%"},null,null,null,null,null,{"$f":"Front!J8","v":0},{"$f":"ROUND(G35,1)","v":0}]
[{"$f":"CONCATENATE($A1,\" \",G181,\" \",N181,\", \",O181,\", \",P181,\", \",Q181)","v":"0 did well with the skills that made up the area(s) of , , , "}]
[{"$f":"CONCATENATE($A1,\" \",G182,\" \",N182,\", \",O182,\", \",P182,\", \",Q182)","v":"0 had room for improvement with the skills that made up the area(s) of , , , "}]
[{"$f":"CONCATENATE($A1,\" \",G183,\" \",N183,\", \",O183,\", \",P183,\", \",Q183)","v":"0 hadn't had the opportunity to work on the skills in the area(s) of , , , "}]
[{"$f":"CONCATENATE($A1,\" \",G184,\" \",N184,\", \",O184,\", \",P184,\", \",Q184)","v":"0 didn't need the skills in the area(s) of Human Guide, Walking With Another (No Direct Contact), Menus, Getting Rides"}]
[]
[{"$f":"CONCATENATE(A185,\" \",H41,\"%\")","v":"Cane Skills Score: 0%"},null,null,null,null,null,{"$f":"Front!J9","v":0},{"$f":"ROUND(G41,1)","v":0}]
[{"$f":"CONCATENATE($A1,\" \",G186,\" \",N186,\", \",O186,\", \",P186,\", \",Q186,\", \",R186,\", \",S186,\", \",T186)","v":"0 did well with the skills that made up the area(s) of , , , , , , "}]
[{"$f":"CONCATENATE($A1,\" \",G187,\" \",N187,\", \",O187,\", \",P187,\", \",Q187,\", \",R187,\", \",S187,\", \",T187)","v":"0 had room for improvement with the skills that made up the area(s) of , , , , , , "}]
[{"$f":"CONCATENATE($A1,\" \",G188,\" \",N188,\", \",O188,\", \",P188,\", \",Q188,\", \",R188,\", \",S188,\", \",T188)","v":"0 hadn't had the opportunity to work on the skills in the area(s) of , , , , , , "}]
[{"$f":"CONCATENATE($A1,\" \",G189,\" \",N189,\", \",O189,\", \",P189,\", \",Q189,\", \",R189,\", \",S189,\", \",T189)","v":"0 didn't need the skills in the area(s) of Basic Skills, Types Of Grips, Constant Contact, Diagonal/Diagonal Trail, Two Point Touch/Touch Trail, Touch And Drag, Three Point Touch"}]
[]
[{"$f":"CONCATENATE(A193,\" \",H47,\"%\")","v":"Sidewalk Travel Score: 0%"},null,null,null,null,null,{"$f":"Front!J10","v":0},{"$f":"ROUND(G47,1)","v":0}]
[{"$f":"CONCATENATE($A1,\" \",G193,\" \",N193,\", \",O193,\", \",P193)","v":"0 did well with the skills that made up the area(s) of , , "}]
[{"$f":"CONCATENATE($A1,\" \",G194,\" \",N194,\", \",O194,\", \",P194)","v":"0 had room for improvement with the skills that made up the area(s) of , , "}]
[{"$f":"CONCATENATE($A1,\" \",G195,\" \",N195,\", \",O195,\", \",P195)","v":"0 hadn't had the opportunity to work on the skills in the area(s) of , , "}]
[{"$f":"CONCATENATE($A1,\" \",G196,\" \",N196,\", \",O196,\", \",P196)","v":"0 didn't need the skills in the area(s) of Walking On Sidewalks, Walking On Irregular Sidewalks, Correcting for Veering On Sidewalks"}]
[]
[{"$f":"CONCATENATE(A197,\" \",H53,\"%\")","v":"Street Crossings Score: 0%"},null,null,null,null,null,{"$f":"Front!J11","v":0},{"$f":"ROUND(G53,1)","v":0}]
[{"$f":"CONCATENATE($A1,\" \",G198,\" \",N198,\", \",O198,\", \",P198,\", \",Q198,\", \",R198,\", \",S198,\", \",T198,\", \",U198,\", \",V198,\", \",W198,\", \",X198,\", \",Y198,\", \",Z198,\", \",AA198,\", \",AB198,\", \",AC198)","v":"0 did well with the skills that made up the area(s) of , , , , , , , , , , , , , , , "}]
[{"$f":"CONCATENATE($A1,\" \",G199,\" \",N199,\", \",O199,\", \",P199,\", \",Q199,\", \",R199,\", \",S199,\", \",T199,\", \",U199,\", \",V199,\", \",W199,\", \",X199,\", \",Y199,\", \",Z199,\", \",AA199,\", \",AB199,\", \",AC199)","v":"0 had room for improvement with the skills that made up the area(s) of , , , , , , , , , , , , , , , "}]
[{"$f":"CONCATENATE($A1,\" \",G200,\" \",N200,\", \",O200,\", \",P200,\", \",Q200,\", \",R200,\", \",S200,\", \",T200,\", \",U200,\", \",V200,\", \",W200,\", \",X200,\", \",Y200,\", \",Z200,\", \",AA200,\", \",AB200,\", \",AC200)","v":"0 hadn't had the opportunity to work on the skills in the area(s) of , , , , , , , , , , , , , , , "}]
[{"$f":"CONCATENATE($A1,\" \",G201,\" \",N201,\", \",O201,\", \",P201,\", \",Q201,\", \",R201,\", \",S201,\", \",T201,\", \",U201,\", \",V201,\", \",W201,\", \",X201,\", \",Y201,\", \",Z201,\", \",AA201,\", \",AB201,\", \",AC201)","v":"0 didn't need the skills in the area(s) of Anticipating Street Crossings, Maintaining Line Of Travel, Maintaining Body Alignment, Re-establishing Body Alignment, Analyzing Intersections, Plus Intersections, T Intersections, Y Intersections, Roundabouts, Significantly Offset Intersections, Atypical Intersections, Newly Developed Intersections, Channelized Right Turn Lanes, Veering, Understanding Drivers’ Perspectives, Pedestrian Signals"}]
[]
[{"$f":"CONCATENATE(A214,\" \",H59,\"%\")","v":"Orientation Skills and GPS Score: 0%"},null,null,null,null,null,{"$f":"Front!J12","v":0},{"$f":"ROUND(G59,1)","v":0}]
[{"$f":"CONCATENATE($A1,\" \",G215,\" \",N215,\", \",O215,\", \",P215,\", \",Q215,\", \",R215,\", \",S215,\", \",T215,\", \",U215,\", \",V215,\", \",W215)","v":"0 did well with the skills that made up the area(s) of , , , , , , , , , "}]
[{"$f":"CONCATENATE($A1,\" \",G216,\" \",N216,\", \",O216,\", \",P216,\", \",Q216,\", \",R216,\", \",S216,\", \",T216,\", \",U216,\", \",V216,\", \",W216)","v":"0 had room for improvement with the skills that made up the area(s) of , , , , , , , , , "}]
[{"$f":"CONCATENATE($A1,\" \",G217,\" \",N217,\", \",O217,\", \",P217,\", \",Q217,\", \",R217,\", \",S217,\", \",T217,\", \",U217,\", \",V217,\", \",W217)","v":"0 hadn't had the opportunity to work on the skills in the area(s) of , , , , , , , , , "}]
[{"$f":"CONCATENATE($A1,\" \",G218,\" \",N218,\", \",O218,\", \",P218,\", \",Q218,\", \",R218,\", \",S218,\", \",T218,\", \",U218,\", \",V218,\", \",W218)","v":"0 didn't need the skills in the area(s) of Cardinality, Clues, Landmarks, Indoor Numbering Systems, Outdoor Numbering Systems, Grid System, Divisors And Block Numbering, Transferability, GPS, Maps"}]
[]
[{"$f":"CONCATENATE(A225,\" \",H65,\"%\")","v":"Public Transportation Score: 0%"},null,null,null,null,null,{"$f":"Front!J13","v":0},{"$f":"ROUND(G65,1)","v":0}]
[{"$f":"CONCATENATE($A1,\" \",G226,\" \",N226,\", \",O226,\", \",P226,\", \",Q226,\", \",R226,\", \",S226,\", \",T226)","v":"0 did well with the skills that made up the area(s) of , , , , , , "}]
[{"$f":"CONCATENATE($A1,\" \",G227,\" \",N227,\", \",O227,\", \",P227,\", \",Q227,\", \",R227,\", \",S227,\", \",T227)","v":"0 had room for improvement with the skills that made up the area(s) of , , , , , , "}]
[{"$f":"CONCATENATE($A1,\" \",G228,\" \",N228,\", \",O228,\", \",P228,\", \",Q228,\", \",R228,\", \",S228,\", \",T228)","v":"0 hadn't had the opportunity to work on the skills in the area(s) of , , , , , , "}]
[{"$f":"CONCATENATE($A1,\" \",G229,\" \",N229,\", \",O229,\", \",P229,\", \",Q229,\", \",R229,\", \",S229,\", \",T229)","v":"0 didn't need the skills in the area(s) of Identifying Common Public Transportation Options, Intra-City Bus Travel, Inter-City Bus Travel, Taxi/Ride Service, Handi-Ride/Para Transit, Air Travel, Subway/Light Rail"}]
[]
[{"$f":"CONCATENATE(A233,\" \",H71,\"%\")","v":"Atypical O&M Score: 0%"},null,null,null,null,null,{"$f":"Front!J14","v":0},{"$f":"ROUND(G71,1)","v":0}]
[{"$f":"CONCATENATE($A1,\" \",G234,\" \",N234,\", \",O234,\", \",P234,\", \",Q234)","v":"0 did well with the skills that made up the area(s) of , , , "}]
[{"$f":"CONCATENATE($A1,\" \",G235,\" \",N235,\", \",O235,\", \",P235,\", \",Q235)","v":"0 had room for improvement with the skills that made up the area(s) of , , , "}]
[{"$f":"CONCATENATE($A1,\" \",G236,\" \",N236,\", \",O236,\", \",P236,\", \",Q236)","v":"0 hadn't had the opportunity to work on the skills in the area(s) of , , , "}]
[{"$f":"CONCATENATE($A1,\" \",G237,\" \",N237,\", \",O237,\", \",P237,\", \",Q237)","v":"0 didn't need the skills in the area(s) of Fences, Fields (Urban), Parks/Playgrounds, Inclement Weather"}]
[]
[{"$f":"CONCATENATE(A238,\" \",H77,\"%\")","v":"Rural Travel Score: 0%"},null,null,null,null,null,{"$f":"Front!J15","v":0},{"$f":"ROUND(G77,1)","v":0}]
[{"$f":"CONCATENATE($A1,\" \",G239,\" \",N239,\", \",O239,\", \",P239,\", \",Q239,\", \",R239)","v":"0 did well with the skills that made up the area(s) of , , , , "}]
[{"$f":"CONCATENATE($A1,\" \",G240,\" \",N240,\", \",O240,\", \",P240,\", \",Q240,\", \",R240)","v":"0 had room for improvement with the skills that made up the area(s) of , , , , "}]
[{"$f":"CONCATENATE($A1,\" \",G241,\" \",N241,\", \",O241,\", \",P241,\", \",Q241,\", \",R241)","v":"0 hadn't had the opportunity to work on the skills in the area(s) of , , , , "}]
[{"$f":"CONCATENATE($A1,\" \",G242,\" \",N242,\", \",O242,\", \",P242,\", \",Q242,\", \",R242)","v":"0 didn't need the skills in the area(s) of Understanding Unique Dangers Related To Rural Travel, Walking Along Rural Roads, Ditches/Arroyos, Identifying And Going Around Items In Rural Areas, Rural Street Crossings"}]
[]
[{"$f":"CONCATENATE(A244,\" \",H83,\"%\")","v":"Vision Specific O&M Skills Score: 0%"},null,null,null,null,null,{"$f":"Front!J16","v":0},{"$f":"ROUND(G83,1)","v":0}]
[{"$f":"CONCATENATE($A1,\" \",G245,\" \",N245,\", \",O245,\", \",P245,\", \",Q245,\", \",R245)","v":"0 did well with the skills that made up the area(s) of , , , , "}]
[{"$f":"CONCATENATE($A1,\" \",G246,\" \",N246,\", \",O246,\", \",P246,\", \",Q246,\", \",R246)","v":"0 had room for improvement with the skills that made up the area(s) of , , , , "}]
[{"$f":"CONCATENATE($A1,\" \",G247,\" \",N247,\", \",O247,\", \",P247,\", \",Q247,\", \",R247)","v":"0 hadn't had the opportunity to work on the skills in the area(s) of , , , , "}]
[{"$f":"CONCATENATE($A1,\" \",G248,\" \",N248,\", \",O248,\", \",P248,\", \",Q248,\", \",R248)","v":"0 didn't need the skills in the area(s) of Scanning Materials, Scanning Environments, Magnifiers And CCTVs, Monoculars, Visual Traveling"}]
[]
[{"$f":"CONCATENATE(A250,\" \",H89,\"%\")","v":"Community Score: 0%"},null,null,null,null,null,{"$f":"Front!J17","v":0},{"$f":"ROUND(G89,1)","v":0}]
[{"$f":"CONCATENATE($A1,\" \",G251,\" \",N251,\", \",O251,\", \",P251,\", \",Q251,\", \",R251)","v":"0 did well with the skills that made up the area(s) of , , , , "}]
[{"$f":"CONCATENATE($A1,\" \",G252,\" \",N252,\", \",O252,\", \",P252,\", \",Q252,\", \",R252)","v":"0 had room for improvement with the skills that made up the area(s) of , , , , "}]
[{"$f":"CONCATENATE($A1,\" \",G253,\" \",N253,\", \",O253,\", \",P253,\", \",Q253,\", \",R253)","v":"0 hadn't had the opportunity to work on the skills in the area(s) of , , , , "}]
[{"$f":"CONCATENATE($A1,\" \",G254,\" \",N254,\", \",O254,\", \",P254,\", \",Q254,\", \",R254)","v":"0 didn't need the skills in the area(s) of Comparison Shopping From Home, Stores, Fast Food Restaurants, Cafeteria Restaurants, Sit Down Restaurants"}]
[]
["Summary"]
[{"$f":"CONCATENATE(A1,\" \",G259,\" \",K3,\" \",H259)","v":"0 demonstrated 0 of the skills needed to travel independently as an adult."}]
[{"$f":"CONCATENATE($A1,\" \",G260,\" \",N260,\", \",O260,\", \",P260,\", \",Q260,\", \",R260,\", \",S260,\", \",T260,\", \",U260,\", \",V260,\", \",W260,\", \",X260,\", \",Y260,\", \",Z260,\", \",AA260,\", \",AB260)","v":"0 did well with the skills that made up the domain(s) of , , , , , , , , , , , , , , "}]
[{"$f":"CONCATENATE($A1,\" \",G261,\" \",N261,\", \",O261,\", \",P261,\", \",Q261,\", \",R261,\", \",S261,\", \",T261,\", \",U261,\", \",V261,\", \",W261,\", \",X261,\", \",Y261,\", \",Z261,\", \",AA261,\", \",AB261)","v":"0 had room for improvement with the skills that made up the domain(s) of , , , , , , , , , , , , , , "}]
[{"$f":"CONCATENATE($A1,\" \",G262,\" \",N262,\", \",O262,\", \",P262,\", \",Q262,\", \",R262,\", \",S262,\", \",T262,\", \",U262,\", \",V262,\", \",W262,\", \",X262,\", \",Y262,\", \",Z262,\", \",AA262,\", \",AB262)","v":"0 hadn't had the opportunity to work on the skills that made up the domain(s) of , , , , , , , , , , , , , , "}]
[{"$f":"CONCATENATE($A1,\" \",G263,\" \",N263,\", \",O263,\", \",P263,\", \",Q263,\", \",R263,\", \",S263,\", \",T263,\", \",U263,\", \",V263,\", \",W263,\", \",X263,\", \",Y263,\", \",Z263,\", \",AA263,\", \",AB263)","v":"0 had no need for the skills that made up the domain(s) of Concepts, Movement, Single Room O&M, Indoor O&M, Self Protection, Guided Travel, Cane Skills, Sidewalk Travel, Street Crossings, Orientation Skills & GPS, Public Transportation, Atypical O&M, Rural Travel, Vision Specific O&M Skills, Community "}]
[]
[]
[]
[]
[]
[]
[]
[]
[]
["Present Level of Educational Performance"]
[{"$f":"CONCATENATE($A97,\" \",A98,\" \",A99,\", \",A100)","v":"0 did well with the skills that made up the domain(s) of , , , , , , , , , , , , , ,  0 had room for improvement with the skills that made up the domain(s) of , , , , , , , , , , , , , ,  0 hadn't had the opportunity to work on the skills that made up the domain(s) of , , , , , , , , , , , , , , , 0 had no need for the skills that made up the domain(s) of Concepts, Movement, Single Room O&M, Indoor O&M, Self Protection, Guided Travel, Cane Skills, Sidewalk Travel, Street Crossings, Orientation Skills & GPS, Public Transportation, Atypical O&M, Rural Travel, Vision Specific O&M Skills, Community "}]
[]
["Strengths"]
[{"$f":"A97","v":"0 did well with the skills that made up the domain(s) of , , , , , , , , , , , , , , "}]
[]
["Concerns"]
[{"$f":"A98","v":"0 had room for improvement with the skills that made up the domain(s) of , , , , , , , , , , , , , , "}]
[]
["Goal"]
[{"$f":"CONCATENATE($A1,\" \",A276,\" \",K3,\"% \",A277,\" \",(ROUNDUP(K3+5,0)),\"% \",A278)","v":"0 will demonstrate improved skills in Orientation & Mobility by increasing the score on the O&M Inventory from 0% to a minimum of 5% by the next annual IEP date."}]
[]
[]
[]
[]
["Progress Report"]
[{"$f":"CONCATENATE(A279,A280,\" \",$A1,\" \",A281,\" \",Q9,\"% \",A282,\" \",Q10,\"% \",A283,\" \",R10,\"% \",A284,\" \",S10,\"%. \",A1,\" \",A285,\" \",A286,\", \",A287,\", \",A288,\", \",A289,\", \",A290,\", \",A291,\", \",A292,\", \",A293,\", \",A294,\", \",A295,\", \",A296,\", \",A297,\", \",A298,\", \",A299,\", \",A300)","v":"Please see the attached chart. Over the previous grading period 0 increased the score on the O&M Inventory from 0% to 0% and is now 0% of the way to the goal of 1%. 0 made gains in the domain(s) of , , , , , , , , , , , , , , "}]
[]
[]
[]
[]
[]
[]
[]
[]
[]
[]
[]
[]
[]
[]
[]
[]
[]
[]
[]
[]
[]
[]
["↓Don't worry about any of this. It fills in automatically and is what creates the useful text "]
["NMSBVI O&M INVENTORY TOTAL SCORE: "]
["Concepts Score:"]
["Vocabulary",null,null,null,null,{"$f":"Concept!H42","v":0},"did well with the skills that made up the area(s) of",null,null,null,null,null,null,{"$f":"IF(F152>3.99,A152,\"\")","v":""},{"$f":"IF(F153>3.99,A153,\"\")","v":""},{"$f":"IF(F154>3.99,A154,\"\")","v":""},{"$f":"IF(F155>3.99,A155,\"\")","v":""},{"$f":"IF(F156>4,E156,\"\")","v":""}]
["Laterality",null,null,null,null,{"$f":"Concept!H48","v":0},"had room for improvement with the skills that made up the area(s) of",null,null,null,null,null,null,{"$f":"IF(AND($F152>1.01,$F152<3.99),$A152,\"\")","v":""},{"$f":"IF(AND($F153>1.01,$F153<3.99),$A153,\"\")","v":""},{"$f":"IF(AND($F154>1.01,$F154<3.99),$A154,\"\")","v":""},{"$f":"IF(AND($F155>1.01,$F155<3.99),$A155,\"\")","v":""}]
["Parallel/Perpendicular",null,null,null,null,{"$f":"Concept!H57","v":0},"hadn't had the opportunity to work on the skills in the area(s) of",null,null,null,null,null,null,{"$f":"IF(AND($F152>0.99,$F152<1.000001),$A152,\"\")","v":""},{"$f":"IF(AND($F153>0.99,$F153<1.000001),$A153,\"\")","v":""},{"$f":"IF(AND($F154>0.99,$F154<1.000001),$A154,\"\")","v":""},{"$f":"IF(AND($F155>0.99,$F155<1.000001),$A155,\"\")","v":""}]
["Time And Distance",null,null,null,null,{"$f":"Concept!H62","v":0},"didn't need the skills in the area(s) of",null,null,null,null,null,null,{"$f":"IF($F152=0,$A152,\"\")","v":"Vocabulary"},{"$f":"IF($F153=0,$A153,\"\")","v":"Laterality"},{"$f":"IF($F154=0,$A154,\"\")","v":"Parallel/Perpendicular"},{"$f":"IF($F155=0,$A155,\"\")","v":"Time And Distance"}]
["Movement Score:"]
["Walking",null,null,null,null,{"$f":"Move!H41","v":0},"did well with the skills that made up the area(s) of",null,null,null,null,null,null,{"$f":"IF(F157>3.99,A157,\"\")","v":""},{"$f":"IF(F158>3.99,A158,\"\")","v":""},{"$f":"IF(F159>3.99,A159,\"\")","v":""},{"$f":"IF(F160>3.99,A160,\"\")","v":""}]
["Maintaining Body Alignment While Walking",null,null,null,null,{"$f":"Move!H47","v":0},"had room for improvement with the skills that made up the area(s) of",null,null,null,null,null,null,{"$f":"IF(AND($F157>1.01,$F157<3.99),$A157,\"\")","v":""},{"$f":"IF(AND($F158>1.01,$F158<3.99),$A158,\"\")","v":""},{"$f":"IF(AND($F159>1.01,$F159<3.99),$A159,\"\")","v":""},{"$f":"IF(AND($F160>1.01,$F160<3.99),$A160,\"\")","v":""}]
["Balance",null,null,null,null,{"$f":"Move!H53","v":0},"hadn't had the opportunity to work on the skills in the area(s) of",null,null,null,null,null,null,{"$f":"IF(AND($F157>0.99,$F157<1.000001),$A157,\"\")","v":""},{"$f":"IF(AND($F158>0.99,$F158<1.000001),$A158,\"\")","v":""},{"$f":"IF(AND($F159>0.99,$F159<1.000001),$A159,\"\")","v":""},{"$f":"IF(AND($F160>0.99,$F160<1.000001),$A160,\"\")","v":""}]
["Turns",null,null,null,null,{"$f":"Move!H61","v":0},"didn't need the skills in the area(s) of",null,null,null,null,null,null,{"$f":"IF($F157=0,$A157,\"\")","v":"Walking"},{"$f":"IF($F158=0,$A158,\"\")","v":"Maintaining Body Alignment While Walking"},{"$f":"IF($F159=0,$A159,\"\")","v":"Balance"},{"$f":"IF($F160=0,$A160,\"\")","v":"Turns"}]
["Single Room O&M Score:"]
["Familiar Rooms",null,null,null,null,{"$f":"SingRm!H45","v":0},"did well with the skills that made up the area(s) of",null,null,null,null,null,null,{"$f":"IF(F162>3.99,A162,\"\")","v":""},{"$f":"IF(F163>3.99,A163,\"\")","v":""},{"$f":"IF(F164>3.99,A164,\"\")","v":""},{"$f":"IF(F165>3.99,A165,\"\")","v":""},{"$f":"IF(F166>3.99,A166,\"\")","v":""}]
["Unfamiliar Rooms",null,null,null,null,{"$f":"SingRm!H51","v":0},"had room for improvement with the skills that made up the area(s) of",null,null,null,null,null,null,{"$f":"IF(AND($F162>1.01,$F162<3.99),$A162,\"\")","v":""},{"$f":"IF(AND($F163>1.01,$F163<3.99),$A163,\"\")","v":""},{"$f":"IF(AND($F164>1.01,$F164<3.99),$A164,\"\")","v":""},{"$f":"IF(AND($F165>1.01,$F165<3.99),$A165,\"\")","v":""},{"$f":"IF(AND($F166>1.01,$F166<3.99),$A166,\"\")","v":""}]
["Seating (Rows)",null,null,null,null,{"$f":"SingRm!H58","v":0},"hadn't had the opportunity to work on the skills in the area(s) of",null,null,null,null,null,null,{"$f":"IF(AND($F162>0.99,$F162<1.000001),$A162,\"\")","v":""},{"$f":"IF(AND($F163>0.99,$F163<1.000001),$A163,\"\")","v":""},{"$f":"IF(AND($F164>0.99,$F164<1.000001),$A164,\"\")","v":""},{"$f":"IF(AND($F165>0.99,$F165<1.000001),$A165,\"\")","v":""},{"$f":"IF(AND($F166>0.99,$F166<1.000001),$A166,\"\")","v":""}]
["Seating (Tables)",null,null,null,null,{"$f":"SingRm!H65","v":0},"didn't need the skills in the area(s) of",null,null,null,null,null,null,{"$f":"IF($F162=0,$A162,\"\")","v":"Familiar Rooms"},{"$f":"IF($F163=0,$A163,\"\")","v":"Unfamiliar Rooms"},{"$f":"IF($F164=0,$A164,\"\")","v":"Seating (Rows)"},{"$f":"IF($F165=0,$A165,\"\")","v":"Seating (Tables)"},{"$f":"IF($F166=0,$A166,\"\")","v":"Locating Dropped Objects"}]
["Locating Dropped Objects",null,null,null,null,{"$f":"SingRm!H70","v":0}]
["Indoor O&M Score:"]
["Hand Trailing",null,null,null,null,{"$f":"Indoor!H72","v":0},"did well with the skills that made up the area(s) of",null,null,null,null,null,null,{"$f":"IF(F168>3.99,A168,\"\")","v":""},{"$f":"IF(F169>3.99,A169,\"\")","v":""},{"$f":"IF(F170>3.99,A170,\"\")","v":""},{"$f":"IF(F171>3.99,A171,\"\")","v":""},{"$f":"IF(F172>3.99,A172,\"\")","v":""},{"$f":"IF(F173>3.99,A173,\"\")","v":""},{"$f":"IF(F174>3.99,A174,\"\")","v":""},{"$f":"IF(F175>3.99,A175,\"\")","v":""}]
["Navigating Open Spaces",null,null,null,null,{"$f":"Indoor!H75","v":0},"had room for improvement with the skills that made up the area(s) of",null,null,null,null,null,null,{"$f":"IF(AND($F168>1.01,$F168<3.99),$A168,\"\")","v":""},{"$f":"IF(AND($F169>1.01,$F169<3.99),$A169,\"\")","v":""},{"$f":"IF(AND($F170>1.01,$F170<3.99),$A170,\"\")","v":""},{"$f":"IF(AND($F171>1.01,$F171<3.99),$A171,\"\")","v":""},{"$f":"IF(AND($F172>1.01,$F172<3.99),$A172,\"\")","v":""},{"$f":"IF(AND($F173>1.01,$F173<3.99),$A173,\"\")","v":""},{"$f":"IF(AND($F174>1.01,$F174<3.99),$A174,\"\")","v":""},{"$f":"IF(AND($F175>1.01,$F175<3.99),$A175,\"\")","v":""}]
["Doors",null,null,null,null,{"$f":"Indoor!H78","v":0},"hadn't had the opportunity to work on the skills in the area(s) of",null,null,null,null,null,null,{"$f":"IF(AND($F168>0.99,$F168<1.000001),$A168,\"\")","v":""},{"$f":"IF(AND($F169>0.99,$F169<1.000001),$A169,\"\")","v":""},{"$f":"IF(AND($F170>0.99,$F170<1.000001),$A170,\"\")","v":""},{"$f":"IF(AND($F171>0.99,$F171<1.000001),$A171,\"\")","v":""},{"$f":"IF(AND($F172>0.99,$F172<1.000001),$A172,\"\")","v":""},{"$f":"IF(AND($F173>0.99,$F173<1.000001),$A173,\"\")","v":""},{"$f":"IF(AND($F174>0.99,$F174<1.000001),$A174,\"\")","v":""},{"$f":"IF(AND($F175>0.99,$F175<1.000001),$A175,\"\")","v":""}]
["Ascending/Descending Stairs",null,null,null,null,{"$f":"Indoor!H84","v":0},"didn't need the skills in the area(s) of",null,null,null,null,null,null,{"$f":"IF($F168=0,$A168,\"\")","v":"Hand Trailing"},{"$f":"IF($F169=0,$A169,\"\")","v":"Navigating Open Spaces"},{"$f":"IF($F170=0,$A170,\"\")","v":"Doors"},{"$f":"IF($F171=0,$A171,\"\")","v":"Ascending/Descending Stairs"},{"$f":"IF($F172=0,$A172,\"\")","v":"Escalators"},{"$f":"IF($F173=0,$A173,\"\")","v":"Elevators"},{"$f":"IF($F174=0,$A174,\"\")","v":"Moving Sidewalks"},{"$f":"IF($F175=0,$A175,\"\")","v":"Turnstiles"}]
["Escalators",null,null,null,null,{"$f":"Indoor!H92","v":0}]
["Elevators",null,null,null,null,{"$f":"Indoor!H104","v":0}]
["Moving Sidewalks",null,null,null,null,{"$f":"Indoor!H113","v":0}]
["Turnstiles",null,null,null,null,{"$f":"Indoor!H123","v":0}]
["Self Protection Score:",null,null,null,null,null,"did well with the skills that made up the area(s) of",null,null,null,null,null,null,{"$f":"IF(F177>3.99,A177,\"\")","v":""},{"$f":"IF(F178>3.99,A178,\"\")","v":""},{"$f":"IF(F179>3.99,A179,\"\")","v":""}]
["Upper Hand Protective Technique",null,null,null,null,{"$f":"SelfPro!H29","v":0},"had room for improvement with the skills that made up the area(s) of",null,null,null,null,null,null,{"$f":"IF(AND($F177>1.01,$F177<3.99),$A177,\"\")","v":""},{"$f":"IF(AND($F178>1.01,$F178<3.99),$A178,\"\")","v":""},{"$f":"IF(AND($F179>1.01,$F179<3.99),$A179,\"\")","v":""}]
["Lower Forearm Protective Technique",null,null,null,null,{"$f":"SelfPro!H34","v":0},"hadn't had the opportunity to work on the skills in the area(s) of",null,null,null,null,null,null,{"$f":"IF(AND($F177>0.99,$F177<1.000001),$A177,\"\")","v":""},{"$f":"IF(AND($F178>0.99,$F178<1.000001),$A178,\"\")","v":""},{"$f":"IF(AND($F179>0.99,$F179<1.000001),$A179,\"\")","v":""}]
["Protective Clothing",null,null,null,null,{"$f":"SelfPro!H38","v":0},"didn't need the skills in the area(s) of",null,null,null,null,null,null,{"$f":"IF($F177=0,$A177,\"\")","v":"Upper Hand Protective Technique"},{"$f":"IF($F178=0,$A178,\"\")","v":"Lower Forearm Protective Technique"},{"$f":"IF($F179=0,$A179,\"\")","v":"Protective Clothing"}]
["Guided Travel Score:"]
["Human Guide",null,null,null,null,{"$f":"Guided!H39","v":0},"did well with the skills that made up the area(s) of",null,null,null,null,null,null,{"$f":"IF(F181>3.99,A181,\"\")","v":""},{"$f":"IF(F182>3.99,A182,\"\")","v":""},{"$f":"IF(F183>3.99,A183,\"\")","v":""},{"$f":"IF(F184>3.99,A184,\"\")","v":""}]
["Walking With Another (No Direct Contact)",null,null,null,null,{"$f":"Guided!H47","v":0},"had room for improvement with the skills that made up the area(s) of",null,null,null,null,null,null,{"$f":"IF(AND($F181>1.01,$F181<3.99),$A181,\"\")","v":""},{"$f":"IF(AND($F182>1.01,$F182<3.99),$A182,\"\")","v":""},{"$f":"IF(AND($F183>1.01,$F183<3.99),$A183,\"\")","v":""},{"$f":"IF(AND($F184>1.01,$F184<3.99),$A184,\"\")","v":""}]
["Menus",null,null,null,null,{"$f":"Guided!H52","v":0},"hadn't had the opportunity to work on the skills in the area(s) of",null,null,null,null,null,null,{"$f":"IF(AND($F181>0.99,$F181<1.000001),$A181,\"\")","v":""},{"$f":"IF(AND($F182>0.99,$F182<1.000001),$A182,\"\")","v":""},{"$f":"IF(AND($F183>0.99,$F183<1.000001),$A183,\"\")","v":""},{"$f":"IF(AND($F184>0.99,$F184<1.000001),$A184,\"\")","v":""}]
["Getting Rides",null,null,null,null,{"$f":"Guided!H56","v":0},"didn't need the skills in the area(s) of",null,null,null,null,null,null,{"$f":"IF($F181=0,$A181,\"\")","v":"Human Guide"},{"$f":"IF($F182=0,$A182,\"\")","v":"Walking With Another (No Direct Contact)"},{"$f":"IF($F183=0,$A183,\"\")","v":"Menus"},{"$f":"IF($F184=0,$A184,\"\")","v":"Getting Rides"}]
["Cane Skills Score:"]
["Basic Skills",null,null,null,null,{"$f":"Cane!H61","v":0},"did well with the skills that made up the area(s) of",null,null,null,null,null,null,{"$f":"IF(F186>3.99,A186,\"\")","v":""},{"$f":"IF(F187>3.99,A187,\"\")","v":""},{"$f":"IF(F188>3.99,A188,\"\")","v":""},{"$f":"IF(F189>3.99,A189,\"\")","v":""},{"$f":"IF(F190>3.99,A190,\"\")","v":""},{"$f":"IF(F191>3.99,A191,\"\")","v":""},{"$f":"IF(F192>3.99,A192,\"\")","v":""}]
["Types Of Grips",null,null,null,null,{"$f":"Cane!H68","v":0},"had room for improvement with the skills that made up the area(s) of",null,null,null,null,null,null,{"$f":"IF(AND($F186>1.01,$F186<3.99),$A186,\"\")","v":""},{"$f":"IF(AND($F187>1.01,$F187<3.99),$A187,\"\")","v":""},{"$f":"IF(AND($F188>1.01,$F188<3.99),$A188,\"\")","v":""},{"$f":"IF(AND($F189>1.01,$F189<3.99),$A189,\"\")","v":""},{"$f":"IF(AND($F190>1.01,$F190<3.99),$A190,\"\")","v":""},{"$f":"IF(AND($F191>1.01,$F191<3.99),$A191,\"\")","v":""},{"$f":"IF(AND($F192>1.01,$F192<3.99),$A192,\"\")","v":""}]
["Constant Contact",null,null,null,null,{"$f":"Cane!H74","v":0},"hadn't had the opportunity to work on the skills in the area(s) of",null,null,null,null,null,null,{"$f":"IF(AND($F186>0.99,$F186<1.000001),$A186,\"\")","v":""},{"$f":"IF(AND($F187>0.99,$F187<1.000001),$A187,\"\")","v":""},{"$f":"IF(AND($F188>0.99,$F188<1.000001),$A188,\"\")","v":""},{"$f":"IF(AND($F189>0.99,$F189<1.000001),$A189,\"\")","v":""},{"$f":"IF(AND($F190>0.99,$F190<1.000001),$A190,\"\")","v":""},{"$f":"IF(AND($F191>0.99,$F191<1.000001),$A191,\"\")","v":""},{"$f":"IF(AND($F192>0.99,$F192<1.000001),$A192,\"\")","v":""}]
["Diagonal/Diagonal Trail",null,null,null,null,{"$f":"Cane!H80","v":0},"didn't need the skills in the area(s) of",null,null,null,null,null,null,{"$f":"IF($F186=0,$A186,\"\")","v":"Basic Skills"},{"$f":"IF($F187=0,$A187,\"\")","v":"Types Of Grips"},{"$f":"IF($F188=0,$A188,\"\")","v":"Constant Contact"},{"$f":"IF($F189=0,$A189,\"\")","v":"Diagonal/Diagonal Trail"},{"$f":"IF($F190=0,$A190,\"\")","v":"Two Point Touch/Touch Trail"},{"$f":"IF($F191=0,$A191,\"\")","v":"Touch And Drag"},{"$f":"IF($F192=0,$A192,\"\")","v":"Three Point Touch"}]
["Two Point Touch/Touch Trail",null,null,null,null,{"$f":"Cane!H86","v":0}]
["Touch And Drag",null,null,null,null,{"$f":"Cane!H93","v":0}]
["Three Point Touch",null,null,null,null,{"$f":"Cane!H100","v":0}]
["Sidewalk Travel Score:",null,null,null,null,null,"did well with the skills that made up the area(s) of",null,null,null,null,null,null,{"$f":"IF(F194>3.99,A194,\"\")","v":""},{"$f":"IF(F195>3.99,A195,\"\")","v":""},{"$f":"IF(F196>3.99,A196,\"\")","v":""}]
["Walking On Sidewalks",null,null,null,null,{"$f":"Sidewalk!H40","v":0},"had room for improvement with the skills that made up the area(s) of",null,null,null,null,null,null,{"$f":"IF(AND($F194>1.01,$F194<3.99),$A194,\"\")","v":""},{"$f":"IF(AND($F195>1.01,$F195<3.99),$A195,\"\")","v":""},{"$f":"IF(AND($F196>1.01,$F196<3.99),$A196,\"\")","v":""}]
["Walking On Irregular Sidewalks",null,null,null,null,{"$f":"Sidewalk!H52","v":0},"hadn't had the opportunity to work on the skills in the area(s) of",null,null,null,null,null,null,{"$f":"IF(AND($F194>0.99,$F194<1.000001),$A194,\"\")","v":""},{"$f":"IF(AND($F195>0.99,$F195<1.000001),$A195,\"\")","v":""},{"$f":"IF(AND($F196>0.99,$F196<1.000001),$A196,\"\")","v":""}]
["Correcting for Veering On Sidewalks",null,null,null,null,{"$f":"Sidewalk!H58","v":0},"didn't need the skills in the area(s) of",null,null,null,null,null,null,{"$f":"IF($F194=0,$A194,\"\")","v":"Walking On Sidewalks"},{"$f":"IF($F195=0,$A195,\"\")","v":"Walking On Irregular Sidewalks"},{"$f":"IF($F196=0,$A196,\"\")","v":"Correcting for Veering On Sidewalks"}]
["Street Crossings Score:"]
["Anticipating Street Crossings",null,null,null,null,{"$f":"StCross!H188","v":0},"did well with the skills that made up the area(s) of",null,null,null,null,null,null,{"$f":"IF(F198>3.99,A198,\"\")","v":""},{"$f":"IF(F199>3.99,A199,\"\")","v":""},{"$f":"IF(F200>3.99,A200,\"\")","v":""},{"$f":"IF(F201>3.99,A201,\"\")","v":""},{"$f":"IF(F202>3.99,A202,\"\")","v":""},{"$f":"IF(F203>3.99,A203,\"\")","v":""},{"$f":"IF(F204>3.99,A204,\"\")","v":""},{"$f":"IF(F205>3.99,A205,\"\")","v":""},{"$f":"IF(F206>3.99,A206,\"\")","v":""},{"$f":"IF(F207>3.99,A207,\"\")","v":""},{"$f":"IF(F208>3.99,A208,\"\")","v":""},{"$f":"IF(F209>3.99,A209,\"\")","v":""},{"$f":"IF(F210>3.99,A210,\"\")","v":""},{"$f":"IF(F211>3.99,A211,\"\")","v":""},{"$f":"IF(F212>3.99,A212,\"\")","v":""},{"$f":"IF(F213>3.99,A213,\"\")","v":""}]
["Maintaining Line Of Travel",null,null,null,null,{"$f":"StCross!H194","v":0},"had room for improvement with the skills that made up the area(s) of",null,null,null,null,null,null,{"$f":"IF(AND($F198>1.01,$F198<3.99),$A198,\"\")","v":""},{"$f":"IF(AND($F199>1.01,$F199<3.99),$A199,\"\")","v":""},{"$f":"IF(AND($F200>1.01,$F200<3.99),$A200,\"\")","v":""},{"$f":"IF(AND($F201>1.01,$F201<3.99),$A201,\"\")","v":""},{"$f":"IF(AND($F202>1.01,$F202<3.99),$A202,\"\")","v":""},{"$f":"IF(AND($F203>1.01,$F203<3.99),$A203,\"\")","v":""},{"$f":"IF(AND($F204>1.01,$F204<3.99),$A204,\"\")","v":""},{"$f":"IF(AND($F205>1.01,$F205<3.99),$A205,\"\")","v":""},{"$f":"IF(AND($F206>1.01,$F206<3.99),$A206,\"\")","v":""},{"$f":"IF(AND($F207>1.01,$F207<3.99),$A207,\"\")","v":""},{"$f":"IF(AND($F208>1.01,$F208<3.99),$A208,\"\")","v":""},{"$f":"IF(AND($F209>1.01,$F209<3.99),$A209,\"\")","v":""},{"$f":"IF(AND($F210>1.01,$F210<3.99),$A210,\"\")","v":""},{"$f":"IF(AND($F211>1.01,$F211<3.99),$A211,\"\")","v":""},{"$f":"IF(AND($F212>1.01,$F212<3.99),$A212,\"\")","v":""},{"$f":"IF(AND($F213>1.01,$F213<3.99),$A213,\"\")","v":""}]
["Maintaining Body Alignment",null,null,null,null,{"$f":"StCross!H195","v":0},"hadn't had the opportunity to work on the skills in the area(s) of",null,null,null,null,null,null,{"$f":"IF(AND($F198>0.99,$F198<1.000001),$A198,\"\")","v":""},{"$f":"IF(AND($F199>0.99,$F199<1.000001),$A199,\"\")","v":""},{"$f":"IF(AND($F200>0.99,$F200<1.000001),$A200,\"\")","v":""},{"$f":"IF(AND($F201>0.99,$F201<1.000001),$A201,\"\")","v":""},{"$f":"IF(AND($F202>0.99,$F202<1.000001),$A202,\"\")","v":""},{"$f":"IF(AND($F203>0.99,$F203<1.000001),$A203,\"\")","v":""},{"$f":"IF(AND($F204>0.99,$F204<1.000001),$A204,\"\")","v":""},{"$f":"IF(AND($F205>0.99,$F205<1.000001),$A205,\"\")","v":""},{"$f":"IF(AND($F206>0.99,$F206<1.000001),$A206,\"\")","v":""},{"$f":"IF(AND($F207>0.99,$F207<1.000001),$A207,\"\")","v":""},{"$f":"IF(AND($F208>0.99,$F208<1.000001),$A208,\"\")","v":""},{"$f":"IF(AND($F209>0.99,$F209<1.000001),$A209,\"\")","v":""},{"$f":"IF(AND($F210>0.99,$F210<1.000001),$A210,\"\")","v":""},{"$f":"IF(AND($F211>0.99,$F211<1.000001),$A211,\"\")","v":""},{"$f":"IF(AND($F212>0.99,$F212<1.000001),$A212,\"\")","v":""},{"$f":"IF(AND($F213>0.99,$F213<1.000001),$A213,\"\")","v":""}]
["Re-establishing Body Alignment",null,null,null,null,{"$f":"StCross!H199","v":0},"didn't need the skills in the area(s) of",null,null,null,null,null,null,{"$f":"IF($F198=0,$A198,\"\")","v":"Anticipating Street Crossings"},{"$f":"IF($F199=0,$A199,\"\")","v":"Maintaining Line Of Travel"},{"$f":"IF($F200=0,$A200,\"\")","v":"Maintaining Body Alignment"},{"$f":"IF($F201=0,$A201,\"\")","v":"Re-establishing Body Alignment"},{"$f":"IF($F202=0,$A202,\"\")","v":"Analyzing Intersections"},{"$f":"IF($F203=0,$A203,\"\")","v":"Plus Intersections"},{"$f":"IF($F204=0,$A204,\"\")","v":"T Intersections"},{"$f":"IF($F205=0,$A205,\"\")","v":"Y Intersections"},{"$f":"IF($F206=0,$A206,\"\")","v":"Roundabouts"},{"$f":"IF($F207=0,$A207,\"\")","v":"Significantly Offset Intersections"},{"$f":"IF($F208=0,$A208,\"\")","v":"Atypical Intersections"},{"$f":"IF($F209=0,$A209,\"\")","v":"Newly Developed Intersections"},{"$f":"IF($F210=0,$A210,\"\")","v":"Channelized Right Turn Lanes"},{"$f":"IF($F211=0,$A211,\"\")","v":"Veering"},{"$f":"IF($F212=0,$A212,\"\")","v":"Understanding Drivers’ Perspectives"},{"$f":"IF($F213=0,$A213,\"\")","v":"Pedestrian Signals"}]
["Analyzing Intersections",null,null,null,null,{"$f":"StCross!H203","v":0}]
["Plus Intersections",null,null,null,null,{"$f":"StCross!H219","v":0}]
["T Intersections",null,null,null,null,{"$f":"StCross!H238","v":0}]
["Y Intersections",null,null,null,null,{"$f":"StCross!H260","v":0}]
["Roundabouts",null,null,null,null,{"$f":"StCross!H285","v":0}]
["Significantly Offset Intersections",null,null,null,null,{"$f":"StCross!H300","v":0}]
["Atypical Intersections",null,null,null,null,{"$f":"StCross!H305","v":0}]
["Newly Developed Intersections",null,null,null,null,{"$f":"StCross!H315","v":0}]
["Channelized Right Turn Lanes",null,null,null,null,{"$f":"StCross!H323","v":0}]
["Veering",null,null,null,null,{"$f":"StCross!H333","v":0}]
["Understanding Drivers’ Perspectives",null,null,null,null,{"$f":"StCross!H347","v":0}]
["Pedestrian Signals",null,null,null,null,{"$f":"StCross!H356","v":0}]
["Orientation Skills and GPS Score:"]
["Cardinality",null,null,null,null,{"$f":"Orient!H93","v":0},"did well with the skills that made up the area(s) of",null,null,null,null,null,null,{"$f":"IF(F215>3.99,A215,\"\")","v":""},{"$f":"IF(F216>3.99,A216,\"\")","v":""},{"$f":"IF(F217>3.99,A217,\"\")","v":""},{"$f":"IF(F218>3.99,A218,\"\")","v":""},{"$f":"IF(F219>3.99,A219,\"\")","v":""},{"$f":"IF(F220>3.99,A220,\"\")","v":""},{"$f":"IF(F221>3.99,A221,\"\")","v":""},{"$f":"IF(F222>3.99,A222,\"\")","v":""},{"$f":"IF(F223>3.99,A223,\"\")","v":""},{"$f":"IF(F224>3.99,A224,\"\")","v":""}]
["Clues",null,null,null,null,{"$f":"Orient!H108","v":0},"had room for improvement with the skills that made up the area(s) of",null,null,null,null,null,null,{"$f":"IF(AND($F215>1.01,$F215<3.99),$A215,\"\")","v":""},{"$f":"IF(AND($F216>1.01,$F216<3.99),$A216,\"\")","v":""},{"$f":"IF(AND($F217>1.01,$F217<3.99),$A217,\"\")","v":""},{"$f":"IF(AND($F218>1.01,$F218<3.99),$A218,\"\")","v":""},{"$f":"IF(AND($F219>1.01,$F219<3.99),$A219,\"\")","v":""},{"$f":"IF(AND($F220>1.01,$F220<3.99),$A220,\"\")","v":""},{"$f":"IF(AND($F221>1.01,$F221<3.99),$A221,\"\")","v":""},{"$f":"IF(AND($F222>1.01,$F222<3.99),$A222,\"\")","v":""},{"$f":"IF(AND($F223>1.01,$F223<3.99),$A223,\"\")","v":""},{"$f":"IF(AND($F224>1.01,$F224<3.99),$A224,\"\")","v":""}]
["Landmarks",null,null,null,null,{"$f":"Orient!H114","v":0},"hadn't had the opportunity to work on the skills in the area(s) of",null,null,null,null,null,null,{"$f":"IF(AND($F215>0.99,$F215<1.000001),$A215,\"\")","v":""},{"$f":"IF(AND($F216>0.99,$F216<1.000001),$A216,\"\")","v":""},{"$f":"IF(AND($F217>0.99,$F217<1.000001),$A217,\"\")","v":""},{"$f":"IF(AND($F218>0.99,$F218<1.000001),$A218,\"\")","v":""},{"$f":"IF(AND($F219>0.99,$F219<1.000001),$A219,\"\")","v":""},{"$f":"IF(AND($F220>0.99,$F220<1.000001),$A220,\"\")","v":""},{"$f":"IF(AND($F221>0.99,$F221<1.000001),$A221,\"\")","v":""},{"$f":"IF(AND($F222>0.99,$F222<1.000001),$A222,\"\")","v":""},{"$f":"IF(AND($F223>0.99,$F223<1.000001),$A223,\"\")","v":""},{"$f":"IF(AND($F224>0.99,$F224<1.000001),$A224,\"\")","v":""}]
["Indoor Numbering Systems",null,null,null,null,{"$f":"Orient!H120","v":0},"didn't need the skills in the area(s) of",null,null,null,null,null,null,{"$f":"IF($F215=0,$A215,\"\")","v":"Cardinality"},{"$f":"IF($F216=0,$A216,\"\")","v":"Clues"},{"$f":"IF($F217=0,$A217,\"\")","v":"Landmarks"},{"$f":"IF($F218=0,$A218,\"\")","v":"Indoor Numbering Systems"},{"$f":"IF($F219=0,$A219,\"\")","v":"Outdoor Numbering Systems"},{"$f":"IF($F220=0,$A220,\"\")","v":"Grid System"},{"$f":"IF($F221=0,$A221,\"\")","v":"Divisors And Block Numbering"},{"$f":"IF($F222=0,$A222,\"\")","v":"Transferability"},{"$f":"IF($F223=0,$A223,\"\")","v":"GPS"},{"$f":"IF($F224=0,$A224,\"\")","v":"Maps"}]
["Outdoor Numbering Systems",null,null,null,null,{"$f":"Orient!H126","v":0}]
["Grid System",null,null,null,null,{"$f":"Orient!H132","v":0}]
["Divisors And Block Numbering",null,null,null,null,{"$f":"Orient!H143","v":0}]
["Transferability",null,null,null,null,{"$f":"Orient!H150","v":0}]
["GPS",null,null,null,null,{"$f":"Orient!H154","v":0}]
["Maps",null,null,null,null,{"$f":"Orient!H162","v":0}]
["Public Transportation Score:"]
["Identifying Common Public Transportation Options",null,null,null,null,{"$f":"PubTran!H92","v":0},"did well with the skills that made up the area(s) of",null,null,null,null,null,null,{"$f":"IF(F226>3.99,A226,\"\")","v":""},{"$f":"IF(F227>3.99,A227,\"\")","v":""},{"$f":"IF(F228>3.99,A228,\"\")","v":""},{"$f":"IF(F229>3.99,A229,\"\")","v":""},{"$f":"IF(F230>3.99,A230,\"\")","v":""},{"$f":"IF(F231>3.99,A231,\"\")","v":""},{"$f":"IF(F232>3.99,A232,\"\")","v":""}]
["Intra-City Bus Travel",null,null,null,null,{"$f":"PubTran!H93","v":0},"had room for improvement with the skills that made up the area(s) of",null,null,null,null,null,null,{"$f":"IF(AND($F226>1.01,$F226<3.99),$A226,\"\")","v":""},{"$f":"IF(AND($F227>1.01,$F227<3.99),$A227,\"\")","v":""},{"$f":"IF(AND($F228>1.01,$F228<3.99),$A228,\"\")","v":""},{"$f":"IF(AND($F229>1.01,$F229<3.99),$A229,\"\")","v":""},{"$f":"IF(AND($F230>1.01,$F230<3.99),$A230,\"\")","v":""},{"$f":"IF(AND($F231>1.01,$F231<3.99),$A231,\"\")","v":""},{"$f":"IF(AND($F232>1.01,$F232<3.99),$A232,\"\")","v":""}]
["Inter-City Bus Travel",null,null,null,null,{"$f":"PubTran!H111","v":0},"hadn't had the opportunity to work on the skills in the area(s) of",null,null,null,null,null,null,{"$f":"IF(AND($F226>0.99,$F226<1.000001),$A226,\"\")","v":""},{"$f":"IF(AND($F227>0.99,$F227<1.000001),$A227,\"\")","v":""},{"$f":"IF(AND($F228>0.99,$F228<1.000001),$A228,\"\")","v":""},{"$f":"IF(AND($F229>0.99,$F229<1.000001),$A229,\"\")","v":""},{"$f":"IF(AND($F230>0.99,$F230<1.000001),$A230,\"\")","v":""},{"$f":"IF(AND($F231>0.99,$F231<1.000001),$A231,\"\")","v":""},{"$f":"IF(AND($F232>0.99,$F232<1.000001),$A232,\"\")","v":""}]
["Taxi/Ride Service",null,null,null,null,{"$f":"PubTran!H17","v":0},"didn't need the skills in the area(s) of",null,null,null,null,null,null,{"$f":"IF($F226=0,$A226,\"\")","v":"Identifying Common Public Transportation Options"},{"$f":"IF($F227=0,$A227,\"\")","v":"Intra-City Bus Travel"},{"$f":"IF($F228=0,$A228,\"\")","v":"Inter-City Bus Travel"},{"$f":"IF($F229=0,$A229,\"\")","v":"Taxi/Ride Service"},{"$f":"IF($F230=0,$A230,\"\")","v":"Handi-Ride/Para Transit"},{"$f":"IF($F231=0,$A231,\"\")","v":"Air Travel"},{"$f":"IF($F232=0,$A232,\"\")","v":"Subway/Light Rail"}]
["Handi-Ride/Para Transit",null,null,null,null,{"$f":"PubTran!H134","v":0}]
["Air Travel",null,null,null,null,{"$f":"PubTran!H138","v":0}]
["Subway/Light Rail",null,null,null,null,{"$f":"PubTran!H154","v":0}]
["Atypical O&M Score:"]
["Fences",null,null,null,null,{"$f":"Atyp!H40","v":0},"did well with the skills that made up the area(s) of",null,null,null,null,null,null,{"$f":"IF(F234>3.99,A234,\"\")","v":""},{"$f":"IF(F235>3.99,A235,\"\")","v":""},{"$f":"IF(F236>3.99,A236,\"\")","v":""},{"$f":"IF(F237>3.99,A237,\"\")","v":""}]
["Fields (Urban)",null,null,null,null,{"$f":"Atyp!H44","v":0},"had room for improvement with the skills that made up the area(s) of",null,null,null,null,null,null,{"$f":"IF(AND($F234>1.01,$F234<3.99),$A234,\"\")","v":""},{"$f":"IF(AND($F235>1.01,$F235<3.99),$A235,\"\")","v":""},{"$f":"IF(AND($F236>1.01,$F236<3.99),$A236,\"\")","v":""},{"$f":"IF(AND($F237>1.01,$F237<3.99),$A237,\"\")","v":""}]
["Parks/Playgrounds",null,null,null,null,{"$f":"Atyp!H50","v":0},"hadn't had the opportunity to work on the skills in the area(s) of",null,null,null,null,null,null,{"$f":"IF(AND($F234>0.99,$F234<1.000001),$A234,\"\")","v":""},{"$f":"IF(AND($F235>0.99,$F235<1.000001),$A235,\"\")","v":""},{"$f":"IF(AND($F236>0.99,$F236<1.000001),$A236,\"\")","v":""},{"$f":"IF(AND($F237>0.99,$F237<1.000001),$A237,\"\")","v":""}]
["Inclement Weather",null,null,null,null,{"$f":"Atyp!H58","v":0},"didn't need the skills in the area(s) of",null,null,null,null,null,null,{"$f":"IF($F234=0,$A234,\"\")","v":"Fences"},{"$f":"IF($F235=0,$A235,\"\")","v":"Fields (Urban)"},{"$f":"IF($F236=0,$A236,\"\")","v":"Parks/Playgrounds"},{"$f":"IF($F237=0,$A237,\"\")","v":"Inclement Weather"}]
["Rural Travel Score:"]
["Understanding Unique Dangers Related To Rural Travel",null,null,null,null,{"$f":"Rural!H46","v":0},"did well with the skills that made up the area(s) of",null,null,null,null,null,null,{"$f":"IF(F239>3.99,A239,\"\")","v":""},{"$f":"IF(F240>3.99,A240,\"\")","v":""},{"$f":"IF(F241>3.99,A241,\"\")","v":""},{"$f":"IF(F242>3.99,A242,\"\")","v":""},{"$f":"IF(F243>3.99,A243,\"\")","v":""}]
["Walking Along Rural Roads",null,null,null,null,{"$f":"Rural!H52","v":0},"had room for improvement with the skills that made up the area(s) of",null,null,null,null,null,null,{"$f":"IF(AND($F239>1.01,$F239<3.99),$A239,\"\")","v":""},{"$f":"IF(AND($F240>1.01,$F240<3.99),$A240,\"\")","v":""},{"$f":"IF(AND($F241>1.01,$F241<3.99),$A241,\"\")","v":""},{"$f":"IF(AND($F242>1.01,$F242<3.99),$A242,\"\")","v":""},{"$f":"IF(AND($F243>1.01,$F243<3.99),$A243,\"\")","v":""}]
["Ditches/Arroyos",null,null,null,null,{"$f":"Rural!H58","v":0},"hadn't had the opportunity to work on the skills in the area(s) of",null,null,null,null,null,null,{"$f":"IF(AND($F239>0.99,$F239<1.000001),$A239,\"\")","v":""},{"$f":"IF(AND($F240>0.99,$F240<1.000001),$A240,\"\")","v":""},{"$f":"IF(AND($F241>0.99,$F241<1.000001),$A241,\"\")","v":""},{"$f":"IF(AND($F242>0.99,$F242<1.000001),$A242,\"\")","v":""},{"$f":"IF(AND($F243>0.99,$F243<1.000001),$A243,\"\")","v":""}]
["Identifying And Going Around Items In Rural Areas",null,null,null,null,{"$f":"Rural!H65","v":0},"didn't need the skills in the area(s) of",null,null,null,null,null,null,{"$f":"IF($F239=0,$A239,\"\")","v":"Understanding Unique Dangers Related To Rural Travel"},{"$f":"IF($F240=0,$A240,\"\")","v":"Walking Along Rural Roads"},{"$f":"IF($F241=0,$A241,\"\")","v":"Ditches/Arroyos"},{"$f":"IF($F242=0,$A242,\"\")","v":"Identifying And Going Around Items In Rural Areas"},{"$f":"IF($F243=0,$A243,\"\")","v":"Rural Street Crossings"}]
["Rural Street Crossings",null,null,null,null,{"$f":"Rural!H71","v":0}]
["Vision Specific O&M Skills Score:"]
["Scanning Materials",null,null,null,null,{"$f":"VisSpec!H48","v":0},"did well with the skills that made up the area(s) of",null,null,null,null,null,null,{"$f":"IF(F245>3.99,A245,\"\")","v":""},{"$f":"IF(F246>3.99,A246,\"\")","v":""},{"$f":"IF(F247>3.99,A247,\"\")","v":""},{"$f":"IF(F248>3.99,A248,\"\")","v":""},{"$f":"IF(F249>3.99,A249,\"\")","v":""}]
["Scanning Environments",null,null,null,null,{"$f":"VisSpec!H55","v":0},"had room for improvement with the skills that made up the area(s) of",null,null,null,null,null,null,{"$f":"IF(AND($F245>1.01,$F245<3.99),$A245,\"\")","v":""},{"$f":"IF(AND($F246>1.01,$F246<3.99),$A246,\"\")","v":""},{"$f":"IF(AND($F247>1.01,$F247<3.99),$A247,\"\")","v":""},{"$f":"IF(AND($F248>1.01,$F248<3.99),$A248,\"\")","v":""},{"$f":"IF(AND($F249>1.01,$F249<3.99),$A249,\"\")","v":""}]
["Magnifiers And CCTVs",null,null,null,null,{"$f":"VisSpec!H62","v":0},"hadn't had the opportunity to work on the skills in the area(s) of",null,null,null,null,null,null,{"$f":"IF(AND($F245>0.99,$F245<1.000001),$A245,\"\")","v":""},{"$f":"IF(AND($F246>0.99,$F246<1.000001),$A246,\"\")","v":""},{"$f":"IF(AND($F247>0.99,$F247<1.000001),$A247,\"\")","v":""},{"$f":"IF(AND($F248>0.99,$F248<1.000001),$A248,\"\")","v":""},{"$f":"IF(AND($F249>0.99,$F249<1.000001),$A249,\"\")","v":""}]
["Monoculars",null,null,null,null,{"$f":"VisSpec!H66","v":0},"didn't need the skills in the area(s) of",null,null,null,null,null,null,{"$f":"IF($F245=0,$A245,\"\")","v":"Scanning Materials"},{"$f":"IF($F246=0,$A246,\"\")","v":"Scanning Environments"},{"$f":"IF($F247=0,$A247,\"\")","v":"Magnifiers And CCTVs"},{"$f":"IF($F248=0,$A248,\"\")","v":"Monoculars"},{"$f":"IF($F249=0,$A249,\"\")","v":"Visual Traveling"}]
["Visual Traveling",null,null,null,null,{"$f":"VisSpec!H72","v":0}]
["Community Score:"]
["Comparison Shopping From Home",null,null,null,null,{"$f":"Commun!H59","v":0},"did well with the skills that made up the area(s) of",null,null,null,null,null,null,{"$f":"IF(F251>3.99,A251,\"\")","v":""},{"$f":"IF(F252>3.99,A252,\"\")","v":""},{"$f":"IF(F253>3.99,A253,\"\")","v":""},{"$f":"IF(F254>3.99,A254,\"\")","v":""},{"$f":"IF(F255>3.99,A255,\"\")","v":""}]
["Stores",null,null,null,null,{"$f":"Commun!H63","v":0},"had room for improvement with the skills that made up the area(s) of",null,null,null,null,null,null,{"$f":"IF(AND($F251>1.01,$F251<3.99),$A251,\"\")","v":""},{"$f":"IF(AND($F252>1.01,$F252<3.99),$A252,\"\")","v":""},{"$f":"IF(AND($F253>1.01,$F253<3.99),$A253,\"\")","v":""},{"$f":"IF(AND($F254>1.01,$F254<3.99),$A254,\"\")","v":""},{"$f":"IF(AND($F255>1.01,$F255<3.99),$A255,\"\")","v":""}]
["Fast Food Restaurants",null,null,null,null,{"$f":"Commun!H75","v":0},"hadn't had the opportunity to work on the skills in the area(s) of",null,null,null,null,null,null,{"$f":"IF(AND($F251>0.99,$F251<1.000001),$A251,\"\")","v":""},{"$f":"IF(AND($F252>0.99,$F252<1.000001),$A252,\"\")","v":""},{"$f":"IF(AND($F253>0.99,$F253<1.000001),$A253,\"\")","v":""},{"$f":"IF(AND($F254>0.99,$F254<1.000001),$A254,\"\")","v":""},{"$f":"IF(AND($F255>0.99,$F255<1.000001),$A255,\"\")","v":""}]
["Cafeteria Restaurants",null,null,null,null,{"$f":"Commun!H86","v":0},"didn't need the skills in the area(s) of",null,null,null,null,null,null,{"$f":"IF($F251=0,$A251,\"\")","v":"Comparison Shopping From Home"},{"$f":"IF($F252=0,$A252,\"\")","v":"Stores"},{"$f":"IF($F253=0,$A253,\"\")","v":"Fast Food Restaurants"},{"$f":"IF($F254=0,$A254,\"\")","v":"Cafeteria Restaurants"},{"$f":"IF($F255=0,$A255,\"\")","v":"Sit Down Restaurants"}]
["Sit Down Restaurants",null,null,null,null,{"$f":"Commun!H97","v":0}]
[]
[]
[]
[null,null,null,null,null,null,"demonstrated","of the skills needed to travel independently as an adult."]
[{"$f":"G5","v":0},"Concepts",null,null,null,null,"did well with the skills that made up the domain(s) of",null,null,null,null,null,null,{"$f":"IF(A260>79.999999999,B260,\"\")","v":""},{"$f":"IF(A261>79.999999999,B261,\"\")","v":""},{"$f":"IF(A262>79.999999999,B262,\"\")","v":""},{"$f":"IF(A263>79.999999999,B263,\"\")","v":""},{"$f":"IF(A264>79.999999999,B264,\"\")","v":""},{"$f":"IF(A265>79.999999999,B265,\"\")","v":""},{"$f":"IF(A266>79.999999999,B266,\"\")","v":""},{"$f":"IF(A267>79.999999999,B267,\"\")","v":""},{"$f":"IF(A268>79.999999999,B268,\"\")","v":""},{"$f":"IF(A269>79.999999999,B269,\"\")","v":""},{"$f":"IF(A270>79.999999999,B270,\"\")","v":""},{"$f":"IF(A271>79.999999999,B271,\"\")","v":""},{"$f":"IF(A272>79.999999999,B272,\"\")","v":""},{"$f":"IF(A273>79.999999999,B273,\"\")","v":""},{"$f":"IF(A274>79.999999999,B274,\"\")","v":""}]
[{"$f":"G11","v":0},"Movement",null,null,null,null,"had room for improvement with the skills that made up the domain(s) of",null,null,null,null,null,null,{"$f":"IF(AND($A260>20.000001,$A260<79.999999998),$B260,\"\")","v":""},{"$f":"IF(AND($A261>20.000001,$A261<79.999999998),$B261,\"\")","v":""},{"$f":"IF(AND($A262>20.000001,$A262<79.999999998),$B262,\"\")","v":""},{"$f":"IF(AND($A263>20.000001,$A263<79.999999998),$B263,\"\")","v":""},{"$f":"IF(AND($A264>20.000001,$A264<79.999999998),$B264,\"\")","v":""},{"$f":"IF(AND($A265>20.000001,$A265<79.999999998),$B265,\"\")","v":""},{"$f":"IF(AND($A266>20.000001,$A266<79.999999998),$B266,\"\")","v":""},{"$f":"IF(AND($A267>20.000001,$A267<79.999999998),$B267,\"\")","v":""},{"$f":"IF(AND($A268>20.000001,$A268<79.999999998),$B268,\"\")","v":""},{"$f":"IF(AND($A269>20.000001,$A269<79.999999998),$B269,\"\")","v":""},{"$f":"IF(AND($A270>20.000001,$A270<79.999999998),$B270,\"\")","v":""},{"$f":"IF(AND($A271>20.000001,$A271<79.999999998),$B271,\"\")","v":""},{"$f":"IF(AND($A272>20.000001,$A272<79.999999998),$B272,\"\")","v":""},{"$f":"IF(AND($A273>20.000001,$A273<79.999999998),$B273,\"\")","v":""},{"$f":"IF(AND($A274>20.000001,$A274<79.999999998),$B274,\"\")","v":""}]
[{"$f":"G17","v":0},"Single Room O&M",null,null,null,null,"hadn't had the opportunity to work on the skills that made up the domain(s) of",null,null,null,null,null,null,{"$f":"IF(AND($A260>19.9,$A260<20.1),$B260,\"\")","v":""},{"$f":"IF(AND($A261>19.9,$A261<20.1),$B261,\"\")","v":""},{"$f":"IF(AND($A262>19.9,$A262<20.1),$B262,\"\")","v":""},{"$f":"IF(AND($A263>19.9,$A263<20.1),$B263,\"\")","v":""},{"$f":"IF(AND($A264>19.9,$A264<20.1),$B264,\"\")","v":""},{"$f":"IF(AND($A265>19.9,$A265<20.1),$B265,\"\")","v":""},{"$f":"IF(AND($A266>19.9,$A266<20.1),$B266,\"\")","v":""},{"$f":"IF(AND($A267>19.9,$A267<20.1),$B267,\"\")","v":""},{"$f":"IF(AND($A268>19.9,$A268<20.1),$B268,\"\")","v":""},{"$f":"IF(AND($A269>19.9,$A269<20.1),$B269,\"\")","v":""},{"$f":"IF(AND($A270>19.9,$A270<20.1),$B270,\"\")","v":""},{"$f":"IF(AND($A271>19.9,$A271<20.1),$B271,\"\")","v":""},{"$f":"IF(AND($A272>19.9,$A272<20.1),$B272,\"\")","v":""},{"$f":"IF(AND($A273>19.9,$A273<20.1),$B273,\"\")","v":""},{"$f":"IF(AND($A274>19.9,$A274<20.1),$B274,\"\")","v":""}]
[{"$f":"G23","v":0},"Indoor O&M",null,null,null,null,"had no need for the skills that made up the domain(s) of",null,null,null,null,null,null,{"$f":"IF($A260=0,$B260,\"\")","v":"Concepts"},{"$f":"IF($A261=0,$B261,\"\")","v":"Movement"},{"$f":"IF($A262=0,$B262,\"\")","v":"Single Room O&M"},{"$f":"IF($A263=0,$B263,\"\")","v":"Indoor O&M"},{"$f":"IF($A264=0,$B264,\"\")","v":"Self Protection"},{"$f":"IF($A265=0,$B265,\"\")","v":"Guided Travel"},{"$f":"IF($A266=0,$B266,\"\")","v":"Cane Skills"},{"$f":"IF($A267=0,$B267,\"\")","v":"Sidewalk Travel"},{"$f":"IF($A268=0,$B268,\"\")","v":"Street Crossings"},{"$f":"IF($A269=0,$B269,\"\")","v":"Orientation Skills & GPS"},{"$f":"IF($A270=0,$B270,\"\")","v":"Public Transportation"},{"$f":"IF($A271=0,$B271,\"\")","v":"Atypical O&M"},{"$f":"IF($A272=0,$B272,\"\")","v":"Rural Travel"},{"$f":"IF($A273=0,$B273,\"\")","v":"Vision Specific O&M Skills"},{"$f":"IF($A274=0,$B274,\"\")","v":"Community "}]
[{"$f":"G29","v":0},"Self Protection"]
[{"$f":"G35","v":0},"Guided Travel"]
[{"$f":"G41","v":0},"Cane Skills"]
[{"$f":"G47","v":0},"Sidewalk Travel"]
[{"$f":"G53","v":0},"Street Crossings"]
[{"$f":"G59","v":0},"Orientation Skills & GPS"]
[{"$f":"G65","v":0},"Public Transportation"]
[{"$f":"G71","v":0},"Atypical O&M"]
[{"$f":"G77","v":0},"Rural Travel"]
[{"$f":"G83","v":0},"Vision Specific O&M Skills"]
[{"$f":"G89","v":0},"Community "]
[]
["will demonstrate improved skills in Orientation & Mobility by increasing the score on the O&M Inventory from"]
["to a minimum of"]
["by the next annual IEP date."]
["Please see the attached chart. "]
["Over the previous grading period"]
["increased the score on the O&M Inventory from"]
["to"]
["and is now"]
["of the way to the goal of"]
["made gains in the domain(s) of"]
[{"$f":"IF($J286>$I286,$B260,\"\")","v":""},{"$f":"Front!B3","v":0},{"$f":"Front!C3","v":0},{"$f":"Front!D3","v":0},{"$f":"Front!E3","v":0},{"$f":"Front!F3","v":0},{"$f":"Front!G3","v":0},{"$f":"Front!H3","v":0},{"$f":"Front!I3","v":0},{"$f":"Front!J3","v":0},{"$f":"Front!K3","v":0},{"$f":"Front!L3","v":0},{"$f":"Front!M3","v":0}]
["",{"$f":"Front!B4","v":0},{"$f":"Front!C4","v":0},{"$f":"Front!D4","v":0},{"$f":"Front!E4","v":0},{"$f":"Front!F4","v":0},{"$f":"Front!G4","v":0},{"$f":"Front!H4","v":0},{"$f":"Front!I4","v":0},{"$f":"Front!J4","v":0},{"$f":"Front!K4","v":0},{"$f":"Front!L4","v":0},{"$f":"Front!M4","v":0}]
["",{"$f":"Front!B5","v":0},{"$f":"Front!C5","v":0},{"$f":"Front!D5","v":0},{"$f":"Front!E5","v":0},{"$f":"Front!F5","v":0},{"$f":"Front!G5","v":0},{"$f":"Front!H5","v":0},{"$f":"Front!I5","v":0},{"$f":"Front!J5","v":0},{"$f":"Front!K5","v":0},{"$f":"Front!L5","v":0},{"$f":"Front!M5","v":0}]
["",{"$f":"Front!B6","v":0},{"$f":"Front!C6","v":0},{"$f":"Front!D6","v":0},{"$f":"Front!E6","v":0},{"$f":"Front!F6","v":0},{"$f":"Front!G6","v":0},{"$f":"Front!H6","v":0},{"$f":"Front!I6","v":0},{"$f":"Front!J6","v":0},{"$f":"Front!K6","v":0},{"$f":"Front!L6","v":0},{"$f":"Front!M6","v":0}]
["",{"$f":"Front!B7","v":0},{"$f":"Front!C7","v":0},{"$f":"Front!D7","v":0},{"$f":"Front!E7","v":0},{"$f":"Front!F7","v":0},{"$f":"Front!G7","v":0},{"$f":"Front!H7","v":0},{"$f":"Front!I7","v":0},{"$f":"Front!J7","v":0},{"$f":"Front!K7","v":0},{"$f":"Front!L7","v":0},{"$f":"Front!M7","v":0}]
["",{"$f":"Front!B8","v":0},{"$f":"Front!C8","v":0},{"$f":"Front!D8","v":0},{"$f":"Front!E8","v":0},{"$f":"Front!F8","v":0},{"$f":"Front!G8","v":0},{"$f":"Front!H8","v":0},{"$f":"Front!I8","v":0},{"$f":"Front!J8","v":0},{"$f":"Front!K8","v":0},{"$f":"Front!L8","v":0},{"$f":"Front!M8","v":0}]
["",{"$f":"Front!B9","v":0},{"$f":"Front!C9","v":0},{"$f":"Front!D9","v":0},{"$f":"Front!E9","v":0},{"$f":"Front!F9","v":0},{"$f":"Front!G9","v":0},{"$f":"Front!H9","v":0},{"$f":"Front!I9","v":0},{"$f":"Front!J9","v":0},{"$f":"Front!K9","v":0},{"$f":"Front!L9","v":0},{"$f":"Front!M9","v":0}]
["",{"$f":"Front!B10","v":0},{"$f":"Front!C10","v":0},{"$f":"Front!D10","v":0},{"$f":"Front!E10","v":0},{"$f":"Front!F10","v":0},{"$f":"Front!G10","v":0},{"$f":"Front!H10","v":0},{"$f":"Front!I10","v":0},{"$f":"Front!J10","v":0},{"$f":"Front!K10","v":0},{"$f":"Front!L10","v":0},{"$f":"Front!M10","v":0}]
["",{"$f":"Front!B11","v":0},{"$f":"Front!C11","v":0},{"$f":"Front!D11","v":0},{"$f":"Front!E11","v":0},{"$f":"Front!F11","v":0},{"$f":"Front!G11","v":0},{"$f":"Front!H11","v":0},{"$f":"Front!I11","v":0},{"$f":"Front!J11","v":0},{"$f":"Front!K11","v":0},{"$f":"Front!L11","v":0},{"$f":"Front!M11","v":0}]
["",{"$f":"Front!B12","v":0},{"$f":"Front!C12","v":0},{"$f":"Front!D12","v":0},{"$f":"Front!E12","v":0},{"$f":"Front!F12","v":0},{"$f":"Front!G12","v":0},{"$f":"Front!H12","v":0},{"$f":"Front!I12","v":0},{"$f":"Front!J12","v":0},{"$f":"Front!K12","v":0},{"$f":"Front!L12","v":0},{"$f":"Front!M12","v":0}]
["",{"$f":"Front!B13","v":0},{"$f":"Front!C13","v":0},{"$f":"Front!D13","v":0},{"$f":"Front!E13","v":0},{"$f":"Front!F13","v":0},{"$f":"Front!G13","v":0},{"$f":"Front!H13","v":0},{"$f":"Front!I13","v":0},{"$f":"Front!J13","v":0},{"$f":"Front!K13","v":0},{"$f":"Front!L13","v":0},{"$f":"Front!M13","v":0}]
["",{"$f":"Front!B14","v":0},{"$f":"Front!C14","v":0},{"$f":"Front!D14","v":0},{"$f":"Front!E14","v":0},{"$f":"Front!F14","v":0},{"$f":"Front!G14","v":0},{"$f":"Front!H14","v":0},{"$f":"Front!I14","v":0},{"$f":"Front!J14","v":0},{"$f":"Front!K14","v":0},{"$f":"Front!L14","v":0},{"$f":"Front!M14","v":0}]
["",{"$f":"Front!B15","v":0},{"$f":"Front!C15","v":0},{"$f":"Front!D15","v":0},{"$f":"Front!E15","v":0},{"$f":"Front!F15","v":0},{"$f":"Front!G15","v":0},{"$f":"Front!H15","v":0},{"$f":"Front!I15","v":0},{"$f":"Front!J15","v":0},{"$f":"Front!K15","v":0},{"$f":"Front!L15","v":0},{"$f":"Front!M15","v":0}]
["",{"$f":"Front!B16","v":0},{"$f":"Front!C16","v":0},{"$f":"Front!D16","v":0},{"$f":"Front!E16","v":0},{"$f":"Front!F16","v":0},{"$f":"Front!G16","v":0},{"$f":"Front!H16","v":0},{"$f":"Front!I16","v":0},{"$f":"Front!J16","v":0},{"$f":"Front!K16","v":0},{"$f":"Front!L16","v":0},{"$f":"Front!M16","v":0}]
["",{"$f":"Front!B17","v":0},{"$f":"Front!C17","v":0},{"$f":"Front!D17","v":0},{"$f":"Front!E17","v":0},{"$f":"Front!F17","v":0},{"$f":"Front!G17","v":0},{"$f":"Front!H17","v":0},{"$f":"Front!I17","v":0},{"$f":"Front!J17","v":0},{"$f":"Front!K17","v":0},{"$f":"Front!L17","v":0},{"$f":"Front!M17","v":0}]

{"sheet":"R10","index":25,"n_rows":300,"n_cols":29,"rows_kept":300,"cut":false,"hidden":false,"merged":[]}
[{"$f":"'R1'!A1","v":0},"← TYPE STUDENT NAME IN GREEN BOX",null,null,null,null,null,null,null,null,null,null,null,null,"%prog","total","tot round","%pr rnd","goal"]
["↓ HIGHLIGHT & COPY WHITE CELLS; PASTE IN WORD DOCUMENT AS \"KEEP TEXT ONLY\" OR \"UNFORMATTED\"",null,null,null,null,null,null,null,null,null,null,null,null,null,{"$f":"Front!B20","v":0},{"$f":"Front!B18","v":0},{"$f":"ROUND(P2,2)","v":0},{"$f":"ROUND(O2,2)","v":0},{"$f":"Front!B19","v":1}]
[{"$f":"CONCATENATE(A150,\" \",K3,\"%\")","v":"NMSBVI O&M INVENTORY TOTAL SCORE:  0%"},null,null,null,null,null,null,null,null,{"$f":"Front!K18","v":0},{"$f":"ROUND(J3,2)","v":0},null,null,null,{"$f":"Front!C20","v":0},{"$f":"Front!C18","v":0},0,0,{"$f":"Front!C19","v":1}]
[null,null,null,null,null,null,null,null,null,null,null,null,null,null,{"$f":"Front!D20","v":0},{"$f":"Front!D18","v":0},0,0,{"$f":"Front!D19","v":1}]
[{"$f":"CONCATENATE(A151,\" \",H5,\"%\")","v":"Concepts Score: 0%"},null,null,null,null,null,{"$f":"Front!K3","v":0},{"$f":"ROUND(G5,1)","v":0},"← Don't worry about these 2 numbers",null,null,null,null,null,{"$f":"Front!E20","v":0},{"$f":"Front!E18","v":0},0,0,{"$f":"Front!E19","v":1}]
[{"$f":"CONCATENATE($A1,\" \",G152,\" \",N152,\", \",O152,\", \",P152,\", \",Q152)","v":"0 did well with the skills that made up the area(s) of , , , "},null,null,null,null,null,null,null,null,null,null,null,null,null,{"$f":"Front!F20","v":0},{"$f":"Front!F18","v":0},0,0,{"$f":"Front!F19","v":1}]
[{"$f":"CONCATENATE($A1,\" \",G153,\" \",N153,\", \",O153,\", \",P153,\", \",Q153)","v":"0 had room for improvement with the skills that made up the area(s) of , , , "},null,null,null,null,null,null,null,null,null,null,null,null,null,{"$f":"Front!G20","v":0},{"$f":"Front!G18","v":0},0,0,{"$f":"Front!G19","v":1}]
[{"$f":"CONCATENATE($A1,\" \",G154,\" \",N154,\", \",O154,\", \",P154,\", \",Q154)","v":"0 hadn't had the opportunity to work on the skills in the area(s) of , , , "},null,null,null,null,null,null,null,null,null,null,null,null,null,{"$f":"Front!H20","v":0},{"$f":"Front!H18","v":0},0,0,{"$f":"Front!H19","v":1}]
[{"$f":"CONCATENATE($A1,\" \",G155,\" \",N155,\", \",O155,\", \",P155,\", \",Q155)","v":"0 didn't need the skills in the area(s) of Vocabulary, Laterality, Parallel/Perpendicular, Time And Distance"},null,null,null,null,null,null,null,null,null,null,null,null,null,{"$f":"Front!I20","v":0},{"$f":"Front!I18","v":0},0,0,{"$f":"Front!I19","v":1}]
[null,null,null,null,null,null,null,null,null,null,null,null,null,null,{"$f":"Front!J20","v":0},{"$f":"Front!J18","v":0},0,0,{"$f":"Front!J19","v":1}]
[{"$f":"CONCATENATE(A156,\" \",H11,\"%\")","v":"Movement Score: 0%"},null,null,null,null,null,{"$f":"Front!K4","v":0},{"$f":"ROUND(G11,1)","v":0},null,null,null,null,null,null,{"$f":"Front!K20","v":0},{"$f":"Front!K18","v":0},0,0,{"$f":"Front!K19","v":1}]
[{"$f":"CONCATENATE($A1,\" \",G157,\" \",N157,\", \",O157,\", \",P157,\", \",Q157)","v":"0 did well with the skills that made up the area(s) of , , , "},null,null,null,null,null,null,null,null,null,null,null,null,null,{"$f":"Front!L20","v":0},{"$f":"Front!L18","v":0},0,0,{"$f":"Front!L19","v":1}]
[{"$f":"CONCATENATE($A1,\" \",G158,\" \",N158,\", \",O158,\", \",P158,\", \",Q158)","v":"0 had room for improvement with the skills that made up the area(s) of , , , "},null,null,null,null,null,null,null,null,null,null,null,null,null,{"$f":"Front!M20","v":0},{"$f":"Front!M18","v":0},0,0,{"$f":"Front!M19","v":1}]
[{"$f":"CONCATENATE($A1,\" \",G159,\" \",N159,\", \",O159,\", \",P159,\", \",Q159)","v":"0 hadn't had the opportunity to work on the skills in the area(s) of , , , "},null,null,null,null,null,null,null,null,null,null,null,null,null,"↑ Don't worry about this chart"]
[{"$f":"CONCATENATE($A1,\" \",G160,\" \",N160,\", \",O160,\", \",P160,\", \",Q160)","v":"0 didn't need the skills in the area(s) of Walking, Maintaining Body Alignment While Walking, Balance, Turns"}]
[null,null,null,null,null,null,"DO NOT HIGHLIGHT & COPY ANY OF THE GREY CELLS; ALL THE TEXT YOU NEED IS IN WHITE CELLS"]
[{"$f":"CONCATENATE(A161,\" \",H17,\"%\")","v":"Single Room O&M Score: 0%"},null,null,null,null,null,{"$f":"Front!K5","v":0},{"$f":"ROUND(G17,1)","v":0}]
[{"$f":"CONCATENATE($A1,\" \",G162,\" \",N162,\", \",O162,\", \",P162,\", \",Q162,\", \",R162)","v":"0 did well with the skills that made up the area(s) of , , , , "}]
[{"$f":"CONCATENATE($A1,\" \",G163,\" \",N163,\", \",O163,\", \",P163,\", \",Q163,\", \",R163)","v":"0 had room for improvement with the skills that made up the area(s) of , , , , "}]
[{"$f":"CONCATENATE($A1,\" \",G164,\" \",N164,\", \",O164,\", \",P164,\", \",Q164,\", \",R164)","v":"0 hadn't had the opportunity to work on the skills in the area(s) of , , , , "}]
[{"$f":"CONCATENATE($A1,\" \",G165,\" \",N165,\", \",O165,\", \",P165,\", \",Q165,\", \",R165)","v":"0 didn't need the skills in the area(s) of Familiar Rooms, Unfamiliar Rooms, Seating (Rows), Seating (Tables), Locating Dropped Objects"}]
[null,null,null,null,null,null,"COPYING THE GREY CELLS WILL JUST MAKE A MESS OF YOUR WORD DOCUMENT. I KNOW IT LOOKS"]
[{"$f":"CONCATENATE(A167,\" \",H23,\"%\")","v":"Indoor O&M Score: 0%"},null,null,null,null,null,{"$f":"Front!K6","v":0},{"$f":"ROUND(G23,1)","v":0}]
[{"$f":"CONCATENATE($A1,\" \",G168,\" \",N168,\", \",O168,\", \",P168,\", \",Q168,\", \",R168,\", \",S168,\", \",T168,\", \",U168)","v":"0 did well with the skills that made up the area(s) of , , , , , , , "}]
[{"$f":"CONCATENATE($A1,\" \",G169,\" \",N169,\", \",O169,\", \",P169,\", \",Q169,\", \",R169,\", \",S169,\", \",T169,\", \",U169)","v":"0 had room for improvement with the skills that made up the area(s) of , , , , , , , "}]
[{"$f":"CONCATENATE($A1,\" \",G170,\" \",N170,\", \",O170,\", \",P170,\", \",Q170,\", \",R170,\", \",S170,\", \",T170,\", \",U170)","v":"0 hadn't had the opportunity to work on the skills in the area(s) of , , , , , , , "}]
[{"$f":"CONCATENATE($A1,\" \",G171,\" \",N171,\", \",O171,\", \",P171,\", \",Q171,\", \",R171,\", \",S171,\", \",T171,\", \",U171)","v":"0 didn't need the skills in the area(s) of Hand Trailing, Navigating Open Spaces, Doors, Ascending/Descending Stairs, Escalators, Elevators, Moving Sidewalks, Turnstiles"}]
[null,null,null,null,null,null,"LIKE THERE IS TEXT IN THE GREY CELLS BUT THERE REALLY ISN'T. TRUST ME; I'M AN EXCEL NERD."]
[{"$f":"CONCATENATE(A176,\" \",H29,\"%\")","v":"Self Protection Score: 0%"},null,null,null,null,null,{"$f":"Front!K7","v":0},{"$f":"ROUND(G29,1)","v":0}]
[{"$f":"CONCATENATE($A1,\" \",G176,\" \",N176,\", \",O176,\", \",P176)","v":"0 did well with the skills that made up the area(s) of , , "}]
[{"$f":"CONCATENATE($A1,\" \",G177,\" \",N177,\", \",O177,\", \",P177)","v":"0 had room for improvement with the skills that made up the area(s) of , , "}]
[{"$f":"CONCATENATE($A1,\" \",G178,\" \",N178,\", \",O178,\", \",P178)","v":"0 hadn't had the opportunity to work on the skills in the area(s) of , , "}]
[{"$f":"CONCATENATE($A1,\" \",G179,\" \",N179,\", \",O179,\", \",P179)","v":"0 didn't need the skills in the area(s) of Upper Hand Protective Technique, Lower Forearm Protective Technique, Protective Clothing"}]
[]
[{"$f":"CONCATENATE(A180,\" \",H35,\"%\")","v":"Guided Travel Score: 0%"},null,null,null,null,null,{"$f":"Front!K8","v":0},{"$f":"ROUND(G35,1)","v":0}]
[{"$f":"CONCATENATE($A1,\" \",G181,\" \",N181,\", \",O181,\", \",P181,\", \",Q181)","v":"0 did well with the skills that made up the area(s) of , , , "}]
[{"$f":"CONCATENATE($A1,\" \",G182,\" \",N182,\", \",O182,\", \",P182,\", \",Q182)","v":"0 had room for improvement with the skills that made up the area(s) of , , , "}]
[{"$f":"CONCATENATE($A1,\" \",G183,\" \",N183,\", \",O183,\", \",P183,\", \",Q183)","v":"0 hadn't had the opportunity to work on the skills in the area(s) of , , , "}]
[{"$f":"CONCATENATE($A1,\" \",G184,\" \",N184,\", \",O184,\", \",P184,\", \",Q184)","v":"0 didn't need the skills in the area(s) of Human Guide, Walking With Another (No Direct Contact), Menus, Getting Rides"}]
[]
[{"$f":"CONCATENATE(A185,\" \",H41,\"%\")","v":"Cane Skills Score: 0%"},null,null,null,null,null,{"$f":"Front!K9","v":0},{"$f":"ROUND(G41,1)","v":0}]
[{"$f":"CONCATENATE($A1,\" \",G186,\" \",N186,\", \",O186,\", \",P186,\", \",Q186,\", \",R186,\", \",S186,\", \",T186)","v":"0 did well with the skills that made up the area(s) of , , , , , , "}]
[{"$f":"CONCATENATE($A1,\" \",G187,\" \",N187,\", \",O187,\", \",P187,\", \",Q187,\", \",R187,\", \",S187,\", \",T187)","v":"0 had room for improvement with the skills that made up the area(s) of , , , , , , "}]
[{"$f":"CONCATENATE($A1,\" \",G188,\" \",N188,\", \",O188,\", \",P188,\", \",Q188,\", \",R188,\", \",S188,\", \",T188)","v":"0 hadn't had the opportunity to work on the skills in the area(s) of , , , , , , "}]
[{"$f":"CONCATENATE($A1,\" \",G189,\" \",N189,\", \",O189,\", \",P189,\", \",Q189,\", \",R189,\", \",S189,\", \",T189)","v":"0 didn't need the skills in the area(s) of Basic Skills, Types Of Grips, Constant Contact, Diagonal/Diagonal Trail, Two Point Touch/Touch Trail, Touch And Drag, Three Point Touch"}]
[]
[{"$f":"CONCATENATE(A193,\" \",H47,\"%\")","v":"Sidewalk Travel Score: 0%"},null,null,null,null,null,{"$f":"Front!K10","v":0},{"$f":"ROUND(G47,1)","v":0}]
[{"$f":"CONCATENATE($A1,\" \",G193,\" \",N193,\", \",O193,\", \",P193)","v":"0 did well with the skills that made up the area(s) of , , "}]
[{"$f":"CONCATENATE($A1,\" \",G194,\" \",N194,\", \",O194,\", \",P194)","v":"0 had room for improvement with the skills that made up the area(s) of , , "}]
[{"$f":"CONCATENATE($A1,\" \",G195,\" \",N195,\", \",O195,\", \",P195)","v":"0 hadn't had the opportunity to work on the skills in the area(s) of , , "}]
[{"$f":"CONCATENATE($A1,\" \",G196,\" \",N196,\", \",O196,\", \",P196)","v":"0 didn't need the skills in the area(s) of Walking On Sidewalks, Walking On Irregular Sidewalks, Correcting for Veering On Sidewalks"}]
[]
[{"$f":"CONCATENATE(A197,\" \",H53,\"%\")","v":"Street Crossings Score: 0%"},null,null,null,null,null,{"$f":"Front!K11","v":0},{"$f":"ROUND(G53,1)","v":0}]
[{"$f":"CONCATENATE($A1,\" \",G198,\" \",N198,\", \",O198,\", \",P198,\", \",Q198,\", \",R198,\", \",S198,\", \",T198,\", \",U198,\", \",V198,\", \",W198,\", \",X198,\", \",Y198,\", \",Z198,\", \",AA198,\", \",AB198,\", \",AC198)","v":"0 did well with the skills that made up the area(s) of , , , , , , , , , , , , , , , "}]
[{"$f":"CONCATENATE($A1,\" \",G199,\" \",N199,\", \",O199,\", \",P199,\", \",Q199,\", \",R199,\", \",S199,\", \",T199,\", \",U199,\", \",V199,\", \",W199,\", \",X199,\", \",Y199,\", \",Z199,\", \",AA199,\", \",AB199,\", \",AC199)","v":"0 had room for improvement with the skills that made up the area(s) of , , , , , , , , , , , , , , , "}]
[{"$f":"CONCATENATE($A1,\" \",G200,\" \",N200,\", \",O200,\", \",P200,\", \",Q200,\", \",R200,\", \",S200,\", \",T200,\", \",U200,\", \",V200,\", \",W200,\", \",X200,\", \",Y200,\", \",Z200,\", \",AA200,\", \",AB200,\", \",AC200)","v":"0 hadn't had the opportunity to work on the skills in the area(s) of , , , , , , , , , , , , , , , "}]
[{"$f":"CONCATENATE($A1,\" \",G201,\" \",N201,\", \",O201,\", \",P201,\", \",Q201,\", \",R201,\", \",S201,\", \",T201,\", \",U201,\", \",V201,\", \",W201,\", \",X201,\", \",Y201,\", \",Z201,\", \",AA201,\", \",AB201,\", \",AC201)","v":"0 didn't need the skills in the area(s) of Anticipating Street Crossings, Maintaining Line Of Travel, Maintaining Body Alignment, Re-establishing Body Alignment, Analyzing Intersections, Plus Intersections, T Intersections, Y Intersections, Roundabouts, Significantly Offset Intersections, Atypical Intersections, Newly Developed Intersections, Channelized Right Turn Lanes, Veering, Understanding Drivers’ Perspectives, Pedestrian Signals"}]
[]
[{"$f":"CONCATENATE(A214,\" \",H59,\"%\")","v":"Orientation Skills and GPS Score: 0%"},null,null,null,null,null,{"$f":"Front!K12","v":0},{"$f":"ROUND(G59,1)","v":0}]
[{"$f":"CONCATENATE($A1,\" \",G215,\" \",N215,\", \",O215,\", \",P215,\", \",Q215,\", \",R215,\", \",S215,\", \",T215,\", \",U215,\", \",V215,\", \",W215)","v":"0 did well with the skills that made up the area(s) of , , , , , , , , , "}]
[{"$f":"CONCATENATE($A1,\" \",G216,\" \",N216,\", \",O216,\", \",P216,\", \",Q216,\", \",R216,\", \",S216,\", \",T216,\", \",U216,\", \",V216,\", \",W216)","v":"0 had room for improvement with the skills that made up the area(s) of , , , , , , , , , "}]
[{"$f":"CONCATENATE($A1,\" \",G217,\" \",N217,\", \",O217,\", \",P217,\", \",Q217,\", \",R217,\", \",S217,\", \",T217,\", \",U217,\", \",V217,\", \",W217)","v":"0 hadn't had the opportunity to work on the skills in the area(s) of , , , , , , , , , "}]
[{"$f":"CONCATENATE($A1,\" \",G218,\" \",N218,\", \",O218,\", \",P218,\", \",Q218,\", \",R218,\", \",S218,\", \",T218,\", \",U218,\", \",V218,\", \",W218)","v":"0 didn't need the skills in the area(s) of Cardinality, Clues, Landmarks, Indoor Numbering Systems, Outdoor Numbering Systems, Grid System, Divisors And Block Numbering, Transferability, GPS, Maps"}]
[]
[{"$f":"CONCATENATE(A225,\" \",H65,\"%\")","v":"Public Transportation Score: 0%"},null,null,null,null,null,{"$f":"Front!K13","v":0},{"$f":"ROUND(G65,1)","v":0}]
[{"$f":"CONCATENATE($A1,\" \",G226,\" \",N226,\", \",O226,\", \",P226,\", \",Q226,\", \",R226,\", \",S226,\", \",T226)","v":"0 did well with the skills that made up the area(s) of , , , , , , "}]
[{"$f":"CONCATENATE($A1,\" \",G227,\" \",N227,\", \",O227,\", \",P227,\", \",Q227,\", \",R227,\", \",S227,\", \",T227)","v":"0 had room for improvement with the skills that made up the area(s) of , , , , , , "}]
[{"$f":"CONCATENATE($A1,\" \",G228,\" \",N228,\", \",O228,\", \",P228,\", \",Q228,\", \",R228,\", \",S228,\", \",T228)","v":"0 hadn't had the opportunity to work on the skills in the area(s) of , , , , , , "}]
[{"$f":"CONCATENATE($A1,\" \",G229,\" \",N229,\", \",O229,\", \",P229,\", \",Q229,\", \",R229,\", \",S229,\", \",T229)","v":"0 didn't need the skills in the area(s) of Identifying Common Public Transportation Options, Intra-City Bus Travel, Inter-City Bus Travel, Taxi/Ride Service, Handi-Ride/Para Transit, Air Travel, Subway/Light Rail"}]
[]
[{"$f":"CONCATENATE(A233,\" \",H71,\"%\")","v":"Atypical O&M Score: 0%"},null,null,null,null,null,{"$f":"Front!K14","v":0},{"$f":"ROUND(G71,1)","v":0}]
[{"$f":"CONCATENATE($A1,\" \",G234,\" \",N234,\", \",O234,\", \",P234,\", \",Q234)","v":"0 did well with the skills that made up the area(s) of , , , "}]
[{"$f":"CONCATENATE($A1,\" \",G235,\" \",N235,\", \",O235,\", \",P235,\", \",Q235)","v":"0 had room for improvement with the skills that made up the area(s) of , , , "}]
[{"$f":"CONCATENATE($A1,\" \",G236,\" \",N236,\", \",O236,\", \",P236,\", \",Q236)","v":"0 hadn't had the opportunity to work on the skills in the area(s) of , , , "}]
[{"$f":"CONCATENATE($A1,\" \",G237,\" \",N237,\", \",O237,\", \",P237,\", \",Q237)","v":"0 didn't need the skills in the area(s) of Fences, Fields (Urban), Parks/Playgrounds, Inclement Weather"}]
[]
[{"$f":"CONCATENATE(A238,\" \",H77,\"%\")","v":"Rural Travel Score: 0%"},null,null,null,null,null,{"$f":"Front!K15","v":0},{"$f":"ROUND(G77,1)","v":0}]
[{"$f":"CONCATENATE($A1,\" \",G239,\" \",N239,\", \",O239,\", \",P239,\", \",Q239,\", \",R239)","v":"0 did well with the skills that made up the area(s) of , , , , "}]
[{"$f":"CONCATENATE($A1,\" \",G240,\" \",N240,\", \",O240,\", \",P240,\", \",Q240,\", \",R240)","v":"0 had room for improvement with the skills that made up the area(s) of , , , , "}]
[{"$f":"CONCATENATE($A1,\" \",G241,\" \",N241,\", \",O241,\", \",P241,\", \",Q241,\", \",R241)","v":"0 hadn't had the opportunity to work on the skills in the area(s) of , , , , "}]
[{"$f":"CONCATENATE($A1,\" \",G242,\" \",N242,\", \",O242,\", \",P242,\", \",Q242,\", \",R242)","v":"0 didn't need the skills in the area(s) of Understanding Unique Dangers Related To Rural Travel, Walking Along Rural Roads, Ditches/Arroyos, Identifying And Going Around Items In Rural Areas, Rural Street Crossings"}]
[]
[{"$f":"CONCATENATE(A244,\" \",H83,\"%\")","v":"Vision Specific O&M Skills Score: 0%"},null,null,null,null,null,{"$f":"Front!K16","v":0},{"$f":"ROUND(G83,1)","v":0}]
[{"$f":"CONCATENATE($A1,\" \",G245,\" \",N245,\", \",O245,\", \",P245,\", \",Q245,\", \",R245)","v":"0 did well with the skills that made up the area(s) of , , , , "}]
[{"$f":"CONCATENATE($A1,\" \",G246,\" \",N246,\", \",O246,\", \",P246,\", \",Q246,\", \",R246)","v":"0 had room for improvement with the skills that made up the area(s) of , , , , "}]
[{"$f":"CONCATENATE($A1,\" \",G247,\" \",N247,\", \",O247,\", \",P247,\", \",Q247,\", \",R247)","v":"0 hadn't had the opportunity to work on the skills in the area(s) of , , , , "}]
[{"$f":"CONCATENATE($A1,\" \",G248,\" \",N248,\", \",O248,\", \",P248,\", \",Q248,\", \",R248)","v":"0 didn't need the skills in the area(s) of Scanning Materials, Scanning Environments, Magnifiers And CCTVs, Monoculars, Visual Traveling"}]
[]
[{"$f":"CONCATENATE(A250,\" \",H89,\"%\")","v":"Community Score: 0%"},null,null,null,null,null,{"$f":"Front!K17","v":0},{"$f":"ROUND(G89,1)","v":0}]
[{"$f":"CONCATENATE($A1,\" \",G251,\" \",N251,\", \",O251,\", \",P251,\", \",Q251,\", \",R251)","v":"0 did well with the skills that made up the area(s) of , , , , "}]
[{"$f":"CONCATENATE($A1,\" \",G252,\" \",N252,\", \",O252,\", \",P252,\", \",Q252,\", \",R252)","v":"0 had room for improvement with the skills that made up the area(s) of , , , , "}]
[{"$f":"CONCATENATE($A1,\" \",G253,\" \",N253,\", \",O253,\", \",P253,\", \",Q253,\", \",R253)","v":"0 hadn't had the opportunity to work on the skills in the area(s) of , , , , "}]
[{"$f":"CONCATENATE($A1,\" \",G254,\" \",N254,\", \",O254,\", \",P254,\", \",Q254,\", \",R254)","v":"0 didn't need the skills in the area(s) of Comparison Shopping From Home, Stores, Fast Food Restaurants, Cafeteria Restaurants, Sit Down Restaurants"}]
[]
["Summary"]
[{"$f":"CONCATENATE(A1,\" \",G259,\" \",K3,\" \",H259)","v":"0 demonstrated 0 of the skills needed to travel independently as an adult."}]
[{"$f":"CONCATENATE($A1,\" \",G260,\" \",N260,\", \",O260,\", \",P260,\", \",Q260,\", \",R260,\", \",S260,\", \",T260,\", \",U260,\", \",V260,\", \",W260,\", \",X260,\", \",Y260,\", \",Z260,\", \",AA260,\", \",AB260)","v":"0 did well with the skills that made up the domain(s) of , , , , , , , , , , , , , , "}]
[{"$f":"CONCATENATE($A1,\" \",G261,\" \",N261,\", \",O261,\", \",P261,\", \",Q261,\", \",R261,\", \",S261,\", \",T261,\", \",U261,\", \",V261,\", \",W261,\", \",X261,\", \",Y261,\", \",Z261,\", \",AA261,\", \",AB261)","v":"0 had room for improvement with the skills that made up the domain(s) of , , , , , , , , , , , , , , "}]
[{"$f":"CONCATENATE($A1,\" \",G262,\" \",N262,\", \",O262,\", \",P262,\", \",Q262,\", \",R262,\", \",S262,\", \",T262,\", \",U262,\", \",V262,\", \",W262,\", \",X262,\", \",Y262,\", \",Z262,\", \",AA262,\", \",AB262)","v":"0 hadn't had the opportunity to work on the skills that made up the domain(s) of , , , , , , , , , , , , , , "}]
[{"$f":"CONCATENATE($A1,\" \",G263,\" \",N263,\", \",O263,\", \",P263,\", \",Q263,\", \",R263,\", \",S263,\", \",T263,\", \",U263,\", \",V263,\", \",W263,\", \",X263,\", \",Y263,\", \",Z263,\", \",AA263,\", \",AB263)","v":"0 had no need for the skills that made up the domain(s) of Concepts, Movement, Single Room O&M, Indoor O&M, Self Protection, Guided Travel, Cane Skills, Sidewalk Travel, Street Crossings, Orientation Skills & GPS, Public Transportation, Atypical O&M, Rural Travel, Vision Specific O&M Skills, Community "}]
[]
[]
[]
[]
[]
[]
[]
[]
[]
["Present Level of Educational Performance"]
[{"$f":"CONCATENATE($A97,\" \",A98,\" \",A99,\", \",A100)","v":"0 did well with the skills that made up the domain(s) of , , , , , , , , , , , , , ,  0 had room for improvement with the skills that made up the domain(s) of , , , , , , , , , , , , , ,  0 hadn't had the opportunity to work on the skills that made up the domain(s) of , , , , , , , , , , , , , , , 0 had no need for the skills that made up the domain(s) of Concepts, Movement, Single Room O&M, Indoor O&M, Self Protection, Guided Travel, Cane Skills, Sidewalk Travel, Street Crossings, Orientation Skills & GPS, Public Transportation, Atypical O&M, Rural Travel, Vision Specific O&M Skills, Community "}]
[]
["Strengths"]
[{"$f":"A97","v":"0 did well with the skills that made up the domain(s) of , , , , , , , , , , , , , , "}]
[]
["Concerns"]
[{"$f":"A98","v":"0 had room for improvement with the skills that made up the domain(s) of , , , , , , , , , , , , , , "}]
[]
["Goal"]
[{"$f":"CONCATENATE($A1,\" \",A276,\" \",K3,\"% \",A277,\" \",(ROUNDUP(K3+5,0)),\"% \",A278)","v":"0 will demonstrate improved skills in Orientation & Mobility by increasing the score on the O&M Inventory from 0% to a minimum of 5% by the next annual IEP date."}]
[]
[]
[]
[]
["Progress Report"]
[{"$f":"CONCATENATE(A279,A280,\" \",$A1,\" \",A281,\" \",Q10,\"% \",A282,\" \",Q11,\"% \",A283,\" \",R11,\"% \",A284,\" \",S11,\"%. \",A1,\" \",A285,\" \",A286,\", \",A287,\", \",A288,\", \",A289,\", \",A290,\", \",A291,\", \",A292,\", \",A293,\", \",A294,\", \",A295,\", \",A296,\", \",A297,\", \",A298,\", \",A299,\", \",A300)","v":"Please see the attached chart. Over the previous grading period 0 increased the score on the O&M Inventory from 0% to 0% and is now 0% of the way to the goal of 1%. 0 made gains in the domain(s) of , , , , , , , , , , , , , , "}]
[]
[]
[]
[]
[]
[]
[]
[]
[]
[]
[]
[]
[]
[]
[]
[]
[]
[]
[]
[]
[]
[]
["↓Don't worry about any of this. It fills in automatically and is what creates the useful text "]
["NMSBVI O&M INVENTORY TOTAL SCORE: "]
["Concepts Score:"]
["Vocabulary",null,null,null,null,{"$f":"Concept!J42","v":0},"did well with the skills that made up the area(s) of",null,null,null,null,null,null,{"$f":"IF(F152>3.99,A152,\"\")","v":""},{"$f":"IF(F153>3.99,A153,\"\")","v":""},{"$f":"IF(F154>3.99,A154,\"\")","v":""},{"$f":"IF(F155>3.99,A155,\"\")","v":""},{"$f":"IF(F156>4,E156,\"\")","v":""}]
["Laterality",null,null,null,null,{"$f":"Concept!J48","v":0},"had room for improvement with the skills that made up the area(s) of",null,null,null,null,null,null,{"$f":"IF(AND($F152>1.01,$F152<3.99),$A152,\"\")","v":""},{"$f":"IF(AND($F153>1.01,$F153<3.99),$A153,\"\")","v":""},{"$f":"IF(AND($F154>1.01,$F154<3.99),$A154,\"\")","v":""},{"$f":"IF(AND($F155>1.01,$F155<3.99),$A155,\"\")","v":""}]
["Parallel/Perpendicular",null,null,null,null,{"$f":"Concept!J57","v":0},"hadn't had the opportunity to work on the skills in the area(s) of",null,null,null,null,null,null,{"$f":"IF(AND($F152>0.99,$F152<1.000001),$A152,\"\")","v":""},{"$f":"IF(AND($F153>0.99,$F153<1.000001),$A153,\"\")","v":""},{"$f":"IF(AND($F154>0.99,$F154<1.000001),$A154,\"\")","v":""},{"$f":"IF(AND($F155>0.99,$F155<1.000001),$A155,\"\")","v":""}]
["Time And Distance",null,null,null,null,{"$f":"Concept!J62","v":0},"didn't need the skills in the area(s) of",null,null,null,null,null,null,{"$f":"IF($F152=0,$A152,\"\")","v":"Vocabulary"},{"$f":"IF($F153=0,$A153,\"\")","v":"Laterality"},{"$f":"IF($F154=0,$A154,\"\")","v":"Parallel/Perpendicular"},{"$f":"IF($F155=0,$A155,\"\")","v":"Time And Distance"}]
["Movement Score:"]
["Walking",null,null,null,null,{"$f":"Move!J41","v":0},"did well with the skills that made up the area(s) of",null,null,null,null,null,null,{"$f":"IF(F157>3.99,A157,\"\")","v":""},{"$f":"IF(F158>3.99,A158,\"\")","v":""},{"$f":"IF(F159>3.99,A159,\"\")","v":""},{"$f":"IF(F160>3.99,A160,\"\")","v":""}]
["Maintaining Body Alignment While Walking",null,null,null,null,{"$f":"Move!J47","v":0},"had room for improvement with the skills that made up the area(s) of",null,null,null,null,null,null,{"$f":"IF(AND($F157>1.01,$F157<3.99),$A157,\"\")","v":""},{"$f":"IF(AND($F158>1.01,$F158<3.99),$A158,\"\")","v":""},{"$f":"IF(AND($F159>1.01,$F159<3.99),$A159,\"\")","v":""},{"$f":"IF(AND($F160>1.01,$F160<3.99),$A160,\"\")","v":""}]
["Balance",null,null,null,null,{"$f":"Move!J53","v":0},"hadn't had the opportunity to work on the skills in the area(s) of",null,null,null,null,null,null,{"$f":"IF(AND($F157>0.99,$F157<1.000001),$A157,\"\")","v":""},{"$f":"IF(AND($F158>0.99,$F158<1.000001),$A158,\"\")","v":""},{"$f":"IF(AND($F159>0.99,$F159<1.000001),$A159,\"\")","v":""},{"$f":"IF(AND($F160>0.99,$F160<1.000001),$A160,\"\")","v":""}]
["Turns",null,null,null,null,{"$f":"Move!J61","v":0},"didn't need the skills in the area(s) of",null,null,null,null,null,null,{"$f":"IF($F157=0,$A157,\"\")","v":"Walking"},{"$f":"IF($F158=0,$A158,\"\")","v":"Maintaining Body Alignment While Walking"},{"$f":"IF($F159=0,$A159,\"\")","v":"Balance"},{"$f":"IF($F160=0,$A160,\"\")","v":"Turns"}]
["Single Room O&M Score:"]
["Familiar Rooms",null,null,null,null,{"$f":"SingRm!J45","v":0},"did well with the skills that made up the area(s) of",null,null,null,null,null,null,{"$f":"IF(F162>3.99,A162,\"\")","v":""},{"$f":"IF(F163>3.99,A163,\"\")","v":""},{"$f":"IF(F164>3.99,A164,\"\")","v":""},{"$f":"IF(F165>3.99,A165,\"\")","v":""},{"$f":"IF(F166>3.99,A166,\"\")","v":""}]
["Unfamiliar Rooms",null,null,null,null,{"$f":"SingRm!J51","v":0},"had room for improvement with the skills that made up the area(s) of",null,null,null,null,null,null,{"$f":"IF(AND($F162>1.01,$F162<3.99),$A162,\"\")","v":""},{"$f":"IF(AND($F163>1.01,$F163<3.99),$A163,\"\")","v":""},{"$f":"IF(AND($F164>1.01,$F164<3.99),$A164,\"\")","v":""},{"$f":"IF(AND($F165>1.01,$F165<3.99),$A165,\"\")","v":""},{"$f":"IF(AND($F166>1.01,$F166<3.99),$A166,\"\")","v":""}]
["Seating (Rows)",null,null,null,null,{"$f":"SingRm!J58","v":0},"hadn't had the opportunity to work on the skills in the area(s) of",null,null,null,null,null,null,{"$f":"IF(AND($F162>0.99,$F162<1.000001),$A162,\"\")","v":""},{"$f":"IF(AND($F163>0.99,$F163<1.000001),$A163,\"\")","v":""},{"$f":"IF(AND($F164>0.99,$F164<1.000001),$A164,\"\")","v":""},{"$f":"IF(AND($F165>0.99,$F165<1.000001),$A165,\"\")","v":""},{"$f":"IF(AND($F166>0.99,$F166<1.000001),$A166,\"\")","v":""}]
["Seating (Tables)",null,null,null,null,{"$f":"SingRm!J65","v":0},"didn't need the skills in the area(s) of",null,null,null,null,null,null,{"$f":"IF($F162=0,$A162,\"\")","v":"Familiar Rooms"},{"$f":"IF($F163=0,$A163,\"\")","v":"Unfamiliar Rooms"},{"$f":"IF($F164=0,$A164,\"\")","v":"Seating (Rows)"},{"$f":"IF($F165=0,$A165,\"\")","v":"Seating (Tables)"},{"$f":"IF($F166=0,$A166,\"\")","v":"Locating Dropped Objects"}]
["Locating Dropped Objects",null,null,null,null,{"$f":"SingRm!J70","v":0}]
["Indoor O&M Score:"]
["Hand Trailing",null,null,null,null,{"$f":"Indoor!J72","v":0},"did well with the skills that made up the area(s) of",null,null,null,null,null,null,{"$f":"IF(F168>3.99,A168,\"\")","v":""},{"$f":"IF(F169>3.99,A169,\"\")","v":""},{"$f":"IF(F170>3.99,A170,\"\")","v":""},{"$f":"IF(F171>3.99,A171,\"\")","v":""},{"$f":"IF(F172>3.99,A172,\"\")","v":""},{"$f":"IF(F173>3.99,A173,\"\")","v":""},{"$f":"IF(F174>3.99,A174,\"\")","v":""},{"$f":"IF(F175>3.99,A175,\"\")","v":""}]
["Navigating Open Spaces",null,null,null,null,{"$f":"Indoor!J75","v":0},"had room for improvement with the skills that made up the area(s) of",null,null,null,null,null,null,{"$f":"IF(AND($F168>1.01,$F168<3.99),$A168,\"\")","v":""},{"$f":"IF(AND($F169>1.01,$F169<3.99),$A169,\"\")","v":""},{"$f":"IF(AND($F170>1.01,$F170<3.99),$A170,\"\")","v":""},{"$f":"IF(AND($F171>1.01,$F171<3.99),$A171,\"\")","v":""},{"$f":"IF(AND($F172>1.01,$F172<3.99),$A172,\"\")","v":""},{"$f":"IF(AND($F173>1.01,$F173<3.99),$A173,\"\")","v":""},{"$f":"IF(AND($F174>1.01,$F174<3.99),$A174,\"\")","v":""},{"$f":"IF(AND($F175>1.01,$F175<3.99),$A175,\"\")","v":""}]
["Doors",null,null,null,null,{"$f":"Indoor!J78","v":0},"hadn't had the opportunity to work on the skills in the area(s) of",null,null,null,null,null,null,{"$f":"IF(AND($F168>0.99,$F168<1.000001),$A168,\"\")","v":""},{"$f":"IF(AND($F169>0.99,$F169<1.000001),$A169,\"\")","v":""},{"$f":"IF(AND($F170>0.99,$F170<1.000001),$A170,\"\")","v":""},{"$f":"IF(AND($F171>0.99,$F171<1.000001),$A171,\"\")","v":""},{"$f":"IF(AND($F172>0.99,$F172<1.000001),$A172,\"\")","v":""},{"$f":"IF(AND($F173>0.99,$F173<1.000001),$A173,\"\")","v":""},{"$f":"IF(AND($F174>0.99,$F174<1.000001),$A174,\"\")","v":""},{"$f":"IF(AND($F175>0.99,$F175<1.000001),$A175,\"\")","v":""}]
["Ascending/Descending Stairs",null,null,null,null,{"$f":"Indoor!J84","v":0},"didn't need the skills in the area(s) of",null,null,null,null,null,null,{"$f":"IF($F168=0,$A168,\"\")","v":"Hand Trailing"},{"$f":"IF($F169=0,$A169,\"\")","v":"Navigating Open Spaces"},{"$f":"IF($F170=0,$A170,\"\")","v":"Doors"},{"$f":"IF($F171=0,$A171,\"\")","v":"Ascending/Descending Stairs"},{"$f":"IF($F172=0,$A172,\"\")","v":"Escalators"},{"$f":"IF($F173=0,$A173,\"\")","v":"Elevators"},{"$f":"IF($F174=0,$A174,\"\")","v":"Moving Sidewalks"},{"$f":"IF($F175=0,$A175,\"\")","v":"Turnstiles"}]
["Escalators",null,null,null,null,{"$f":"Indoor!J92","v":0}]
["Elevators",null,null,null,null,{"$f":"Indoor!J104","v":0}]
["Moving Sidewalks",null,null,null,null,{"$f":"Indoor!J113","v":0}]
["Turnstiles",null,null,null,null,{"$f":"Indoor!J123","v":0}]
["Self Protection Score:",null,null,null,null,null,"did well with the skills that made up the area(s) of",null,null,null,null,null,null,{"$f":"IF(F177>3.99,A177,\"\")","v":""},{"$f":"IF(F178>3.99,A178,\"\")","v":""},{"$f":"IF(F179>3.99,A179,\"\")","v":""}]
["Upper Hand Protective Technique",null,null,null,null,{"$f":"SelfPro!J29","v":0},"had room for improvement with the skills that made up the area(s) of",null,null,null,null,null,null,{"$f":"IF(AND($F177>1.01,$F177<3.99),$A177,\"\")","v":""},{"$f":"IF(AND($F178>1.01,$F178<3.99),$A178,\"\")","v":""},{"$f":"IF(AND($F179>1.01,$F179<3.99),$A179,\"\")","v":""}]
["Lower Forearm Protective Technique",null,null,null,null,{"$f":"SelfPro!J34","v":0},"hadn't had the opportunity to work on the skills in the area(s) of",null,null,null,null,null,null,{"$f":"IF(AND($F177>0.99,$F177<1.000001),$A177,\"\")","v":""},{"$f":"IF(AND($F178>0.99,$F178<1.000001),$A178,\"\")","v":""},{"$f":"IF(AND($F179>0.99,$F179<1.000001),$A179,\"\")","v":""}]
["Protective Clothing",null,null,null,null,{"$f":"SelfPro!J38","v":0},"didn't need the skills in the area(s) of",null,null,null,null,null,null,{"$f":"IF($F177=0,$A177,\"\")","v":"Upper Hand Protective Technique"},{"$f":"IF($F178=0,$A178,\"\")","v":"Lower Forearm Protective Technique"},{"$f":"IF($F179=0,$A179,\"\")","v":"Protective Clothing"}]
["Guided Travel Score:"]
["Human Guide",null,null,null,null,{"$f":"Guided!J39","v":0},"did well with the skills that made up the area(s) of",null,null,null,null,null,null,{"$f":"IF(F181>3.99,A181,\"\")","v":""},{"$f":"IF(F182>3.99,A182,\"\")","v":""},{"$f":"IF(F183>3.99,A183,\"\")","v":""},{"$f":"IF(F184>3.99,A184,\"\")","v":""}]
["Walking With Another (No Direct Contact)",null,null,null,null,{"$f":"Guided!J47","v":0},"had room for improvement with the skills that made up the area(s) of",null,null,null,null,null,null,{"$f":"IF(AND($F181>1.01,$F181<3.99),$A181,\"\")","v":""},{"$f":"IF(AND($F182>1.01,$F182<3.99),$A182,\"\")","v":""},{"$f":"IF(AND($F183>1.01,$F183<3.99),$A183,\"\")","v":""},{"$f":"IF(AND($F184>1.01,$F184<3.99),$A184,\"\")","v":""}]
["Menus",null,null,null,null,{"$f":"Guided!J52","v":0},"hadn't had the opportunity to work on the skills in the area(s) of",null,null,null,null,null,null,{"$f":"IF(AND($F181>0.99,$F181<1.000001),$A181,\"\")","v":""},{"$f":"IF(AND($F182>0.99,$F182<1.000001),$A182,\"\")","v":""},{"$f":"IF(AND($F183>0.99,$F183<1.000001),$A183,\"\")","v":""},{"$f":"IF(AND($F184>0.99,$F184<1.000001),$A184,\"\")","v":""}]
["Getting Rides",null,null,null,null,{"$f":"Guided!J56","v":0},"didn't need the skills in the area(s) of",null,null,null,null,null,null,{"$f":"IF($F181=0,$A181,\"\")","v":"Human Guide"},{"$f":"IF($F182=0,$A182,\"\")","v":"Walking With Another (No Direct Contact)"},{"$f":"IF($F183=0,$A183,\"\")","v":"Menus"},{"$f":"IF($F184=0,$A184,\"\")","v":"Getting Rides"}]
["Cane Skills Score:"]
["Basic Skills",null,null,null,null,{"$f":"Cane!J61","v":0},"did well with the skills that made up the area(s) of",null,null,null,null,null,null,{"$f":"IF(F186>3.99,A186,\"\")","v":""},{"$f":"IF(F187>3.99,A187,\"\")","v":""},{"$f":"IF(F188>3.99,A188,\"\")","v":""},{"$f":"IF(F189>3.99,A189,\"\")","v":""},{"$f":"IF(F190>3.99,A190,\"\")","v":""},{"$f":"IF(F191>3.99,A191,\"\")","v":""},{"$f":"IF(F192>3.99,A192,\"\")","v":""}]
["Types Of Grips",null,null,null,null,{"$f":"Cane!J68","v":0},"had room for improvement with the skills that made up the area(s) of",null,null,null,null,null,null,{"$f":"IF(AND($F186>1.01,$F186<3.99),$A186,\"\")","v":""},{"$f":"IF(AND($F187>1.01,$F187<3.99),$A187,\"\")","v":""},{"$f":"IF(AND($F188>1.01,$F188<3.99),$A188,\"\")","v":""},{"$f":"IF(AND($F189>1.01,$F189<3.99),$A189,\"\")","v":""},{"$f":"IF(AND($F190>1.01,$F190<3.99),$A190,\"\")","v":""},{"$f":"IF(AND($F191>1.01,$F191<3.99),$A191,\"\")","v":""},{"$f":"IF(AND($F192>1.01,$F192<3.99),$A192,\"\")","v":""}]
["Constant Contact",null,null,null,null,{"$f":"Cane!J74","v":0},"hadn't had the opportunity to work on the skills in the area(s) of",null,null,null,null,null,null,{"$f":"IF(AND($F186>0.99,$F186<1.000001),$A186,\"\")","v":""},{"$f":"IF(AND($F187>0.99,$F187<1.000001),$A187,\"\")","v":""},{"$f":"IF(AND($F188>0.99,$F188<1.000001),$A188,\"\")","v":""},{"$f":"IF(AND($F189>0.99,$F189<1.000001),$A189,\"\")","v":""},{"$f":"IF(AND($F190>0.99,$F190<1.000001),$A190,\"\")","v":""},{"$f":"IF(AND($F191>0.99,$F191<1.000001),$A191,\"\")","v":""},{"$f":"IF(AND($F192>0.99,$F192<1.000001),$A192,\"\")","v":""}]
["Diagonal/Diagonal Trail",null,null,null,null,{"$f":"Cane!J80","v":0},"didn't need the skills in the area(s) of",null,null,null,null,null,null,{"$f":"IF($F186=0,$A186,\"\")","v":"Basic Skills"},{"$f":"IF($F187=0,$A187,\"\")","v":"Types Of Grips"},{"$f":"IF($F188=0,$A188,\"\")","v":"Constant Contact"},{"$f":"IF($F189=0,$A189,\"\")","v":"Diagonal/Diagonal Trail"},{"$f":"IF($F190=0,$A190,\"\")","v":"Two Point Touch/Touch Trail"},{"$f":"IF($F191=0,$A191,\"\")","v":"Touch And Drag"},{"$f":"IF($F192=0,$A192,\"\")","v":"Three Point Touch"}]
["Two Point Touch/Touch Trail",null,null,null,null,{"$f":"Cane!J86","v":0}]
["Touch And Drag",null,null,null,null,{"$f":"Cane!J93","v":0}]
["Three Point Touch",null,null,null,null,{"$f":"Cane!J100","v":0}]
["Sidewalk Travel Score:",null,null,null,null,null,"did well with the skills that made up the area(s) of",null,null,null,null,null,null,{"$f":"IF(F194>3.99,A194,\"\")","v":""},{"$f":"IF(F195>3.99,A195,\"\")","v":""},{"$f":"IF(F196>3.99,A196,\"\")","v":""}]
["Walking On Sidewalks",null,null,null,null,{"$f":"Sidewalk!J40","v":0},"had room for improvement with the skills that made up the area(s) of",null,null,null,null,null,null,{"$f":"IF(AND($F194>1.01,$F194<3.99),$A194,\"\")","v":""},{"$f":"IF(AND($F195>1.01,$F195<3.99),$A195,\"\")","v":""},{"$f":"IF(AND($F196>1.01,$F196<3.99),$A196,\"\")","v":""}]
["Walking On Irregular Sidewalks",null,null,null,null,{"$f":"Sidewalk!J52","v":0},"hadn't had the opportunity to work on the skills in the area(s) of",null,null,null,null,null,null,{"$f":"IF(AND($F194>0.99,$F194<1.000001),$A194,\"\")","v":""},{"$f":"IF(AND($F195>0.99,$F195<1.000001),$A195,\"\")","v":""},{"$f":"IF(AND($F196>0.99,$F196<1.000001),$A196,\"\")","v":""}]
["Correcting for Veering On Sidewalks",null,null,null,null,{"$f":"Sidewalk!J58","v":0},"didn't need the skills in the area(s) of",null,null,null,null,null,null,{"$f":"IF($F194=0,$A194,\"\")","v":"Walking On Sidewalks"},{"$f":"IF($F195=0,$A195,\"\")","v":"Walking On Irregular Sidewalks"},{"$f":"IF($F196=0,$A196,\"\")","v":"Correcting for Veering On Sidewalks"}]
["Street Crossings Score:"]
["Anticipating Street Crossings",null,null,null,null,{"$f":"StCross!J188","v":0},"did well with the skills that made up the area(s) of",null,null,null,null,null,null,{"$f":"IF(F198>3.99,A198,\"\")","v":""},{"$f":"IF(F199>3.99,A199,\"\")","v":""},{"$f":"IF(F200>3.99,A200,\"\")","v":""},{"$f":"IF(F201>3.99,A201,\"\")","v":""},{"$f":"IF(F202>3.99,A202,\"\")","v":""},{"$f":"IF(F203>3.99,A203,\"\")","v":""},{"$f":"IF(F204>3.99,A204,\"\")","v":""},{"$f":"IF(F205>3.99,A205,\"\")","v":""},{"$f":"IF(F206>3.99,A206,\"\")","v":""},{"$f":"IF(F207>3.99,A207,\"\")","v":""},{"$f":"IF(F208>3.99,A208,\"\")","v":""},{"$f":"IF(F209>3.99,A209,\"\")","v":""},{"$f":"IF(F210>3.99,A210,\"\")","v":""},{"$f":"IF(F211>3.99,A211,\"\")","v":""},{"$f":"IF(F212>3.99,A212,\"\")","v":""},{"$f":"IF(F213>3.99,A213,\"\")","v":""}]
["Maintaining Line Of Travel",null,null,null,null,{"$f":"StCross!J194","v":0},"had room for improvement with the skills that made up the area(s) of",null,null,null,null,null,null,{"$f":"IF(AND($F198>1.01,$F198<3.99),$A198,\"\")","v":""},{"$f":"IF(AND($F199>1.01,$F199<3.99),$A199,\"\")","v":""},{"$f":"IF(AND($F200>1.01,$F200<3.99),$A200,\"\")","v":""},{"$f":"IF(AND($F201>1.01,$F201<3.99),$A201,\"\")","v":""},{"$f":"IF(AND($F202>1.01,$F202<3.99),$A202,\"\")","v":""},{"$f":"IF(AND($F203>1.01,$F203<3.99),$A203,\"\")","v":""},{"$f":"IF(AND($F204>1.01,$F204<3.99),$A204,\"\")","v":""},{"$f":"IF(AND($F205>1.01,$F205<3.99),$A205,\"\")","v":""},{"$f":"IF(AND($F206>1.01,$F206<3.99),$A206,\"\")","v":""},{"$f":"IF(AND($F207>1.01,$F207<3.99),$A207,\"\")","v":""},{"$f":"IF(AND($F208>1.01,$F208<3.99),$A208,\"\")","v":""},{"$f":"IF(AND($F209>1.01,$F209<3.99),$A209,\"\")","v":""},{"$f":"IF(AND($F210>1.01,$F210<3.99),$A210,\"\")","v":""},{"$f":"IF(AND($F211>1.01,$F211<3.99),$A211,\"\")","v":""},{"$f":"IF(AND($F212>1.01,$F212<3.99),$A212,\"\")","v":""},{"$f":"IF(AND($F213>1.01,$F213<3.99),$A213,\"\")","v":""}]
["Maintaining Body Alignment",null,null,null,null,{"$f":"StCross!J195","v":0},"hadn't had the opportunity to work on the skills in the area(s) of",null,null,null,null,null,null,{"$f":"IF(AND($F198>0.99,$F198<1.000001),$A198,\"\")","v":""},{"$f":"IF(AND($F199>0.99,$F199<1.000001),$A199,\"\")","v":""},{"$f":"IF(AND($F200>0.99,$F200<1.000001),$A200,\"\")","v":""},{"$f":"IF(AND($F201>0.99,$F201<1.000001),$A201,\"\")","v":""},{"$f":"IF(AND($F202>0.99,$F202<1.000001),$A202,\"\")","v":""},{"$f":"IF(AND($F203>0.99,$F203<1.000001),$A203,\"\")","v":""},{"$f":"IF(AND($F204>0.99,$F204<1.000001),$A204,\"\")","v":""},{"$f":"IF(AND($F205>0.99,$F205<1.000001),$A205,\"\")","v":""},{"$f":"IF(AND($F206>0.99,$F206<1.000001),$A206,\"\")","v":""},{"$f":"IF(AND($F207>0.99,$F207<1.000001),$A207,\"\")","v":""},{"$f":"IF(AND($F208>0.99,$F208<1.000001),$A208,\"\")","v":""},{"$f":"IF(AND($F209>0.99,$F209<1.000001),$A209,\"\")","v":""},{"$f":"IF(AND($F210>0.99,$F210<1.000001),$A210,\"\")","v":""},{"$f":"IF(AND($F211>0.99,$F211<1.000001),$A211,\"\")","v":""},{"$f":"IF(AND($F212>0.99,$F212<1.000001),$A212,\"\")","v":""},{"$f":"IF(AND($F213>0.99,$F213<1.000001),$A213,\"\")","v":""}]
["Re-establishing Body Alignment",null,null,null,null,{"$f":"StCross!J199","v":0},"didn't need the skills in the area(s) of",null,null,null,null,null,null,{"$f":"IF($F198=0,$A198,\"\")","v":"Anticipating Street Crossings"},{"$f":"IF($F199=0,$A199,\"\")","v":"Maintaining Line Of Travel"},{"$f":"IF($F200=0,$A200,\"\")","v":"Maintaining Body Alignment"},{"$f":"IF($F201=0,$A201,\"\")","v":"Re-establishing Body Alignment"},{"$f":"IF($F202=0,$A202,\"\")","v":"Analyzing Intersections"},{"$f":"IF($F203=0,$A203,\"\")","v":"Plus Intersections"},{"$f":"IF($F204=0,$A204,\"\")","v":"T Intersections"},{"$f":"IF($F205=0,$A205,\"\")","v":"Y Intersections"},{"$f":"IF($F206=0,$A206,\"\")","v":"Roundabouts"},{"$f":"IF($F207=0,$A207,\"\")","v":"Significantly Offset Intersections"},{"$f":"IF($F208=0,$A208,\"\")","v":"Atypical Intersections"},{"$f":"IF($F209=0,$A209,\"\")","v":"Newly Developed Intersections"},{"$f":"IF($F210=0,$A210,\"\")","v":"Channelized Right Turn Lanes"},{"$f":"IF($F211=0,$A211,\"\")","v":"Veering"},{"$f":"IF($F212=0,$A212,\"\")","v":"Understanding Drivers’ Perspectives"},{"$f":"IF($F213=0,$A213,\"\")","v":"Pedestrian Signals"}]
["Analyzing Intersections",null,null,null,null,{"$f":"StCross!J203","v":0}]
["Plus Intersections",null,null,null,null,{"$f":"StCross!J219","v":0}]
["T Intersections",null,null,null,null,{"$f":"StCross!J238","v":0}]
["Y Intersections",null,null,null,null,{"$f":"StCross!J260","v":0}]
["Roundabouts",null,null,null,null,{"$f":"StCross!J285","v":0}]
["Significantly Offset Intersections",null,null,null,null,{"$f":"StCross!J300","v":0}]
["Atypical Intersections",null,null,null,null,{"$f":"StCross!J305","v":0}]
["Newly Developed Intersections",null,null,null,null,{"$f":"StCross!J315","v":0}]
["Channelized Right Turn Lanes",null,null,null,null,{"$f":"StCross!J323","v":0}]
["Veering",null,null,null,null,{"$f":"StCross!J333","v":0}]
["Understanding Drivers’ Perspectives",null,null,null,null,{"$f":"StCross!J347","v":0}]
["Pedestrian Signals",null,null,null,null,{"$f":"StCross!J356","v":0}]
["Orientation Skills and GPS Score:"]
["Cardinality",null,null,null,null,{"$f":"Orient!J93","v":0},"did well with the skills that made up the area(s) of",null,null,null,null,null,null,{"$f":"IF(F215>3.99,A215,\"\")","v":""},{"$f":"IF(F216>3.99,A216,\"\")","v":""},{"$f":"IF(F217>3.99,A217,\"\")","v":""},{"$f":"IF(F218>3.99,A218,\"\")","v":""},{"$f":"IF(F219>3.99,A219,\"\")","v":""},{"$f":"IF(F220>3.99,A220,\"\")","v":""},{"$f":"IF(F221>3.99,A221,\"\")","v":""},{"$f":"IF(F222>3.99,A222,\"\")","v":""},{"$f":"IF(F223>3.99,A223,\"\")","v":""},{"$f":"IF(F224>3.99,A224,\"\")","v":""}]
["Clues",null,null,null,null,{"$f":"Orient!J108","v":0},"had room for improvement with the skills that made up the area(s) of",null,null,null,null,null,null,{"$f":"IF(AND($F215>1.01,$F215<3.99),$A215,\"\")","v":""},{"$f":"IF(AND($F216>1.01,$F216<3.99),$A216,\"\")","v":""},{"$f":"IF(AND($F217>1.01,$F217<3.99),$A217,\"\")","v":""},{"$f":"IF(AND($F218>1.01,$F218<3.99),$A218,\"\")","v":""},{"$f":"IF(AND($F219>1.01,$F219<3.99),$A219,\"\")","v":""},{"$f":"IF(AND($F220>1.01,$F220<3.99),$A220,\"\")","v":""},{"$f":"IF(AND($F221>1.01,$F221<3.99),$A221,\"\")","v":""},{"$f":"IF(AND($F222>1.01,$F222<3.99),$A222,\"\")","v":""},{"$f":"IF(AND($F223>1.01,$F223<3.99),$A223,\"\")","v":""},{"$f":"IF(AND($F224>1.01,$F224<3.99),$A224,\"\")","v":""}]
["Landmarks",null,null,null,null,{"$f":"Orient!J114","v":0},"hadn't had the opportunity to work on the skills in the area(s) of",null,null,null,null,null,null,{"$f":"IF(AND($F215>0.99,$F215<1.000001),$A215,\"\")","v":""},{"$f":"IF(AND($F216>0.99,$F216<1.000001),$A216,\"\")","v":""},{"$f":"IF(AND($F217>0.99,$F217<1.000001),$A217,\"\")","v":""},{"$f":"IF(AND($F218>0.99,$F218<1.000001),$A218,\"\")","v":""},{"$f":"IF(AND($F219>0.99,$F219<1.000001),$A219,\"\")","v":""},{"$f":"IF(AND($F220>0.99,$F220<1.000001),$A220,\"\")","v":""},{"$f":"IF(AND($F221>0.99,$F221<1.000001),$A221,\"\")","v":""},{"$f":"IF(AND($F222>0.99,$F222<1.000001),$A222,\"\")","v":""},{"$f":"IF(AND($F223>0.99,$F223<1.000001),$A223,\"\")","v":""},{"$f":"IF(AND($F224>0.99,$F224<1.000001),$A224,\"\")","v":""}]
["Indoor Numbering Systems",null,null,null,null,{"$f":"Orient!J120","v":0},"didn't need the skills in the area(s) of",null,null,null,null,null,null,{"$f":"IF($F215=0,$A215,\"\")","v":"Cardinality"},{"$f":"IF($F216=0,$A216,\"\")","v":"Clues"},{"$f":"IF($F217=0,$A217,\"\")","v":"Landmarks"},{"$f":"IF($F218=0,$A218,\"\")","v":"Indoor Numbering Systems"},{"$f":"IF($F219=0,$A219,\"\")","v":"Outdoor Numbering Systems"},{"$f":"IF($F220=0,$A220,\"\")","v":"Grid System"},{"$f":"IF($F221=0,$A221,\"\")","v":"Divisors And Block Numbering"},{"$f":"IF($F222=0,$A222,\"\")","v":"Transferability"},{"$f":"IF($F223=0,$A223,\"\")","v":"GPS"},{"$f":"IF($F224=0,$A224,\"\")","v":"Maps"}]
["Outdoor Numbering Systems",null,null,null,null,{"$f":"Orient!J126","v":0}]
["Grid System",null,null,null,null,{"$f":"Orient!J132","v":0}]
["Divisors And Block Numbering",null,null,null,null,{"$f":"Orient!J143","v":0}]
["Transferability",null,null,null,null,{"$f":"Orient!J150","v":0}]
["GPS",null,null,null,null,{"$f":"Orient!J154","v":0}]
["Maps",null,null,null,null,{"$f":"Orient!J162","v":0}]
["Public Transportation Score:"]
["Identifying Common Public Transportation Options",null,null,null,null,{"$f":"PubTran!J92","v":0},"did well with the skills that made up the area(s) of",null,null,null,null,null,null,{"$f":"IF(F226>3.99,A226,\"\")","v":""},{"$f":"IF(F227>3.99,A227,\"\")","v":""},{"$f":"IF(F228>3.99,A228,\"\")","v":""},{"$f":"IF(F229>3.99,A229,\"\")","v":""},{"$f":"IF(F230>3.99,A230,\"\")","v":""},{"$f":"IF(F231>3.99,A231,\"\")","v":""},{"$f":"IF(F232>3.99,A232,\"\")","v":""}]
["Intra-City Bus Travel",null,null,null,null,{"$f":"PubTran!J93","v":0},"had room for improvement with the skills that made up the area(s) of",null,null,null,null,null,null,{"$f":"IF(AND($F226>1.01,$F226<3.99),$A226,\"\")","v":""},{"$f":"IF(AND($F227>1.01,$F227<3.99),$A227,\"\")","v":""},{"$f":"IF(AND($F228>1.01,$F228<3.99),$A228,\"\")","v":""},{"$f":"IF(AND($F229>1.01,$F229<3.99),$A229,\"\")","v":""},{"$f":"IF(AND($F230>1.01,$F230<3.99),$A230,\"\")","v":""},{"$f":"IF(AND($F231>1.01,$F231<3.99),$A231,\"\")","v":""},{"$f":"IF(AND($F232>1.01,$F232<3.99),$A232,\"\")","v":""}]
["Inter-City Bus Travel",null,null,null,null,{"$f":"PubTran!J111","v":0},"hadn't had the opportunity to work on the skills in the area(s) of",null,null,null,null,null,null,{"$f":"IF(AND($F226>0.99,$F226<1.000001),$A226,\"\")","v":""},{"$f":"IF(AND($F227>0.99,$F227<1.000001),$A227,\"\")","v":""},{"$f":"IF(AND($F228>0.99,$F228<1.000001),$A228,\"\")","v":""},{"$f":"IF(AND($F229>0.99,$F229<1.000001),$A229,\"\")","v":""},{"$f":"IF(AND($F230>0.99,$F230<1.000001),$A230,\"\")","v":""},{"$f":"IF(AND($F231>0.99,$F231<1.000001),$A231,\"\")","v":""},{"$f":"IF(AND($F232>0.99,$F232<1.000001),$A232,\"\")","v":""}]
["Taxi/Ride Service",null,null,null,null,{"$f":"PubTran!J17","v":0},"didn't need the skills in the area(s) of",null,null,null,null,null,null,{"$f":"IF($F226=0,$A226,\"\")","v":"Identifying Common Public Transportation Options"},{"$f":"IF($F227=0,$A227,\"\")","v":"Intra-City Bus Travel"},{"$f":"IF($F228=0,$A228,\"\")","v":"Inter-City Bus Travel"},{"$f":"IF($F229=0,$A229,\"\")","v":"Taxi/Ride Service"},{"$f":"IF($F230=0,$A230,\"\")","v":"Handi-Ride/Para Transit"},{"$f":"IF($F231=0,$A231,\"\")","v":"Air Travel"},{"$f":"IF($F232=0,$A232,\"\")","v":"Subway/Light Rail"}]
["Handi-Ride/Para Transit",null,null,null,null,{"$f":"PubTran!J134","v":0}]
["Air Travel",null,null,null,null,{"$f":"PubTran!J138","v":0}]
["Subway/Light Rail",null,null,null,null,{"$f":"PubTran!J154","v":0}]
["Atypical O&M Score:"]
["Fences",null,null,null,null,{"$f":"Atyp!J40","v":0},"did well with the skills that made up the area(s) of",null,null,null,null,null,null,{"$f":"IF(F234>3.99,A234,\"\")","v":""},{"$f":"IF(F235>3.99,A235,\"\")","v":""},{"$f":"IF(F236>3.99,A236,\"\")","v":""},{"$f":"IF(F237>3.99,A237,\"\")","v":""}]
["Fields (Urban)",null,null,null,null,{"$f":"Atyp!J44","v":0},"had room for improvement with the skills that made up the area(s) of",null,null,null,null,null,null,{"$f":"IF(AND($F234>1.01,$F234<3.99),$A234,\"\")","v":""},{"$f":"IF(AND($F235>1.01,$F235<3.99),$A235,\"\")","v":""},{"$f":"IF(AND($F236>1.01,$F236<3.99),$A236,\"\")","v":""},{"$f":"IF(AND($F237>1.01,$F237<3.99),$A237,\"\")","v":""}]
["Parks/Playgrounds",null,null,null,null,{"$f":"Atyp!J50","v":0},"hadn't had the opportunity to work on the skills in the area(s) of",null,null,null,null,null,null,{"$f":"IF(AND($F234>0.99,$F234<1.000001),$A234,\"\")","v":""},{"$f":"IF(AND($F235>0.99,$F235<1.000001),$A235,\"\")","v":""},{"$f":"IF(AND($F236>0.99,$F236<1.000001),$A236,\"\")","v":""},{"$f":"IF(AND($F237>0.99,$F237<1.000001),$A237,\"\")","v":""}]
["Inclement Weather",null,null,null,null,{"$f":"Atyp!J58","v":0},"didn't need the skills in the area(s) of",null,null,null,null,null,null,{"$f":"IF($F234=0,$A234,\"\")","v":"Fences"},{"$f":"IF($F235=0,$A235,\"\")","v":"Fields (Urban)"},{"$f":"IF($F236=0,$A236,\"\")","v":"Parks/Playgrounds"},{"$f":"IF($F237=0,$A237,\"\")","v":"Inclement Weather"}]
["Rural Travel Score:"]
["Understanding Unique Dangers Related To Rural Travel",null,null,null,null,{"$f":"Rural!J46","v":0},"did well with the skills that made up the area(s) of",null,null,null,null,null,null,{"$f":"IF(F239>3.99,A239,\"\")","v":""},{"$f":"IF(F240>3.99,A240,\"\")","v":""},{"$f":"IF(F241>3.99,A241,\"\")","v":""},{"$f":"IF(F242>3.99,A242,\"\")","v":""},{"$f":"IF(F243>3.99,A243,\"\")","v":""}]
["Walking Along Rural Roads",null,null,null,null,{"$f":"Rural!J52","v":0},"had room for improvement with the skills that made up the area(s) of",null,null,null,null,null,null,{"$f":"IF(AND($F239>1.01,$F239<3.99),$A239,\"\")","v":""},{"$f":"IF(AND($F240>1.01,$F240<3.99),$A240,\"\")","v":""},{"$f":"IF(AND($F241>1.01,$F241<3.99),$A241,\"\")","v":""},{"$f":"IF(AND($F242>1.01,$F242<3.99),$A242,\"\")","v":""},{"$f":"IF(AND($F243>1.01,$F243<3.99),$A243,\"\")","v":""}]
["Ditches/Arroyos",null,null,null,null,{"$f":"Rural!J58","v":0},"hadn't had the opportunity to work on the skills in the area(s) of",null,null,null,null,null,null,{"$f":"IF(AND($F239>0.99,$F239<1.000001),$A239,\"\")","v":""},{"$f":"IF(AND($F240>0.99,$F240<1.000001),$A240,\"\")","v":""},{"$f":"IF(AND($F241>0.99,$F241<1.000001),$A241,\"\")","v":""},{"$f":"IF(AND($F242>0.99,$F242<1.000001),$A242,\"\")","v":""},{"$f":"IF(AND($F243>0.99,$F243<1.000001),$A243,\"\")","v":""}]
["Identifying And Going Around Items In Rural Areas",null,null,null,null,{"$f":"Rural!J65","v":0},"didn't need the skills in the area(s) of",null,null,null,null,null,null,{"$f":"IF($F239=0,$A239,\"\")","v":"Understanding Unique Dangers Related To Rural Travel"},{"$f":"IF($F240=0,$A240,\"\")","v":"Walking Along Rural Roads"},{"$f":"IF($F241=0,$A241,\"\")","v":"Ditches/Arroyos"},{"$f":"IF($F242=0,$A242,\"\")","v":"Identifying And Going Around Items In Rural Areas"},{"$f":"IF($F243=0,$A243,\"\")","v":"Rural Street Crossings"}]
["Rural Street Crossings",null,null,null,null,{"$f":"Rural!J71","v":0}]
["Vision Specific O&M Skills Score:"]
["Scanning Materials",null,null,null,null,{"$f":"VisSpec!J48","v":0},"did well with the skills that made up the area(s) of",null,null,null,null,null,null,{"$f":"IF(F245>3.99,A245,\"\")","v":""},{"$f":"IF(F246>3.99,A246,\"\")","v":""},{"$f":"IF(F247>3.99,A247,\"\")","v":""},{"$f":"IF(F248>3.99,A248,\"\")","v":""},{"$f":"IF(F249>3.99,A249,\"\")","v":""}]
["Scanning Environments",null,null,null,null,{"$f":"VisSpec!J55","v":0},"had room for improvement with the skills that made up the area(s) of",null,null,null,null,null,null,{"$f":"IF(AND($F245>1.01,$F245<3.99),$A245,\"\")","v":""},{"$f":"IF(AND($F246>1.01,$F246<3.99),$A246,\"\")","v":""},{"$f":"IF(AND($F247>1.01,$F247<3.99),$A247,\"\")","v":""},{"$f":"IF(AND($F248>1.01,$F248<3.99),$A248,\"\")","v":""},{"$f":"IF(AND($F249>1.01,$F249<3.99),$A249,\"\")","v":""}]
["Magnifiers And CCTVs",null,null,null,null,{"$f":"VisSpec!J62","v":0},"hadn't had the opportunity to work on the skills in the area(s) of",null,null,null,null,null,null,{"$f":"IF(AND($F245>0.99,$F245<1.000001),$A245,\"\")","v":""},{"$f":"IF(AND($F246>0.99,$F246<1.000001),$A246,\"\")","v":""},{"$f":"IF(AND($F247>0.99,$F247<1.000001),$A247,\"\")","v":""},{"$f":"IF(AND($F248>0.99,$F248<1.000001),$A248,\"\")","v":""},{"$f":"IF(AND($F249>0.99,$F249<1.000001),$A249,\"\")","v":""}]
["Monoculars",null,null,null,null,{"$f":"VisSpec!J66","v":0},"didn't need the skills in the area(s) of",null,null,null,null,null,null,{"$f":"IF($F245=0,$A245,\"\")","v":"Scanning Materials"},{"$f":"IF($F246=0,$A246,\"\")","v":"Scanning Environments"},{"$f":"IF($F247=0,$A247,\"\")","v":"Magnifiers And CCTVs"},{"$f":"IF($F248=0,$A248,\"\")","v":"Monoculars"},{"$f":"IF($F249=0,$A249,\"\")","v":"Visual Traveling"}]
["Visual Traveling",null,null,null,null,{"$f":"VisSpec!J72","v":0}]
["Community Score:"]
["Comparison Shopping From Home",null,null,null,null,{"$f":"Commun!J59","v":0},"did well with the skills that made up the area(s) of",null,null,null,null,null,null,{"$f":"IF(F251>3.99,A251,\"\")","v":""},{"$f":"IF(F252>3.99,A252,\"\")","v":""},{"$f":"IF(F253>3.99,A253,\"\")","v":""},{"$f":"IF(F254>3.99,A254,\"\")","v":""},{"$f":"IF(F255>3.99,A255,\"\")","v":""}]
["Stores",null,null,null,null,{"$f":"Commun!J63","v":0},"had room for improvement with the skills that made up the area(s) of",null,null,null,null,null,null,{"$f":"IF(AND($F251>1.01,$F251<3.99),$A251,\"\")","v":""},{"$f":"IF(AND($F252>1.01,$F252<3.99),$A252,\"\")","v":""},{"$f":"IF(AND($F253>1.01,$F253<3.99),$A253,\"\")","v":""},{"$f":"IF(AND($F254>1.01,$F254<3.99),$A254,\"\")","v":""},{"$f":"IF(AND($F255>1.01,$F255<3.99),$A255,\"\")","v":""}]
["Fast Food Restaurants",null,null,null,null,{"$f":"Commun!J75","v":0},"hadn't had the opportunity to work on the skills in the area(s) of",null,null,null,null,null,null,{"$f":"IF(AND($F251>0.99,$F251<1.000001),$A251,\"\")","v":""},{"$f":"IF(AND($F252>0.99,$F252<1.000001),$A252,\"\")","v":""},{"$f":"IF(AND($F253>0.99,$F253<1.000001),$A253,\"\")","v":""},{"$f":"IF(AND($F254>0.99,$F254<1.000001),$A254,\"\")","v":""},{"$f":"IF(AND($F255>0.99,$F255<1.000001),$A255,\"\")","v":""}]
["Cafeteria Restaurants",null,null,null,null,{"$f":"Commun!J86","v":0},"didn't need the skills in the area(s) of",null,null,null,null,null,null,{"$f":"IF($F251=0,$A251,\"\")","v":"Comparison Shopping From Home"},{"$f":"IF($F252=0,$A252,\"\")","v":"Stores"},{"$f":"IF($F253=0,$A253,\"\")","v":"Fast Food Restaurants"},{"$f":"IF($F254=0,$A254,\"\")","v":"Cafeteria Restaurants"},{"$f":"IF($F255=0,$A255,\"\")","v":"Sit Down Restaurants"}]
["Sit Down Restaurants",null,null,null,null,{"$f":"Commun!J97","v":0}]
[]
[]
[]
[null,null,null,null,null,null,"demonstrated","of the skills needed to travel independently as an adult."]
[{"$f":"G5","v":0},"Concepts",null,null,null,null,"did well with the skills that made up the domain(s) of",null,null,null,null,null,null,{"$f":"IF(A260>79.999999999,B260,\"\")","v":""},{"$f":"IF(A261>79.999999999,B261,\"\")","v":""},{"$f":"IF(A262>79.999999999,B262,\"\")","v":""},{"$f":"IF(A263>79.999999999,B263,\"\")","v":""},{"$f":"IF(A264>79.999999999,B264,\"\")","v":""},{"$f":"IF(A265>79.999999999,B265,\"\")","v":""},{"$f":"IF(A266>79.999999999,B266,\"\")","v":""},{"$f":"IF(A267>79.999999999,B267,\"\")","v":""},{"$f":"IF(A268>79.999999999,B268,\"\")","v":""},{"$f":"IF(A269>79.999999999,B269,\"\")","v":""},{"$f":"IF(A270>79.999999999,B270,\"\")","v":""},{"$f":"IF(A271>79.999999999,B271,\"\")","v":""},{"$f":"IF(A272>79.999999999,B272,\"\")","v":""},{"$f":"IF(A273>79.999999999,B273,\"\")","v":""},{"$f":"IF(A274>79.999999999,B274,\"\")","v":""}]
[{"$f":"G11","v":0},"Movement",null,null,null,null,"had room for improvement with the skills that made up the domain(s) of",null,null,null,null,null,null,{"$f":"IF(AND($A260>20.000001,$A260<79.999999998),$B260,\"\")","v":""},{"$f":"IF(AND($A261>20.000001,$A261<79.999999998),$B261,\"\")","v":""},{"$f":"IF(AND($A262>20.000001,$A262<79.999999998),$B262,\"\")","v":""},{"$f":"IF(AND($A263>20.000001,$A263<79.999999998),$B263,\"\")","v":""},{"$f":"IF(AND($A264>20.000001,$A264<79.999999998),$B264,\"\")","v":""},{"$f":"IF(AND($A265>20.000001,$A265<79.999999998),$B265,\"\")","v":""},{"$f":"IF(AND($A266>20.000001,$A266<79.999999998),$B266,\"\")","v":""},{"$f":"IF(AND($A267>20.000001,$A267<79.999999998),$B267,\"\")","v":""},{"$f":"IF(AND($A268>20.000001,$A268<79.999999998),$B268,\"\")","v":""},{"$f":"IF(AND($A269>20.000001,$A269<79.999999998),$B269,\"\")","v":""},{"$f":"IF(AND($A270>20.000001,$A270<79.999999998),$B270,\"\")","v":""},{"$f":"IF(AND($A271>20.000001,$A271<79.999999998),$B271,\"\")","v":""},{"$f":"IF(AND($A272>20.000001,$A272<79.999999998),$B272,\"\")","v":""},{"$f":"IF(AND($A273>20.000001,$A273<79.999999998),$B273,\"\")","v":""},{"$f":"IF(AND($A274>20.000001,$A274<79.999999998),$B274,\"\")","v":""}]
[{"$f":"G17","v":0},"Single Room O&M",null,null,null,null,"hadn't had the opportunity to work on the skills that made up the domain(s) of",null,null,null,null,null,null,{"$f":"IF(AND($A260>19.9,$A260<20.1),$B260,\"\")","v":""},{"$f":"IF(AND($A261>19.9,$A261<20.1),$B261,\"\")","v":""},{"$f":"IF(AND($A262>19.9,$A262<20.1),$B262,\"\")","v":""},{"$f":"IF(AND($A263>19.9,$A263<20.1),$B263,\"\")","v":""},{"$f":"IF(AND($A264>19.9,$A264<20.1),$B264,\"\")","v":""},{"$f":"IF(AND($A265>19.9,$A265<20.1),$B265,\"\")","v":""},{"$f":"IF(AND($A266>19.9,$A266<20.1),$B266,\"\")","v":""},{"$f":"IF(AND($A267>19.9,$A267<20.1),$B267,\"\")","v":""},{"$f":"IF(AND($A268>19.9,$A268<20.1),$B268,\"\")","v":""},{"$f":"IF(AND($A269>19.9,$A269<20.1),$B269,\"\")","v":""},{"$f":"IF(AND($A270>19.9,$A270<20.1),$B270,\"\")","v":""},{"$f":"IF(AND($A271>19.9,$A271<20.1),$B271,\"\")","v":""},{"$f":"IF(AND($A272>19.9,$A272<20.1),$B272,\"\")","v":""},{"$f":"IF(AND($A273>19.9,$A273<20.1),$B273,\"\")","v":""},{"$f":"IF(AND($A274>19.9,$A274<20.1),$B274,\"\")","v":""}]
[{"$f":"G23","v":0},"Indoor O&M",null,null,null,null,"had no need for the skills that made up the domain(s) of",null,null,null,null,null,null,{"$f":"IF($A260=0,$B260,\"\")","v":"Concepts"},{"$f":"IF($A261=0,$B261,\"\")","v":"Movement"},{"$f":"IF($A262=0,$B262,\"\")","v":"Single Room O&M"},{"$f":"IF($A263=0,$B263,\"\")","v":"Indoor O&M"},{"$f":"IF($A264=0,$B264,\"\")","v":"Self Protection"},{"$f":"IF($A265=0,$B265,\"\")","v":"Guided Travel"},{"$f":"IF($A266=0,$B266,\"\")","v":"Cane Skills"},{"$f":"IF($A267=0,$B267,\"\")","v":"Sidewalk Travel"},{"$f":"IF($A268=0,$B268,\"\")","v":"Street Crossings"},{"$f":"IF($A269=0,$B269,\"\")","v":"Orientation Skills & GPS"},{"$f":"IF($A270=0,$B270,\"\")","v":"Public Transportation"},{"$f":"IF($A271=0,$B271,\"\")","v":"Atypical O&M"},{"$f":"IF($A272=0,$B272,\"\")","v":"Rural Travel"},{"$f":"IF($A273=0,$B273,\"\")","v":"Vision Specific O&M Skills"},{"$f":"IF($A274=0,$B274,\"\")","v":"Community "}]
[{"$f":"G29","v":0},"Self Protection"]
[{"$f":"G35","v":0},"Guided Travel"]
[{"$f":"G41","v":0},"Cane Skills"]
[{"$f":"G47","v":0},"Sidewalk Travel"]
[{"$f":"G53","v":0},"Street Crossings"]
[{"$f":"G59","v":0},"Orientation Skills & GPS"]
[{"$f":"G65","v":0},"Public Transportation"]
[{"$f":"G71","v":0},"Atypical O&M"]
[{"$f":"G77","v":0},"Rural Travel"]
[{"$f":"G83","v":0},"Vision Specific O&M Skills"]
[{"$f":"G89","v":0},"Community "]
[]
["will demonstrate improved skills in Orientation & Mobility by increasing the score on the O&M Inventory from"]
["to a minimum of"]
["by the next annual IEP date."]
["Please see the attached chart. "]
["Over the previous grading period"]
["increased the score on the O&M Inventory from"]
["to"]
["and is now"]
["of the way to the goal of"]
["made gains in the domain(s) of"]
[{"$f":"IF($K286>$J286,$B260,\"\")","v":""},{"$f":"Front!B3","v":0},{"$f":"Front!C3","v":0},{"$f":"Front!D3","v":0},{"$f":"Front!E3","v":0},{"$f":"Front!F3","v":0},{"$f":"Front!G3","v":0},{"$f":"Front!H3","v":0},{"$f":"Front!I3","v":0},{"$f":"Front!J3","v":0},{"$f":"Front!K3","v":0},{"$f":"Front!L3","v":0},{"$f":"Front!M3","v":0}]
["",{"$f":"Front!B4","v":0},{"$f":"Front!C4","v":0},{"$f":"Front!D4","v":0},{"$f":"Front!E4","v":0},{"$f":"Front!F4","v":0},{"$f":"Front!G4","v":0},{"$f":"Front!H4","v":0},{"$f":"Front!I4","v":0},{"$f":"Front!J4","v":0},{"$f":"Front!K4","v":0},{"$f":"Front!L4","v":0},{"$f":"Front!M4","v":0}]
["",{"$f":"Front!B5","v":0},{"$f":"Front!C5","v":0},{"$f":"Front!D5","v":0},{"$f":"Front!E5","v":0},{"$f":"Front!F5","v":0},{"$f":"Front!G5","v":0},{"$f":"Front!H5","v":0},{"$f":"Front!I5","v":0},{"$f":"Front!J5","v":0},{"$f":"Front!K5","v":0},{"$f":"Front!L5","v":0},{"$f":"Front!M5","v":0}]
["",{"$f":"Front!B6","v":0},{"$f":"Front!C6","v":0},{"$f":"Front!D6","v":0},{"$f":"Front!E6","v":0},{"$f":"Front!F6","v":0},{"$f":"Front!G6","v":0},{"$f":"Front!H6","v":0},{"$f":"Front!I6","v":0},{"$f":"Front!J6","v":0},{"$f":"Front!K6","v":0},{"$f":"Front!L6","v":0},{"$f":"Front!M6","v":0}]
["",{"$f":"Front!B7","v":0},{"$f":"Front!C7","v":0},{"$f":"Front!D7","v":0},{"$f":"Front!E7","v":0},{"$f":"Front!F7","v":0},{"$f":"Front!G7","v":0},{"$f":"Front!H7","v":0},{"$f":"Front!I7","v":0},{"$f":"Front!J7","v":0},{"$f":"Front!K7","v":0},{"$f":"Front!L7","v":0},{"$f":"Front!M7","v":0}]
["",{"$f":"Front!B8","v":0},{"$f":"Front!C8","v":0},{"$f":"Front!D8","v":0},{"$f":"Front!E8","v":0},{"$f":"Front!F8","v":0},{"$f":"Front!G8","v":0},{"$f":"Front!H8","v":0},{"$f":"Front!I8","v":0},{"$f":"Front!J8","v":0},{"$f":"Front!K8","v":0},{"$f":"Front!L8","v":0},{"$f":"Front!M8","v":0}]
["",{"$f":"Front!B9","v":0},{"$f":"Front!C9","v":0},{"$f":"Front!D9","v":0},{"$f":"Front!E9","v":0},{"$f":"Front!F9","v":0},{"$f":"Front!G9","v":0},{"$f":"Front!H9","v":0},{"$f":"Front!I9","v":0},{"$f":"Front!J9","v":0},{"$f":"Front!K9","v":0},{"$f":"Front!L9","v":0},{"$f":"Front!M9","v":0}]
["",{"$f":"Front!B10","v":0},{"$f":"Front!C10","v":0},{"$f":"Front!D10","v":0},{"$f":"Front!E10","v":0},{"$f":"Front!F10","v":0},{"$f":"Front!G10","v":0},{"$f":"Front!H10","v":0},{"$f":"Front!I10","v":0},{"$f":"Front!J10","v":0},{"$f":"Front!K10","v":0},{"$f":"Front!L10","v":0},{"$f":"Front!M10","v":0}]
["",{"$f":"Front!B11","v":0},{"$f":"Front!C11","v":0},{"$f":"Front!D11","v":0},{"$f":"Front!E11","v":0},{"$f":"Front!F11","v":0},{"$f":"Front!G11","v":0},{"$f":"Front!H11","v":0},{"$f":"Front!I11","v":0},{"$f":"Front!J11","v":0},{"$f":"Front!K11","v":0},{"$f":"Front!L11","v":0},{"$f":"Front!M11","v":0}]
["",{"$f":"Front!B12","v":0},{"$f":"Front!C12","v":0},{"$f":"Front!D12","v":0},{"$f":"Front!E12","v":0},{"$f":"Front!F12","v":0},{"$f":"Front!G12","v":0},{"$f":"Front!H12","v":0},{"$f":"Front!I12","v":0},{"$f":"Front!J12","v":0},{"$f":"Front!K12","v":0},{"$f":"Front!L12","v":0},{"$f":"Front!M12","v":0}]
["",{"$f":"Front!B13","v":0},{"$f":"Front!C13","v":0},{"$f":"Front!D13","v":0},{"$f":"Front!E13","v":0},{"$f":"Front!F13","v":0},{"$f":"Front!G13","v":0},{"$f":"Front!H13","v":0},{"$f":"Front!I13","v":0},{"$f":"Front!J13","v":0},{"$f":"Front!K13","v":0},{"$f":"Front!L13","v":0},{"$f":"Front!M13","v":0}]
["",{"$f":"Front!B14","v":0},{"$f":"Front!C14","v":0},{"$f":"Front!D14","v":0},{"$f":"Front!E14","v":0},{"$f":"Front!F14","v":0},{"$f":"Front!G14","v":0},{"$f":"Front!H14","v":0},{"$f":"Front!I14","v":0},{"$f":"Front!J14","v":0},{"$f":"Front!K14","v":0},{"$f":"Front!L14","v":0},{"$f":"Front!M14","v":0}]
["",{"$f":"Front!B15","v":0},{"$f":"Front!C15","v":0},{"$f":"Front!D15","v":0},{"$f":"Front!E15","v":0},{"$f":"Front!F15","v":0},{"$f":"Front!G15","v":0},{"$f":"Front!H15","v":0},{"$f":"Front!I15","v":0},{"$f":"Front!J15","v":0},{"$f":"Front!K15","v":0},{"$f":"Front!L15","v":0},{"$f":"Front!M15","v":0}]
["",{"$f":"Front!B16","v":0},{"$f":"Front!C16","v":0},{"$f":"Front!D16","v":0},{"$f":"Front!E16","v":0},{"$f":"Front!F16","v":0},{"$f":"Front!G16","v":0},{"$f":"Front!H16","v":0},{"$f":"Front!I16","v":0},{"$f":"Front!J16","v":0},{"$f":"Front!K16","v":0},{"$f":"Front!L16","v":0},{"$f":"Front!M16","v":0}]
["",{"$f":"Front!B17","v":0},{"$f":"Front!C17","v":0},{"$f":"Front!D17","v":0},{"$f":"Front!E17","v":0},{"$f":"Front!F17","v":0},{"$f":"Front!G17","v":0},{"$f":"Front!H17","v":0},{"$f":"Front!I17","v":0},{"$f":"Front!J17","v":0},{"$f":"Front!K17","v":0},{"$f":"Front!L17","v":0},{"$f":"Front!M17","v":0}]

{"sheet":"R11","index":26,"n_rows":300,"n_cols":29,"rows_kept":300,"cut":false,"hidden":false,"merged":[]}
[{"$f":"'R1'!A1","v":0},"← TYPE STUDENT NAME IN GREEN BOX",null,null,null,null,null,null,null,null,null,null,null,null,"%prog","total","tot round","%pr rnd","goal"]
["↓ HIGHLIGHT & COPY WHITE CELLS; PASTE IN WORD DOCUMENT AS \"KEEP TEXT ONLY\" OR \"UNFORMATTED\"",null,null,null,null,null,null,null,null,null,null,null,null,null,{"$f":"Front!B20","v":0},{"$f":"Front!B18","v":0},{"$f":"ROUND(P2,2)","v":0},{"$f":"ROUND(O2,2)","v":0},{"$f":"Front!B19","v":1}]
[{"$f":"CONCATENATE(A150,\" \",K3,\"%\")","v":"NMSBVI O&M INVENTORY TOTAL SCORE:  0%"},null,null,null,null,null,null,null,null,{"$f":"Front!L18","v":0},{"$f":"ROUND(J3,2)","v":0},null,null,null,{"$f":"Front!C20","v":0},{"$f":"Front!C18","v":0},0,0,{"$f":"Front!C19","v":1}]
[null,null,null,null,null,null,null,null,null,null,null,null,null,null,{"$f":"Front!D20","v":0},{"$f":"Front!D18","v":0},0,0,{"$f":"Front!D19","v":1}]
[{"$f":"CONCATENATE(A151,\" \",H5,\"%\")","v":"Concepts Score: 0%"},null,null,null,null,null,{"$f":"Front!L3","v":0},{"$f":"ROUND(G5,1)","v":0},"← Don't worry about these 2 numbers",null,null,null,null,null,{"$f":"Front!E20","v":0},{"$f":"Front!E18","v":0},0,0,{"$f":"Front!E19","v":1}]
[{"$f":"CONCATENATE($A1,\" \",G152,\" \",N152,\", \",O152,\", \",P152,\", \",Q152)","v":"0 did well with the skills that made up the area(s) of , , , "},null,null,null,null,null,null,null,null,null,null,null,null,null,{"$f":"Front!F20","v":0},{"$f":"Front!F18","v":0},0,0,{"$f":"Front!F19","v":1}]
[{"$f":"CONCATENATE($A1,\" \",G153,\" \",N153,\", \",O153,\", \",P153,\", \",Q153)","v":"0 had room for improvement with the skills that made up the area(s) of , , , "},null,null,null,null,null,null,null,null,null,null,null,null,null,{"$f":"Front!G20","v":0},{"$f":"Front!G18","v":0},0,0,{"$f":"Front!G19","v":1}]
[{"$f":"CONCATENATE($A1,\" \",G154,\" \",N154,\", \",O154,\", \",P154,\", \",Q154)","v":"0 hadn't had the opportunity to work on the skills in the area(s) of , , , "},null,null,null,null,null,null,null,null,null,null,null,null,null,{"$f":"Front!H20","v":0},{"$f":"Front!H18","v":0},0,0,{"$f":"Front!H19","v":1}]
[{"$f":"CONCATENATE($A1,\" \",G155,\" \",N155,\", \",O155,\", \",P155,\", \",Q155)","v":"0 didn't need the skills in the area(s) of Vocabulary, Laterality, Parallel/Perpendicular, Time And Distance"},null,null,null,null,null,null,null,null,null,null,null,null,null,{"$f":"Front!I20","v":0},{"$f":"Front!I18","v":0},0,0,{"$f":"Front!I19","v":1}]
[null,null,null,null,null,null,null,null,null,null,null,null,null,null,{"$f":"Front!J20","v":0},{"$f":"Front!J18","v":0},0,0,{"$f":"Front!J19","v":1}]
[{"$f":"CONCATENATE(A156,\" \",H11,\"%\")","v":"Movement Score: 0%"},null,null,null,null,null,{"$f":"Front!L4","v":0},{"$f":"ROUND(G11,1)","v":0},null,null,null,null,null,null,{"$f":"Front!K20","v":0},{"$f":"Front!K18","v":0},0,0,{"$f":"Front!K19","v":1}]
[{"$f":"CONCATENATE($A1,\" \",G157,\" \",N157,\", \",O157,\", \",P157,\", \",Q157)","v":"0 did well with the skills that made up the area(s) of , , , "},null,null,null,null,null,null,null,null,null,null,null,null,null,{"$f":"Front!L20","v":0},{"$f":"Front!L18","v":0},0,0,{"$f":"Front!L19","v":1}]
[{"$f":"CONCATENATE($A1,\" \",G158,\" \",N158,\", \",O158,\", \",P158,\", \",Q158)","v":"0 had room for improvement with the skills that made up the area(s) of , , , "},null,null,null,null,null,null,null,null,null,null,null,null,null,{"$f":"Front!M20","v":0},{"$f":"Front!M18","v":0},0,0,{"$f":"Front!M19","v":1}]
[{"$f":"CONCATENATE($A1,\" \",G159,\" \",N159,\", \",O159,\", \",P159,\", \",Q159)","v":"0 hadn't had the opportunity to work on the skills in the area(s) of , , , "},null,null,null,null,null,null,null,null,null,null,null,null,null,"↑ Don't worry about this chart"]
[{"$f":"CONCATENATE($A1,\" \",G160,\" \",N160,\", \",O160,\", \",P160,\", \",Q160)","v":"0 didn't need the skills in the area(s) of Walking, Maintaining Body Alignment While Walking, Balance, Turns"}]
[null,null,null,null,null,null,"DO NOT HIGHLIGHT & COPY ANY OF THE GREY CELLS; ALL THE TEXT YOU NEED IS IN WHITE CELLS"]
[{"$f":"CONCATENATE(A161,\" \",H17,\"%\")","v":"Single Room O&M Score: 0%"},null,null,null,null,null,{"$f":"Front!L5","v":0},{"$f":"ROUND(G17,1)","v":0}]
[{"$f":"CONCATENATE($A1,\" \",G162,\" \",N162,\", \",O162,\", \",P162,\", \",Q162,\", \",R162)","v":"0 did well with the skills that made up the area(s) of , , , , "}]
[{"$f":"CONCATENATE($A1,\" \",G163,\" \",N163,\", \",O163,\", \",P163,\", \",Q163,\", \",R163)","v":"0 had room for improvement with the skills that made up the area(s) of , , , , "}]
[{"$f":"CONCATENATE($A1,\" \",G164,\" \",N164,\", \",O164,\", \",P164,\", \",Q164,\", \",R164)","v":"0 hadn't had the opportunity to work on the skills in the area(s) of , , , , "}]
[{"$f":"CONCATENATE($A1,\" \",G165,\" \",N165,\", \",O165,\", \",P165,\", \",Q165,\", \",R165)","v":"0 didn't need the skills in the area(s) of Familiar Rooms, Unfamiliar Rooms, Seating (Rows), Seating (Tables), Locating Dropped Objects"}]
[null,null,null,null,null,null,"COPYING THE GREY CELLS WILL JUST MAKE A MESS OF YOUR WORD DOCUMENT. I KNOW IT LOOKS"]
[{"$f":"CONCATENATE(A167,\" \",H23,\"%\")","v":"Indoor O&M Score: 0%"},null,null,null,null,null,{"$f":"Front!L6","v":0},{"$f":"ROUND(G23,1)","v":0}]
[{"$f":"CONCATENATE($A1,\" \",G168,\" \",N168,\", \",O168,\", \",P168,\", \",Q168,\", \",R168,\", \",S168,\", \",T168,\", \",U168)","v":"0 did well with the skills that made up the area(s) of , , , , , , , "}]
[{"$f":"CONCATENATE($A1,\" \",G169,\" \",N169,\", \",O169,\", \",P169,\", \",Q169,\", \",R169,\", \",S169,\", \",T169,\", \",U169)","v":"0 had room for improvement with the skills that made up the area(s) of , , , , , , , "}]
[{"$f":"CONCATENATE($A1,\" \",G170,\" \",N170,\", \",O170,\", \",P170,\", \",Q170,\", \",R170,\", \",S170,\", \",T170,\", \",U170)","v":"0 hadn't had the opportunity to work on the skills in the area(s) of , , , , , , , "}]
[{"$f":"CONCATENATE($A1,\" \",G171,\" \",N171,\", \",O171,\", \",P171,\", \",Q171,\", \",R171,\", \",S171,\", \",T171,\", \",U171)","v":"0 didn't need the skills in the area(s) of Hand Trailing, Navigating Open Spaces, Doors, Ascending/Descending Stairs, Escalators, Elevators, Moving Sidewalks, Turnstiles"}]
[null,null,null,null,null,null,"LIKE THERE IS TEXT IN THE GREY CELLS BUT THERE REALLY ISN'T. TRUST ME; I'M AN EXCEL NERD."]
[{"$f":"CONCATENATE(A176,\" \",H29,\"%\")","v":"Self Protection Score: 0%"},null,null,null,null,null,{"$f":"Front!L7","v":0},{"$f":"ROUND(G29,1)","v":0}]
[{"$f":"CONCATENATE($A1,\" \",G176,\" \",N176,\", \",O176,\", \",P176)","v":"0 did well with the skills that made up the area(s) of , , "}]
[{"$f":"CONCATENATE($A1,\" \",G177,\" \",N177,\", \",O177,\", \",P177)","v":"0 had room for improvement with the skills that made up the area(s) of , , "}]
[{"$f":"CONCATENATE($A1,\" \",G178,\" \",N178,\", \",O178,\", \",P178)","v":"0 hadn't had the opportunity to work on the skills in the area(s) of , , "}]
[{"$f":"CONCATENATE($A1,\" \",G179,\" \",N179,\", \",O179,\", \",P179)","v":"0 didn't need the skills in the area(s) of Upper Hand Protective Technique, Lower Forearm Protective Technique, Protective Clothing"}]
[]
[{"$f":"CONCATENATE(A180,\" \",H35,\"%\")","v":"Guided Travel Score: 0%"},null,null,null,null,null,{"$f":"Front!L8","v":0},{"$f":"ROUND(G35,1)","v":0}]
[{"$f":"CONCATENATE($A1,\" \",G181,\" \",N181,\", \",O181,\", \",P181,\", \",Q181)","v":"0 did well with the skills that made up the area(s) of , , , "}]
[{"$f":"CONCATENATE($A1,\" \",G182,\" \",N182,\", \",O182,\", \",P182,\", \",Q182)","v":"0 had room for improvement with the skills that made up the area(s) of , , , "}]
[{"$f":"CONCATENATE($A1,\" \",G183,\" \",N183,\", \",O183,\", \",P183,\", \",Q183)","v":"0 hadn't had the opportunity to work on the skills in the area(s) of , , , "}]
[{"$f":"CONCATENATE($A1,\" \",G184,\" \",N184,\", \",O184,\", \",P184,\", \",Q184)","v":"0 didn't need the skills in the area(s) of Human Guide, Walking With Another (No Direct Contact), Menus, Getting Rides"}]
[]
[{"$f":"CONCATENATE(A185,\" \",H41,\"%\")","v":"Cane Skills Score: 0%"},null,null,null,null,null,{"$f":"Front!L9","v":0},{"$f":"ROUND(G41,1)","v":0}]
[{"$f":"CONCATENATE($A1,\" \",G186,\" \",N186,\", \",O186,\", \",P186,\", \",Q186,\", \",R186,\", \",S186,\", \",T186)","v":"0 did well with the skills that made up the area(s) of , , , , , , "}]
[{"$f":"CONCATENATE($A1,\" \",G187,\" \",N187,\", \",O187,\", \",P187,\", \",Q187,\", \",R187,\", \",S187,\", \",T187)","v":"0 had room for improvement with the skills that made up the area(s) of , , , , , , "}]
[{"$f":"CONCATENATE($A1,\" \",G188,\" \",N188,\", \",O188,\", \",P188,\", \",Q188,\", \",R188,\", \",S188,\", \",T188)","v":"0 hadn't had the opportunity to work on the skills in the area(s) of , , , , , , "}]
[{"$f":"CONCATENATE($A1,\" \",G189,\" \",N189,\", \",O189,\", \",P189,\", \",Q189,\", \",R189,\", \",S189,\", \",T189)","v":"0 didn't need the skills in the area(s) of Basic Skills, Types Of Grips, Constant Contact, Diagonal/Diagonal Trail, Two Point Touch/Touch Trail, Touch And Drag, Three Point Touch"}]
[]
[{"$f":"CONCATENATE(A193,\" \",H47,\"%\")","v":"Sidewalk Travel Score: 0%"},null,null,null,null,null,{"$f":"Front!L10","v":0},{"$f":"ROUND(G47,1)","v":0}]
[{"$f":"CONCATENATE($A1,\" \",G193,\" \",N193,\", \",O193,\", \",P193)","v":"0 did well with the skills that made up the area(s) of , , "}]
[{"$f":"CONCATENATE($A1,\" \",G194,\" \",N194,\", \",O194,\", \",P194)","v":"0 had room for improvement with the skills that made up the area(s) of , , "}]
[{"$f":"CONCATENATE($A1,\" \",G195,\" \",N195,\", \",O195,\", \",P195)","v":"0 hadn't had the opportunity to work on the skills in the area(s) of , , "}]
[{"$f":"CONCATENATE($A1,\" \",G196,\" \",N196,\", \",O196,\", \",P196)","v":"0 didn't need the skills in the area(s) of Walking On Sidewalks, Walking On Irregular Sidewalks, Correcting for Veering On Sidewalks"}]
[]
[{"$f":"CONCATENATE(A197,\" \",H53,\"%\")","v":"Street Crossings Score: 0%"},null,null,null,null,null,{"$f":"Front!L11","v":0},{"$f":"ROUND(G53,1)","v":0}]
[{"$f":"CONCATENATE($A1,\" \",G198,\" \",N198,\", \",O198,\", \",P198,\", \",Q198,\", \",R198,\", \",S198,\", \",T198,\", \",U198,\", \",V198,\", \",W198,\", \",X198,\", \",Y198,\", \",Z198,\", \",AA198,\", \",AB198,\", \",AC198)","v":"0 did well with the skills that made up the area(s) of , , , , , , , , , , , , , , , "}]
[{"$f":"CONCATENATE($A1,\" \",G199,\" \",N199,\", \",O199,\", \",P199,\", \",Q199,\", \",R199,\", \",S199,\", \",T199,\", \",U199,\", \",V199,\", \",W199,\", \",X199,\", \",Y199,\", \",Z199,\", \",AA199,\", \",AB199,\", \",AC199)","v":"0 had room for improvement with the skills that made up the area(s) of , , , , , , , , , , , , , , , "}]
[{"$f":"CONCATENATE($A1,\" \",G200,\" \",N200,\", \",O200,\", \",P200,\", \",Q200,\", \",R200,\", \",S200,\", \",T200,\", \",U200,\", \",V200,\", \",W200,\", \",X200,\", \",Y200,\", \",Z200,\", \",AA200,\", \",AB200,\", \",AC200)","v":"0 hadn't had the opportunity to work on the skills in the area(s) of , , , , , , , , , , , , , , , "}]
[{"$f":"CONCATENATE($A1,\" \",G201,\" \",N201,\", \",O201,\", \",P201,\", \",Q201,\", \",R201,\", \",S201,\", \",T201,\", \",U201,\", \",V201,\", \",W201,\", \",X201,\", \",Y201,\", \",Z201,\", \",AA201,\", \",AB201,\", \",AC201)","v":"0 didn't need the skills in the area(s) of Anticipating Street Crossings, Maintaining Line Of Travel, Maintaining Body Alignment, Re-establishing Body Alignment, Analyzing Intersections, Plus Intersections, T Intersections, Y Intersections, Roundabouts, Significantly Offset Intersections, Atypical Intersections, Newly Developed Intersections, Channelized Right Turn Lanes, Veering, Understanding Drivers’ Perspectives, Pedestrian Signals"}]
[]
[{"$f":"CONCATENATE(A214,\" \",H59,\"%\")","v":"Orientation Skills and GPS Score: 0%"},null,null,null,null,null,{"$f":"Front!L12","v":0},{"$f":"ROUND(G59,1)","v":0}]
[{"$f":"CONCATENATE($A1,\" \",G215,\" \",N215,\", \",O215,\", \",P215,\", \",Q215,\", \",R215,\", \",S215,\", \",T215,\", \",U215,\", \",V215,\", \",W215)","v":"0 did well with the skills that made up the area(s) of , , , , , , , , , "}]
[{"$f":"CONCATENATE($A1,\" \",G216,\" \",N216,\", \",O216,\", \",P216,\", \",Q216,\", \",R216,\", \",S216,\", \",T216,\", \",U216,\", \",V216,\", \",W216)","v":"0 had room for improvement with the skills that made up the area(s) of , , , , , , , , , "}]
[{"$f":"CONCATENATE($A1,\" \",G217,\" \",N217,\", \",O217,\", \",P217,\", \",Q217,\", \",R217,\", \",S217,\", \",T217,\", \",U217,\", \",V217,\", \",W217)","v":"0 hadn't had the opportunity to work on the skills in the area(s) of , , , , , , , , , "}]
[{"$f":"CONCATENATE($A1,\" \",G218,\" \",N218,\", \",O218,\", \",P218,\", \",Q218,\", \",R218,\", \",S218,\", \",T218,\", \",U218,\", \",V218,\", \",W218)","v":"0 didn't need the skills in the area(s) of Cardinality, Clues, Landmarks, Indoor Numbering Systems, Outdoor Numbering Systems, Grid System, Divisors And Block Numbering, Transferability, GPS, Maps"}]
[]
[{"$f":"CONCATENATE(A225,\" \",H65,\"%\")","v":"Public Transportation Score: 0%"},null,null,null,null,null,{"$f":"Front!L13","v":0},{"$f":"ROUND(G65,1)","v":0}]
[{"$f":"CONCATENATE($A1,\" \",G226,\" \",N226,\", \",O226,\", \",P226,\", \",Q226,\", \",R226,\", \",S226,\", \",T226)","v":"0 did well with the skills that made up the area(s) of , , , , , , "}]
[{"$f":"CONCATENATE($A1,\" \",G227,\" \",N227,\", \",O227,\", \",P227,\", \",Q227,\", \",R227,\", \",S227,\", \",T227)","v":"0 had room for improvement with the skills that made up the area(s) of , , , , , , "}]
[{"$f":"CONCATENATE($A1,\" \",G228,\" \",N228,\", \",O228,\", \",P228,\", \",Q228,\", \",R228,\", \",S228,\", \",T228)","v":"0 hadn't had the opportunity to work on the skills in the area(s) of , , , , , , "}]
[{"$f":"CONCATENATE($A1,\" \",G229,\" \",N229,\", \",O229,\", \",P229,\", \",Q229,\", \",R229,\", \",S229,\", \",T229)","v":"0 didn't need the skills in the area(s) of Identifying Common Public Transportation Options, Intra-City Bus Travel, Inter-City Bus Travel, Taxi/Ride Service, Handi-Ride/Para Transit, Air Travel, Subway/Light Rail"}]
[]
[{"$f":"CONCATENATE(A233,\" \",H71,\"%\")","v":"Atypical O&M Score: 0%"},null,null,null,null,null,{"$f":"Front!L14","v":0},{"$f":"ROUND(G71,1)","v":0}]
[{"$f":"CONCATENATE($A1,\" \",G234,\" \",N234,\", \",O234,\", \",P234,\", \",Q234)","v":"0 did well with the skills that made up the area(s) of , , , "}]
[{"$f":"CONCATENATE($A1,\" \",G235,\" \",N235,\", \",O235,\", \",P235,\", \",Q235)","v":"0 had room for improvement with the skills that made up the area(s) of , , , "}]
[{"$f":"CONCATENATE($A1,\" \",G236,\" \",N236,\", \",O236,\", \",P236,\", \",Q236)","v":"0 hadn't had the opportunity to work on the skills in the area(s) of , , , "}]
[{"$f":"CONCATENATE($A1,\" \",G237,\" \",N237,\", \",O237,\", \",P237,\", \",Q237)","v":"0 didn't need the skills in the area(s) of Fences, Fields (Urban), Parks/Playgrounds, Inclement Weather"}]
[]
[{"$f":"CONCATENATE(A238,\" \",H77,\"%\")","v":"Rural Travel Score: 0%"},null,null,null,null,null,{"$f":"Front!L15","v":0},{"$f":"ROUND(G77,1)","v":0}]
[{"$f":"CONCATENATE($A1,\" \",G239,\" \",N239,\", \",O239,\", \",P239,\", \",Q239,\", \",R239)","v":"0 did well with the skills that made up the area(s) of , , , , "}]
[{"$f":"CONCATENATE($A1,\" \",G240,\" \",N240,\", \",O240,\", \",P240,\", \",Q240,\", \",R240)","v":"0 had room for improvement with the skills that made up the area(s) of , , , , "}]
[{"$f":"CONCATENATE($A1,\" \",G241,\" \",N241,\", \",O241,\", \",P241,\", \",Q241,\", \",R241)","v":"0 hadn't had the opportunity to work on the skills in the area(s) of , , , , "}]
[{"$f":"CONCATENATE($A1,\" \",G242,\" \",N242,\", \",O242,\", \",P242,\", \",Q242,\", \",R242)","v":"0 didn't need the skills in the area(s) of Understanding Unique Dangers Related To Rural Travel, Walking Along Rural Roads, Ditches/Arroyos, Identifying And Going Around Items In Rural Areas, Rural Street Crossings"}]
[]
[{"$f":"CONCATENATE(A244,\" \",H83,\"%\")","v":"Vision Specific O&M Skills Score: 0%"},null,null,null,null,null,{"$f":"Front!L16","v":0},{"$f":"ROUND(G83,1)","v":0}]
[{"$f":"CONCATENATE($A1,\" \",G245,\" \",N245,\", \",O245,\", \",P245,\", \",Q245,\", \",R245)","v":"0 did well with the skills that made up the area(s) of , , , , "}]
[{"$f":"CONCATENATE($A1,\" \",G246,\" \",N246,\", \",O246,\", \",P246,\", \",Q246,\", \",R246)","v":"0 had room for improvement with the skills that made up the area(s) of , , , , "}]
[{"$f":"CONCATENATE($A1,\" \",G247,\" \",N247,\", \",O247,\", \",P247,\", \",Q247,\", \",R247)","v":"0 hadn't had the opportunity to work on the skills in the area(s) of , , , , "}]
[{"$f":"CONCATENATE($A1,\" \",G248,\" \",N248,\", \",O248,\", \",P248,\", \",Q248,\", \",R248)","v":"0 didn't need the skills in the area(s) of Scanning Materials, Scanning Environments, Magnifiers And CCTVs, Monoculars, Visual Traveling"}]
[]
[{"$f":"CONCATENATE(A250,\" \",H89,\"%\")","v":"Community Score: 0%"},null,null,null,null,null,{"$f":"Front!L17","v":0},{"$f":"ROUND(G89,1)","v":0}]
[{"$f":"CONCATENATE($A1,\" \",G251,\" \",N251,\", \",O251,\", \",P251,\", \",Q251,\", \",R251)","v":"0 did well with the skills that made up the area(s) of , , , , "}]
[{"$f":"CONCATENATE($A1,\" \",G252,\" \",N252,\", \",O252,\", \",P252,\", \",Q252,\", \",R252)","v":"0 had room for improvement with the skills that made up the area(s) of , , , , "}]
[{"$f":"CONCATENATE($A1,\" \",G253,\" \",N253,\", \",O253,\", \",P253,\", \",Q253,\", \",R253)","v":"0 hadn't had the opportunity to work on the skills in the area(s) of , , , , "}]
[{"$f":"CONCATENATE($A1,\" \",G254,\" \",N254,\", \",O254,\", \",P254,\", \",Q254,\", \",R254)","v":"0 didn't need the skills in the area(s) of Comparison Shopping From Home, Stores, Fast Food Restaurants, Cafeteria Restaurants, Sit Down Restaurants"}]
[]
["Summary"]
[{"$f":"CONCATENATE(A1,\" \",G259,\" \",K3,\" \",H259)","v":"0 demonstrated 0 of the skills needed to travel independently as an adult."}]
[{"$f":"CONCATENATE($A1,\" \",G260,\" \",N260,\", \",O260,\", \",P260,\", \",Q260,\", \",R260,\", \",S260,\", \",T260,\", \",U260,\", \",V260,\", \",W260,\", \",X260,\", \",Y260,\", \",Z260,\", \",AA260,\", \",AB260)","v":"0 did well with the skills that made up the domain(s) of , , , , , , , , , , , , , , "}]
[{"$f":"CONCATENATE($A1,\" \",G261,\" \",N261,\", \",O261,\", \",P261,\", \",Q261,\", \",R261,\", \",S261,\", \",T261,\", \",U261,\", \",V261,\", \",W261,\", \",X261,\", \",Y261,\", \",Z261,\", \",AA261,\", \",AB261)","v":"0 had room for improvement with the skills that made up the domain(s) of , , , , , , , , , , , , , , "}]
[{"$f":"CONCATENATE($A1,\" \",G262,\" \",N262,\", \",O262,\", \",P262,\", \",Q262,\", \",R262,\", \",S262,\", \",T262,\", \",U262,\", \",V262,\", \",W262,\", \",X262,\", \",Y262,\", \",Z262,\", \",AA262,\", \",AB262)","v":"0 hadn't had the opportunity to work on the skills that made up the domain(s) of , , , , , , , , , , , , , , "}]
[{"$f":"CONCATENATE($A1,\" \",G263,\" \",N263,\", \",O263,\", \",P263,\", \",Q263,\", \",R263,\", \",S263,\", \",T263,\", \",U263,\", \",V263,\", \",W263,\", \",X263,\", \",Y263,\", \",Z263,\", \",AA263,\", \",AB263)","v":"0 had no need for the skills that made up the domain(s) of Concepts, Movement, Single Room O&M, Indoor O&M, Self Protection, Guided Travel, Cane Skills, Sidewalk Travel, Street Crossings, Orientation Skills & GPS, Public Transportation, Atypical O&M, Rural Travel, Vision Specific O&M Skills, Community "}]
[]
[]
[]
[]
[]
[]
[]
[]
[]
["Present Level of Educational Performance"]
[{"$f":"CONCATENATE($A97,\" \",A98,\" \",A99,\", \",A100)","v":"0 did well with the skills that made up the domain(s) of , , , , , , , , , , , , , ,  0 had room for improvement with the skills that made up the domain(s) of , , , , , , , , , , , , , ,  0 hadn't had the opportunity to work on the skills that made up the domain(s) of , , , , , , , , , , , , , , , 0 had no need for the skills that made up the domain(s) of Concepts, Movement, Single Room O&M, Indoor O&M, Self Protection, Guided Travel, Cane Skills, Sidewalk Travel, Street Crossings, Orientation Skills & GPS, Public Transportation, Atypical O&M, Rural Travel, Vision Specific O&M Skills, Community "}]
[]
["Strengths"]
[{"$f":"A97","v":"0 did well with the skills that made up the domain(s) of , , , , , , , , , , , , , , "}]
[]
["Concerns"]
[{"$f":"A98","v":"0 had room for improvement with the skills that made up the domain(s) of , , , , , , , , , , , , , , "}]
[]
["Goal"]
[{"$f":"CONCATENATE($A1,\" \",A276,\" \",K3,\"% \",A277,\" \",(ROUNDUP(K3+5,0)),\"% \",A278)","v":"0 will demonstrate improved skills in Orientation & Mobility by increasing the score on the O&M Inventory from 0% to a minimum of 5% by the next annual IEP date."}]
[]
[]
[]
[]
["Progress Report"]
[{"$f":"CONCATENATE(A279,A280,\" \",$A1,\" \",A281,\" \",Q11,\"% \",A282,\" \",Q12,\"% \",A283,\" \",R12,\"% \",A284,\" \",S12,\"%. \",A1,\" \",A285,\" \",A286,\", \",A287,\", \",A288,\", \",A289,\", \",A290,\", \",A291,\", \",A292,\", \",A293,\", \",A294,\", \",A295,\", \",A296,\", \",A297,\", \",A298,\", \",A299,\", \",A300)","v":"Please see the attached chart. Over the previous grading period 0 increased the score on the O&M Inventory from 0% to 0% and is now 0% of the way to the goal of 1%. 0 made gains in the domain(s) of , , , , , , , , , , , , , , "}]
[]
[]
[]
[]
[]
[]
[]
[]
[]
[]
[]
[]
[]
[]
[]
[]
[]
[]
[]
[]
[]
[]
["↓Don't worry about any of this. It fills in automatically and is what creates the useful text "]
["NMSBVI O&M INVENTORY TOTAL SCORE: "]
["Concepts Score:"]
["Vocabulary",null,null,null,null,{"$f":"Concept!L42","v":0},"did well with the skills that made up the area(s) of",null,null,null,null,null,null,{"$f":"IF(F152>3.99,A152,\"\")","v":""},{"$f":"IF(F153>3.99,A153,\"\")","v":""},{"$f":"IF(F154>3.99,A154,\"\")","v":""},{"$f":"IF(F155>3.99,A155,\"\")","v":""},{"$f":"IF(F156>4,E156,\"\")","v":""}]
["Laterality",null,null,null,null,{"$f":"Concept!L48","v":0},"had room for improvement with the skills that made up the area(s) of",null,null,null,null,null,null,{"$f":"IF(AND($F152>1.01,$F152<3.99),$A152,\"\")","v":""},{"$f":"IF(AND($F153>1.01,$F153<3.99),$A153,\"\")","v":""},{"$f":"IF(AND($F154>1.01,$F154<3.99),$A154,\"\")","v":""},{"$f":"IF(AND($F155>1.01,$F155<3.99),$A155,\"\")","v":""}]
["Parallel/Perpendicular",null,null,null,null,{"$f":"Concept!L57","v":0},"hadn't had the opportunity to work on the skills in the area(s) of",null,null,null,null,null,null,{"$f":"IF(AND($F152>0.99,$F152<1.000001),$A152,\"\")","v":""},{"$f":"IF(AND($F153>0.99,$F153<1.000001),$A153,\"\")","v":""},{"$f":"IF(AND($F154>0.99,$F154<1.000001),$A154,\"\")","v":""},{"$f":"IF(AND($F155>0.99,$F155<1.000001),$A155,\"\")","v":""}]
["Time And Distance",null,null,null,null,{"$f":"Concept!L62","v":0},"didn't need the skills in the area(s) of",null,null,null,null,null,null,{"$f":"IF($F152=0,$A152,\"\")","v":"Vocabulary"},{"$f":"IF($F153=0,$A153,\"\")","v":"Laterality"},{"$f":"IF($F154=0,$A154,\"\")","v":"Parallel/Perpendicular"},{"$f":"IF($F155=0,$A155,\"\")","v":"Time And Distance"}]
["Movement Score:"]
["Walking",null,null,null,null,{"$f":"Move!L41","v":0},"did well with the skills that made up the area(s) of",null,null,null,null,null,null,{"$f":"IF(F157>3.99,A157,\"\")","v":""},{"$f":"IF(F158>3.99,A158,\"\")","v":""},{"$f":"IF(F159>3.99,A159,\"\")","v":""},{"$f":"IF(F160>3.99,A160,\"\")","v":""}]
["Maintaining Body Alignment While Walking",null,null,null,null,{"$f":"Move!L47","v":0},"had room for improvement with the skills that made up the area(s) of",null,null,null,null,null,null,{"$f":"IF(AND($F157>1.01,$F157<3.99),$A157,\"\")","v":""},{"$f":"IF(AND($F158>1.01,$F158<3.99),$A158,\"\")","v":""},{"$f":"IF(AND($F159>1.01,$F159<3.99),$A159,\"\")","v":""},{"$f":"IF(AND($F160>1.01,$F160<3.99),$A160,\"\")","v":""}]
["Balance",null,null,null,null,{"$f":"Move!L53","v":0},"hadn't had the opportunity to work on the skills in the area(s) of",null,null,null,null,null,null,{"$f":"IF(AND($F157>0.99,$F157<1.000001),$A157,\"\")","v":""},{"$f":"IF(AND($F158>0.99,$F158<1.000001),$A158,\"\")","v":""},{"$f":"IF(AND($F159>0.99,$F159<1.000001),$A159,\"\")","v":""},{"$f":"IF(AND($F160>0.99,$F160<1.000001),$A160,\"\")","v":""}]
["Turns",null,null,null,null,{"$f":"Move!L61","v":0},"didn't need the skills in the area(s) of",null,null,null,null,null,null,{"$f":"IF($F157=0,$A157,\"\")","v":"Walking"},{"$f":"IF($F158=0,$A158,\"\")","v":"Maintaining Body Alignment While Walking"},{"$f":"IF($F159=0,$A159,\"\")","v":"Balance"},{"$f":"IF($F160=0,$A160,\"\")","v":"Turns"}]
["Single Room O&M Score:"]
["Familiar Rooms",null,null,null,null,{"$f":"SingRm!L45","v":0},"did well with the skills that made up the area(s) of",null,null,null,null,null,null,{"$f":"IF(F162>3.99,A162,\"\")","v":""},{"$f":"IF(F163>3.99,A163,\"\")","v":""},{"$f":"IF(F164>3.99,A164,\"\")","v":""},{"$f":"IF(F165>3.99,A165,\"\")","v":""},{"$f":"IF(F166>3.99,A166,\"\")","v":""}]
["Unfamiliar Rooms",null,null,null,null,{"$f":"SingRm!L51","v":0},"had room for improvement with the skills that made up the area(s) of",null,null,null,null,null,null,{"$f":"IF(AND($F162>1.01,$F162<3.99),$A162,\"\")","v":""},{"$f":"IF(AND($F163>1.01,$F163<3.99),$A163,\"\")","v":""},{"$f":"IF(AND($F164>1.01,$F164<3.99),$A164,\"\")","v":""},{"$f":"IF(AND($F165>1.01,$F165<3.99),$A165,\"\")","v":""},{"$f":"IF(AND($F166>1.01,$F166<3.99),$A166,\"\")","v":""}]
["Seating (Rows)",null,null,null,null,{"$f":"SingRm!L58","v":0},"hadn't had the opportunity to work on the skills in the area(s) of",null,null,null,null,null,null,{"$f":"IF(AND($F162>0.99,$F162<1.000001),$A162,\"\")","v":""},{"$f":"IF(AND($F163>0.99,$F163<1.000001),$A163,\"\")","v":""},{"$f":"IF(AND($F164>0.99,$F164<1.000001),$A164,\"\")","v":""},{"$f":"IF(AND($F165>0.99,$F165<1.000001),$A165,\"\")","v":""},{"$f":"IF(AND($F166>0.99,$F166<1.000001),$A166,\"\")","v":""}]
["Seating (Tables)",null,null,null,null,{"$f":"SingRm!L65","v":0},"didn't need the skills in the area(s) of",null,null,null,null,null,null,{"$f":"IF($F162=0,$A162,\"\")","v":"Familiar Rooms"},{"$f":"IF($F163=0,$A163,\"\")","v":"Unfamiliar Rooms"},{"$f":"IF($F164=0,$A164,\"\")","v":"Seating (Rows)"},{"$f":"IF($F165=0,$A165,\"\")","v":"Seating (Tables)"},{"$f":"IF($F166=0,$A166,\"\")","v":"Locating Dropped Objects"}]
["Locating Dropped Objects",null,null,null,null,{"$f":"SingRm!L70","v":0}]
["Indoor O&M Score:"]
["Hand Trailing",null,null,null,null,{"$f":"Indoor!L72","v":0},"did well with the skills that made up the area(s) of",null,null,null,null,null,null,{"$f":"IF(F168>3.99,A168,\"\")","v":""},{"$f":"IF(F169>3.99,A169,\"\")","v":""},{"$f":"IF(F170>3.99,A170,\"\")","v":""},{"$f":"IF(F171>3.99,A171,\"\")","v":""},{"$f":"IF(F172>3.99,A172,\"\")","v":""},{"$f":"IF(F173>3.99,A173,\"\")","v":""},{"$f":"IF(F174>3.99,A174,\"\")","v":""},{"$f":"IF(F175>3.99,A175,\"\")","v":""}]
["Navigating Open Spaces",null,null,null,null,{"$f":"Indoor!L75","v":0},"had room for improvement with the skills that made up the area(s) of",null,null,null,null,null,null,{"$f":"IF(AND($F168>1.01,$F168<3.99),$A168,\"\")","v":""},{"$f":"IF(AND($F169>1.01,$F169<3.99),$A169,\"\")","v":""},{"$f":"IF(AND($F170>1.01,$F170<3.99),$A170,\"\")","v":""},{"$f":"IF(AND($F171>1.01,$F171<3.99),$A171,\"\")","v":""},{"$f":"IF(AND($F172>1.01,$F172<3.99),$A172,\"\")","v":""},{"$f":"IF(AND($F173>1.01,$F173<3.99),$A173,\"\")","v":""},{"$f":"IF(AND($F174>1.01,$F174<3.99),$A174,\"\")","v":""},{"$f":"IF(AND($F175>1.01,$F175<3.99),$A175,\"\")","v":""}]
["Doors",null,null,null,null,{"$f":"Indoor!L78","v":0},"hadn't had the opportunity to work on the skills in the area(s) of",null,null,null,null,null,null,{"$f":"IF(AND($F168>0.99,$F168<1.000001),$A168,\"\")","v":""},{"$f":"IF(AND($F169>0.99,$F169<1.000001),$A169,\"\")","v":""},{"$f":"IF(AND($F170>0.99,$F170<1.000001),$A170,\"\")","v":""},{"$f":"IF(AND($F171>0.99,$F171<1.000001),$A171,\"\")","v":""},{"$f":"IF(AND($F172>0.99,$F172<1.000001),$A172,\"\")","v":""},{"$f":"IF(AND($F173>0.99,$F173<1.000001),$A173,\"\")","v":""},{"$f":"IF(AND($F174>0.99,$F174<1.000001),$A174,\"\")","v":""},{"$f":"IF(AND($F175>0.99,$F175<1.000001),$A175,\"\")","v":""}]
["Ascending/Descending Stairs",null,null,null,null,{"$f":"Indoor!L84","v":0},"didn't need the skills in the area(s) of",null,null,null,null,null,null,{"$f":"IF($F168=0,$A168,\"\")","v":"Hand Trailing"},{"$f":"IF($F169=0,$A169,\"\")","v":"Navigating Open Spaces"},{"$f":"IF($F170=0,$A170,\"\")","v":"Doors"},{"$f":"IF($F171=0,$A171,\"\")","v":"Ascending/Descending Stairs"},{"$f":"IF($F172=0,$A172,\"\")","v":"Escalators"},{"$f":"IF($F173=0,$A173,\"\")","v":"Elevators"},{"$f":"IF($F174=0,$A174,\"\")","v":"Moving Sidewalks"},{"$f":"IF($F175=0,$A175,\"\")","v":"Turnstiles"}]
["Escalators",null,null,null,null,{"$f":"Indoor!L92","v":0}]
["Elevators",null,null,null,null,{"$f":"Indoor!L104","v":0}]
["Moving Sidewalks",null,null,null,null,{"$f":"Indoor!L113","v":0}]
["Turnstiles",null,null,null,null,{"$f":"Indoor!L123","v":0}]
["Self Protection Score:",null,null,null,null,null,"did well with the skills that made up the area(s) of",null,null,null,null,null,null,{"$f":"IF(F177>3.99,A177,\"\")","v":""},{"$f":"IF(F178>3.99,A178,\"\")","v":""},{"$f":"IF(F179>3.99,A179,\"\")","v":""}]
["Upper Hand Protective Technique",null,null,null,null,{"$f":"SelfPro!L29","v":0},"had room for improvement with the skills that made up the area(s) of",null,null,null,null,null,null,{"$f":"IF(AND($F177>1.01,$F177<3.99),$A177,\"\")","v":""},{"$f":"IF(AND($F178>1.01,$F178<3.99),$A178,\"\")","v":""},{"$f":"IF(AND($F179>1.01,$F179<3.99),$A179,\"\")","v":""}]
["Lower Forearm Protective Technique",null,null,null,null,{"$f":"SelfPro!L34","v":0},"hadn't had the opportunity to work on the skills in the area(s) of",null,null,null,null,null,null,{"$f":"IF(AND($F177>0.99,$F177<1.000001),$A177,\"\")","v":""},{"$f":"IF(AND($F178>0.99,$F178<1.000001),$A178,\"\")","v":""},{"$f":"IF(AND($F179>0.99,$F179<1.000001),$A179,\"\")","v":""}]
["Protective Clothing",null,null,null,null,{"$f":"SelfPro!L38","v":0},"didn't need the skills in the area(s) of",null,null,null,null,null,null,{"$f":"IF($F177=0,$A177,\"\")","v":"Upper Hand Protective Technique"},{"$f":"IF($F178=0,$A178,\"\")","v":"Lower Forearm Protective Technique"},{"$f":"IF($F179=0,$A179,\"\")","v":"Protective Clothing"}]
["Guided Travel Score:"]
["Human Guide",null,null,null,null,{"$f":"Guided!L39","v":0},"did well with the skills that made up the area(s) of",null,null,null,null,null,null,{"$f":"IF(F181>3.99,A181,\"\")","v":""},{"$f":"IF(F182>3.99,A182,\"\")","v":""},{"$f":"IF(F183>3.99,A183,\"\")","v":""},{"$f":"IF(F184>3.99,A184,\"\")","v":""}]
["Walking With Another (No Direct Contact)",null,null,null,null,{"$f":"Guided!L47","v":0},"had room for improvement with the skills that made up the area(s) of",null,null,null,null,null,null,{"$f":"IF(AND($F181>1.01,$F181<3.99),$A181,\"\")","v":""},{"$f":"IF(AND($F182>1.01,$F182<3.99),$A182,\"\")","v":""},{"$f":"IF(AND($F183>1.01,$F183<3.99),$A183,\"\")","v":""},{"$f":"IF(AND($F184>1.01,$F184<3.99),$A184,\"\")","v":""}]
["Menus",null,null,null,null,{"$f":"Guided!L52","v":0},"hadn't had the opportunity to work on the skills in the area(s) of",null,null,null,null,null,null,{"$f":"IF(AND($F181>0.99,$F181<1.000001),$A181,\"\")","v":""},{"$f":"IF(AND($F182>0.99,$F182<1.000001),$A182,\"\")","v":""},{"$f":"IF(AND($F183>0.99,$F183<1.000001),$A183,\"\")","v":""},{"$f":"IF(AND($F184>0.99,$F184<1.000001),$A184,\"\")","v":""}]
["Getting Rides",null,null,null,null,{"$f":"Guided!L56","v":0},"didn't need the skills in the area(s) of",null,null,null,null,null,null,{"$f":"IF($F181=0,$A181,\"\")","v":"Human Guide"},{"$f":"IF($F182=0,$A182,\"\")","v":"Walking With Another (No Direct Contact)"},{"$f":"IF($F183=0,$A183,\"\")","v":"Menus"},{"$f":"IF($F184=0,$A184,\"\")","v":"Getting Rides"}]
["Cane Skills Score:"]
["Basic Skills",null,null,null,null,{"$f":"Cane!L61","v":0},"did well with the skills that made up the area(s) of",null,null,null,null,null,null,{"$f":"IF(F186>3.99,A186,\"\")","v":""},{"$f":"IF(F187>3.99,A187,\"\")","v":""},{"$f":"IF(F188>3.99,A188,\"\")","v":""},{"$f":"IF(F189>3.99,A189,\"\")","v":""},{"$f":"IF(F190>3.99,A190,\"\")","v":""},{"$f":"IF(F191>3.99,A191,\"\")","v":""},{"$f":"IF(F192>3.99,A192,\"\")","v":""}]
["Types Of Grips",null,null,null,null,{"$f":"Cane!L68","v":0},"had room for improvement with the skills that made up the area(s) of",null,null,null,null,null,null,{"$f":"IF(AND($F186>1.01,$F186<3.99),$A186,\"\")","v":""},{"$f":"IF(AND($F187>1.01,$F187<3.99),$A187,\"\")","v":""},{"$f":"IF(AND($F188>1.01,$F188<3.99),$A188,\"\")","v":""},{"$f":"IF(AND($F189>1.01,$F189<3.99),$A189,\"\")","v":""},{"$f":"IF(AND($F190>1.01,$F190<3.99),$A190,\"\")","v":""},{"$f":"IF(AND($F191>1.01,$F191<3.99),$A191,\"\")","v":""},{"$f":"IF(AND($F192>1.01,$F192<3.99),$A192,\"\")","v":""}]
["Constant Contact",null,null,null,null,{"$f":"Cane!L74","v":0},"hadn't had the opportunity to work on the skills in the area(s) of",null,null,null,null,null,null,{"$f":"IF(AND($F186>0.99,$F186<1.000001),$A186,\"\")","v":""},{"$f":"IF(AND($F187>0.99,$F187<1.000001),$A187,\"\")","v":""},{"$f":"IF(AND($F188>0.99,$F188<1.000001),$A188,\"\")","v":""},{"$f":"IF(AND($F189>0.99,$F189<1.000001),$A189,\"\")","v":""},{"$f":"IF(AND($F190>0.99,$F190<1.000001),$A190,\"\")","v":""},{"$f":"IF(AND($F191>0.99,$F191<1.000001),$A191,\"\")","v":""},{"$f":"IF(AND($F192>0.99,$F192<1.000001),$A192,\"\")","v":""}]
["Diagonal/Diagonal Trail",null,null,null,null,{"$f":"Cane!L80","v":0},"didn't need the skills in the area(s) of",null,null,null,null,null,null,{"$f":"IF($F186=0,$A186,\"\")","v":"Basic Skills"},{"$f":"IF($F187=0,$A187,\"\")","v":"Types Of Grips"},{"$f":"IF($F188=0,$A188,\"\")","v":"Constant Contact"},{"$f":"IF($F189=0,$A189,\"\")","v":"Diagonal/Diagonal Trail"},{"$f":"IF($F190=0,$A190,\"\")","v":"Two Point Touch/Touch Trail"},{"$f":"IF($F191=0,$A191,\"\")","v":"Touch And Drag"},{"$f":"IF($F192=0,$A192,\"\")","v":"Three Point Touch"}]
["Two Point Touch/Touch Trail",null,null,null,null,{"$f":"Cane!L86","v":0}]
["Touch And Drag",null,null,null,null,{"$f":"Cane!L93","v":0}]
["Three Point Touch",null,null,null,null,{"$f":"Cane!L100","v":0}]
["Sidewalk Travel Score:",null,null,null,null,null,"did well with the skills that made up the area(s) of",null,null,null,null,null,null,{"$f":"IF(F194>3.99,A194,\"\")","v":""},{"$f":"IF(F195>3.99,A195,\"\")","v":""},{"$f":"IF(F196>3.99,A196,\"\")","v":""}]
["Walking On Sidewalks",null,null,null,null,{"$f":"Sidewalk!L40","v":0},"had room for improvement with the skills that made up the area(s) of",null,null,null,null,null,null,{"$f":"IF(AND($F194>1.01,$F194<3.99),$A194,\"\")","v":""},{"$f":"IF(AND($F195>1.01,$F195<3.99),$A195,\"\")","v":""},{"$f":"IF(AND($F196>1.01,$F196<3.99),$A196,\"\")","v":""}]
["Walking On Irregular Sidewalks",null,null,null,null,{"$f":"Sidewalk!L52","v":0},"hadn't had the opportunity to work on the skills in the area(s) of",null,null,null,null,null,null,{"$f":"IF(AND($F194>0.99,$F194<1.000001),$A194,\"\")","v":""},{"$f":"IF(AND($F195>0.99,$F195<1.000001),$A195,\"\")","v":""},{"$f":"IF(AND($F196>0.99,$F196<1.000001),$A196,\"\")","v":""}]
["Correcting for Veering On Sidewalks",null,null,null,null,{"$f":"Sidewalk!L58","v":0},"didn't need the skills in the area(s) of",null,null,null,null,null,null,{"$f":"IF($F194=0,$A194,\"\")","v":"Walking On Sidewalks"},{"$f":"IF($F195=0,$A195,\"\")","v":"Walking On Irregular Sidewalks"},{"$f":"IF($F196=0,$A196,\"\")","v":"Correcting for Veering On Sidewalks"}]
["Street Crossings Score:"]
["Anticipating Street Crossings",null,null,null,null,{"$f":"StCross!L188","v":0},"did well with the skills that made up the area(s) of",null,null,null,null,null,null,{"$f":"IF(F198>3.99,A198,\"\")","v":""},{"$f":"IF(F199>3.99,A199,\"\")","v":""},{"$f":"IF(F200>3.99,A200,\"\")","v":""},{"$f":"IF(F201>3.99,A201,\"\")","v":""},{"$f":"IF(F202>3.99,A202,\"\")","v":""},{"$f":"IF(F203>3.99,A203,\"\")","v":""},{"$f":"IF(F204>3.99,A204,\"\")","v":""},{"$f":"IF(F205>3.99,A205,\"\")","v":""},{"$f":"IF(F206>3.99,A206,\"\")","v":""},{"$f":"IF(F207>3.99,A207,\"\")","v":""},{"$f":"IF(F208>3.99,A208,\"\")","v":""},{"$f":"IF(F209>3.99,A209,\"\")","v":""},{"$f":"IF(F210>3.99,A210,\"\")","v":""},{"$f":"IF(F211>3.99,A211,\"\")","v":""},{"$f":"IF(F212>3.99,A212,\"\")","v":""},{"$f":"IF(F213>3.99,A213,\"\")","v":""}]
["Maintaining Line Of Travel",null,null,null,null,{"$f":"StCross!L194","v":0},"had room for improvement with the skills that made up the area(s) of",null,null,null,null,null,null,{"$f":"IF(AND($F198>1.01,$F198<3.99),$A198,\"\")","v":""},{"$f":"IF(AND($F199>1.01,$F199<3.99),$A199,\"\")","v":""},{"$f":"IF(AND($F200>1.01,$F200<3.99),$A200,\"\")","v":""},{"$f":"IF(AND($F201>1.01,$F201<3.99),$A201,\"\")","v":""},{"$f":"IF(AND($F202>1.01,$F202<3.99),$A202,\"\")","v":""},{"$f":"IF(AND($F203>1.01,$F203<3.99),$A203,\"\")","v":""},{"$f":"IF(AND($F204>1.01,$F204<3.99),$A204,\"\")","v":""},{"$f":"IF(AND($F205>1.01,$F205<3.99),$A205,\"\")","v":""},{"$f":"IF(AND($F206>1.01,$F206<3.99),$A206,\"\")","v":""},{"$f":"IF(AND($F207>1.01,$F207<3.99),$A207,\"\")","v":""},{"$f":"IF(AND($F208>1.01,$F208<3.99),$A208,\"\")","v":""},{"$f":"IF(AND($F209>1.01,$F209<3.99),$A209,\"\")","v":""},{"$f":"IF(AND($F210>1.01,$F210<3.99),$A210,\"\")","v":""},{"$f":"IF(AND($F211>1.01,$F211<3.99),$A211,\"\")","v":""},{"$f":"IF(AND($F212>1.01,$F212<3.99),$A212,\"\")","v":""},{"$f":"IF(AND($F213>1.01,$F213<3.99),$A213,\"\")","v":""}]
["Maintaining Body Alignment",null,null,null,null,{"$f":"StCross!L195","v":0},"hadn't had the opportunity to work on the skills in the area(s) of",null,null,null,null,null,null,{"$f":"IF(AND($F198>0.99,$F198<1.000001),$A198,\"\")","v":""},{"$f":"IF(AND($F199>0.99,$F199<1.000001),$A199,\"\")","v":""},{"$f":"IF(AND($F200>0.99,$F200<1.000001),$A200,\"\")","v":""},{"$f":"IF(AND($F201>0.99,$F201<1.000001),$A201,\"\")","v":""},{"$f":"IF(AND($F202>0.99,$F202<1.000001),$A202,\"\")","v":""},{"$f":"IF(AND($F203>0.99,$F203<1.000001),$A203,\"\")","v":""},{"$f":"IF(AND($F204>0.99,$F204<1.000001),$A204,\"\")","v":""},{"$f":"IF(AND($F205>0.99,$F205<1.000001),$A205,\"\")","v":""},{"$f":"IF(AND($F206>0.99,$F206<1.000001),$A206,\"\")","v":""},{"$f":"IF(AND($F207>0.99,$F207<1.000001),$A207,\"\")","v":""},{"$f":"IF(AND($F208>0.99,$F208<1.000001),$A208,\"\")","v":""},{"$f":"IF(AND($F209>0.99,$F209<1.000001),$A209,\"\")","v":""},{"$f":"IF(AND($F210>0.99,$F210<1.000001),$A210,\"\")","v":""},{"$f":"IF(AND($F211>0.99,$F211<1.000001),$A211,\"\")","v":""},{"$f":"IF(AND($F212>0.99,$F212<1.000001),$A212,\"\")","v":""},{"$f":"IF(AND($F213>0.99,$F213<1.000001),$A213,\"\")","v":""}]
["Re-establishing Body Alignment",null,null,null,null,{"$f":"StCross!L199","v":0},"didn't need the skills in the area(s) of",null,null,null,null,null,null,{"$f":"IF($F198=0,$A198,\"\")","v":"Anticipating Street Crossings"},{"$f":"IF($F199=0,$A199,\"\")","v":"Maintaining Line Of Travel"},{"$f":"IF($F200=0,$A200,\"\")","v":"Maintaining Body Alignment"},{"$f":"IF($F201=0,$A201,\"\")","v":"Re-establishing Body Alignment"},{"$f":"IF($F202=0,$A202,\"\")","v":"Analyzing Intersections"},{"$f":"IF($F203=0,$A203,\"\")","v":"Plus Intersections"},{"$f":"IF($F204=0,$A204,\"\")","v":"T Intersections"},{"$f":"IF($F205=0,$A205,\"\")","v":"Y Intersections"},{"$f":"IF($F206=0,$A206,\"\")","v":"Roundabouts"},{"$f":"IF($F207=0,$A207,\"\")","v":"Significantly Offset Intersections"},{"$f":"IF($F208=0,$A208,\"\")","v":"Atypical Intersections"},{"$f":"IF($F209=0,$A209,\"\")","v":"Newly Developed Intersections"},{"$f":"IF($F210=0,$A210,\"\")","v":"Channelized Right Turn Lanes"},{"$f":"IF($F211=0,$A211,\"\")","v":"Veering"},{"$f":"IF($F212=0,$A212,\"\")","v":"Understanding Drivers’ Perspectives"},{"$f":"IF($F213=0,$A213,\"\")","v":"Pedestrian Signals"}]
["Analyzing Intersections",null,null,null,null,{"$f":"StCross!L203","v":0}]
["Plus Intersections",null,null,null,null,{"$f":"StCross!L219","v":0}]
["T Intersections",null,null,null,null,{"$f":"StCross!L238","v":0}]
["Y Intersections",null,null,null,null,{"$f":"StCross!L260","v":0}]
["Roundabouts",null,null,null,null,{"$f":"StCross!L285","v":0}]
["Significantly Offset Intersections",null,null,null,null,{"$f":"StCross!L300","v":0}]
["Atypical Intersections",null,null,null,null,{"$f":"StCross!L305","v":0}]
["Newly Developed Intersections",null,null,null,null,{"$f":"StCross!L315","v":0}]
["Channelized Right Turn Lanes",null,null,null,null,{"$f":"StCross!L323","v":0}]
["Veering",null,null,null,null,{"$f":"StCross!L333","v":0}]
["Understanding Drivers’ Perspectives",null,null,null,null,{"$f":"StCross!L347","v":0}]
["Pedestrian Signals",null,null,null,null,{"$f":"StCross!L356","v":0}]
["Orientation Skills and GPS Score:"]
["Cardinality",null,null,null,null,{"$f":"Orient!L93","v":0},"did well with the skills that made up the area(s) of",null,null,null,null,null,null,{"$f":"IF(F215>3.99,A215,\"\")","v":""},{"$f":"IF(F216>3.99,A216,\"\")","v":""},{"$f":"IF(F217>3.99,A217,\"\")","v":""},{"$f":"IF(F218>3.99,A218,\"\")","v":""},{"$f":"IF(F219>3.99,A219,\"\")","v":""},{"$f":"IF(F220>3.99,A220,\"\")","v":""},{"$f":"IF(F221>3.99,A221,\"\")","v":""},{"$f":"IF(F222>3.99,A222,\"\")","v":""},{"$f":"IF(F223>3.99,A223,\"\")","v":""},{"$f":"IF(F224>3.99,A224,\"\")","v":""}]
["Clues",null,null,null,null,{"$f":"Orient!L108","v":0},"had room for improvement with the skills that made up the area(s) of",null,null,null,null,null,null,{"$f":"IF(AND($F215>1.01,$F215<3.99),$A215,\"\")","v":""},{"$f":"IF(AND($F216>1.01,$F216<3.99),$A216,\"\")","v":""},{"$f":"IF(AND($F217>1.01,$F217<3.99),$A217,\"\")","v":""},{"$f":"IF(AND($F218>1.01,$F218<3.99),$A218,\"\")","v":""},{"$f":"IF(AND($F219>1.01,$F219<3.99),$A219,\"\")","v":""},{"$f":"IF(AND($F220>1.01,$F220<3.99),$A220,\"\")","v":""},{"$f":"IF(AND($F221>1.01,$F221<3.99),$A221,\"\")","v":""},{"$f":"IF(AND($F222>1.01,$F222<3.99),$A222,\"\")","v":""},{"$f":"IF(AND($F223>1.01,$F223<3.99),$A223,\"\")","v":""},{"$f":"IF(AND($F224>1.01,$F224<3.99),$A224,\"\")","v":""}]
["Landmarks",null,null,null,null,{"$f":"Orient!L114","v":0},"hadn't had the opportunity to work on the skills in the area(s) of",null,null,null,null,null,null,{"$f":"IF(AND($F215>0.99,$F215<1.000001),$A215,\"\")","v":""},{"$f":"IF(AND($F216>0.99,$F216<1.000001),$A216,\"\")","v":""},{"$f":"IF(AND($F217>0.99,$F217<1.000001),$A217,\"\")","v":""},{"$f":"IF(AND($F218>0.99,$F218<1.000001),$A218,\"\")","v":""},{"$f":"IF(AND($F219>0.99,$F219<1.000001),$A219,\"\")","v":""},{"$f":"IF(AND($F220>0.99,$F220<1.000001),$A220,\"\")","v":""},{"$f":"IF(AND($F221>0.99,$F221<1.000001),$A221,\"\")","v":""},{"$f":"IF(AND($F222>0.99,$F222<1.000001),$A222,\"\")","v":""},{"$f":"IF(AND($F223>0.99,$F223<1.000001),$A223,\"\")","v":""},{"$f":"IF(AND($F224>0.99,$F224<1.000001),$A224,\"\")","v":""}]
["Indoor Numbering Systems",null,null,null,null,{"$f":"Orient!L120","v":0},"didn't need the skills in the area(s) of",null,null,null,null,null,null,{"$f":"IF($F215=0,$A215,\"\")","v":"Cardinality"},{"$f":"IF($F216=0,$A216,\"\")","v":"Clues"},{"$f":"IF($F217=0,$A217,\"\")","v":"Landmarks"},{"$f":"IF($F218=0,$A218,\"\")","v":"Indoor Numbering Systems"},{"$f":"IF($F219=0,$A219,\"\")","v":"Outdoor Numbering Systems"},{"$f":"IF($F220=0,$A220,\"\")","v":"Grid System"},{"$f":"IF($F221=0,$A221,\"\")","v":"Divisors And Block Numbering"},{"$f":"IF($F222=0,$A222,\"\")","v":"Transferability"},{"$f":"IF($F223=0,$A223,\"\")","v":"GPS"},{"$f":"IF($F224=0,$A224,\"\")","v":"Maps"}]
["Outdoor Numbering Systems",null,null,null,null,{"$f":"Orient!L126","v":0}]
["Grid System",null,null,null,null,{"$f":"Orient!L132","v":0}]
["Divisors And Block Numbering",null,null,null,null,{"$f":"Orient!L143","v":0}]
["Transferability",null,null,null,null,{"$f":"Orient!L150","v":0}]
["GPS",null,null,null,null,{"$f":"Orient!L154","v":0}]
["Maps",null,null,null,null,{"$f":"Orient!L162","v":0}]
["Public Transportation Score:"]
["Identifying Common Public Transportation Options",null,null,null,null,{"$f":"PubTran!L92","v":0},"did well with the skills that made up the area(s) of",null,null,null,null,null,null,{"$f":"IF(F226>3.99,A226,\"\")","v":""},{"$f":"IF(F227>3.99,A227,\"\")","v":""},{"$f":"IF(F228>3.99,A228,\"\")","v":""},{"$f":"IF(F229>3.99,A229,\"\")","v":""},{"$f":"IF(F230>3.99,A230,\"\")","v":""},{"$f":"IF(F231>3.99,A231,\"\")","v":""},{"$f":"IF(F232>3.99,A232,\"\")","v":""}]
["Intra-City Bus Travel",null,null,null,null,{"$f":"PubTran!L93","v":0},"had room for improvement with the skills that made up the area(s) of",null,null,null,null,null,null,{"$f":"IF(AND($F226>1.01,$F226<3.99),$A226,\"\")","v":""},{"$f":"IF(AND($F227>1.01,$F227<3.99),$A227,\"\")","v":""},{"$f":"IF(AND($F228>1.01,$F228<3.99),$A228,\"\")","v":""},{"$f":"IF(AND($F229>1.01,$F229<3.99),$A229,\"\")","v":""},{"$f":"IF(AND($F230>1.01,$F230<3.99),$A230,\"\")","v":""},{"$f":"IF(AND($F231>1.01,$F231<3.99),$A231,\"\")","v":""},{"$f":"IF(AND($F232>1.01,$F232<3.99),$A232,\"\")","v":""}]
["Inter-City Bus Travel",null,null,null,null,{"$f":"PubTran!L111","v":0},"hadn't had the opportunity to work on the skills in the area(s) of",null,null,null,null,null,null,{"$f":"IF(AND($F226>0.99,$F226<1.000001),$A226,\"\")","v":""},{"$f":"IF(AND($F227>0.99,$F227<1.000001),$A227,\"\")","v":""},{"$f":"IF(AND($F228>0.99,$F228<1.000001),$A228,\"\")","v":""},{"$f":"IF(AND($F229>0.99,$F229<1.000001),$A229,\"\")","v":""},{"$f":"IF(AND($F230>0.99,$F230<1.000001),$A230,\"\")","v":""},{"$f":"IF(AND($F231>0.99,$F231<1.000001),$A231,\"\")","v":""},{"$f":"IF(AND($F232>0.99,$F232<1.000001),$A232,\"\")","v":""}]
["Taxi/Ride Service",null,null,null,null,{"$f":"PubTran!L17","v":0},"didn't need the skills in the area(s) of",null,null,null,null,null,null,{"$f":"IF($F226=0,$A226,\"\")","v":"Identifying Common Public Transportation Options"},{"$f":"IF($F227=0,$A227,\"\")","v":"Intra-City Bus Travel"},{"$f":"IF($F228=0,$A228,\"\")","v":"Inter-City Bus Travel"},{"$f":"IF($F229=0,$A229,\"\")","v":"Taxi/Ride Service"},{"$f":"IF($F230=0,$A230,\"\")","v":"Handi-Ride/Para Transit"},{"$f":"IF($F231=0,$A231,\"\")","v":"Air Travel"},{"$f":"IF($F232=0,$A232,\"\")","v":"Subway/Light Rail"}]
["Handi-Ride/Para Transit",null,null,null,null,{"$f":"PubTran!L134","v":0}]
["Air Travel",null,null,null,null,{"$f":"PubTran!L138","v":0}]
["Subway/Light Rail",null,null,null,null,{"$f":"PubTran!L154","v":0}]
["Atypical O&M Score:"]
["Fences",null,null,null,null,{"$f":"Atyp!L40","v":0},"did well with the skills that made up the area(s) of",null,null,null,null,null,null,{"$f":"IF(F234>3.99,A234,\"\")","v":""},{"$f":"IF(F235>3.99,A235,\"\")","v":""},{"$f":"IF(F236>3.99,A236,\"\")","v":""},{"$f":"IF(F237>3.99,A237,\"\")","v":""}]
["Fields (Urban)",null,null,null,null,{"$f":"Atyp!L44","v":0},"had room for improvement with the skills that made up the area(s) of",null,null,null,null,null,null,{"$f":"IF(AND($F234>1.01,$F234<3.99),$A234,\"\")","v":""},{"$f":"IF(AND($F235>1.01,$F235<3.99),$A235,\"\")","v":""},{"$f":"IF(AND($F236>1.01,$F236<3.99),$A236,\"\")","v":""},{"$f":"IF(AND($F237>1.01,$F237<3.99),$A237,\"\")","v":""}]
["Parks/Playgrounds",null,null,null,null,{"$f":"Atyp!L50","v":0},"hadn't had the opportunity to work on the skills in the area(s) of",null,null,null,null,null,null,{"$f":"IF(AND($F234>0.99,$F234<1.000001),$A234,\"\")","v":""},{"$f":"IF(AND($F235>0.99,$F235<1.000001),$A235,\"\")","v":""},{"$f":"IF(AND($F236>0.99,$F236<1.000001),$A236,\"\")","v":""},{"$f":"IF(AND($F237>0.99,$F237<1.000001),$A237,\"\")","v":""}]
["Inclement Weather",null,null,null,null,{"$f":"Atyp!L58","v":0},"didn't need the skills in the area(s) of",null,null,null,null,null,null,{"$f":"IF($F234=0,$A234,\"\")","v":"Fences"},{"$f":"IF($F235=0,$A235,\"\")","v":"Fields (Urban)"},{"$f":"IF($F236=0,$A236,\"\")","v":"Parks/Playgrounds"},{"$f":"IF($F237=0,$A237,\"\")","v":"Inclement Weather"}]
["Rural Travel Score:"]
["Understanding Unique Dangers Related To Rural Travel",null,null,null,null,{"$f":"Rural!L46","v":0},"did well with the skills that made up the area(s) of",null,null,null,null,null,null,{"$f":"IF(F239>3.99,A239,\"\")","v":""},{"$f":"IF(F240>3.99,A240,\"\")","v":""},{"$f":"IF(F241>3.99,A241,\"\")","v":""},{"$f":"IF(F242>3.99,A242,\"\")","v":""},{"$f":"IF(F243>3.99,A243,\"\")","v":""}]
["Walking Along Rural Roads",null,null,null,null,{"$f":"Rural!L52","v":0},"had room for improvement with the skills that made up the area(s) of",null,null,null,null,null,null,{"$f":"IF(AND($F239>1.01,$F239<3.99),$A239,\"\")","v":""},{"$f":"IF(AND($F240>1.01,$F240<3.99),$A240,\"\")","v":""},{"$f":"IF(AND($F241>1.01,$F241<3.99),$A241,\"\")","v":""},{"$f":"IF(AND($F242>1.01,$F242<3.99),$A242,\"\")","v":""},{"$f":"IF(AND($F243>1.01,$F243<3.99),$A243,\"\")","v":""}]
["Ditches/Arroyos",null,null,null,null,{"$f":"Rural!L58","v":0},"hadn't had the opportunity to work on the skills in the area(s) of",null,null,null,null,null,null,{"$f":"IF(AND($F239>0.99,$F239<1.000001),$A239,\"\")","v":""},{"$f":"IF(AND($F240>0.99,$F240<1.000001),$A240,\"\")","v":""},{"$f":"IF(AND($F241>0.99,$F241<1.000001),$A241,\"\")","v":""},{"$f":"IF(AND($F242>0.99,$F242<1.000001),$A242,\"\")","v":""},{"$f":"IF(AND($F243>0.99,$F243<1.000001),$A243,\"\")","v":""}]
["Identifying And Going Around Items In Rural Areas",null,null,null,null,{"$f":"Rural!L65","v":0},"didn't need the skills in the area(s) of",null,null,null,null,null,null,{"$f":"IF($F239=0,$A239,\"\")","v":"Understanding Unique Dangers Related To Rural Travel"},{"$f":"IF($F240=0,$A240,\"\")","v":"Walking Along Rural Roads"},{"$f":"IF($F241=0,$A241,\"\")","v":"Ditches/Arroyos"},{"$f":"IF($F242=0,$A242,\"\")","v":"Identifying And Going Around Items In Rural Areas"},{"$f":"IF($F243=0,$A243,\"\")","v":"Rural Street Crossings"}]
["Rural Street Crossings",null,null,null,null,{"$f":"Rural!L71","v":0}]
["Vision Specific O&M Skills Score:"]
["Scanning Materials",null,null,null,null,{"$f":"VisSpec!L48","v":0},"did well with the skills that made up the area(s) of",null,null,null,null,null,null,{"$f":"IF(F245>3.99,A245,\"\")","v":""},{"$f":"IF(F246>3.99,A246,\"\")","v":""},{"$f":"IF(F247>3.99,A247,\"\")","v":""},{"$f":"IF(F248>3.99,A248,\"\")","v":""},{"$f":"IF(F249>3.99,A249,\"\")","v":""}]
["Scanning Environments",null,null,null,null,{"$f":"VisSpec!L55","v":0},"had room for improvement with the skills that made up the area(s) of",null,null,null,null,null,null,{"$f":"IF(AND($F245>1.01,$F245<3.99),$A245,\"\")","v":""},{"$f":"IF(AND($F246>1.01,$F246<3.99),$A246,\"\")","v":""},{"$f":"IF(AND($F247>1.01,$F247<3.99),$A247,\"\")","v":""},{"$f":"IF(AND($F248>1.01,$F248<3.99),$A248,\"\")","v":""},{"$f":"IF(AND($F249>1.01,$F249<3.99),$A249,\"\")","v":""}]
["Magnifiers And CCTVs",null,null,null,null,{"$f":"VisSpec!L62","v":0},"hadn't had the opportunity to work on the skills in the area(s) of",null,null,null,null,null,null,{"$f":"IF(AND($F245>0.99,$F245<1.000001),$A245,\"\")","v":""},{"$f":"IF(AND($F246>0.99,$F246<1.000001),$A246,\"\")","v":""},{"$f":"IF(AND($F247>0.99,$F247<1.000001),$A247,\"\")","v":""},{"$f":"IF(AND($F248>0.99,$F248<1.000001),$A248,\"\")","v":""},{"$f":"IF(AND($F249>0.99,$F249<1.000001),$A249,\"\")","v":""}]
["Monoculars",null,null,null,null,{"$f":"VisSpec!L66","v":0},"didn't need the skills in the area(s) of",null,null,null,null,null,null,{"$f":"IF($F245=0,$A245,\"\")","v":"Scanning Materials"},{"$f":"IF($F246=0,$A246,\"\")","v":"Scanning Environments"},{"$f":"IF($F247=0,$A247,\"\")","v":"Magnifiers And CCTVs"},{"$f":"IF($F248=0,$A248,\"\")","v":"Monoculars"},{"$f":"IF($F249=0,$A249,\"\")","v":"Visual Traveling"}]
["Visual Traveling",null,null,null,null,{"$f":"VisSpec!L72","v":0}]
["Community Score:"]
["Comparison Shopping From Home",null,null,null,null,{"$f":"Commun!L59","v":0},"did well with the skills that made up the area(s) of",null,null,null,null,null,null,{"$f":"IF(F251>3.99,A251,\"\")","v":""},{"$f":"IF(F252>3.99,A252,\"\")","v":""},{"$f":"IF(F253>3.99,A253,\"\")","v":""},{"$f":"IF(F254>3.99,A254,\"\")","v":""},{"$f":"IF(F255>3.99,A255,\"\")","v":""}]
["Stores",null,null,null,null,{"$f":"Commun!L63","v":0},"had room for improvement with the skills that made up the area(s) of",null,null,null,null,null,null,{"$f":"IF(AND($F251>1.01,$F251<3.99),$A251,\"\")","v":""},{"$f":"IF(AND($F252>1.01,$F252<3.99),$A252,\"\")","v":""},{"$f":"IF(AND($F253>1.01,$F253<3.99),$A253,\"\")","v":""},{"$f":"IF(AND($F254>1.01,$F254<3.99),$A254,\"\")","v":""},{"$f":"IF(AND($F255>1.01,$F255<3.99),$A255,\"\")","v":""}]
["Fast Food Restaurants",null,null,null,null,{"$f":"Commun!L75","v":0},"hadn't had the opportunity to work on the skills in the area(s) of",null,null,null,null,null,null,{"$f":"IF(AND($F251>0.99,$F251<1.000001),$A251,\"\")","v":""},{"$f":"IF(AND($F252>0.99,$F252<1.000001),$A252,\"\")","v":""},{"$f":"IF(AND($F253>0.99,$F253<1.000001),$A253,\"\")","v":""},{"$f":"IF(AND($F254>0.99,$F254<1.000001),$A254,\"\")","v":""},{"$f":"IF(AND($F255>0.99,$F255<1.000001),$A255,\"\")","v":""}]
["Cafeteria Restaurants",null,null,null,null,{"$f":"Commun!L86","v":0},"didn't need the skills in the area(s) of",null,null,null,null,null,null,{"$f":"IF($F251=0,$A251,\"\")","v":"Comparison Shopping From Home"},{"$f":"IF($F252=0,$A252,\"\")","v":"Stores"},{"$f":"IF($F253=0,$A253,\"\")","v":"Fast Food Restaurants"},{"$f":"IF($F254=0,$A254,\"\")","v":"Cafeteria Restaurants"},{"$f":"IF($F255=0,$A255,\"\")","v":"Sit Down Restaurants"}]
["Sit Down Restaurants",null,null,null,null,{"$f":"Commun!L97","v":0}]
[]
[]
[]
[null,null,null,null,null,null,"demonstrated","of the skills needed to travel independently as an adult."]
[{"$f":"G5","v":0},"Concepts",null,null,null,null,"did well with the skills that made up the domain(s) of",null,null,null,null,null,null,{"$f":"IF(A260>79.999999999,B260,\"\")","v":""},{"$f":"IF(A261>79.999999999,B261,\"\")","v":""},{"$f":"IF(A262>79.999999999,B262,\"\")","v":""},{"$f":"IF(A263>79.999999999,B263,\"\")","v":""},{"$f":"IF(A264>79.999999999,B264,\"\")","v":""},{"$f":"IF(A265>79.999999999,B265,\"\")","v":""},{"$f":"IF(A266>79.999999999,B266,\"\")","v":""},{"$f":"IF(A267>79.999999999,B267,\"\")","v":""},{"$f":"IF(A268>79.999999999,B268,\"\")","v":""},{"$f":"IF(A269>79.999999999,B269,\"\")","v":""},{"$f":"IF(A270>79.999999999,B270,\"\")","v":""},{"$f":"IF(A271>79.999999999,B271,\"\")","v":""},{"$f":"IF(A272>79.999999999,B272,\"\")","v":""},{"$f":"IF(A273>79.999999999,B273,\"\")","v":""},{"$f":"IF(A274>79.999999999,B274,\"\")","v":""}]
[{"$f":"G11","v":0},"Movement",null,null,null,null,"had room for improvement with the skills that made up the domain(s) of",null,null,null,null,null,null,{"$f":"IF(AND($A260>20.000001,$A260<79.999999998),$B260,\"\")","v":""},{"$f":"IF(AND($A261>20.000001,$A261<79.999999998),$B261,\"\")","v":""},{"$f":"IF(AND($A262>20.000001,$A262<79.999999998),$B262,\"\")","v":""},{"$f":"IF(AND($A263>20.000001,$A263<79.999999998),$B263,\"\")","v":""},{"$f":"IF(AND($A264>20.000001,$A264<79.999999998),$B264,\"\")","v":""},{"$f":"IF(AND($A265>20.000001,$A265<79.999999998),$B265,\"\")","v":""},{"$f":"IF(AND($A266>20.000001,$A266<79.999999998),$B266,\"\")","v":""},{"$f":"IF(AND($A267>20.000001,$A267<79.999999998),$B267,\"\")","v":""},{"$f":"IF(AND($A268>20.000001,$A268<79.999999998),$B268,\"\")","v":""},{"$f":"IF(AND($A269>20.000001,$A269<79.999999998),$B269,\"\")","v":""},{"$f":"IF(AND($A270>20.000001,$A270<79.999999998),$B270,\"\")","v":""},{"$f":"IF(AND($A271>20.000001,$A271<79.999999998),$B271,\"\")","v":""},{"$f":"IF(AND($A272>20.000001,$A272<79.999999998),$B272,\"\")","v":""},{"$f":"IF(AND($A273>20.000001,$A273<79.999999998),$B273,\"\")","v":""},{"$f":"IF(AND($A274>20.000001,$A274<79.999999998),$B274,\"\")","v":""}]
[{"$f":"G17","v":0},"Single Room O&M",null,null,null,null,"hadn't had the opportunity to work on the skills that made up the domain(s) of",null,null,null,null,null,null,{"$f":"IF(AND($A260>19.9,$A260<20.1),$B260,\"\")","v":""},{"$f":"IF(AND($A261>19.9,$A261<20.1),$B261,\"\")","v":""},{"$f":"IF(AND($A262>19.9,$A262<20.1),$B262,\"\")","v":""},{"$f":"IF(AND($A263>19.9,$A263<20.1),$B263,\"\")","v":""},{"$f":"IF(AND($A264>19.9,$A264<20.1),$B264,\"\")","v":""},{"$f":"IF(AND($A265>19.9,$A265<20.1),$B265,\"\")","v":""},{"$f":"IF(AND($A266>19.9,$A266<20.1),$B266,\"\")","v":""},{"$f":"IF(AND($A267>19.9,$A267<20.1),$B267,\"\")","v":""},{"$f":"IF(AND($A268>19.9,$A268<20.1),$B268,\"\")","v":""},{"$f":"IF(AND($A269>19.9,$A269<20.1),$B269,\"\")","v":""},{"$f":"IF(AND($A270>19.9,$A270<20.1),$B270,\"\")","v":""},{"$f":"IF(AND($A271>19.9,$A271<20.1),$B271,\"\")","v":""},{"$f":"IF(AND($A272>19.9,$A272<20.1),$B272,\"\")","v":""},{"$f":"IF(AND($A273>19.9,$A273<20.1),$B273,\"\")","v":""},{"$f":"IF(AND($A274>19.9,$A274<20.1),$B274,\"\")","v":""}]
[{"$f":"G23","v":0},"Indoor O&M",null,null,null,null,"had no need for the skills that made up the domain(s) of",null,null,null,null,null,null,{"$f":"IF($A260=0,$B260,\"\")","v":"Concepts"},{"$f":"IF($A261=0,$B261,\"\")","v":"Movement"},{"$f":"IF($A262=0,$B262,\"\")","v":"Single Room O&M"},{"$f":"IF($A263=0,$B263,\"\")","v":"Indoor O&M"},{"$f":"IF($A264=0,$B264,\"\")","v":"Self Protection"},{"$f":"IF($A265=0,$B265,\"\")","v":"Guided Travel"},{"$f":"IF($A266=0,$B266,\"\")","v":"Cane Skills"},{"$f":"IF($A267=0,$B267,\"\")","v":"Sidewalk Travel"},{"$f":"IF($A268=0,$B268,\"\")","v":"Street Crossings"},{"$f":"IF($A269=0,$B269,\"\")","v":"Orientation Skills & GPS"},{"$f":"IF($A270=0,$B270,\"\")","v":"Public Transportation"},{"$f":"IF($A271=0,$B271,\"\")","v":"Atypical O&M"},{"$f":"IF($A272=0,$B272,\"\")","v":"Rural Travel"},{"$f":"IF($A273=0,$B273,\"\")","v":"Vision Specific O&M Skills"},{"$f":"IF($A274=0,$B274,\"\")","v":"Community "}]
[{"$f":"G29","v":0},"Self Protection"]
[{"$f":"G35","v":0},"Guided Travel"]
[{"$f":"G41","v":0},"Cane Skills"]
[{"$f":"G47","v":0},"Sidewalk Travel"]
[{"$f":"G53","v":0},"Street Crossings"]
[{"$f":"G59","v":0},"Orientation Skills & GPS"]
[{"$f":"G65","v":0},"Public Transportation"]
[{"$f":"G71","v":0},"Atypical O&M"]
[{"$f":"G77","v":0},"Rural Travel"]
[{"$f":"G83","v":0},"Vision Specific O&M Skills"]
[{"$f":"G89","v":0},"Community "]
[]
["will demonstrate improved skills in Orientation & Mobility by increasing the score on the O&M Inventory from"]
["to a minimum of"]
["by the next annual IEP date."]
["Please see the attached chart. "]
["Over the previous grading period"]
["increased the score on the O&M Inventory from"]
["to"]
["and is now"]
["of the way to the goal of"]
["made gains in the domain(s) of"]
[{"$f":"IF($L286>$K286,$B260,\"\")","v":""},{"$f":"Front!B3","v":0},{"$f":"Front!C3","v":0},{"$f":"Front!D3","v":0},{"$f":"Front!E3","v":0},{"$f":"Front!F3","v":0},{"$f":"Front!G3","v":0},{"$f":"Front!H3","v":0},{"$f":"Front!I3","v":0},{"$f":"Front!J3","v":0},{"$f":"Front!K3","v":0},{"$f":"Front!L3","v":0},{"$f":"Front!M3","v":0}]
["",{"$f":"Front!B4","v":0},{"$f":"Front!C4","v":0},{"$f":"Front!D4","v":0},{"$f":"Front!E4","v":0},{"$f":"Front!F4","v":0},{"$f":"Front!G4","v":0},{"$f":"Front!H4","v":0},{"$f":"Front!I4","v":0},{"$f":"Front!J4","v":0},{"$f":"Front!K4","v":0},{"$f":"Front!L4","v":0},{"$f":"Front!M4","v":0}]
["",{"$f":"Front!B5","v":0},{"$f":"Front!C5","v":0},{"$f":"Front!D5","v":0},{"$f":"Front!E5","v":0},{"$f":"Front!F5","v":0},{"$f":"Front!G5","v":0},{"$f":"Front!H5","v":0},{"$f":"Front!I5","v":0},{"$f":"Front!J5","v":0},{"$f":"Front!K5","v":0},{"$f":"Front!L5","v":0},{"$f":"Front!M5","v":0}]
["",{"$f":"Front!B6","v":0},{"$f":"Front!C6","v":0},{"$f":"Front!D6","v":0},{"$f":"Front!E6","v":0},{"$f":"Front!F6","v":0},{"$f":"Front!G6","v":0},{"$f":"Front!H6","v":0},{"$f":"Front!I6","v":0},{"$f":"Front!J6","v":0},{"$f":"Front!K6","v":0},{"$f":"Front!L6","v":0},{"$f":"Front!M6","v":0}]
["",{"$f":"Front!B7","v":0},{"$f":"Front!C7","v":0},{"$f":"Front!D7","v":0},{"$f":"Front!E7","v":0},{"$f":"Front!F7","v":0},{"$f":"Front!G7","v":0},{"$f":"Front!H7","v":0},{"$f":"Front!I7","v":0},{"$f":"Front!J7","v":0},{"$f":"Front!K7","v":0},{"$f":"Front!L7","v":0},{"$f":"Front!M7","v":0}]
["",{"$f":"Front!B8","v":0},{"$f":"Front!C8","v":0},{"$f":"Front!D8","v":0},{"$f":"Front!E8","v":0},{"$f":"Front!F8","v":0},{"$f":"Front!G8","v":0},{"$f":"Front!H8","v":0},{"$f":"Front!I8","v":0},{"$f":"Front!J8","v":0},{"$f":"Front!K8","v":0},{"$f":"Front!L8","v":0},{"$f":"Front!M8","v":0}]
["",{"$f":"Front!B9","v":0},{"$f":"Front!C9","v":0},{"$f":"Front!D9","v":0},{"$f":"Front!E9","v":0},{"$f":"Front!F9","v":0},{"$f":"Front!G9","v":0},{"$f":"Front!H9","v":0},{"$f":"Front!I9","v":0},{"$f":"Front!J9","v":0},{"$f":"Front!K9","v":0},{"$f":"Front!L9","v":0},{"$f":"Front!M9","v":0}]
["",{"$f":"Front!B10","v":0},{"$f":"Front!C10","v":0},{"$f":"Front!D10","v":0},{"$f":"Front!E10","v":0},{"$f":"Front!F10","v":0},{"$f":"Front!G10","v":0},{"$f":"Front!H10","v":0},{"$f":"Front!I10","v":0},{"$f":"Front!J10","v":0},{"$f":"Front!K10","v":0},{"$f":"Front!L10","v":0},{"$f":"Front!M10","v":0}]
["",{"$f":"Front!B11","v":0},{"$f":"Front!C11","v":0},{"$f":"Front!D11","v":0},{"$f":"Front!E11","v":0},{"$f":"Front!F11","v":0},{"$f":"Front!G11","v":0},{"$f":"Front!H11","v":0},{"$f":"Front!I11","v":0},{"$f":"Front!J11","v":0},{"$f":"Front!K11","v":0},{"$f":"Front!L11","v":0},{"$f":"Front!M11","v":0}]
["",{"$f":"Front!B12","v":0},{"$f":"Front!C12","v":0},{"$f":"Front!D12","v":0},{"$f":"Front!E12","v":0},{"$f":"Front!F12","v":0},{"$f":"Front!G12","v":0},{"$f":"Front!H12","v":0},{"$f":"Front!I12","v":0},{"$f":"Front!J12","v":0},{"$f":"Front!K12","v":0},{"$f":"Front!L12","v":0},{"$f":"Front!M12","v":0}]
["",{"$f":"Front!B13","v":0},{"$f":"Front!C13","v":0},{"$f":"Front!D13","v":0},{"$f":"Front!E13","v":0},{"$f":"Front!F13","v":0},{"$f":"Front!G13","v":0},{"$f":"Front!H13","v":0},{"$f":"Front!I13","v":0},{"$f":"Front!J13","v":0},{"$f":"Front!K13","v":0},{"$f":"Front!L13","v":0},{"$f":"Front!M13","v":0}]
["",{"$f":"Front!B14","v":0},{"$f":"Front!C14","v":0},{"$f":"Front!D14","v":0},{"$f":"Front!E14","v":0},{"$f":"Front!F14","v":0},{"$f":"Front!G14","v":0},{"$f":"Front!H14","v":0},{"$f":"Front!I14","v":0},{"$f":"Front!J14","v":0},{"$f":"Front!K14","v":0},{"$f":"Front!L14","v":0},{"$f":"Front!M14","v":0}]
["",{"$f":"Front!B15","v":0},{"$f":"Front!C15","v":0},{"$f":"Front!D15","v":0},{"$f":"Front!E15","v":0},{"$f":"Front!F15","v":0},{"$f":"Front!G15","v":0},{"$f":"Front!H15","v":0},{"$f":"Front!I15","v":0},{"$f":"Front!J15","v":0},{"$f":"Front!K15","v":0},{"$f":"Front!L15","v":0},{"$f":"Front!M15","v":0}]
["",{"$f":"Front!B16","v":0},{"$f":"Front!C16","v":0},{"$f":"Front!D16","v":0},{"$f":"Front!E16","v":0},{"$f":"Front!F16","v":0},{"$f":"Front!G16","v":0},{"$f":"Front!H16","v":0},{"$f":"Front!I16","v":0},{"$f":"Front!J16","v":0},{"$f":"Front!K16","v":0},{"$f":"Front!L16","v":0},{"$f":"Front!M16","v":0}]
["",{"$f":"Front!B17","v":0},{"$f":"Front!C17","v":0},{"$f":"Front!D17","v":0},{"$f":"Front!E17","v":0},{"$f":"Front!F17","v":0},{"$f":"Front!G17","v":0},{"$f":"Front!H17","v":0},{"$f":"Front!I17","v":0},{"$f":"Front!J17","v":0},{"$f":"Front!K17","v":0},{"$f":"Front!L17","v":0},{"$f":"Front!M17","v":0}]

{"sheet":"R12","index":27,"n_rows":300,"n_cols":29,"rows_kept":300,"cut":false,"hidden":false,"merged":[]}
[{"$f":"'R1'!A1","v":0},"← TYPE STUDENT NAME IN GREEN BOX",null,null,null,null,null,null,null,null,null,null,null,null,"%prog","total","tot round","%pr rnd","goal"]
["↓ HIGHLIGHT & COPY WHITE CELLS; PASTE IN WORD DOCUMENT AS \"KEEP TEXT ONLY\" OR \"UNFORMATTED\"",null,null,null,null,null,null,null,null,null,null,null,null,null,{"$f":"Front!B20","v":0},{"$f":"Front!B18","v":0},{"$f":"ROUND(P2,2)","v":0},{"$f":"ROUND(O2,2)","v":0},{"$f":"Front!B19","v":1}]
[{"$f":"CONCATENATE(A150,\" \",K3,\"%\")","v":"NMSBVI O&M INVENTORY TOTAL SCORE:  0%"},null,null,null,null,null,null,null,null,{"$f":"Front!M18","v":0},{"$f":"ROUND(J3,2)","v":0},null,null,null,{"$f":"Front!C20","v":0},{"$f":"Front!C18","v":0},0,0,{"$f":"Front!C19","v":1}]
[null,null,null,null,null,null,null,null,null,null,null,null,null,null,{"$f":"Front!D20","v":0},{"$f":"Front!D18","v":0},0,0,{"$f":"Front!D19","v":1}]
[{"$f":"CONCATENATE(A151,\" \",H5,\"%\")","v":"Concepts Score: 0%"},null,null,null,null,null,{"$f":"Front!M3","v":0},{"$f":"ROUND(G5,1)","v":0},"← Don't worry about these 2 numbers",null,null,null,null,null,{"$f":"Front!E20","v":0},{"$f":"Front!E18","v":0},0,0,{"$f":"Front!E19","v":1}]
[{"$f":"CONCATENATE($A1,\" \",G152,\" \",N152,\", \",O152,\", \",P152,\", \",Q152)","v":"0 did well with the skills that made up the area(s) of , , , "},null,null,null,null,null,null,null,null,null,null,null,null,null,{"$f":"Front!F20","v":0},{"$f":"Front!F18","v":0},0,0,{"$f":"Front!F19","v":1}]
[{"$f":"CONCATENATE($A1,\" \",G153,\" \",N153,\", \",O153,\", \",P153,\", \",Q153)","v":"0 had room for improvement with the skills that made up the area(s) of , , , "},null,null,null,null,null,null,null,null,null,null,null,null,null,{"$f":"Front!G20","v":0},{"$f":"Front!G18","v":0},0,0,{"$f":"Front!G19","v":1}]
[{"$f":"CONCATENATE($A1,\" \",G154,\" \",N154,\", \",O154,\", \",P154,\", \",Q154)","v":"0 hadn't had the opportunity to work on the skills in the area(s) of , , , "},null,null,null,null,null,null,null,null,null,null,null,null,null,{"$f":"Front!H20","v":0},{"$f":"Front!H18","v":0},0,0,{"$f":"Front!H19","v":1}]
[{"$f":"CONCATENATE($A1,\" \",G155,\" \",N155,\", \",O155,\", \",P155,\", \",Q155)","v":"0 didn't need the skills in the area(s) of Vocabulary, Laterality, Parallel/Perpendicular, Time And Distance"},null,null,null,null,null,null,null,null,null,null,null,null,null,{"$f":"Front!I20","v":0},{"$f":"Front!I18","v":0},0,0,{"$f":"Front!I19","v":1}]
[null,null,null,null,null,null,null,null,null,null,null,null,null,null,{"$f":"Front!J20","v":0},{"$f":"Front!J18","v":0},0,0,{"$f":"Front!J19","v":1}]
[{"$f":"CONCATENATE(A156,\" \",H11,\"%\")","v":"Movement Score: 0%"},null,null,null,null,null,{"$f":"Front!M4","v":0},{"$f":"ROUND(G11,1)","v":0},null,null,null,null,null,null,{"$f":"Front!K20","v":0},{"$f":"Front!K18","v":0},0,0,{"$f":"Front!K19","v":1}]
[{"$f":"CONCATENATE($A1,\" \",G157,\" \",N157,\", \",O157,\", \",P157,\", \",Q157)","v":"0 did well with the skills that made up the area(s) of , , , "},null,null,null,null,null,null,null,null,null,null,null,null,null,{"$f":"Front!L20","v":0},{"$f":"Front!L18","v":0},0,0,{"$f":"Front!L19","v":1}]
[{"$f":"CONCATENATE($A1,\" \",G158,\" \",N158,\", \",O158,\", \",P158,\", \",Q158)","v":"0 had room for improvement with the skills that made up the area(s) of , , , "},null,null,null,null,null,null,null,null,null,null,null,null,null,{"$f":"Front!M20","v":0},{"$f":"Front!M18","v":0},0,0,{"$f":"Front!M19","v":1}]
[{"$f":"CONCATENATE($A1,\" \",G159,\" \",N159,\", \",O159,\", \",P159,\", \",Q159)","v":"0 hadn't had the opportunity to work on the skills in the area(s) of , , , "},null,null,null,null,null,null,null,null,null,null,null,null,null,"↑ Don't worry about this chart"]
[{"$f":"CONCATENATE($A1,\" \",G160,\" \",N160,\", \",O160,\", \",P160,\", \",Q160)","v":"0 didn't need the skills in the area(s) of Walking, Maintaining Body Alignment While Walking, Balance, Turns"}]
[null,null,null,null,null,null,"DO NOT HIGHLIGHT & COPY ANY OF THE GREY CELLS; ALL THE TEXT YOU NEED IS IN WHITE CELLS"]
[{"$f":"CONCATENATE(A161,\" \",H17,\"%\")","v":"Single Room O&M Score: 0%"},null,null,null,null,null,{"$f":"Front!M5","v":0},{"$f":"ROUND(G17,1)","v":0}]
[{"$f":"CONCATENATE($A1,\" \",G162,\" \",N162,\", \",O162,\", \",P162,\", \",Q162,\", \",R162)","v":"0 did well with the skills that made up the area(s) of , , , , "}]
[{"$f":"CONCATENATE($A1,\" \",G163,\" \",N163,\", \",O163,\", \",P163,\", \",Q163,\", \",R163)","v":"0 had room for improvement with the skills that made up the area(s) of , , , , "}]
[{"$f":"CONCATENATE($A1,\" \",G164,\" \",N164,\", \",O164,\", \",P164,\", \",Q164,\", \",R164)","v":"0 hadn't had the opportunity to work on the skills in the area(s) of , , , , "}]
[{"$f":"CONCATENATE($A1,\" \",G165,\" \",N165,\", \",O165,\", \",P165,\", \",Q165,\", \",R165)","v":"0 didn't need the skills in the area(s) of Familiar Rooms, Unfamiliar Rooms, Seating (Rows), Seating (Tables), Locating Dropped Objects"}]
[null,null,null,null,null,null,"COPYING THE GREY CELLS WILL JUST MAKE A MESS OF YOUR WORD DOCUMENT. I KNOW IT LOOKS"]
[{"$f":"CONCATENATE(A167,\" \",H23,\"%\")","v":"Indoor O&M Score: 0%"},null,null,null,null,null,{"$f":"Front!M6","v":0},{"$f":"ROUND(G23,1)","v":0}]
[{"$f":"CONCATENATE($A1,\" \",G168,\" \",N168,\", \",O168,\", \",P168,\", \",Q168,\", \",R168,\", \",S168,\", \",T168,\", \",U168)","v":"0 did well with the skills that made up the area(s) of , , , , , , , "}]
[{"$f":"CONCATENATE($A1,\" \",G169,\" \",N169,\", \",O169,\", \",P169,\", \",Q169,\", \",R169,\", \",S169,\", \",T169,\", \",U169)","v":"0 had room for improvement with the skills that made up the area(s) of , , , , , , , "}]
[{"$f":"CONCATENATE($A1,\" \",G170,\" \",N170,\", \",O170,\", \",P170,\", \",Q170,\", \",R170,\", \",S170,\", \",T170,\", \",U170)","v":"0 hadn't had the opportunity to work on the skills in the area(s) of , , , , , , , "}]
[{"$f":"CONCATENATE($A1,\" \",G171,\" \",N171,\", \",O171,\", \",P171,\", \",Q171,\", \",R171,\", \",S171,\", \",T171,\", \",U171)","v":"0 didn't need the skills in the area(s) of Hand Trailing, Navigating Open Spaces, Doors, Ascending/Descending Stairs, Escalators, Elevators, Moving Sidewalks, Turnstiles"}]
[null,null,null,null,null,null,"LIKE THERE IS TEXT IN THE GREY CELLS BUT THERE REALLY ISN'T. TRUST ME; I'M AN EXCEL NERD."]
[{"$f":"CONCATENATE(A176,\" \",H29,\"%\")","v":"Self Protection Score: 0%"},null,null,null,null,null,{"$f":"Front!M7","v":0},{"$f":"ROUND(G29,1)","v":0}]
[{"$f":"CONCATENATE($A1,\" \",G176,\" \",N176,\", \",O176,\", \",P176)","v":"0 did well with the skills that made up the area(s) of , , "}]
[{"$f":"CONCATENATE($A1,\" \",G177,\" \",N177,\", \",O177,\", \",P177)","v":"0 had room for improvement with the skills that made up the area(s) of , , "}]
[{"$f":"CONCATENATE($A1,\" \",G178,\" \",N178,\", \",O178,\", \",P178)","v":"0 hadn't had the opportunity to work on the skills in the area(s) of , , "}]
[{"$f":"CONCATENATE($A1,\" \",G179,\" \",N179,\", \",O179,\", \",P179)","v":"0 didn't need the skills in the area(s) of Upper Hand Protective Technique, Lower Forearm Protective Technique, Protective Clothing"}]
[]
[{"$f":"CONCATENATE(A180,\" \",H35,\"%\")","v":"Guided Travel Score: 0%"},null,null,null,null,null,{"$f":"Front!M8","v":0},{"$f":"ROUND(G35,1)","v":0}]
[{"$f":"CONCATENATE($A1,\" \",G181,\" \",N181,\", \",O181,\", \",P181,\", \",Q181)","v":"0 did well with the skills that made up the area(s) of , , , "}]
[{"$f":"CONCATENATE($A1,\" \",G182,\" \",N182,\", \",O182,\", \",P182,\", \",Q182)","v":"0 had room for improvement with the skills that made up the area(s) of , , , "}]
[{"$f":"CONCATENATE($A1,\" \",G183,\" \",N183,\", \",O183,\", \",P183,\", \",Q183)","v":"0 hadn't had the opportunity to work on the skills in the area(s) of , , , "}]
[{"$f":"CONCATENATE($A1,\" \",G184,\" \",N184,\", \",O184,\", \",P184,\", \",Q184)","v":"0 didn't need the skills in the area(s) of Human Guide, Walking With Another (No Direct Contact), Menus, Getting Rides"}]
[]
[{"$f":"CONCATENATE(A185,\" \",H41,\"%\")","v":"Cane Skills Score: 0%"},null,null,null,null,null,{"$f":"Front!M9","v":0},{"$f":"ROUND(G41,1)","v":0}]
[{"$f":"CONCATENATE($A1,\" \",G186,\" \",N186,\", \",O186,\", \",P186,\", \",Q186,\", \",R186,\", \",S186,\", \",T186)","v":"0 did well with the skills that made up the area(s) of , , , , , , "}]
[{"$f":"CONCATENATE($A1,\" \",G187,\" \",N187,\", \",O187,\", \",P187,\", \",Q187,\", \",R187,\", \",S187,\", \",T187)","v":"0 had room for improvement with the skills that made up the area(s) of , , , , , , "}]
[{"$f":"CONCATENATE($A1,\" \",G188,\" \",N188,\", \",O188,\", \",P188,\", \",Q188,\", \",R188,\", \",S188,\", \",T188)","v":"0 hadn't had the opportunity to work on the skills in the area(s) of , , , , , , "}]
[{"$f":"CONCATENATE($A1,\" \",G189,\" \",N189,\", \",O189,\", \",P189,\", \",Q189,\", \",R189,\", \",S189,\", \",T189)","v":"0 didn't need the skills in the area(s) of Basic Skills, Types Of Grips, Constant Contact, Diagonal/Diagonal Trail, Two Point Touch/Touch Trail, Touch And Drag, Three Point Touch"}]
[]
[{"$f":"CONCATENATE(A193,\" \",H47,\"%\")","v":"Sidewalk Travel Score: 0%"},null,null,null,null,null,{"$f":"Front!M10","v":0},{"$f":"ROUND(G47,1)","v":0}]
[{"$f":"CONCATENATE($A1,\" \",G193,\" \",N193,\", \",O193,\", \",P193)","v":"0 did well with the skills that made up the area(s) of , , "}]
[{"$f":"CONCATENATE($A1,\" \",G194,\" \",N194,\", \",O194,\", \",P194)","v":"0 had room for improvement with the skills that made up the area(s) of , , "}]
[{"$f":"CONCATENATE($A1,\" \",G195,\" \",N195,\", \",O195,\", \",P195)","v":"0 hadn't had the opportunity to work on the skills in the area(s) of , , "}]
[{"$f":"CONCATENATE($A1,\" \",G196,\" \",N196,\", \",O196,\", \",P196)","v":"0 didn't need the skills in the area(s) of Walking On Sidewalks, Walking On Irregular Sidewalks, Correcting for Veering On Sidewalks"}]
[]
[{"$f":"CONCATENATE(A197,\" \",H53,\"%\")","v":"Street Crossings Score: 0%"},null,null,null,null,null,{"$f":"Front!M11","v":0},{"$f":"ROUND(G53,1)","v":0}]
[{"$f":"CONCATENATE($A1,\" \",G198,\" \",N198,\", \",O198,\", \",P198,\", \",Q198,\", \",R198,\", \",S198,\", \",T198,\", \",U198,\", \",V198,\", \",W198,\", \",X198,\", \",Y198,\", \",Z198,\", \",AA198,\", \",AB198,\", \",AC198)","v":"0 did well with the skills that made up the area(s) of , , , , , , , , , , , , , , , "}]
[{"$f":"CONCATENATE($A1,\" \",G199,\" \",N199,\", \",O199,\", \",P199,\", \",Q199,\", \",R199,\", \",S199,\", \",T199,\", \",U199,\", \",V199,\", \",W199,\", \",X199,\", \",Y199,\", \",Z199,\", \",AA199,\", \",AB199,\", \",AC199)","v":"0 had room for improvement with the skills that made up the area(s) of , , , , , , , , , , , , , , , "}]
[{"$f":"CONCATENATE($A1,\" \",G200,\" \",N200,\", \",O200,\", \",P200,\", \",Q200,\", \",R200,\", \",S200,\", \",T200,\", \",U200,\", \",V200,\", \",W200,\", \",X200,\", \",Y200,\", \",Z200,\", \",AA200,\", \",AB200,\", \",AC200)","v":"0 hadn't had the opportunity to work on the skills in the area(s) of , , , , , , , , , , , , , , , "}]
[{"$f":"CONCATENATE($A1,\" \",G201,\" \",N201,\", \",O201,\", \",P201,\", \",Q201,\", \",R201,\", \",S201,\", \",T201,\", \",U201,\", \",V201,\", \",W201,\", \",X201,\", \",Y201,\", \",Z201,\", \",AA201,\", \",AB201,\", \",AC201)","v":"0 didn't need the skills in the area(s) of Anticipating Street Crossings, Maintaining Line Of Travel, Maintaining Body Alignment, Re-establishing Body Alignment, Analyzing Intersections, Plus Intersections, T Intersections, Y Intersections, Roundabouts, Significantly Offset Intersections, Atypical Intersections, Newly Developed Intersections, Channelized Right Turn Lanes, Veering, Understanding Drivers’ Perspectives, Pedestrian Signals"}]
[]
[{"$f":"CONCATENATE(A214,\" \",H59,\"%\")","v":"Orientation Skills and GPS Score: 0%"},null,null,null,null,null,{"$f":"Front!M12","v":0},{"$f":"ROUND(G59,1)","v":0}]
[{"$f":"CONCATENATE($A1,\" \",G215,\" \",N215,\", \",O215,\", \",P215,\", \",Q215,\", \",R215,\", \",S215,\", \",T215,\", \",U215,\", \",V215,\", \",W215)","v":"0 did well with the skills that made up the area(s) of , , , , , , , , , "}]
[{"$f":"CONCATENATE($A1,\" \",G216,\" \",N216,\", \",O216,\", \",P216,\", \",Q216,\", \",R216,\", \",S216,\", \",T216,\", \",U216,\", \",V216,\", \",W216)","v":"0 had room for improvement with the skills that made up the area(s) of , , , , , , , , , "}]
[{"$f":"CONCATENATE($A1,\" \",G217,\" \",N217,\", \",O217,\", \",P217,\", \",Q217,\", \",R217,\", \",S217,\", \",T217,\", \",U217,\", \",V217,\", \",W217)","v":"0 hadn't had the opportunity to work on the skills in the area(s) of , , , , , , , , , "}]
[{"$f":"CONCATENATE($A1,\" \",G218,\" \",N218,\", \",O218,\", \",P218,\", \",Q218,\", \",R218,\", \",S218,\", \",T218,\", \",U218,\", \",V218,\", \",W218)","v":"0 didn't need the skills in the area(s) of Cardinality, Clues, Landmarks, Indoor Numbering Systems, Outdoor Numbering Systems, Grid System, Divisors And Block Numbering, Transferability, GPS, Maps"}]
[]
[{"$f":"CONCATENATE(A225,\" \",H65,\"%\")","v":"Public Transportation Score: 0%"},null,null,null,null,null,{"$f":"Front!M13","v":0},{"$f":"ROUND(G65,1)","v":0}]
[{"$f":"CONCATENATE($A1,\" \",G226,\" \",N226,\", \",O226,\", \",P226,\", \",Q226,\", \",R226,\", \",S226,\", \",T226)","v":"0 did well with the skills that made up the area(s) of , , , , , , "}]
[{"$f":"CONCATENATE($A1,\" \",G227,\" \",N227,\", \",O227,\", \",P227,\", \",Q227,\", \",R227,\", \",S227,\", \",T227)","v":"0 had room for improvement with the skills that made up the area(s) of , , , , , , "}]
[{"$f":"CONCATENATE($A1,\" \",G228,\" \",N228,\", \",O228,\", \",P228,\", \",Q228,\", \",R228,\", \",S228,\", \",T228)","v":"0 hadn't had the opportunity to work on the skills in the area(s) of , , , , , , "}]
[{"$f":"CONCATENATE($A1,\" \",G229,\" \",N229,\", \",O229,\", \",P229,\", \",Q229,\", \",R229,\", \",S229,\", \",T229)","v":"0 didn't need the skills in the area(s) of Identifying Common Public Transportation Options, Intra-City Bus Travel, Inter-City Bus Travel, Taxi/Ride Service, Handi-Ride/Para Transit, Air Travel, Subway/Light Rail"}]
[]
[{"$f":"CONCATENATE(A233,\" \",H71,\"%\")","v":"Atypical O&M Score: 0%"},null,null,null,null,null,{"$f":"Front!M14","v":0},{"$f":"ROUND(G71,1)","v":0}]
[{"$f":"CONCATENATE($A1,\" \",G234,\" \",N234,\", \",O234,\", \",P234,\", \",Q234)","v":"0 did well with the skills that made up the area(s) of , , , "}]
[{"$f":"CONCATENATE($A1,\" \",G235,\" \",N235,\", \",O235,\", \",P235,\", \",Q235)","v":"0 had room for improvement with the skills that made up the area(s) of , , , "}]
[{"$f":"CONCATENATE($A1,\" \",G236,\" \",N236,\", \",O236,\", \",P236,\", \",Q236)","v":"0 hadn't had the opportunity to work on the skills in the area(s) of , , , "}]
[{"$f":"CONCATENATE($A1,\" \",G237,\" \",N237,\", \",O237,\", \",P237,\", \",Q237)","v":"0 didn't need the skills in the area(s) of Fences, Fields (Urban), Parks/Playgrounds, Inclement Weather"}]
[]
[{"$f":"CONCATENATE(A238,\" \",H77,\"%\")","v":"Rural Travel Score: 0%"},null,null,null,null,null,{"$f":"Front!M15","v":0},{"$f":"ROUND(G77,1)","v":0}]
[{"$f":"CONCATENATE($A1,\" \",G239,\" \",N239,\", \",O239,\", \",P239,\", \",Q239,\", \",R239)","v":"0 did well with the skills that made up the area(s) of , , , , "}]
[{"$f":"CONCATENATE($A1,\" \",G240,\" \",N240,\", \",O240,\", \",P240,\", \",Q240,\", \",R240)","v":"0 had room for improvement with the skills that made up the area(s) of , , , , "}]
[{"$f":"CONCATENATE($A1,\" \",G241,\" \",N241,\", \",O241,\", \",P241,\", \",Q241,\", \",R241)","v":"0 hadn't had the opportunity to work on the skills in the area(s) of , , , , "}]
[{"$f":"CONCATENATE($A1,\" \",G242,\" \",N242,\", \",O242,\", \",P242,\", \",Q242,\", \",R242)","v":"0 didn't need the skills in the area(s) of Understanding Unique Dangers Related To Rural Travel, Walking Along Rural Roads, Ditches/Arroyos, Identifying And Going Around Items In Rural Areas, Rural Street Crossings"}]
[]
[{"$f":"CONCATENATE(A244,\" \",H83,\"%\")","v":"Vision Specific O&M Skills Score: 0%"},null,null,null,null,null,{"$f":"Front!M16","v":0},{"$f":"ROUND(G83,1)","v":0}]
[{"$f":"CONCATENATE($A1,\" \",G245,\" \",N245,\", \",O245,\", \",P245,\", \",Q245,\", \",R245)","v":"0 did well with the skills that made up the area(s) of , , , , "}]
[{"$f":"CONCATENATE($A1,\" \",G246,\" \",N246,\", \",O246,\", \",P246,\", \",Q246,\", \",R246)","v":"0 had room for improvement with the skills that made up the area(s) of , , , , "}]
[{"$f":"CONCATENATE($A1,\" \",G247,\" \",N247,\", \",O247,\", \",P247,\", \",Q247,\", \",R247)","v":"0 hadn't had the opportunity to work on the skills in the area(s) of , , , , "}]
[{"$f":"CONCATENATE($A1,\" \",G248,\" \",N248,\", \",O248,\", \",P248,\", \",Q248,\", \",R248)","v":"0 didn't need the skills in the area(s) of Scanning Materials, Scanning Environments, Magnifiers And CCTVs, Monoculars, Visual Traveling"}]
[]
[{"$f":"CONCATENATE(A250,\" \",H89,\"%\")","v":"Community Score: 0%"},null,null,null,null,null,{"$f":"Front!M17","v":0},{"$f":"ROUND(G89,1)","v":0}]
[{"$f":"CONCATENATE($A1,\" \",G251,\" \",N251,\", \",O251,\", \",P251,\", \",Q251,\", \",R251)","v":"0 did well with the skills that made up the area(s) of , , , , "}]
[{"$f":"CONCATENATE($A1,\" \",G252,\" \",N252,\", \",O252,\", \",P252,\", \",Q252,\", \",R252)","v":"0 had room for improvement with the skills that made up the area(s) of , , , , "}]
[{"$f":"CONCATENATE($A1,\" \",G253,\" \",N253,\", \",O253,\", \",P253,\", \",Q253,\", \",R253)","v":"0 hadn't had the opportunity to work on the skills in the area(s) of , , , , "}]
[{"$f":"CONCATENATE($A1,\" \",G254,\" \",N254,\", \",O254,\", \",P254,\", \",Q254,\", \",R254)","v":"0 didn't need the skills in the area(s) of Comparison Shopping From Home, Stores, Fast Food Restaurants, Cafeteria Restaurants, Sit Down Restaurants"}]
[]
["Summary"]
[{"$f":"CONCATENATE(A1,\" \",G259,\" \",K3,\" \",H259)","v":"0 demonstrated 0 of the skills needed to travel independently as an adult."}]
[{"$f":"CONCATENATE($A1,\" \",G260,\" \",N260,\", \",O260,\", \",P260,\", \",Q260,\", \",R260,\", \",S260,\", \",T260,\", \",U260,\", \",V260,\", \",W260,\", \",X260,\", \",Y260,\", \",Z260,\", \",AA260,\", \",AB260)","v":"0 did well with the skills that made up the domain(s) of , , , , , , , , , , , , , , "}]
[{"$f":"CONCATENATE($A1,\" \",G261,\" \",N261,\", \",O261,\", \",P261,\", \",Q261,\", \",R261,\", \",S261,\", \",T261,\", \",U261,\", \",V261,\", \",W261,\", \",X261,\", \",Y261,\", \",Z261,\", \",AA261,\", \",AB261)","v":"0 had room for improvement with the skills that made up the domain(s) of , , , , , , , , , , , , , , "}]
[{"$f":"CONCATENATE($A1,\" \",G262,\" \",N262,\", \",O262,\", \",P262,\", \",Q262,\", \",R262,\", \",S262,\", \",T262,\", \",U262,\", \",V262,\", \",W262,\", \",X262,\", \",Y262,\", \",Z262,\", \",AA262,\", \",AB262)","v":"0 hadn't had the opportunity to work on the skills that made up the domain(s) of , , , , , , , , , , , , , , "}]
[{"$f":"CONCATENATE($A1,\" \",G263,\" \",N263,\", \",O263,\", \",P263,\", \",Q263,\", \",R263,\", \",S263,\", \",T263,\", \",U263,\", \",V263,\", \",W263,\", \",X263,\", \",Y263,\", \",Z263,\", \",AA263,\", \",AB263)","v":"0 had no need for the skills that made up the domain(s) of Concepts, Movement, Single Room O&M, Indoor O&M, Self Protection, Guided Travel, Cane Skills, Sidewalk Travel, Street Crossings, Orientation Skills & GPS, Public Transportation, Atypical O&M, Rural Travel, Vision Specific O&M Skills, Community "}]
[]
[]
[]
[]
[]
[]
[]
[]
[]
["Present Level of Educational Performance"]
[{"$f":"CONCATENATE($A97,\" \",A98,\" \",A99,\", \",A100)","v":"0 did well with the skills that made up the domain(s) of , , , , , , , , , , , , , ,  0 had room for improvement with the skills that made up the domain(s) of , , , , , , , , , , , , , ,  0 hadn't had the opportunity to work on the skills that made up the domain(s) of , , , , , , , , , , , , , , , 0 had no need for the skills that made up the domain(s) of Concepts, Movement, Single Room O&M, Indoor O&M, Self Protection, Guided Travel, Cane Skills, Sidewalk Travel, Street Crossings, Orientation Skills & GPS, Public Transportation, Atypical O&M, Rural Travel, Vision Specific O&M Skills, Community "}]
[]
["Strengths"]
[{"$f":"A97","v":"0 did well with the skills that made up the domain(s) of , , , , , , , , , , , , , , "}]
[]
["Concerns"]
[{"$f":"A98","v":"0 had room for improvement with the skills that made up the domain(s) of , , , , , , , , , , , , , , "}]
[]
["Goal"]
[{"$f":"CONCATENATE($A1,\" \",A276,\" \",K3,\"% \",A277,\" \",(ROUNDUP(K3+5,0)),\"% \",A278)","v":"0 will demonstrate improved skills in Orientation & Mobility by increasing the score on the O&M Inventory from 0% to a minimum of 5% by the next annual IEP date."}]
[]
[]
[]
[]
["Progress Report"]
[{"$f":"CONCATENATE(A279,A280,\" \",$A1,\" \",A281,\" \",Q12,\"% \",A282,\" \",Q13,\"% \",A283,\" \",R13,\"% \",A284,\" \",S13,\"%. \",A1,\" \",A285,\" \",A286,\", \",A287,\", \",A288,\", \",A289,\", \",A290,\", \",A291,\", \",A292,\", \",A293,\", \",A294,\", \",A295,\", \",A296,\", \",A297,\", \",A298,\", \",A299,\", \",A300)","v":"Please see the attached chart. Over the previous grading period 0 increased the score on the O&M Inventory from 0% to 0% and is now 0% of the way to the goal of 1%. 0 made gains in the domain(s) of , , , , , , , , , , , , , , "}]
[]
[]
[]
[]
[]
[]
[]
[]
[]
[]
[]
[]
[]
[]
[]
[]
[]
[]
[]
[]
[]
[]
["↓Don't worry about any of this. It fills in automatically and is what creates the useful text "]
["NMSBVI O&M INVENTORY TOTAL SCORE: "]
["Concepts Score:"]
["Vocabulary",null,null,null,null,{"$f":"Concept!N42","v":0},"did well with the skills that made up the area(s) of",null,null,null,null,null,null,{"$f":"IF(F152>3.99,A152,\"\")","v":""},{"$f":"IF(F153>3.99,A153,\"\")","v":""},{"$f":"IF(F154>3.99,A154,\"\")","v":""},{"$f":"IF(F155>3.99,A155,\"\")","v":""},{"$f":"IF(F156>4,E156,\"\")","v":""}]
["Laterality",null,null,null,null,{"$f":"Concept!N48","v":0},"had room for improvement with the skills that made up the area(s) of",null,null,null,null,null,null,{"$f":"IF(AND($F152>1.01,$F152<3.99),$A152,\"\")","v":""},{"$f":"IF(AND($F153>1.01,$F153<3.99),$A153,\"\")","v":""},{"$f":"IF(AND($F154>1.01,$F154<3.99),$A154,\"\")","v":""},{"$f":"IF(AND($F155>1.01,$F155<3.99),$A155,\"\")","v":""}]
["Parallel/Perpendicular",null,null,null,null,{"$f":"Concept!N57","v":0},"hadn't had the opportunity to work on the skills in the area(s) of",null,null,null,null,null,null,{"$f":"IF(AND($F152>0.99,$F152<1.000001),$A152,\"\")","v":""},{"$f":"IF(AND($F153>0.99,$F153<1.000001),$A153,\"\")","v":""},{"$f":"IF(AND($F154>0.99,$F154<1.000001),$A154,\"\")","v":""},{"$f":"IF(AND($F155>0.99,$F155<1.000001),$A155,\"\")","v":""}]
["Time And Distance",null,null,null,null,{"$f":"Concept!N62","v":0},"didn't need the skills in the area(s) of",null,null,null,null,null,null,{"$f":"IF($F152=0,$A152,\"\")","v":"Vocabulary"},{"$f":"IF($F153=0,$A153,\"\")","v":"Laterality"},{"$f":"IF($F154=0,$A154,\"\")","v":"Parallel/Perpendicular"},{"$f":"IF($F155=0,$A155,\"\")","v":"Time And Distance"}]
["Movement Score:"]
["Walking",null,null,null,null,{"$f":"Move!N41","v":0},"did well with the skills that made up the area(s) of",null,null,null,null,null,null,{"$f":"IF(F157>3.99,A157,\"\")","v":""},{"$f":"IF(F158>3.99,A158,\"\")","v":""},{"$f":"IF(F159>3.99,A159,\"\")","v":""},{"$f":"IF(F160>3.99,A160,\"\")","v":""}]
["Maintaining Body Alignment While Walking",null,null,null,null,{"$f":"Move!N47","v":0},"had room for improvement with the skills that made up the area(s) of",null,null,null,null,null,null,{"$f":"IF(AND($F157>1.01,$F157<3.99),$A157,\"\")","v":""},{"$f":"IF(AND($F158>1.01,$F158<3.99),$A158,\"\")","v":""},{"$f":"IF(AND($F159>1.01,$F159<3.99),$A159,\"\")","v":""},{"$f":"IF(AND($F160>1.01,$F160<3.99),$A160,\"\")","v":""}]
["Balance",null,null,null,null,{"$f":"Move!N53","v":0},"hadn't had the opportunity to work on the skills in the area(s) of",null,null,null,null,null,null,{"$f":"IF(AND($F157>0.99,$F157<1.000001),$A157,\"\")","v":""},{"$f":"IF(AND($F158>0.99,$F158<1.000001),$A158,\"\")","v":""},{"$f":"IF(AND($F159>0.99,$F159<1.000001),$A159,\"\")","v":""},{"$f":"IF(AND($F160>0.99,$F160<1.000001),$A160,\"\")","v":""}]
["Turns",null,null,null,null,{"$f":"Move!N61","v":0},"didn't need the skills in the area(s) of",null,null,null,null,null,null,{"$f":"IF($F157=0,$A157,\"\")","v":"Walking"},{"$f":"IF($F158=0,$A158,\"\")","v":"Maintaining Body Alignment While Walking"},{"$f":"IF($F159=0,$A159,\"\")","v":"Balance"},{"$f":"IF($F160=0,$A160,\"\")","v":"Turns"}]
["Single Room O&M Score:"]
["Familiar Rooms",null,null,null,null,{"$f":"SingRm!N45","v":0},"did well with the skills that made up the area(s) of",null,null,null,null,null,null,{"$f":"IF(F162>3.99,A162,\"\")","v":""},{"$f":"IF(F163>3.99,A163,\"\")","v":""},{"$f":"IF(F164>3.99,A164,\"\")","v":""},{"$f":"IF(F165>3.99,A165,\"\")","v":""},{"$f":"IF(F166>3.99,A166,\"\")","v":""}]
["Unfamiliar Rooms",null,null,null,null,{"$f":"SingRm!N51","v":0},"had room for improvement with the skills that made up the area(s) of",null,null,null,null,null,null,{"$f":"IF(AND($F162>1.01,$F162<3.99),$A162,\"\")","v":""},{"$f":"IF(AND($F163>1.01,$F163<3.99),$A163,\"\")","v":""},{"$f":"IF(AND($F164>1.01,$F164<3.99),$A164,\"\")","v":""},{"$f":"IF(AND($F165>1.01,$F165<3.99),$A165,\"\")","v":""},{"$f":"IF(AND($F166>1.01,$F166<3.99),$A166,\"\")","v":""}]
["Seating (Rows)",null,null,null,null,{"$f":"SingRm!N58","v":0},"hadn't had the opportunity to work on the skills in the area(s) of",null,null,null,null,null,null,{"$f":"IF(AND($F162>0.99,$F162<1.000001),$A162,\"\")","v":""},{"$f":"IF(AND($F163>0.99,$F163<1.000001),$A163,\"\")","v":""},{"$f":"IF(AND($F164>0.99,$F164<1.000001),$A164,\"\")","v":""},{"$f":"IF(AND($F165>0.99,$F165<1.000001),$A165,\"\")","v":""},{"$f":"IF(AND($F166>0.99,$F166<1.000001),$A166,\"\")","v":""}]
["Seating (Tables)",null,null,null,null,{"$f":"SingRm!N65","v":0},"didn't need the skills in the area(s) of",null,null,null,null,null,null,{"$f":"IF($F162=0,$A162,\"\")","v":"Familiar Rooms"},{"$f":"IF($F163=0,$A163,\"\")","v":"Unfamiliar Rooms"},{"$f":"IF($F164=0,$A164,\"\")","v":"Seating (Rows)"},{"$f":"IF($F165=0,$A165,\"\")","v":"Seating (Tables)"},{"$f":"IF($F166=0,$A166,\"\")","v":"Locating Dropped Objects"}]
["Locating Dropped Objects",null,null,null,null,{"$f":"SingRm!N70","v":0}]
["Indoor O&M Score:"]
["Hand Trailing",null,null,null,null,{"$f":"Indoor!N72","v":0},"did well with the skills that made up the area(s) of",null,null,null,null,null,null,{"$f":"IF(F168>3.99,A168,\"\")","v":""},{"$f":"IF(F169>3.99,A169,\"\")","v":""},{"$f":"IF(F170>3.99,A170,\"\")","v":""},{"$f":"IF(F171>3.99,A171,\"\")","v":""},{"$f":"IF(F172>3.99,A172,\"\")","v":""},{"$f":"IF(F173>3.99,A173,\"\")","v":""},{"$f":"IF(F174>3.99,A174,\"\")","v":""},{"$f":"IF(F175>3.99,A175,\"\")","v":""}]
["Navigating Open Spaces",null,null,null,null,{"$f":"Indoor!N75","v":0},"had room for improvement with the skills that made up the area(s) of",null,null,null,null,null,null,{"$f":"IF(AND($F168>1.01,$F168<3.99),$A168,\"\")","v":""},{"$f":"IF(AND($F169>1.01,$F169<3.99),$A169,\"\")","v":""},{"$f":"IF(AND($F170>1.01,$F170<3.99),$A170,\"\")","v":""},{"$f":"IF(AND($F171>1.01,$F171<3.99),$A171,\"\")","v":""},{"$f":"IF(AND($F172>1.01,$F172<3.99),$A172,\"\")","v":""},{"$f":"IF(AND($F173>1.01,$F173<3.99),$A173,\"\")","v":""},{"$f":"IF(AND($F174>1.01,$F174<3.99),$A174,\"\")","v":""},{"$f":"IF(AND($F175>1.01,$F175<3.99),$A175,\"\")","v":""}]
["Doors",null,null,null,null,{"$f":"Indoor!N78","v":0},"hadn't had the opportunity to work on the skills in the area(s) of",null,null,null,null,null,null,{"$f":"IF(AND($F168>0.99,$F168<1.000001),$A168,\"\")","v":""},{"$f":"IF(AND($F169>0.99,$F169<1.000001),$A169,\"\")","v":""},{"$f":"IF(AND($F170>0.99,$F170<1.000001),$A170,\"\")","v":""},{"$f":"IF(AND($F171>0.99,$F171<1.000001),$A171,\"\")","v":""},{"$f":"IF(AND($F172>0.99,$F172<1.000001),$A172,\"\")","v":""},{"$f":"IF(AND($F173>0.99,$F173<1.000001),$A173,\"\")","v":""},{"$f":"IF(AND($F174>0.99,$F174<1.000001),$A174,\"\")","v":""},{"$f":"IF(AND($F175>0.99,$F175<1.000001),$A175,\"\")","v":""}]
["Ascending/Descending Stairs",null,null,null,null,{"$f":"Indoor!N84","v":0},"didn't need the skills in the area(s) of",null,null,null,null,null,null,{"$f":"IF($F168=0,$A168,\"\")","v":"Hand Trailing"},{"$f":"IF($F169=0,$A169,\"\")","v":"Navigating Open Spaces"},{"$f":"IF($F170=0,$A170,\"\")","v":"Doors"},{"$f":"IF($F171=0,$A171,\"\")","v":"Ascending/Descending Stairs"},{"$f":"IF($F172=0,$A172,\"\")","v":"Escalators"},{"$f":"IF($F173=0,$A173,\"\")","v":"Elevators"},{"$f":"IF($F174=0,$A174,\"\")","v":"Moving Sidewalks"},{"$f":"IF($F175=0,$A175,\"\")","v":"Turnstiles"}]
["Escalators",null,null,null,null,{"$f":"Indoor!N92","v":0}]
["Elevators",null,null,null,null,{"$f":"Indoor!N104","v":0}]
["Moving Sidewalks",null,null,null,null,{"$f":"Indoor!N113","v":0}]
["Turnstiles",null,null,null,null,{"$f":"Indoor!N123","v":0}]
["Self Protection Score:",null,null,null,null,null,"did well with the skills that made up the area(s) of",null,null,null,null,null,null,{"$f":"IF(F177>3.99,A177,\"\")","v":""},{"$f":"IF(F178>3.99,A178,\"\")","v":""},{"$f":"IF(F179>3.99,A179,\"\")","v":""}]
["Upper Hand Protective Technique",null,null,null,null,{"$f":"SelfPro!N29","v":0},"had room for improvement with the skills that made up the area(s) of",null,null,null,null,null,null,{"$f":"IF(AND($F177>1.01,$F177<3.99),$A177,\"\")","v":""},{"$f":"IF(AND($F178>1.01,$F178<3.99),$A178,\"\")","v":""},{"$f":"IF(AND($F179>1.01,$F179<3.99),$A179,\"\")","v":""}]
["Lower Forearm Protective Technique",null,null,null,null,{"$f":"SelfPro!N34","v":0},"hadn't had the opportunity to work on the skills in the area(s) of",null,null,null,null,null,null,{"$f":"IF(AND($F177>0.99,$F177<1.000001),$A177,\"\")","v":""},{"$f":"IF(AND($F178>0.99,$F178<1.000001),$A178,\"\")","v":""},{"$f":"IF(AND($F179>0.99,$F179<1.000001),$A179,\"\")","v":""}]
["Protective Clothing",null,null,null,null,{"$f":"SelfPro!N38","v":0},"didn't need the skills in the area(s) of",null,null,null,null,null,null,{"$f":"IF($F177=0,$A177,\"\")","v":"Upper Hand Protective Technique"},{"$f":"IF($F178=0,$A178,\"\")","v":"Lower Forearm Protective Technique"},{"$f":"IF($F179=0,$A179,\"\")","v":"Protective Clothing"}]
["Guided Travel Score:"]
["Human Guide",null,null,null,null,{"$f":"Guided!N39","v":0},"did well with the skills that made up the area(s) of",null,null,null,null,null,null,{"$f":"IF(F181>3.99,A181,\"\")","v":""},{"$f":"IF(F182>3.99,A182,\"\")","v":""},{"$f":"IF(F183>3.99,A183,\"\")","v":""},{"$f":"IF(F184>3.99,A184,\"\")","v":""}]
["Walking With Another (No Direct Contact)",null,null,null,null,{"$f":"Guided!N47","v":0},"had room for improvement with the skills that made up the area(s) of",null,null,null,null,null,null,{"$f":"IF(AND($F181>1.01,$F181<3.99),$A181,\"\")","v":""},{"$f":"IF(AND($F182>1.01,$F182<3.99),$A182,\"\")","v":""},{"$f":"IF(AND($F183>1.01,$F183<3.99),$A183,\"\")","v":""},{"$f":"IF(AND($F184>1.01,$F184<3.99),$A184,\"\")","v":""}]
["Menus",null,null,null,null,{"$f":"Guided!N52","v":0},"hadn't had the opportunity to work on the skills in the area(s) of",null,null,null,null,null,null,{"$f":"IF(AND($F181>0.99,$F181<1.000001),$A181,\"\")","v":""},{"$f":"IF(AND($F182>0.99,$F182<1.000001),$A182,\"\")","v":""},{"$f":"IF(AND($F183>0.99,$F183<1.000001),$A183,\"\")","v":""},{"$f":"IF(AND($F184>0.99,$F184<1.000001),$A184,\"\")","v":""}]
["Getting Rides",null,null,null,null,{"$f":"Guided!N56","v":0},"didn't need the skills in the area(s) of",null,null,null,null,null,null,{"$f":"IF($F181=0,$A181,\"\")","v":"Human Guide"},{"$f":"IF($F182=0,$A182,\"\")","v":"Walking With Another (No Direct Contact)"},{"$f":"IF($F183=0,$A183,\"\")","v":"Menus"},{"$f":"IF($F184=0,$A184,\"\")","v":"Getting Rides"}]
["Cane Skills Score:"]
["Basic Skills",null,null,null,null,{"$f":"Cane!N61","v":0},"did well with the skills that made up the area(s) of",null,null,null,null,null,null,{"$f":"IF(F186>3.99,A186,\"\")","v":""},{"$f":"IF(F187>3.99,A187,\"\")","v":""},{"$f":"IF(F188>3.99,A188,\"\")","v":""},{"$f":"IF(F189>3.99,A189,\"\")","v":""},{"$f":"IF(F190>3.99,A190,\"\")","v":""},{"$f":"IF(F191>3.99,A191,\"\")","v":""},{"$f":"IF(F192>3.99,A192,\"\")","v":""}]
["Types Of Grips",null,null,null,null,{"$f":"Cane!N68","v":0},"had room for improvement with the skills that made up the area(s) of",null,null,null,null,null,null,{"$f":"IF(AND($F186>1.01,$F186<3.99),$A186,\"\")","v":""},{"$f":"IF(AND($F187>1.01,$F187<3.99),$A187,\"\")","v":""},{"$f":"IF(AND($F188>1.01,$F188<3.99),$A188,\"\")","v":""},{"$f":"IF(AND($F189>1.01,$F189<3.99),$A189,\"\")","v":""},{"$f":"IF(AND($F190>1.01,$F190<3.99),$A190,\"\")","v":""},{"$f":"IF(AND($F191>1.01,$F191<3.99),$A191,\"\")","v":""},{"$f":"IF(AND($F192>1.01,$F192<3.99),$A192,\"\")","v":""}]
["Constant Contact",null,null,null,null,{"$f":"Cane!N74","v":0},"hadn't had the opportunity to work on the skills in the area(s) of",null,null,null,null,null,null,{"$f":"IF(AND($F186>0.99,$F186<1.000001),$A186,\"\")","v":""},{"$f":"IF(AND($F187>0.99,$F187<1.000001),$A187,\"\")","v":""},{"$f":"IF(AND($F188>0.99,$F188<1.000001),$A188,\"\")","v":""},{"$f":"IF(AND($F189>0.99,$F189<1.000001),$A189,\"\")","v":""},{"$f":"IF(AND($F190>0.99,$F190<1.000001),$A190,\"\")","v":""},{"$f":"IF(AND($F191>0.99,$F191<1.000001),$A191,\"\")","v":""},{"$f":"IF(AND($F192>0.99,$F192<1.000001),$A192,\"\")","v":""}]
["Diagonal/Diagonal Trail",null,null,null,null,{"$f":"Cane!N80","v":0},"didn't need the skills in the area(s) of",null,null,null,null,null,null,{"$f":"IF($F186=0,$A186,\"\")","v":"Basic Skills"},{"$f":"IF($F187=0,$A187,\"\")","v":"Types Of Grips"},{"$f":"IF($F188=0,$A188,\"\")","v":"Constant Contact"},{"$f":"IF($F189=0,$A189,\"\")","v":"Diagonal/Diagonal Trail"},{"$f":"IF($F190=0,$A190,\"\")","v":"Two Point Touch/Touch Trail"},{"$f":"IF($F191=0,$A191,\"\")","v":"Touch And Drag"},{"$f":"IF($F192=0,$A192,\"\")","v":"Three Point Touch"}]
["Two Point Touch/Touch Trail",null,null,null,null,{"$f":"Cane!N86","v":0}]
["Touch And Drag",null,null,null,null,{"$f":"Cane!N93","v":0}]
["Three Point Touch",null,null,null,null,{"$f":"Cane!N100","v":0}]
["Sidewalk Travel Score:",null,null,null,null,null,"did well with the skills that made up the area(s) of",null,null,null,null,null,null,{"$f":"IF(F194>3.99,A194,\"\")","v":""},{"$f":"IF(F195>3.99,A195,\"\")","v":""},{"$f":"IF(F196>3.99,A196,\"\")","v":""}]
["Walking On Sidewalks",null,null,null,null,{"$f":"Sidewalk!N40","v":0},"had room for improvement with the skills that made up the area(s) of",null,null,null,null,null,null,{"$f":"IF(AND($F194>1.01,$F194<3.99),$A194,\"\")","v":""},{"$f":"IF(AND($F195>1.01,$F195<3.99),$A195,\"\")","v":""},{"$f":"IF(AND($F196>1.01,$F196<3.99),$A196,\"\")","v":""}]
["Walking On Irregular Sidewalks",null,null,null,null,{"$f":"Sidewalk!N52","v":0},"hadn't had the opportunity to work on the skills in the area(s) of",null,null,null,null,null,null,{"$f":"IF(AND($F194>0.99,$F194<1.000001),$A194,\"\")","v":""},{"$f":"IF(AND($F195>0.99,$F195<1.000001),$A195,\"\")","v":""},{"$f":"IF(AND($F196>0.99,$F196<1.000001),$A196,\"\")","v":""}]
["Correcting for Veering On Sidewalks",null,null,null,null,{"$f":"Sidewalk!N58","v":0},"didn't need the skills in the area(s) of",null,null,null,null,null,null,{"$f":"IF($F194=0,$A194,\"\")","v":"Walking On Sidewalks"},{"$f":"IF($F195=0,$A195,\"\")","v":"Walking On Irregular Sidewalks"},{"$f":"IF($F196=0,$A196,\"\")","v":"Correcting for Veering On Sidewalks"}]
["Street Crossings Score:"]
["Anticipating Street Crossings",null,null,null,null,{"$f":"StCross!N188","v":0},"did well with the skills that made up the area(s) of",null,null,null,null,null,null,{"$f":"IF(F198>3.99,A198,\"\")","v":""},{"$f":"IF(F199>3.99,A199,\"\")","v":""},{"$f":"IF(F200>3.99,A200,\"\")","v":""},{"$f":"IF(F201>3.99,A201,\"\")","v":""},{"$f":"IF(F202>3.99,A202,\"\")","v":""},{"$f":"IF(F203>3.99,A203,\"\")","v":""},{"$f":"IF(F204>3.99,A204,\"\")","v":""},{"$f":"IF(F205>3.99,A205,\"\")","v":""},{"$f":"IF(F206>3.99,A206,\"\")","v":""},{"$f":"IF(F207>3.99,A207,\"\")","v":""},{"$f":"IF(F208>3.99,A208,\"\")","v":""},{"$f":"IF(F209>3.99,A209,\"\")","v":""},{"$f":"IF(F210>3.99,A210,\"\")","v":""},{"$f":"IF(F211>3.99,A211,\"\")","v":""},{"$f":"IF(F212>3.99,A212,\"\")","v":""},{"$f":"IF(F213>3.99,A213,\"\")","v":""}]
["Maintaining Line Of Travel",null,null,null,null,{"$f":"StCross!N194","v":0},"had room for improvement with the skills that made up the area(s) of",null,null,null,null,null,null,{"$f":"IF(AND($F198>1.01,$F198<3.99),$A198,\"\")","v":""},{"$f":"IF(AND($F199>1.01,$F199<3.99),$A199,\"\")","v":""},{"$f":"IF(AND($F200>1.01,$F200<3.99),$A200,\"\")","v":""},{"$f":"IF(AND($F201>1.01,$F201<3.99),$A201,\"\")","v":""},{"$f":"IF(AND($F202>1.01,$F202<3.99),$A202,\"\")","v":""},{"$f":"IF(AND($F203>1.01,$F203<3.99),$A203,\"\")","v":""},{"$f":"IF(AND($F204>1.01,$F204<3.99),$A204,\"\")","v":""},{"$f":"IF(AND($F205>1.01,$F205<3.99),$A205,\"\")","v":""},{"$f":"IF(AND($F206>1.01,$F206<3.99),$A206,\"\")","v":""},{"$f":"IF(AND($F207>1.01,$F207<3.99),$A207,\"\")","v":""},{"$f":"IF(AND($F208>1.01,$F208<3.99),$A208,\"\")","v":""},{"$f":"IF(AND($F209>1.01,$F209<3.99),$A209,\"\")","v":""},{"$f":"IF(AND($F210>1.01,$F210<3.99),$A210,\"\")","v":""},{"$f":"IF(AND($F211>1.01,$F211<3.99),$A211,\"\")","v":""},{"$f":"IF(AND($F212>1.01,$F212<3.99),$A212,\"\")","v":""},{"$f":"IF(AND($F213>1.01,$F213<3.99),$A213,\"\")","v":""}]
["Maintaining Body Alignment",null,null,null,null,{"$f":"StCross!N195","v":0},"hadn't had the opportunity to work on the skills in the area(s) of",null,null,null,null,null,null,{"$f":"IF(AND($F198>0.99,$F198<1.000001),$A198,\"\")","v":""},{"$f":"IF(AND($F199>0.99,$F199<1.000001),$A199,\"\")","v":""},{"$f":"IF(AND($F200>0.99,$F200<1.000001),$A200,\"\")","v":""},{"$f":"IF(AND($F201>0.99,$F201<1.000001),$A201,\"\")","v":""},{"$f":"IF(AND($F202>0.99,$F202<1.000001),$A202,\"\")","v":""},{"$f":"IF(AND($F203>0.99,$F203<1.000001),$A203,\"\")","v":""},{"$f":"IF(AND($F204>0.99,$F204<1.000001),$A204,\"\")","v":""},{"$f":"IF(AND($F205>0.99,$F205<1.000001),$A205,\"\")","v":""},{"$f":"IF(AND($F206>0.99,$F206<1.000001),$A206,\"\")","v":""},{"$f":"IF(AND($F207>0.99,$F207<1.000001),$A207,\"\")","v":""},{"$f":"IF(AND($F208>0.99,$F208<1.000001),$A208,\"\")","v":""},{"$f":"IF(AND($F209>0.99,$F209<1.000001),$A209,\"\")","v":""},{"$f":"IF(AND($F210>0.99,$F210<1.000001),$A210,\"\")","v":""},{"$f":"IF(AND($F211>0.99,$F211<1.000001),$A211,\"\")","v":""},{"$f":"IF(AND($F212>0.99,$F212<1.000001),$A212,\"\")","v":""},{"$f":"IF(AND($F213>0.99,$F213<1.000001),$A213,\"\")","v":""}]
["Re-establishing Body Alignment",null,null,null,null,{"$f":"StCross!N199","v":0},"didn't need the skills in the area(s) of",null,null,null,null,null,null,{"$f":"IF($F198=0,$A198,\"\")","v":"Anticipating Street Crossings"},{"$f":"IF($F199=0,$A199,\"\")","v":"Maintaining Line Of Travel"},{"$f":"IF($F200=0,$A200,\"\")","v":"Maintaining Body Alignment"},{"$f":"IF($F201=0,$A201,\"\")","v":"Re-establishing Body Alignment"},{"$f":"IF($F202=0,$A202,\"\")","v":"Analyzing Intersections"},{"$f":"IF($F203=0,$A203,\"\")","v":"Plus Intersections"},{"$f":"IF($F204=0,$A204,\"\")","v":"T Intersections"},{"$f":"IF($F205=0,$A205,\"\")","v":"Y Intersections"},{"$f":"IF($F206=0,$A206,\"\")","v":"Roundabouts"},{"$f":"IF($F207=0,$A207,\"\")","v":"Significantly Offset Intersections"},{"$f":"IF($F208=0,$A208,\"\")","v":"Atypical Intersections"},{"$f":"IF($F209=0,$A209,\"\")","v":"Newly Developed Intersections"},{"$f":"IF($F210=0,$A210,\"\")","v":"Channelized Right Turn Lanes"},{"$f":"IF($F211=0,$A211,\"\")","v":"Veering"},{"$f":"IF($F212=0,$A212,\"\")","v":"Understanding Drivers’ Perspectives"},{"$f":"IF($F213=0,$A213,\"\")","v":"Pedestrian Signals"}]
["Analyzing Intersections",null,null,null,null,{"$f":"StCross!N203","v":0}]
["Plus Intersections",null,null,null,null,{"$f":"StCross!N219","v":0}]
["T Intersections",null,null,null,null,{"$f":"StCross!N238","v":0}]
["Y Intersections",null,null,null,null,{"$f":"StCross!N260","v":0}]
["Roundabouts",null,null,null,null,{"$f":"StCross!N285","v":0}]
["Significantly Offset Intersections",null,null,null,null,{"$f":"StCross!N300","v":0}]
["Atypical Intersections",null,null,null,null,{"$f":"StCross!N305","v":0}]
["Newly Developed Intersections",null,null,null,null,{"$f":"StCross!N315","v":0}]
["Channelized Right Turn Lanes",null,null,null,null,{"$f":"StCross!N323","v":0}]
["Veering",null,null,null,null,{"$f":"StCross!N333","v":0}]
["Understanding Drivers’ Perspectives",null,null,null,null,{"$f":"StCross!N347","v":0}]
["Pedestrian Signals",null,null,null,null,{"$f":"StCross!N356","v":0}]
["Orientation Skills and GPS Score:"]
["Cardinality",null,null,null,null,{"$f":"Orient!N93","v":0},"did well with the skills that made up the area(s) of",null,null,null,null,null,null,{"$f":"IF(F215>3.99,A215,\"\")","v":""},{"$f":"IF(F216>3.99,A216,\"\")","v":""},{"$f":"IF(F217>3.99,A217,\"\")","v":""},{"$f":"IF(F218>3.99,A218,\"\")","v":""},{"$f":"IF(F219>3.99,A219,\"\")","v":""},{"$f":"IF(F220>3.99,A220,\"\")","v":""},{"$f":"IF(F221>3.99,A221,\"\")","v":""},{"$f":"IF(F222>3.99,A222,\"\")","v":""},{"$f":"IF(F223>3.99,A223,\"\")","v":""},{"$f":"IF(F224>3.99,A224,\"\")","v":""}]
["Clues",null,null,null,null,{"$f":"Orient!N108","v":0},"had room for improvement with the skills that made up the area(s) of",null,null,null,null,null,null,{"$f":"IF(AND($F215>1.01,$F215<3.99),$A215,\"\")","v":""},{"$f":"IF(AND($F216>1.01,$F216<3.99),$A216,\"\")","v":""},{"$f":"IF(AND($F217>1.01,$F217<3.99),$A217,\"\")","v":""},{"$f":"IF(AND($F218>1.01,$F218<3.99),$A218,\"\")","v":""},{"$f":"IF(AND($F219>1.01,$F219<3.99),$A219,\"\")","v":""},{"$f":"IF(AND($F220>1.01,$F220<3.99),$A220,\"\")","v":""},{"$f":"IF(AND($F221>1.01,$F221<3.99),$A221,\"\")","v":""},{"$f":"IF(AND($F222>1.01,$F222<3.99),$A222,\"\")","v":""},{"$f":"IF(AND($F223>1.01,$F223<3.99),$A223,\"\")","v":""},{"$f":"IF(AND($F224>1.01,$F224<3.99),$A224,\"\")","v":""}]
["Landmarks",null,null,null,null,{"$f":"Orient!N114","v":0},"hadn't had the opportunity to work on the skills in the area(s) of",null,null,null,null,null,null,{"$f":"IF(AND($F215>0.99,$F215<1.000001),$A215,\"\")","v":""},{"$f":"IF(AND($F216>0.99,$F216<1.000001),$A216,\"\")","v":""},{"$f":"IF(AND($F217>0.99,$F217<1.000001),$A217,\"\")","v":""},{"$f":"IF(AND($F218>0.99,$F218<1.000001),$A218,\"\")","v":""},{"$f":"IF(AND($F219>0.99,$F219<1.000001),$A219,\"\")","v":""},{"$f":"IF(AND($F220>0.99,$F220<1.000001),$A220,\"\")","v":""},{"$f":"IF(AND($F221>0.99,$F221<1.000001),$A221,\"\")","v":""},{"$f":"IF(AND($F222>0.99,$F222<1.000001),$A222,\"\")","v":""},{"$f":"IF(AND($F223>0.99,$F223<1.000001),$A223,\"\")","v":""},{"$f":"IF(AND($F224>0.99,$F224<1.000001),$A224,\"\")","v":""}]
["Indoor Numbering Systems",null,null,null,null,{"$f":"Orient!N120","v":0},"didn't need the skills in the area(s) of",null,null,null,null,null,null,{"$f":"IF($F215=0,$A215,\"\")","v":"Cardinality"},{"$f":"IF($F216=0,$A216,\"\")","v":"Clues"},{"$f":"IF($F217=0,$A217,\"\")","v":"Landmarks"},{"$f":"IF($F218=0,$A218,\"\")","v":"Indoor Numbering Systems"},{"$f":"IF($F219=0,$A219,\"\")","v":"Outdoor Numbering Systems"},{"$f":"IF($F220=0,$A220,\"\")","v":"Grid System"},{"$f":"IF($F221=0,$A221,\"\")","v":"Divisors And Block Numbering"},{"$f":"IF($F222=0,$A222,\"\")","v":"Transferability"},{"$f":"IF($F223=0,$A223,\"\")","v":"GPS"},{"$f":"IF($F224=0,$A224,\"\")","v":"Maps"}]
["Outdoor Numbering Systems",null,null,null,null,{"$f":"Orient!N126","v":0}]
["Grid System",null,null,null,null,{"$f":"Orient!N132","v":0}]
["Divisors And Block Numbering",null,null,null,null,{"$f":"Orient!N143","v":0}]
["Transferability",null,null,null,null,{"$f":"Orient!N150","v":0}]
["GPS",null,null,null,null,{"$f":"Orient!N154","v":0}]
["Maps",null,null,null,null,{"$f":"Orient!N162","v":0}]
["Public Transportation Score:"]
["Identifying Common Public Transportation Options",null,null,null,null,{"$f":"PubTran!N92","v":0},"did well with the skills that made up the area(s) of",null,null,null,null,null,null,{"$f":"IF(F226>3.99,A226,\"\")","v":""},{"$f":"IF(F227>3.99,A227,\"\")","v":""},{"$f":"IF(F228>3.99,A228,\"\")","v":""},{"$f":"IF(F229>3.99,A229,\"\")","v":""},{"$f":"IF(F230>3.99,A230,\"\")","v":""},{"$f":"IF(F231>3.99,A231,\"\")","v":""},{"$f":"IF(F232>3.99,A232,\"\")","v":""}]
["Intra-City Bus Travel",null,null,null,null,{"$f":"PubTran!N93","v":0},"had room for improvement with the skills that made up the area(s) of",null,null,null,null,null,null,{"$f":"IF(AND($F226>1.01,$F226<3.99),$A226,\"\")","v":""},{"$f":"IF(AND($F227>1.01,$F227<3.99),$A227,\"\")","v":""},{"$f":"IF(AND($F228>1.01,$F228<3.99),$A228,\"\")","v":""},{"$f":"IF(AND($F229>1.01,$F229<3.99),$A229,\"\")","v":""},{"$f":"IF(AND($F230>1.01,$F230<3.99),$A230,\"\")","v":""},{"$f":"IF(AND($F231>1.01,$F231<3.99),$A231,\"\")","v":""},{"$f":"IF(AND($F232>1.01,$F232<3.99),$A232,\"\")","v":""}]
["Inter-City Bus Travel",null,null,null,null,{"$f":"PubTran!N111","v":0},"hadn't had the opportunity to work on the skills in the area(s) of",null,null,null,null,null,null,{"$f":"IF(AND($F226>0.99,$F226<1.000001),$A226,\"\")","v":""},{"$f":"IF(AND($F227>0.99,$F227<1.000001),$A227,\"\")","v":""},{"$f":"IF(AND($F228>0.99,$F228<1.000001),$A228,\"\")","v":""},{"$f":"IF(AND($F229>0.99,$F229<1.000001),$A229,\"\")","v":""},{"$f":"IF(AND($F230>0.99,$F230<1.000001),$A230,\"\")","v":""},{"$f":"IF(AND($F231>0.99,$F231<1.000001),$A231,\"\")","v":""},{"$f":"IF(AND($F232>0.99,$F232<1.000001),$A232,\"\")","v":""}]
["Taxi/Ride Service",null,null,null,null,{"$f":"PubTran!N17","v":0},"didn't need the skills in the area(s) of",null,null,null,null,null,null,{"$f":"IF($F226=0,$A226,\"\")","v":"Identifying Common Public Transportation Options"},{"$f":"IF($F227=0,$A227,\"\")","v":"Intra-City Bus Travel"},{"$f":"IF($F228=0,$A228,\"\")","v":"Inter-City Bus Travel"},{"$f":"IF($F229=0,$A229,\"\")","v":"Taxi/Ride Service"},{"$f":"IF($F230=0,$A230,\"\")","v":"Handi-Ride/Para Transit"},{"$f":"IF($F231=0,$A231,\"\")","v":"Air Travel"},{"$f":"IF($F232=0,$A232,\"\")","v":"Subway/Light Rail"}]
["Handi-Ride/Para Transit",null,null,null,null,{"$f":"PubTran!N134","v":0}]
["Air Travel",null,null,null,null,{"$f":"PubTran!N138","v":0}]
["Subway/Light Rail",null,null,null,null,{"$f":"PubTran!N154","v":0}]
["Atypical O&M Score:"]
["Fences",null,null,null,null,{"$f":"Atyp!N40","v":0},"did well with the skills that made up the area(s) of",null,null,null,null,null,null,{"$f":"IF(F234>3.99,A234,\"\")","v":""},{"$f":"IF(F235>3.99,A235,\"\")","v":""},{"$f":"IF(F236>3.99,A236,\"\")","v":""},{"$f":"IF(F237>3.99,A237,\"\")","v":""}]
["Fields (Urban)",null,null,null,null,{"$f":"Atyp!N44","v":0},"had room for improvement with the skills that made up the area(s) of",null,null,null,null,null,null,{"$f":"IF(AND($F234>1.01,$F234<3.99),$A234,\"\")","v":""},{"$f":"IF(AND($F235>1.01,$F235<3.99),$A235,\"\")","v":""},{"$f":"IF(AND($F236>1.01,$F236<3.99),$A236,\"\")","v":""},{"$f":"IF(AND($F237>1.01,$F237<3.99),$A237,\"\")","v":""}]
["Parks/Playgrounds",null,null,null,null,{"$f":"Atyp!N50","v":0},"hadn't had the opportunity to work on the skills in the area(s) of",null,null,null,null,null,null,{"$f":"IF(AND($F234>0.99,$F234<1.000001),$A234,\"\")","v":""},{"$f":"IF(AND($F235>0.99,$F235<1.000001),$A235,\"\")","v":""},{"$f":"IF(AND($F236>0.99,$F236<1.000001),$A236,\"\")","v":""},{"$f":"IF(AND($F237>0.99,$F237<1.000001),$A237,\"\")","v":""}]
["Inclement Weather",null,null,null,null,{"$f":"Atyp!N58","v":0},"didn't need the skills in the area(s) of",null,null,null,null,null,null,{"$f":"IF($F234=0,$A234,\"\")","v":"Fences"},{"$f":"IF($F235=0,$A235,\"\")","v":"Fields (Urban)"},{"$f":"IF($F236=0,$A236,\"\")","v":"Parks/Playgrounds"},{"$f":"IF($F237=0,$A237,\"\")","v":"Inclement Weather"}]
["Rural Travel Score:"]
["Understanding Unique Dangers Related To Rural Travel",null,null,null,null,{"$f":"Rural!N46","v":0},"did well with the skills that made up the area(s) of",null,null,null,null,null,null,{"$f":"IF(F239>3.99,A239,\"\")","v":""},{"$f":"IF(F240>3.99,A240,\"\")","v":""},{"$f":"IF(F241>3.99,A241,\"\")","v":""},{"$f":"IF(F242>3.99,A242,\"\")","v":""},{"$f":"IF(F243>3.99,A243,\"\")","v":""}]
["Walking Along Rural Roads",null,null,null,null,{"$f":"Rural!N52","v":0},"had room for improvement with the skills that made up the area(s) of",null,null,null,null,null,null,{"$f":"IF(AND($F239>1.01,$F239<3.99),$A239,\"\")","v":""},{"$f":"IF(AND($F240>1.01,$F240<3.99),$A240,\"\")","v":""},{"$f":"IF(AND($F241>1.01,$F241<3.99),$A241,\"\")","v":""},{"$f":"IF(AND($F242>1.01,$F242<3.99),$A242,\"\")","v":""},{"$f":"IF(AND($F243>1.01,$F243<3.99),$A243,\"\")","v":""}]
["Ditches/Arroyos",null,null,null,null,{"$f":"Rural!N58","v":0},"hadn't had the opportunity to work on the skills in the area(s) of",null,null,null,null,null,null,{"$f":"IF(AND($F239>0.99,$F239<1.000001),$A239,\"\")","v":""},{"$f":"IF(AND($F240>0.99,$F240<1.000001),$A240,\"\")","v":""},{"$f":"IF(AND($F241>0.99,$F241<1.000001),$A241,\"\")","v":""},{"$f":"IF(AND($F242>0.99,$F242<1.000001),$A242,\"\")","v":""},{"$f":"IF(AND($F243>0.99,$F243<1.000001),$A243,\"\")","v":""}]
["Identifying And Going Around Items In Rural Areas",null,null,null,null,{"$f":"Rural!N65","v":0},"didn't need the skills in the area(s) of",null,null,null,null,null,null,{"$f":"IF($F239=0,$A239,\"\")","v":"Understanding Unique Dangers Related To Rural Travel"},{"$f":"IF($F240=0,$A240,\"\")","v":"Walking Along Rural Roads"},{"$f":"IF($F241=0,$A241,\"\")","v":"Ditches/Arroyos"},{"$f":"IF($F242=0,$A242,\"\")","v":"Identifying And Going Around Items In Rural Areas"},{"$f":"IF($F243=0,$A243,\"\")","v":"Rural Street Crossings"}]
["Rural Street Crossings",null,null,null,null,{"$f":"Rural!N71","v":0}]
["Vision Specific O&M Skills Score:"]
["Scanning Materials",null,null,null,null,{"$f":"VisSpec!N48","v":0},"did well with the skills that made up the area(s) of",null,null,null,null,null,null,{"$f":"IF(F245>3.99,A245,\"\")","v":""},{"$f":"IF(F246>3.99,A246,\"\")","v":""},{"$f":"IF(F247>3.99,A247,\"\")","v":""},{"$f":"IF(F248>3.99,A248,\"\")","v":""},{"$f":"IF(F249>3.99,A249,\"\")","v":""}]
["Scanning Environments",null,null,null,null,{"$f":"VisSpec!N55","v":0},"had room for improvement with the skills that made up the area(s) of",null,null,null,null,null,null,{"$f":"IF(AND($F245>1.01,$F245<3.99),$A245,\"\")","v":""},{"$f":"IF(AND($F246>1.01,$F246<3.99),$A246,\"\")","v":""},{"$f":"IF(AND($F247>1.01,$F247<3.99),$A247,\"\")","v":""},{"$f":"IF(AND($F248>1.01,$F248<3.99),$A248,\"\")","v":""},{"$f":"IF(AND($F249>1.01,$F249<3.99),$A249,\"\")","v":""}]
["Magnifiers And CCTVs",null,null,null,null,{"$f":"VisSpec!N62","v":0},"hadn't had the opportunity to work on the skills in the area(s) of",null,null,null,null,null,null,{"$f":"IF(AND($F245>0.99,$F245<1.000001),$A245,\"\")","v":""},{"$f":"IF(AND($F246>0.99,$F246<1.000001),$A246,\"\")","v":""},{"$f":"IF(AND($F247>0.99,$F247<1.000001),$A247,\"\")","v":""},{"$f":"IF(AND($F248>0.99,$F248<1.000001),$A248,\"\")","v":""},{"$f":"IF(AND($F249>0.99,$F249<1.000001),$A249,\"\")","v":""}]
["Monoculars",null,null,null,null,{"$f":"VisSpec!N66","v":0},"didn't need the skills in the area(s) of",null,null,null,null,null,null,{"$f":"IF($F245=0,$A245,\"\")","v":"Scanning Materials"},{"$f":"IF($F246=0,$A246,\"\")","v":"Scanning Environments"},{"$f":"IF($F247=0,$A247,\"\")","v":"Magnifiers And CCTVs"},{"$f":"IF($F248=0,$A248,\"\")","v":"Monoculars"},{"$f":"IF($F249=0,$A249,\"\")","v":"Visual Traveling"}]
["Visual Traveling",null,null,null,null,{"$f":"VisSpec!N72","v":0}]
["Community Score:"]
["Comparison Shopping From Home",null,null,null,null,{"$f":"Commun!N59","v":0},"did well with the skills that made up the area(s) of",null,null,null,null,null,null,{"$f":"IF(F251>3.99,A251,\"\")","v":""},{"$f":"IF(F252>3.99,A252,\"\")","v":""},{"$f":"IF(F253>3.99,A253,\"\")","v":""},{"$f":"IF(F254>3.99,A254,\"\")","v":""},{"$f":"IF(F255>3.99,A255,\"\")","v":""}]
["Stores",null,null,null,null,{"$f":"Commun!N63","v":0},"had room for improvement with the skills that made up the area(s) of",null,null,null,null,null,null,{"$f":"IF(AND($F251>1.01,$F251<3.99),$A251,\"\")","v":""},{"$f":"IF(AND($F252>1.01,$F252<3.99),$A252,\"\")","v":""},{"$f":"IF(AND($F253>1.01,$F253<3.99),$A253,\"\")","v":""},{"$f":"IF(AND($F254>1.01,$F254<3.99),$A254,\"\")","v":""},{"$f":"IF(AND($F255>1.01,$F255<3.99),$A255,\"\")","v":""}]
["Fast Food Restaurants",null,null,null,null,{"$f":"Commun!N75","v":0},"hadn't had the opportunity to work on the skills in the area(s) of",null,null,null,null,null,null,{"$f":"IF(AND($F251>0.99,$F251<1.000001),$A251,\"\")","v":""},{"$f":"IF(AND($F252>0.99,$F252<1.000001),$A252,\"\")","v":""},{"$f":"IF(AND($F253>0.99,$F253<1.000001),$A253,\"\")","v":""},{"$f":"IF(AND($F254>0.99,$F254<1.000001),$A254,\"\")","v":""},{"$f":"IF(AND($F255>0.99,$F255<1.000001),$A255,\"\")","v":""}]
["Cafeteria Restaurants",null,null,null,null,{"$f":"Commun!N86","v":0},"didn't need the skills in the area(s) of",null,null,null,null,null,null,{"$f":"IF($F251=0,$A251,\"\")","v":"Comparison Shopping From Home"},{"$f":"IF($F252=0,$A252,\"\")","v":"Stores"},{"$f":"IF($F253=0,$A253,\"\")","v":"Fast Food Restaurants"},{"$f":"IF($F254=0,$A254,\"\")","v":"Cafeteria Restaurants"},{"$f":"IF($F255=0,$A255,\"\")","v":"Sit Down Restaurants"}]
["Sit Down Restaurants",null,null,null,null,{"$f":"Commun!N97","v":0}]
[]
[]
[]
[null,null,null,null,null,null,"demonstrated","of the skills needed to travel independently as an adult."]
[{"$f":"G5","v":0},"Concepts",null,null,null,null,"did well with the skills that made up the domain(s) of",null,null,null,null,null,null,{"$f":"IF(A260>79.999999999,B260,\"\")","v":""},{"$f":"IF(A261>79.999999999,B261,\"\")","v":""},{"$f":"IF(A262>79.999999999,B262,\"\")","v":""},{"$f":"IF(A263>79.999999999,B263,\"\")","v":""},{"$f":"IF(A264>79.999999999,B264,\"\")","v":""},{"$f":"IF(A265>79.999999999,B265,\"\")","v":""},{"$f":"IF(A266>79.999999999,B266,\"\")","v":""},{"$f":"IF(A267>79.999999999,B267,\"\")","v":""},{"$f":"IF(A268>79.999999999,B268,\"\")","v":""},{"$f":"IF(A269>79.999999999,B269,\"\")","v":""},{"$f":"IF(A270>79.999999999,B270,\"\")","v":""},{"$f":"IF(A271>79.999999999,B271,\"\")","v":""},{"$f":"IF(A272>79.999999999,B272,\"\")","v":""},{"$f":"IF(A273>79.999999999,B273,\"\")","v":""},{"$f":"IF(A274>79.999999999,B274,\"\")","v":""}]
[{"$f":"G11","v":0},"Movement",null,null,null,null,"had room for improvement with the skills that made up the domain(s) of",null,null,null,null,null,null,{"$f":"IF(AND($A260>20.000001,$A260<79.999999998),$B260,\"\")","v":""},{"$f":"IF(AND($A261>20.000001,$A261<79.999999998),$B261,\"\")","v":""},{"$f":"IF(AND($A262>20.000001,$A262<79.999999998),$B262,\"\")","v":""},{"$f":"IF(AND($A263>20.000001,$A263<79.999999998),$B263,\"\")","v":""},{"$f":"IF(AND($A264>20.000001,$A264<79.999999998),$B264,\"\")","v":""},{"$f":"IF(AND($A265>20.000001,$A265<79.999999998),$B265,\"\")","v":""},{"$f":"IF(AND($A266>20.000001,$A266<79.999999998),$B266,\"\")","v":""},{"$f":"IF(AND($A267>20.000001,$A267<79.999999998),$B267,\"\")","v":""},{"$f":"IF(AND($A268>20.000001,$A268<79.999999998),$B268,\"\")","v":""},{"$f":"IF(AND($A269>20.000001,$A269<79.999999998),$B269,\"\")","v":""},{"$f":"IF(AND($A270>20.000001,$A270<79.999999998),$B270,\"\")","v":""},{"$f":"IF(AND($A271>20.000001,$A271<79.999999998),$B271,\"\")","v":""},{"$f":"IF(AND($A272>20.000001,$A272<79.999999998),$B272,\"\")","v":""},{"$f":"IF(AND($A273>20.000001,$A273<79.999999998),$B273,\"\")","v":""},{"$f":"IF(AND($A274>20.000001,$A274<79.999999998),$B274,\"\")","v":""}]
[{"$f":"G17","v":0},"Single Room O&M",null,null,null,null,"hadn't had the opportunity to work on the skills that made up the domain(s) of",null,null,null,null,null,null,{"$f":"IF(AND($A260>19.9,$A260<20.1),$B260,\"\")","v":""},{"$f":"IF(AND($A261>19.9,$A261<20.1),$B261,\"\")","v":""},{"$f":"IF(AND($A262>19.9,$A262<20.1),$B262,\"\")","v":""},{"$f":"IF(AND($A263>19.9,$A263<20.1),$B263,\"\")","v":""},{"$f":"IF(AND($A264>19.9,$A264<20.1),$B264,\"\")","v":""},{"$f":"IF(AND($A265>19.9,$A265<20.1),$B265,\"\")","v":""},{"$f":"IF(AND($A266>19.9,$A266<20.1),$B266,\"\")","v":""},{"$f":"IF(AND($A267>19.9,$A267<20.1),$B267,\"\")","v":""},{"$f":"IF(AND($A268>19.9,$A268<20.1),$B268,\"\")","v":""},{"$f":"IF(AND($A269>19.9,$A269<20.1),$B269,\"\")","v":""},{"$f":"IF(AND($A270>19.9,$A270<20.1),$B270,\"\")","v":""},{"$f":"IF(AND($A271>19.9,$A271<20.1),$B271,\"\")","v":""},{"$f":"IF(AND($A272>19.9,$A272<20.1),$B272,\"\")","v":""},{"$f":"IF(AND($A273>19.9,$A273<20.1),$B273,\"\")","v":""},{"$f":"IF(AND($A274>19.9,$A274<20.1),$B274,\"\")","v":""}]
[{"$f":"G23","v":0},"Indoor O&M",null,null,null,null,"had no need for the skills that made up the domain(s) of",null,null,null,null,null,null,{"$f":"IF($A260=0,$B260,\"\")","v":"Concepts"},{"$f":"IF($A261=0,$B261,\"\")","v":"Movement"},{"$f":"IF($A262=0,$B262,\"\")","v":"Single Room O&M"},{"$f":"IF($A263=0,$B263,\"\")","v":"Indoor O&M"},{"$f":"IF($A264=0,$B264,\"\")","v":"Self Protection"},{"$f":"IF($A265=0,$B265,\"\")","v":"Guided Travel"},{"$f":"IF($A266=0,$B266,\"\")","v":"Cane Skills"},{"$f":"IF($A267=0,$B267,\"\")","v":"Sidewalk Travel"},{"$f":"IF($A268=0,$B268,\"\")","v":"Street Crossings"},{"$f":"IF($A269=0,$B269,\"\")","v":"Orientation Skills & GPS"},{"$f":"IF($A270=0,$B270,\"\")","v":"Public Transportation"},{"$f":"IF($A271=0,$B271,\"\")","v":"Atypical O&M"},{"$f":"IF($A272=0,$B272,\"\")","v":"Rural Travel"},{"$f":"IF($A273=0,$B273,\"\")","v":"Vision Specific O&M Skills"},{"$f":"IF($A274=0,$B274,\"\")","v":"Community "}]
[{"$f":"G29","v":0},"Self Protection"]
[{"$f":"G35","v":0},"Guided Travel"]
[{"$f":"G41","v":0},"Cane Skills"]
[{"$f":"G47","v":0},"Sidewalk Travel"]
[{"$f":"G53","v":0},"Street Crossings"]
[{"$f":"G59","v":0},"Orientation Skills & GPS"]
[{"$f":"G65","v":0},"Public Transportation"]
[{"$f":"G71","v":0},"Atypical O&M"]
[{"$f":"G77","v":0},"Rural Travel"]
[{"$f":"G83","v":0},"Vision Specific O&M Skills"]
[{"$f":"G89","v":0},"Community "]
[]
["will demonstrate improved skills in Orientation & Mobility by increasing the score on the O&M Inventory from"]
["to a minimum of"]
["by the next annual IEP date."]
["Please see the attached chart. "]
["Over the previous grading period"]
["increased the score on the O&M Inventory from"]
["to"]
["and is now"]
["of the way to the goal of"]
["made gains in the domain(s) of"]
[{"$f":"IF($M286>$L286,$B260,\"\")","v":""},{"$f":"Front!B3","v":0},{"$f":"Front!C3","v":0},{"$f":"Front!D3","v":0},{"$f":"Front!E3","v":0},{"$f":"Front!F3","v":0},{"$f":"Front!G3","v":0},{"$f":"Front!H3","v":0},{"$f":"Front!I3","v":0},{"$f":"Front!J3","v":0},{"$f":"Front!K3","v":0},{"$f":"Front!L3","v":0},{"$f":"Front!M3","v":0}]
["",{"$f":"Front!B4","v":0},{"$f":"Front!C4","v":0},{"$f":"Front!D4","v":0},{"$f":"Front!E4","v":0},{"$f":"Front!F4","v":0},{"$f":"Front!G4","v":0},{"$f":"Front!H4","v":0},{"$f":"Front!I4","v":0},{"$f":"Front!J4","v":0},{"$f":"Front!K4","v":0},{"$f":"Front!L4","v":0},{"$f":"Front!M4","v":0}]
["",{"$f":"Front!B5","v":0},{"$f":"Front!C5","v":0},{"$f":"Front!D5","v":0},{"$f":"Front!E5","v":0},{"$f":"Front!F5","v":0},{"$f":"Front!G5","v":0},{"$f":"Front!H5","v":0},{"$f":"Front!I5","v":0},{"$f":"Front!J5","v":0},{"$f":"Front!K5","v":0},{"$f":"Front!L5","v":0},{"$f":"Front!M5","v":0}]
["",{"$f":"Front!B6","v":0},{"$f":"Front!C6","v":0},{"$f":"Front!D6","v":0},{"$f":"Front!E6","v":0},{"$f":"Front!F6","v":0},{"$f":"Front!G6","v":0},{"$f":"Front!H6","v":0},{"$f":"Front!I6","v":0},{"$f":"Front!J6","v":0},{"$f":"Front!K6","v":0},{"$f":"Front!L6","v":0},{"$f":"Front!M6","v":0}]
["",{"$f":"Front!B7","v":0},{"$f":"Front!C7","v":0},{"$f":"Front!D7","v":0},{"$f":"Front!E7","v":0},{"$f":"Front!F7","v":0},{"$f":"Front!G7","v":0},{"$f":"Front!H7","v":0},{"$f":"Front!I7","v":0},{"$f":"Front!J7","v":0},{"$f":"Front!K7","v":0},{"$f":"Front!L7","v":0},{"$f":"Front!M7","v":0}]
["",{"$f":"Front!B8","v":0},{"$f":"Front!C8","v":0},{"$f":"Front!D8","v":0},{"$f":"Front!E8","v":0},{"$f":"Front!F8","v":0},{"$f":"Front!G8","v":0},{"$f":"Front!H8","v":0},{"$f":"Front!I8","v":0},{"$f":"Front!J8","v":0},{"$f":"Front!K8","v":0},{"$f":"Front!L8","v":0},{"$f":"Front!M8","v":0}]
["",{"$f":"Front!B9","v":0},{"$f":"Front!C9","v":0},{"$f":"Front!D9","v":0},{"$f":"Front!E9","v":0},{"$f":"Front!F9","v":0},{"$f":"Front!G9","v":0},{"$f":"Front!H9","v":0},{"$f":"Front!I9","v":0},{"$f":"Front!J9","v":0},{"$f":"Front!K9","v":0},{"$f":"Front!L9","v":0},{"$f":"Front!M9","v":0}]
["",{"$f":"Front!B10","v":0},{"$f":"Front!C10","v":0},{"$f":"Front!D10","v":0},{"$f":"Front!E10","v":0},{"$f":"Front!F10","v":0},{"$f":"Front!G10","v":0},{"$f":"Front!H10","v":0},{"$f":"Front!I10","v":0},{"$f":"Front!J10","v":0},{"$f":"Front!K10","v":0},{"$f":"Front!L10","v":0},{"$f":"Front!M10","v":0}]
["",{"$f":"Front!B11","v":0},{"$f":"Front!C11","v":0},{"$f":"Front!D11","v":0},{"$f":"Front!E11","v":0},{"$f":"Front!F11","v":0},{"$f":"Front!G11","v":0},{"$f":"Front!H11","v":0},{"$f":"Front!I11","v":0},{"$f":"Front!J11","v":0},{"$f":"Front!K11","v":0},{"$f":"Front!L11","v":0},{"$f":"Front!M11","v":0}]
["",{"$f":"Front!B12","v":0},{"$f":"Front!C12","v":0},{"$f":"Front!D12","v":0},{"$f":"Front!E12","v":0},{"$f":"Front!F12","v":0},{"$f":"Front!G12","v":0},{"$f":"Front!H12","v":0},{"$f":"Front!I12","v":0},{"$f":"Front!J12","v":0},{"$f":"Front!K12","v":0},{"$f":"Front!L12","v":0},{"$f":"Front!M12","v":0}]
["",{"$f":"Front!B13","v":0},{"$f":"Front!C13","v":0},{"$f":"Front!D13","v":0},{"$f":"Front!E13","v":0},{"$f":"Front!F13","v":0},{"$f":"Front!G13","v":0},{"$f":"Front!H13","v":0},{"$f":"Front!I13","v":0},{"$f":"Front!J13","v":0},{"$f":"Front!K13","v":0},{"$f":"Front!L13","v":0},{"$f":"Front!M13","v":0}]
["",{"$f":"Front!B14","v":0},{"$f":"Front!C14","v":0},{"$f":"Front!D14","v":0},{"$f":"Front!E14","v":0},{"$f":"Front!F14","v":0},{"$f":"Front!G14","v":0},{"$f":"Front!H14","v":0},{"$f":"Front!I14","v":0},{"$f":"Front!J14","v":0},{"$f":"Front!K14","v":0},{"$f":"Front!L14","v":0},{"$f":"Front!M14","v":0}]
["",{"$f":"Front!B15","v":0},{"$f":"Front!C15","v":0},{"$f":"Front!D15","v":0},{"$f":"Front!E15","v":0},{"$f":"Front!F15","v":0},{"$f":"Front!G15","v":0},{"$f":"Front!H15","v":0},{"$f":"Front!I15","v":0},{"$f":"Front!J15","v":0},{"$f":"Front!K15","v":0},{"$f":"Front!L15","v":0},{"$f":"Front!M15","v":0}]
["",{"$f":"Front!B16","v":0},{"$f":"Front!C16","v":0},{"$f":"Front!D16","v":0},{"$f":"Front!E16","v":0},{"$f":"Front!F16","v":0},{"$f":"Front!G16","v":0},{"$f":"Front!H16","v":0},{"$f":"Front!I16","v":0},{"$f":"Front!J16","v":0},{"$f":"Front!K16","v":0},{"$f":"Front!L16","v":0},{"$f":"Front!M16","v":0}]
["",{"$f":"Front!B17","v":0},{"$f":"Front!C17","v":0},{"$f":"Front!D17","v":0},{"$f":"Front!E17","v":0},{"$f":"Front!F17","v":0},{"$f":"Front!G17","v":0},{"$f":"Front!H17","v":0},{"$f":"Front!I17","v":0},{"$f":"Front!J17","v":0},{"$f":"Front!K17","v":0},{"$f":"Front!L17","v":0},{"$f":"Front!M17","v":0}]